{"text_format":"1","workbook":"xlsx","n_sheets":10,"sheets":["Auswahl","Impressum","Definitionen","Branchen","Kennzahlen","EineBranche","EineKennzahl","Daten","DatenKennzahl","DatenBranche"],"not_rendered":{"charts":0,"images":6,"macros":1,"external_links":0,"defined_names":8,"comments":0,"pivot_tables":0},"unopened":[],"bounds":{"document_bytes":16777216,"sheet_cells":100000,"rows_first":2000,"rows_last":500,"rows_between":2000,"halvings":0,"cell_chars":16384,"cell_head_chars":4096},"cells_cut":0,"cells_raw":0,"read":"whole","date_system":"1900"}

{"sheet":"Auswahl","index":0,"n_rows":5,"n_cols":1,"rows_kept":5,"cut":false,"hidden":false,"merged":[]}
[]
[]
[]
[]
["Branchenkennzahlen 2013/2014"]

{"sheet":"Impressum","index":1,"n_rows":9,"n_cols":2,"rows_kept":9,"cut":false,"hidden":false,"merged":[[1,0,1,1],[2,0,2,1]]}
[]
["Diese Daten sind vertraulich zu behandeln, dienen nur dem eigenen Bedarf und dürfen ohne ausdrückliche (schriftliche) Genehmigung der KMU Forschung Austria weder publiziert noch in welcher Form immer der Öffentlichkeit zugänglich gemacht werden."]
["Zur beruflichen Verwendung einzelner Daten, insbesondere auch gegenüber den Finanzbehörden, wird die Genehmigung der KMU Forschung Austria im Voraus erteilt."]
["Herausgeber, Medieninhaber (Verleger): ","KMU Forschung Austria, Wien"]
[]
["Für den Inhalt verantwortlich:","Arash Robubi, Tatjana Zlatev"]
[null,"1040 Wien, Gußhausstraße 8, Tel. Nr. 01/505 97 61"]
[null,"Internet: http://www.kmuforschung.ac.at"]
[null,"E-Mail: office@kmuforschung.ac.at"]

{"sheet":"Definitionen","index":2,"n_rows":21,"n_cols":2,"rows_kept":21,"cut":false,"hidden":false,"merged":[[20,0,20,3],[15,0,15,3],[16,0,16,3],[17,0,17,3],[18,0,18,3],[19,0,19,3],[1,1,2,3],[4,1,5,3],[7,0,8,3],[9,0,10,3],[13,0,13,3]]}
["Statistische Auswertung"]
["Median","Jede Kennzahl wird zunächst auf Basis des Einzelbetriebs berechnet. Innerhalb jeder Kennzahlenreihe werden die Werte aufsteigend/absteigend sortiert. Der Wert (oder der Durchschnitt zweier Werte) in der Mitte der Reihe ist das Ergebnis."]
[]
[]
["Top-Betriebe","Aus dem Viertel der Betriebe mit dem besten Ergebnis vor Steuern in Prozent der Betriebsleistung wird der Median berechnet."]
[]
[]
["Die Branchenkennzahlen basieren auf den betriebswirtschaftlich korrigierten Jahresabschlüssen (Bilanzstichtage zwischen 1. Juli 2013 und 30. Juni 2014) von rd. 83.400 österreichischen KMU. "]
[]
["Nähere Erläuterungen zu den einzelnen Kennzahlen, Definitionen, Interpretationshilfen, Maßnahmenempfehlungen etc. enthält die Kennzahlenbroschüre: Bilanzkennzahlen – Handbuch für Praktiker, KMU Forschung Austria, Wien 2011"]
[]
[]
[]
["Kennzahlendefinitionen"]
[]
["Kapitalumschlag = Betriebsleistung / Gesamtkapital"]
["Gesamtkapitalrentabilität (ROI) = (Betriebserfolg + Zinserträge) / Gesamtkapital * 100"]
["Anlagendeckung = (Eigenkapital + Sozialkapital + langfristiges Fremdkapital) / Anlagevermögen * 100"]
["Schuldentilgungsdauer = (Fremdkapital - liquide Mittel) / korr. Cash flow"]
["Nettoproduktivität = Rohertrag / Personalkosten"]
["Bruttoproduktivität = Betriebsleistung / Personalkosten"]

{"sheet":"Branchen","index":3,"n_rows":545,"n_cols":5,"rows_kept":545,"cut":false,"hidden":true,"merged":[[2,0,2,1]]}
[]
[]
["Branche durch Anklicken/Markieren auswählen, danach Schalter \"Berechnen\" drücken"]
[]
["OENACE-2008","Text","Anzahl Betriebe in der Datenbasis"]
[{"$f":"IF(Daten!A2=\"\",\"\",Daten!A2)","v":"C"},{"$f":"IF(Daten!$A2=\"\",\"\",Daten!B2)","v":"Herstellung von Waren"},{"$f":"IF(Daten!$A2=\"\",\"\",Daten!C2)","v":10550},null,{"$f":"IF(Daten!$A2=\"\",\"\",Daten!AR2)","v":9999}]
[{"$f":"IF(Daten!A3=\"\",\"\",Daten!A3)","v":"C 10"},{"$f":"IF(Daten!$A3=\"\",\"\",Daten!B3)","v":"Herstellung von Nahrungs- und Futtermitteln"},{"$f":"IF(Daten!$A3=\"\",\"\",Daten!C3)","v":1449}]
[{"$f":"IF(Daten!A4=\"\",\"\",Daten!A4)","v":"C 10.1"},{"$f":"IF(Daten!$A4=\"\",\"\",Daten!B4)","v":"Schlachten und Fleischverarbeitung"},{"$f":"IF(Daten!$A4=\"\",\"\",Daten!C4)","v":374}]
[{"$f":"IF(Daten!A5=\"\",\"\",Daten!A5)","v":"C 10.11"},{"$f":"IF(Daten!$A5=\"\",\"\",Daten!B5)","v":"Schlachten (ohne Schlachten von Geflügel)"},{"$f":"IF(Daten!$A5=\"\",\"\",Daten!C5)","v":31}]
[{"$f":"IF(Daten!A6=\"\",\"\",Daten!A6)","v":"C 10.13"},{"$f":"IF(Daten!$A6=\"\",\"\",Daten!B6)","v":"Fleischverarbeitung"},{"$f":"IF(Daten!$A6=\"\",\"\",Daten!C6)","v":323}]
[{"$f":"IF(Daten!A7=\"\",\"\",Daten!A7)","v":"C 10.3"},{"$f":"IF(Daten!$A7=\"\",\"\",Daten!B7)","v":"Obst- und Gemüseverarbeitung"},{"$f":"IF(Daten!$A7=\"\",\"\",Daten!C7)","v":49}]
[{"$f":"IF(Daten!A8=\"\",\"\",Daten!A8)","v":"C 10.5"},{"$f":"IF(Daten!$A8=\"\",\"\",Daten!B8)","v":"Milchverarbeitung"},{"$f":"IF(Daten!$A8=\"\",\"\",Daten!C8)","v":59}]
[{"$f":"IF(Daten!A9=\"\",\"\",Daten!A9)","v":"C 10.51"},{"$f":"IF(Daten!$A9=\"\",\"\",Daten!B9)","v":"Milchverarbeitung (ohne Herstellung von Speiseeis)"},{"$f":"IF(Daten!$A9=\"\",\"\",Daten!C9)","v":49}]
[{"$f":"IF(Daten!A10=\"\",\"\",Daten!A10)","v":"C 10.6"},{"$f":"IF(Daten!$A10=\"\",\"\",Daten!B10)","v":"Mahl- und Schälmühlen, Herstellung von Stärke und Stärkeerzeugnissen"},{"$f":"IF(Daten!$A10=\"\",\"\",Daten!C10)","v":65}]
[{"$f":"IF(Daten!A11=\"\",\"\",Daten!A11)","v":"C 10.61"},{"$f":"IF(Daten!$A11=\"\",\"\",Daten!B11)","v":"Mahl- und Schälmühlen"},{"$f":"IF(Daten!$A11=\"\",\"\",Daten!C11)","v":63}]
[{"$f":"IF(Daten!A12=\"\",\"\",Daten!A12)","v":"C 10.7"},{"$f":"IF(Daten!$A12=\"\",\"\",Daten!B12)","v":"Herstellung von Back- und Teigwaren"},{"$f":"IF(Daten!$A12=\"\",\"\",Daten!C12)","v":713}]
[{"$f":"IF(Daten!A13=\"\",\"\",Daten!A13)","v":"C 10.71"},{"$f":"IF(Daten!$A13=\"\",\"\",Daten!B13)","v":"Herstellung von Backwaren (ohne Dauerbackwaren)"},{"$f":"IF(Daten!$A13=\"\",\"\",Daten!C13)","v":668}]
[{"$f":"IF(Daten!A14=\"\",\"\",Daten!A14)","v":"C 10.71-1"},{"$f":"IF(Daten!$A14=\"\",\"\",Daten!B14)","v":"Herstellung von Schwarz- und Weißbackwaren"},{"$f":"IF(Daten!$A14=\"\",\"\",Daten!C14)","v":438}]
[{"$f":"IF(Daten!A15=\"\",\"\",Daten!A15)","v":"C 10.71-2"},{"$f":"IF(Daten!$A15=\"\",\"\",Daten!B15)","v":"Herstellung von Zuckerbäcker- und Konditorwaren"},{"$f":"IF(Daten!$A15=\"\",\"\",Daten!C15)","v":113}]
[{"$f":"IF(Daten!A16=\"\",\"\",Daten!A16)","v":"C 10.8"},{"$f":"IF(Daten!$A16=\"\",\"\",Daten!B16)","v":"Herstellung von sonstigen Nahrungsmitteln"},{"$f":"IF(Daten!$A16=\"\",\"\",Daten!C16)","v":121}]
[{"$f":"IF(Daten!A17=\"\",\"\",Daten!A17)","v":"C 10.89"},{"$f":"IF(Daten!$A17=\"\",\"\",Daten!B17)","v":"Herstellung von sonstigen Nahrungsmitteln a.n.g."},{"$f":"IF(Daten!$A17=\"\",\"\",Daten!C17)","v":65}]
[{"$f":"IF(Daten!A18=\"\",\"\",Daten!A18)","v":"C 11"},{"$f":"IF(Daten!$A18=\"\",\"\",Daten!B18)","v":"Getränkeherstellung"},{"$f":"IF(Daten!$A18=\"\",\"\",Daten!C18)","v":183}]
[{"$f":"IF(Daten!A19=\"\",\"\",Daten!A19)","v":"C 11.01"},{"$f":"IF(Daten!$A19=\"\",\"\",Daten!B19)","v":"Herstellung von Spirituosen"},{"$f":"IF(Daten!$A19=\"\",\"\",Daten!C19)","v":43}]
[{"$f":"IF(Daten!A20=\"\",\"\",Daten!A20)","v":"C 11.02"},{"$f":"IF(Daten!$A20=\"\",\"\",Daten!B20)","v":"Herstellung von Traubenwein"},{"$f":"IF(Daten!$A20=\"\",\"\",Daten!C20)","v":47}]
[{"$f":"IF(Daten!A21=\"\",\"\",Daten!A21)","v":"C 11.05"},{"$f":"IF(Daten!$A21=\"\",\"\",Daten!B21)","v":"Herstellung von Bier"},{"$f":"IF(Daten!$A21=\"\",\"\",Daten!C21)","v":55}]
[{"$f":"IF(Daten!A22=\"\",\"\",Daten!A22)","v":"C 11.07"},{"$f":"IF(Daten!$A22=\"\",\"\",Daten!B22)","v":"Herstellung von Erfrischungsgetränken; Gewinnung natürlicher Mineralwässer "},{"$f":"IF(Daten!$A22=\"\",\"\",Daten!C22)","v":30}]
[{"$f":"IF(Daten!A23=\"\",\"\",Daten!A23)","v":"C 13"},{"$f":"IF(Daten!$A23=\"\",\"\",Daten!B23)","v":"Herstellung von Textilien"},{"$f":"IF(Daten!$A23=\"\",\"\",Daten!C23)","v":197}]
[{"$f":"IF(Daten!A24=\"\",\"\",Daten!A24)","v":"C 13.9"},{"$f":"IF(Daten!$A24=\"\",\"\",Daten!B24)","v":"Herstellung von sonstigen Textilwaren"},{"$f":"IF(Daten!$A24=\"\",\"\",Daten!C24)","v":129}]
[{"$f":"IF(Daten!A25=\"\",\"\",Daten!A25)","v":"C 13.92"},{"$f":"IF(Daten!$A25=\"\",\"\",Daten!B25)","v":"Herstellung von konfektionierten Textilwaren (ohne Bekleidung)"},{"$f":"IF(Daten!$A25=\"\",\"\",Daten!C25)","v":40}]
[{"$f":"IF(Daten!A26=\"\",\"\",Daten!A26)","v":"C 13.99"},{"$f":"IF(Daten!$A26=\"\",\"\",Daten!B26)","v":"Herstellung von sonstigen Textilwaren a.n.g."},{"$f":"IF(Daten!$A26=\"\",\"\",Daten!C26)","v":59}]
[{"$f":"IF(Daten!A27=\"\",\"\",Daten!A27)","v":"C 13.99-1"},{"$f":"IF(Daten!$A27=\"\",\"\",Daten!B27)","v":"Herstellung von Stickereien"},{"$f":"IF(Daten!$A27=\"\",\"\",Daten!C27)","v":39}]
[{"$f":"IF(Daten!A28=\"\",\"\",Daten!A28)","v":"C 14"},{"$f":"IF(Daten!$A28=\"\",\"\",Daten!B28)","v":"Herstellung von Bekleidung"},{"$f":"IF(Daten!$A28=\"\",\"\",Daten!C28)","v":136}]
[{"$f":"IF(Daten!A29=\"\",\"\",Daten!A29)","v":"C 14.1"},{"$f":"IF(Daten!$A29=\"\",\"\",Daten!B29)","v":"Herstellung von Bekleidung (ohne Pelzbekleidung)"},{"$f":"IF(Daten!$A29=\"\",\"\",Daten!C29)","v":108}]
[{"$f":"IF(Daten!A30=\"\",\"\",Daten!A30)","v":"C 14.13"},{"$f":"IF(Daten!$A30=\"\",\"\",Daten!B30)","v":"Herstellung von sonstiger Oberbekleidung"},{"$f":"IF(Daten!$A30=\"\",\"\",Daten!C30)","v":47}]
[{"$f":"IF(Daten!A31=\"\",\"\",Daten!A31)","v":"C 15"},{"$f":"IF(Daten!$A31=\"\",\"\",Daten!B31)","v":"Herstellung von Leder, Lederwaren und Schuhen"},{"$f":"IF(Daten!$A31=\"\",\"\",Daten!C31)","v":53}]
[{"$f":"IF(Daten!A32=\"\",\"\",Daten!A32)","v":"C 15.2"},{"$f":"IF(Daten!$A32=\"\",\"\",Daten!B32)","v":"Herstellung von Schuhen"},{"$f":"IF(Daten!$A32=\"\",\"\",Daten!C32)","v":30}]
[{"$f":"IF(Daten!A33=\"\",\"\",Daten!A33)","v":"C 16"},{"$f":"IF(Daten!$A33=\"\",\"\",Daten!B33)","v":"Herstellung von Holz-, Flecht-, Korb- und Korkwaren (ohne Möbel)"},{"$f":"IF(Daten!$A33=\"\",\"\",Daten!C33)","v":975}]
[{"$f":"IF(Daten!A34=\"\",\"\",Daten!A34)","v":"C 16.1"},{"$f":"IF(Daten!$A34=\"\",\"\",Daten!B34)","v":"Säge-, Hobel- und Holzimprägnierwerke"},{"$f":"IF(Daten!$A34=\"\",\"\",Daten!C34)","v":392}]
[{"$f":"IF(Daten!A35=\"\",\"\",Daten!A35)","v":"C 16.2"},{"$f":"IF(Daten!$A35=\"\",\"\",Daten!B35)","v":"Herstellung von sonstigen Holz-, Kork-, Flecht- und Korbwaren (ohne Möbel)"},{"$f":"IF(Daten!$A35=\"\",\"\",Daten!C35)","v":563}]
[{"$f":"IF(Daten!A36=\"\",\"\",Daten!A36)","v":"C 16.23"},{"$f":"IF(Daten!$A36=\"\",\"\",Daten!B36)","v":"Herstellung von sonstigen Konstruktionsteilen, Fertigbauteilen, Ausbauelementen und Fertigteilbauten aus Holz"},{"$f":"IF(Daten!$A36=\"\",\"\",Daten!C36)","v":308}]
[{"$f":"IF(Daten!A37=\"\",\"\",Daten!A37)","v":"C 16.23-1"},{"$f":"IF(Daten!$A37=\"\",\"\",Daten!B37)","v":"Fertighaus- und Hallenerzeugung"},{"$f":"IF(Daten!$A37=\"\",\"\",Daten!C37)","v":60}]
[{"$f":"IF(Daten!A38=\"\",\"\",Daten!A38)","v":"C 16.23-9"},{"$f":"IF(Daten!$A38=\"\",\"\",Daten!B38)","v":"Herstellung von sonstigen Konstruktionsteilen und Ausbauelementen aus Holz a.n.g."},{"$f":"IF(Daten!$A38=\"\",\"\",Daten!C38)","v":214}]
[{"$f":"IF(Daten!A39=\"\",\"\",Daten!A39)","v":"C 16.24"},{"$f":"IF(Daten!$A39=\"\",\"\",Daten!B39)","v":"Herstellung von Verpackungsmitteln, Lagerbehältern und Ladungsträgern aus Holz"},{"$f":"IF(Daten!$A39=\"\",\"\",Daten!C39)","v":37}]
[{"$f":"IF(Daten!A40=\"\",\"\",Daten!A40)","v":"C 16.29"},{"$f":"IF(Daten!$A40=\"\",\"\",Daten!B40)","v":"Herstellung von Holzwaren a.n.g., Kork-, Flecht- und Korbwaren (ohne Möbel)"},{"$f":"IF(Daten!$A40=\"\",\"\",Daten!C40)","v":165}]
[{"$f":"IF(Daten!A41=\"\",\"\",Daten!A41)","v":"C 17"},{"$f":"IF(Daten!$A41=\"\",\"\",Daten!B41)","v":"Herstellung von Papier, Pappe und Waren daraus"},{"$f":"IF(Daten!$A41=\"\",\"\",Daten!C41)","v":124}]
[{"$f":"IF(Daten!A42=\"\",\"\",Daten!A42)","v":"C 17.2"},{"$f":"IF(Daten!$A42=\"\",\"\",Daten!B42)","v":"Herstellung von Waren aus Papier, Karton und Pappe"},{"$f":"IF(Daten!$A42=\"\",\"\",Daten!C42)","v":97}]
[{"$f":"IF(Daten!A43=\"\",\"\",Daten!A43)","v":"C 17.21"},{"$f":"IF(Daten!$A43=\"\",\"\",Daten!B43)","v":"Herstellung von Wellpapier und -pappe sowie von Verpackungsmitteln aus Papier, Karton und Pappe"},{"$f":"IF(Daten!$A43=\"\",\"\",Daten!C43)","v":61}]
[{"$f":"IF(Daten!A44=\"\",\"\",Daten!A44)","v":"C 18"},{"$f":"IF(Daten!$A44=\"\",\"\",Daten!B44)","v":"Herstellung von Druckerzeugnissen; Vervielfältigung von bespielten Ton-, Bild- und Datenträgern"},{"$f":"IF(Daten!$A44=\"\",\"\",Daten!C44)","v":475}]
[{"$f":"IF(Daten!A45=\"\",\"\",Daten!A45)","v":"C 18.1"},{"$f":"IF(Daten!$A45=\"\",\"\",Daten!B45)","v":"Herstellung von Druckerzeugnissen"},{"$f":"IF(Daten!$A45=\"\",\"\",Daten!C45)","v":451}]
[{"$f":"IF(Daten!A46=\"\",\"\",Daten!A46)","v":"C 18.12"},{"$f":"IF(Daten!$A46=\"\",\"\",Daten!B46)","v":"Drucken a.n.g."},{"$f":"IF(Daten!$A46=\"\",\"\",Daten!C46)","v":301}]
[{"$f":"IF(Daten!A47=\"\",\"\",Daten!A47)","v":"C 18.13"},{"$f":"IF(Daten!$A47=\"\",\"\",Daten!B47)","v":"Druck- und Medienvorstufe"},{"$f":"IF(Daten!$A47=\"\",\"\",Daten!C47)","v":59}]
[{"$f":"IF(Daten!A48=\"\",\"\",Daten!A48)","v":"C 20.1"},{"$f":"IF(Daten!$A48=\"\",\"\",Daten!B48)","v":"Herstellung von chemischen Grundstoffen, Düngemitteln und Stickstoffverbindungen, Kunststoffen in Primärformen und synthetischem Kautschuk in Primärformen"},{"$f":"IF(Daten!$A48=\"\",\"\",Daten!C48)","v":52}]
[{"$f":"IF(Daten!A49=\"\",\"\",Daten!A49)","v":"C 20.4"},{"$f":"IF(Daten!$A49=\"\",\"\",Daten!B49)","v":"Herstellung von Seifen, Wasch-, Reinigungs- und Körperpflegemitteln sowie von Duftstoffen"},{"$f":"IF(Daten!$A49=\"\",\"\",Daten!C49)","v":41}]
[{"$f":"IF(Daten!A50=\"\",\"\",Daten!A50)","v":"C 20.5"},{"$f":"IF(Daten!$A50=\"\",\"\",Daten!B50)","v":"Herstellung von sonstigen chemischen Erzeugnissen"},{"$f":"IF(Daten!$A50=\"\",\"\",Daten!C50)","v":55}]
[{"$f":"IF(Daten!A51=\"\",\"\",Daten!A51)","v":"C 20.59"},{"$f":"IF(Daten!$A51=\"\",\"\",Daten!B51)","v":"Herstellung von sonstigen chemischen Erzeugnissen a.n.g."},{"$f":"IF(Daten!$A51=\"\",\"\",Daten!C51)","v":41}]
[{"$f":"IF(Daten!A52=\"\",\"\",Daten!A52)","v":"C 21"},{"$f":"IF(Daten!$A52=\"\",\"\",Daten!B52)","v":"Herstellung von pharmazeutischen Erzeugnissen"},{"$f":"IF(Daten!$A52=\"\",\"\",Daten!C52)","v":55}]
[{"$f":"IF(Daten!A53=\"\",\"\",Daten!A53)","v":"C 21.2"},{"$f":"IF(Daten!$A53=\"\",\"\",Daten!B53)","v":"Herstellung von pharmazeutischen Spezialitäten und sonstigen pharmazeutischen Erzeugnissen"},{"$f":"IF(Daten!$A53=\"\",\"\",Daten!C53)","v":39}]
[{"$f":"IF(Daten!A54=\"\",\"\",Daten!A54)","v":"C 22"},{"$f":"IF(Daten!$A54=\"\",\"\",Daten!B54)","v":"Herstellung von Gummi- und Kunststoffwaren"},{"$f":"IF(Daten!$A54=\"\",\"\",Daten!C54)","v":479}]
[{"$f":"IF(Daten!A55=\"\",\"\",Daten!A55)","v":"C 22.1"},{"$f":"IF(Daten!$A55=\"\",\"\",Daten!B55)","v":"Herstellung von Gummiwaren"},{"$f":"IF(Daten!$A55=\"\",\"\",Daten!C55)","v":31}]
[{"$f":"IF(Daten!A56=\"\",\"\",Daten!A56)","v":"C 22.2"},{"$f":"IF(Daten!$A56=\"\",\"\",Daten!B56)","v":"Herstellung von Kunststoffwaren"},{"$f":"IF(Daten!$A56=\"\",\"\",Daten!C56)","v":441}]
[{"$f":"IF(Daten!A57=\"\",\"\",Daten!A57)","v":"C 22.21"},{"$f":"IF(Daten!$A57=\"\",\"\",Daten!B57)","v":"Herstellung von Platten, Folien, Schläuchen und Profilen aus Kunststoffen"},{"$f":"IF(Daten!$A57=\"\",\"\",Daten!C57)","v":43}]
[{"$f":"IF(Daten!A58=\"\",\"\",Daten!A58)","v":"C 22.22"},{"$f":"IF(Daten!$A58=\"\",\"\",Daten!B58)","v":"Herstellung von Verpackungsmitteln aus Kunststoffen"},{"$f":"IF(Daten!$A58=\"\",\"\",Daten!C58)","v":35}]
[{"$f":"IF(Daten!A59=\"\",\"\",Daten!A59)","v":"C 22.23"},{"$f":"IF(Daten!$A59=\"\",\"\",Daten!B59)","v":"Herstellung von Baubedarfsartikeln aus Kunststoffen"},{"$f":"IF(Daten!$A59=\"\",\"\",Daten!C59)","v":114}]
[{"$f":"IF(Daten!A60=\"\",\"\",Daten!A60)","v":"C 22.23-1"},{"$f":"IF(Daten!$A60=\"\",\"\",Daten!B60)","v":"Herstellung von Türen, Fenstern, Rahmen, Rollläden und Jalousien aus Kunststoffen"},{"$f":"IF(Daten!$A60=\"\",\"\",Daten!C60)","v":77}]
[{"$f":"IF(Daten!A61=\"\",\"\",Daten!A61)","v":"C 22.29"},{"$f":"IF(Daten!$A61=\"\",\"\",Daten!B61)","v":"Herstellung von sonstigen Kunststoffwaren"},{"$f":"IF(Daten!$A61=\"\",\"\",Daten!C61)","v":211}]
[{"$f":"IF(Daten!A62=\"\",\"\",Daten!A62)","v":"C 22.29-1"},{"$f":"IF(Daten!$A62=\"\",\"\",Daten!B62)","v":"Herstellung von technischen Kunststoffteilen"},{"$f":"IF(Daten!$A62=\"\",\"\",Daten!C62)","v":102}]
[{"$f":"IF(Daten!A63=\"\",\"\",Daten!A63)","v":"C 22.29-9"},{"$f":"IF(Daten!$A63=\"\",\"\",Daten!B63)","v":"Herstellung von sonstigen Kunststoffwaren a.n.g."},{"$f":"IF(Daten!$A63=\"\",\"\",Daten!C63)","v":92}]
[{"$f":"IF(Daten!A64=\"\",\"\",Daten!A64)","v":"C 23.1"},{"$f":"IF(Daten!$A64=\"\",\"\",Daten!B64)","v":"Herstellung von Glas und Glaswaren"},{"$f":"IF(Daten!$A64=\"\",\"\",Daten!C64)","v":66}]
[{"$f":"IF(Daten!A65=\"\",\"\",Daten!A65)","v":"C 23.6"},{"$f":"IF(Daten!$A65=\"\",\"\",Daten!B65)","v":"Herstellung von Erzeugnissen aus Beton, Zement und Gips"},{"$f":"IF(Daten!$A65=\"\",\"\",Daten!C65)","v":214}]
[{"$f":"IF(Daten!A66=\"\",\"\",Daten!A66)","v":"C 23.61"},{"$f":"IF(Daten!$A66=\"\",\"\",Daten!B66)","v":"Herstellung von Erzeugnissen aus Beton, Zement und Kalksandstein für den Bau"},{"$f":"IF(Daten!$A66=\"\",\"\",Daten!C66)","v":116}]
[{"$f":"IF(Daten!A67=\"\",\"\",Daten!A67)","v":"C 23.63"},{"$f":"IF(Daten!$A67=\"\",\"\",Daten!B67)","v":"Herstellung von Frischbeton (Transportbeton)"},{"$f":"IF(Daten!$A67=\"\",\"\",Daten!C67)","v":70}]
[{"$f":"IF(Daten!A68=\"\",\"\",Daten!A68)","v":"C 23.7"},{"$f":"IF(Daten!$A68=\"\",\"\",Daten!B68)","v":"Be- und Verarbeitung von Naturwerksteinen und Natursteinen a.n.g."},{"$f":"IF(Daten!$A68=\"\",\"\",Daten!C68)","v":279}]
[{"$f":"IF(Daten!A69=\"\",\"\",Daten!A69)","v":"C 23.9"},{"$f":"IF(Daten!$A69=\"\",\"\",Daten!B69)","v":"Herstellung von Schleifkörpern und Schleifmitteln auf Unterlage sowie sonstigen Erzeugnissen aus nicht metallischen Mineralien"},{"$f":"IF(Daten!$A69=\"\",\"\",Daten!C69)","v":41}]
[{"$f":"IF(Daten!A70=\"\",\"\",Daten!A70)","v":"C 23.99"},{"$f":"IF(Daten!$A70=\"\",\"\",Daten!B70)","v":"Herstellung von sonstigen Erzeugnissen aus nicht metallischen Mineralien a.n.g."},{"$f":"IF(Daten!$A70=\"\",\"\",Daten!C70)","v":37}]
[{"$f":"IF(Daten!A71=\"\",\"\",Daten!A71)","v":"C 24.4"},{"$f":"IF(Daten!$A71=\"\",\"\",Daten!B71)","v":"Erzeugung und erste Bearbeitung von NE-Metallen"},{"$f":"IF(Daten!$A71=\"\",\"\",Daten!C71)","v":39}]
[{"$f":"IF(Daten!A72=\"\",\"\",Daten!A72)","v":"C 24.5"},{"$f":"IF(Daten!$A72=\"\",\"\",Daten!B72)","v":"Gießereien"},{"$f":"IF(Daten!$A72=\"\",\"\",Daten!C72)","v":37}]
[{"$f":"IF(Daten!A73=\"\",\"\",Daten!A73)","v":"C 25.1"},{"$f":"IF(Daten!$A73=\"\",\"\",Daten!B73)","v":"Stahl- und Leichtmetallbau"},{"$f":"IF(Daten!$A73=\"\",\"\",Daten!C73)","v":661}]
[{"$f":"IF(Daten!A74=\"\",\"\",Daten!A74)","v":"C 25.11"},{"$f":"IF(Daten!$A74=\"\",\"\",Daten!B74)","v":"Herstellung von Metallkonstruktionen"},{"$f":"IF(Daten!$A74=\"\",\"\",Daten!C74)","v":513}]
[{"$f":"IF(Daten!A75=\"\",\"\",Daten!A75)","v":"C 25.12"},{"$f":"IF(Daten!$A75=\"\",\"\",Daten!B75)","v":"Herstellung von Ausbauelementen aus Metall"},{"$f":"IF(Daten!$A75=\"\",\"\",Daten!C75)","v":100}]
[{"$f":"IF(Daten!A76=\"\",\"\",Daten!A76)","v":"C 25.12-1"},{"$f":"IF(Daten!$A76=\"\",\"\",Daten!B76)","v":"Herstellung von Ausbauelementen aus Stahl "},{"$f":"IF(Daten!$A76=\"\",\"\",Daten!C76)","v":42}]
[{"$f":"IF(Daten!A77=\"\",\"\",Daten!A77)","v":"C 25.12-2"},{"$f":"IF(Daten!$A77=\"\",\"\",Daten!B77)","v":"Herstellung von Ausbauelementen aus Leichtmetall"},{"$f":"IF(Daten!$A77=\"\",\"\",Daten!C77)","v":45}]
[{"$f":"IF(Daten!A78=\"\",\"\",Daten!A78)","v":"C 25.2"},{"$f":"IF(Daten!$A78=\"\",\"\",Daten!B78)","v":"Herstellung von Metalltanks und -behältern; Herstellung von Heizkörpern und -kesseln für Zentralheizungen"},{"$f":"IF(Daten!$A78=\"\",\"\",Daten!C78)","v":40}]
[{"$f":"IF(Daten!A79=\"\",\"\",Daten!A79)","v":"C 25.5"},{"$f":"IF(Daten!$A79=\"\",\"\",Daten!B79)","v":"Herstellung von Schmiede-, Press-, Zieh- und Stanzteilen, gewalzten Ringen und pulvermetallurgischen Erzeugnissen"},{"$f":"IF(Daten!$A79=\"\",\"\",Daten!C79)","v":121}]
[{"$f":"IF(Daten!A80=\"\",\"\",Daten!A80)","v":"C 25.6"},{"$f":"IF(Daten!$A80=\"\",\"\",Daten!B80)","v":"Oberflächenveredlung und Wärmebehandlung; Mechanik a.n.g."},{"$f":"IF(Daten!$A80=\"\",\"\",Daten!C80)","v":341}]
[{"$f":"IF(Daten!A81=\"\",\"\",Daten!A81)","v":"C 25.61"},{"$f":"IF(Daten!$A81=\"\",\"\",Daten!B81)","v":"Oberflächenveredlung und Wärmebehandlung"},{"$f":"IF(Daten!$A81=\"\",\"\",Daten!C81)","v":121}]
[{"$f":"IF(Daten!A82=\"\",\"\",Daten!A82)","v":"C 25.62"},{"$f":"IF(Daten!$A82=\"\",\"\",Daten!B82)","v":"Mechanik a.n.g."},{"$f":"IF(Daten!$A82=\"\",\"\",Daten!C82)","v":213}]
[{"$f":"IF(Daten!A83=\"\",\"\",Daten!A83)","v":"C 25.7"},{"$f":"IF(Daten!$A83=\"\",\"\",Daten!B83)","v":"Herstellung von Schneidwaren, Werkzeugen, Schlössern und Beschlägen aus unedlen Metallen"},{"$f":"IF(Daten!$A83=\"\",\"\",Daten!C83)","v":245}]
[{"$f":"IF(Daten!A84=\"\",\"\",Daten!A84)","v":"C 25.72"},{"$f":"IF(Daten!$A84=\"\",\"\",Daten!B84)","v":"Herstellung von Schlössern und Beschlägen aus unedlen Metallen"},{"$f":"IF(Daten!$A84=\"\",\"\",Daten!C84)","v":83}]
[{"$f":"IF(Daten!A85=\"\",\"\",Daten!A85)","v":"C 25.72-1"},{"$f":"IF(Daten!$A85=\"\",\"\",Daten!B85)","v":"Herstellung von Schlössern aus unedlen Metallen"},{"$f":"IF(Daten!$A85=\"\",\"\",Daten!C85)","v":52}]
[{"$f":"IF(Daten!A86=\"\",\"\",Daten!A86)","v":"C 25.73"},{"$f":"IF(Daten!$A86=\"\",\"\",Daten!B86)","v":"Herstellung von Werkzeugen"},{"$f":"IF(Daten!$A86=\"\",\"\",Daten!C86)","v":153}]
[{"$f":"IF(Daten!A87=\"\",\"\",Daten!A87)","v":"C 25.73-9"},{"$f":"IF(Daten!$A87=\"\",\"\",Daten!B87)","v":"Herstellung von sonstigen Werkzeugen"},{"$f":"IF(Daten!$A87=\"\",\"\",Daten!C87)","v":85}]
[{"$f":"IF(Daten!A88=\"\",\"\",Daten!A88)","v":"C 25.9"},{"$f":"IF(Daten!$A88=\"\",\"\",Daten!B88)","v":"Herstellung von sonstigen Metallwaren"},{"$f":"IF(Daten!$A88=\"\",\"\",Daten!C88)","v":290}]
[{"$f":"IF(Daten!A89=\"\",\"\",Daten!A89)","v":"C 25.99"},{"$f":"IF(Daten!$A89=\"\",\"\",Daten!B89)","v":"Herstellung von sonstigen Metallwaren a.n.g."},{"$f":"IF(Daten!$A89=\"\",\"\",Daten!C89)","v":207}]
[{"$f":"IF(Daten!A90=\"\",\"\",Daten!A90)","v":"C 26.1"},{"$f":"IF(Daten!$A90=\"\",\"\",Daten!B90)","v":"Herstellung von elektronischen Bauelementen und Leiterplatten"},{"$f":"IF(Daten!$A90=\"\",\"\",Daten!C90)","v":106}]
[{"$f":"IF(Daten!A91=\"\",\"\",Daten!A91)","v":"C 26.11"},{"$f":"IF(Daten!$A91=\"\",\"\",Daten!B91)","v":"Herstellung von elektronischen Bauelementen"},{"$f":"IF(Daten!$A91=\"\",\"\",Daten!C91)","v":97}]
[{"$f":"IF(Daten!A92=\"\",\"\",Daten!A92)","v":"C 26.3"},{"$f":"IF(Daten!$A92=\"\",\"\",Daten!B92)","v":"Herstellung von Geräten und Einrichtungen der Telekommunikationstechnik"},{"$f":"IF(Daten!$A92=\"\",\"\",Daten!C92)","v":39}]
[{"$f":"IF(Daten!A93=\"\",\"\",Daten!A93)","v":"C 26.5"},{"$f":"IF(Daten!$A93=\"\",\"\",Daten!B93)","v":"Herstellung von Mess-, Kontroll-, Navigations- u. ä. Instrumenten und Vorrichtungen; Herstellung von Uhren"},{"$f":"IF(Daten!$A93=\"\",\"\",Daten!C93)","v":147}]
[{"$f":"IF(Daten!A94=\"\",\"\",Daten!A94)","v":"C 26.51"},{"$f":"IF(Daten!$A94=\"\",\"\",Daten!B94)","v":"Herstellung von Mess-, Kontroll-, Navigations- u.ä. Instrumenten und -vorrichtungen"},{"$f":"IF(Daten!$A94=\"\",\"\",Daten!C94)","v":141}]
[{"$f":"IF(Daten!A95=\"\",\"\",Daten!A95)","v":"C 27"},{"$f":"IF(Daten!$A95=\"\",\"\",Daten!B95)","v":"Herstellung von elektrischen Ausrüstungen"},{"$f":"IF(Daten!$A95=\"\",\"\",Daten!C95)","v":284}]
[{"$f":"IF(Daten!A96=\"\",\"\",Daten!A96)","v":"C 27.1"},{"$f":"IF(Daten!$A96=\"\",\"\",Daten!B96)","v":"Herstellung von Elektromotoren, Generatoren, Transformatoren, Elektrizitätsverteilungs- und -schalteinrichtungen"},{"$f":"IF(Daten!$A96=\"\",\"\",Daten!C96)","v":122}]
[{"$f":"IF(Daten!A97=\"\",\"\",Daten!A97)","v":"C 27.11"},{"$f":"IF(Daten!$A97=\"\",\"\",Daten!B97)","v":"Herstellung von Elektromotoren, Generatoren und Transformatoren"},{"$f":"IF(Daten!$A97=\"\",\"\",Daten!C97)","v":38}]
[{"$f":"IF(Daten!A98=\"\",\"\",Daten!A98)","v":"C 27.12"},{"$f":"IF(Daten!$A98=\"\",\"\",Daten!B98)","v":"Herstellung von Elektrizitätsverteilungs- und  -schalteinrichtungen"},{"$f":"IF(Daten!$A98=\"\",\"\",Daten!C98)","v":80}]
[{"$f":"IF(Daten!A99=\"\",\"\",Daten!A99)","v":"C 27.4"},{"$f":"IF(Daten!$A99=\"\",\"\",Daten!B99)","v":"Herstellung von elektrischen Lampen und Leuchten"},{"$f":"IF(Daten!$A99=\"\",\"\",Daten!C99)","v":50}]
[{"$f":"IF(Daten!A100=\"\",\"\",Daten!A100)","v":"C 27.9"},{"$f":"IF(Daten!$A100=\"\",\"\",Daten!B100)","v":"Herstellung von sonstigen elektrischen Ausrüstungen und Geräten a.n.g."},{"$f":"IF(Daten!$A100=\"\",\"\",Daten!C100)","v":57}]
[{"$f":"IF(Daten!A101=\"\",\"\",Daten!A101)","v":"C 28"},{"$f":"IF(Daten!$A101=\"\",\"\",Daten!B101)","v":"Maschinenbau"},{"$f":"IF(Daten!$A101=\"\",\"\",Daten!C101)","v":1005}]
[{"$f":"IF(Daten!A102=\"\",\"\",Daten!A102)","v":"C 28.1"},{"$f":"IF(Daten!$A102=\"\",\"\",Daten!B102)","v":"Herstellung von nicht wirtschaftszweigspezifischen Maschinen"},{"$f":"IF(Daten!$A102=\"\",\"\",Daten!C102)","v":122}]
[{"$f":"IF(Daten!A103=\"\",\"\",Daten!A103)","v":"C 28.12"},{"$f":"IF(Daten!$A103=\"\",\"\",Daten!B103)","v":"Herstellung von hydraulischen und pneumatischen Komponenten und Systemen"},{"$f":"IF(Daten!$A103=\"\",\"\",Daten!C103)","v":35}]
[{"$f":"IF(Daten!A104=\"\",\"\",Daten!A104)","v":"C 28.2"},{"$f":"IF(Daten!$A104=\"\",\"\",Daten!B104)","v":"Herstellung von sonstigen nicht wirtschaftszweigspezifischen Maschinen"},{"$f":"IF(Daten!$A104=\"\",\"\",Daten!C104)","v":391}]
[{"$f":"IF(Daten!A105=\"\",\"\",Daten!A105)","v":"C 28.21"},{"$f":"IF(Daten!$A105=\"\",\"\",Daten!B105)","v":"Herstellung von Öfen und Brennern"},{"$f":"IF(Daten!$A105=\"\",\"\",Daten!C105)","v":56}]
[{"$f":"IF(Daten!A106=\"\",\"\",Daten!A106)","v":"C 28.22"},{"$f":"IF(Daten!$A106=\"\",\"\",Daten!B106)","v":"Herstellung von Hebezeugen und Fördermitteln"},{"$f":"IF(Daten!$A106=\"\",\"\",Daten!C106)","v":88}]
[{"$f":"IF(Daten!A107=\"\",\"\",Daten!A107)","v":"C 28.25"},{"$f":"IF(Daten!$A107=\"\",\"\",Daten!B107)","v":"Herstellung von kälte- und lufttechnischen Erzeugnissen, nicht für den Haushalt"},{"$f":"IF(Daten!$A107=\"\",\"\",Daten!C107)","v":120}]
[{"$f":"IF(Daten!A108=\"\",\"\",Daten!A108)","v":"C 28.29"},{"$f":"IF(Daten!$A108=\"\",\"\",Daten!B108)","v":"Herstellung von sonstigen nicht wirtschaftszweigspezifischen Maschinen a.n.g."},{"$f":"IF(Daten!$A108=\"\",\"\",Daten!C108)","v":109}]
[{"$f":"IF(Daten!A109=\"\",\"\",Daten!A109)","v":"C 28.3"},{"$f":"IF(Daten!$A109=\"\",\"\",Daten!B109)","v":"Herstellung von land- und forstwirtschaftlichen Maschinen"},{"$f":"IF(Daten!$A109=\"\",\"\",Daten!C109)","v":63}]
[{"$f":"IF(Daten!A110=\"\",\"\",Daten!A110)","v":"C 28.4"},{"$f":"IF(Daten!$A110=\"\",\"\",Daten!B110)","v":"Herstellung von Werkzeugmaschinen"},{"$f":"IF(Daten!$A110=\"\",\"\",Daten!C110)","v":86}]
[{"$f":"IF(Daten!A111=\"\",\"\",Daten!A111)","v":"C 28.41"},{"$f":"IF(Daten!$A111=\"\",\"\",Daten!B111)","v":"Herstellung von Werkzeugmaschinen für die Metallbearbeitung"},{"$f":"IF(Daten!$A111=\"\",\"\",Daten!C111)","v":49}]
[{"$f":"IF(Daten!A112=\"\",\"\",Daten!A112)","v":"C 28.9"},{"$f":"IF(Daten!$A112=\"\",\"\",Daten!B112)","v":"Herstellung von Maschinen für sonstige bestimmte Wirtschaftszweige"},{"$f":"IF(Daten!$A112=\"\",\"\",Daten!C112)","v":278}]
[{"$f":"IF(Daten!A113=\"\",\"\",Daten!A113)","v":"C 28.93"},{"$f":"IF(Daten!$A113=\"\",\"\",Daten!B113)","v":"Herstellung von Maschinen für die Nahrungs- und Genussmittelerzeugung und die Tabakverarbeitung"},{"$f":"IF(Daten!$A113=\"\",\"\",Daten!C113)","v":40}]
[{"$f":"IF(Daten!A114=\"\",\"\",Daten!A114)","v":"C 28.99"},{"$f":"IF(Daten!$A114=\"\",\"\",Daten!B114)","v":"Herstellung von Maschinen für sonstige bestimmte Wirtschaftszweige a.n.g."},{"$f":"IF(Daten!$A114=\"\",\"\",Daten!C114)","v":155}]
[{"$f":"IF(Daten!A115=\"\",\"\",Daten!A115)","v":"C 28.99-9"},{"$f":"IF(Daten!$A115=\"\",\"\",Daten!B115)","v":"Herstellung von sonstigen Maschinen für sonstige bestimmte Wirtschaftszweige a.n.g."},{"$f":"IF(Daten!$A115=\"\",\"\",Daten!C115)","v":136}]
[{"$f":"IF(Daten!A116=\"\",\"\",Daten!A116)","v":"C 29.2"},{"$f":"IF(Daten!$A116=\"\",\"\",Daten!B116)","v":"Herstellung von Karosserien, Aufbauten und Anhängern"},{"$f":"IF(Daten!$A116=\"\",\"\",Daten!C116)","v":82}]
[{"$f":"IF(Daten!A117=\"\",\"\",Daten!A117)","v":"C 29.3"},{"$f":"IF(Daten!$A117=\"\",\"\",Daten!B117)","v":"Herstellung von Teilen und Zubehör für Kraftwagen "},{"$f":"IF(Daten!$A117=\"\",\"\",Daten!C117)","v":55}]
[{"$f":"IF(Daten!A118=\"\",\"\",Daten!A118)","v":"C 29.32"},{"$f":"IF(Daten!$A118=\"\",\"\",Daten!B118)","v":"Herstellung von sonstigen Teilen und sonstigem Zubehör für Kraftwagen "},{"$f":"IF(Daten!$A118=\"\",\"\",Daten!C118)","v":39}]
[{"$f":"IF(Daten!A119=\"\",\"\",Daten!A119)","v":"C 30"},{"$f":"IF(Daten!$A119=\"\",\"\",Daten!B119)","v":"Sonstiger Fahrzeugbau"},{"$f":"IF(Daten!$A119=\"\",\"\",Daten!C119)","v":48}]
[{"$f":"IF(Daten!A120=\"\",\"\",Daten!A120)","v":"C 31"},{"$f":"IF(Daten!$A120=\"\",\"\",Daten!B120)","v":"Herstellung von Möbeln"},{"$f":"IF(Daten!$A120=\"\",\"\",Daten!C120)","v":989}]
[{"$f":"IF(Daten!A121=\"\",\"\",Daten!A121)","v":"C 31.01"},{"$f":"IF(Daten!$A121=\"\",\"\",Daten!B121)","v":"Herstellung von Büro- und Ladenmöbeln"},{"$f":"IF(Daten!$A121=\"\",\"\",Daten!C121)","v":60}]
[{"$f":"IF(Daten!A122=\"\",\"\",Daten!A122)","v":"C 31.01-2"},{"$f":"IF(Daten!$A122=\"\",\"\",Daten!B122)","v":"Herstellung von Ladenmöbeln"},{"$f":"IF(Daten!$A122=\"\",\"\",Daten!C122)","v":37}]
[{"$f":"IF(Daten!A123=\"\",\"\",Daten!A123)","v":"C 31.02"},{"$f":"IF(Daten!$A123=\"\",\"\",Daten!B123)","v":"Herstellung von Küchenmöbeln"},{"$f":"IF(Daten!$A123=\"\",\"\",Daten!C123)","v":34}]
[{"$f":"IF(Daten!A124=\"\",\"\",Daten!A124)","v":"C 31.09"},{"$f":"IF(Daten!$A124=\"\",\"\",Daten!B124)","v":"Herstellung von sonstigen Möbeln"},{"$f":"IF(Daten!$A124=\"\",\"\",Daten!C124)","v":483}]
[{"$f":"IF(Daten!A125=\"\",\"\",Daten!A125)","v":"C 32"},{"$f":"IF(Daten!$A125=\"\",\"\",Daten!B125)","v":"Herstellung von sonstigen Waren "},{"$f":"IF(Daten!$A125=\"\",\"\",Daten!C125)","v":498}]
[{"$f":"IF(Daten!A126=\"\",\"\",Daten!A126)","v":"C 32.1"},{"$f":"IF(Daten!$A126=\"\",\"\",Daten!B126)","v":"Herstellung von Münzen, Schmuck und ähnlichen Erzeugnissen"},{"$f":"IF(Daten!$A126=\"\",\"\",Daten!C126)","v":69}]
[{"$f":"IF(Daten!A127=\"\",\"\",Daten!A127)","v":"C 32.12"},{"$f":"IF(Daten!$A127=\"\",\"\",Daten!B127)","v":"Herstellung von Schmuck, Gold- und Silberschmiedewaren (ohne Fantasieschmuck)"},{"$f":"IF(Daten!$A127=\"\",\"\",Daten!C127)","v":58}]
[{"$f":"IF(Daten!A128=\"\",\"\",Daten!A128)","v":"C 32.5"},{"$f":"IF(Daten!$A128=\"\",\"\",Daten!B128)","v":"Herstellung von medizinischen und zahnmedizinischen Apparaten und Materialien"},{"$f":"IF(Daten!$A128=\"\",\"\",Daten!C128)","v":294}]
[{"$f":"IF(Daten!A129=\"\",\"\",Daten!A129)","v":"C 32.50-1"},{"$f":"IF(Daten!$A129=\"\",\"\",Daten!B129)","v":"Zahntechnische Laboratorien"},{"$f":"IF(Daten!$A129=\"\",\"\",Daten!C129)","v":132}]
[{"$f":"IF(Daten!A130=\"\",\"\",Daten!A130)","v":"C 32.50-2"},{"$f":"IF(Daten!$A130=\"\",\"\",Daten!B130)","v":"Herstellung von Sehbehelfen und deren Teile"},{"$f":"IF(Daten!$A130=\"\",\"\",Daten!C130)","v":46}]
[{"$f":"IF(Daten!A131=\"\",\"\",Daten!A131)","v":"C 32.50-9"},{"$f":"IF(Daten!$A131=\"\",\"\",Daten!B131)","v":"Herstellung von sonstigen medizinischen und zahnmedizinischen Apparaten und Materialien"},{"$f":"IF(Daten!$A131=\"\",\"\",Daten!C131)","v":104}]
[{"$f":"IF(Daten!A132=\"\",\"\",Daten!A132)","v":"C 32.9"},{"$f":"IF(Daten!$A132=\"\",\"\",Daten!B132)","v":"Herstellung von Erzeugnissen a.n.g."},{"$f":"IF(Daten!$A132=\"\",\"\",Daten!C132)","v":58}]
[{"$f":"IF(Daten!A133=\"\",\"\",Daten!A133)","v":"C 32.99"},{"$f":"IF(Daten!$A133=\"\",\"\",Daten!B133)","v":"Herstellung von sonstigen Erzeugnissen a.n.g. "},{"$f":"IF(Daten!$A133=\"\",\"\",Daten!C133)","v":52}]
[{"$f":"IF(Daten!A134=\"\",\"\",Daten!A134)","v":"C 33"},{"$f":"IF(Daten!$A134=\"\",\"\",Daten!B134)","v":"Reparatur und Installation von Maschinen und Ausrüstungen"},{"$f":"IF(Daten!$A134=\"\",\"\",Daten!C134)","v":301}]
[{"$f":"IF(Daten!A135=\"\",\"\",Daten!A135)","v":"C 33.1"},{"$f":"IF(Daten!$A135=\"\",\"\",Daten!B135)","v":"Reparatur von Metallerzeugnissen, Maschinen und Ausrüstungen"},{"$f":"IF(Daten!$A135=\"\",\"\",Daten!C135)","v":189}]
[{"$f":"IF(Daten!A136=\"\",\"\",Daten!A136)","v":"C 33.12"},{"$f":"IF(Daten!$A136=\"\",\"\",Daten!B136)","v":"Reparatur von Maschinen"},{"$f":"IF(Daten!$A136=\"\",\"\",Daten!C136)","v":118}]
[{"$f":"IF(Daten!A137=\"\",\"\",Daten!A137)","v":"C 33.2"},{"$f":"IF(Daten!$A137=\"\",\"\",Daten!B137)","v":"Installation von Maschinen und Ausrüstungen a.n.g."},{"$f":"IF(Daten!$A137=\"\",\"\",Daten!C137)","v":111}]
[{"$f":"IF(Daten!A138=\"\",\"\",Daten!A138)","v":"D"},{"$f":"IF(Daten!$A138=\"\",\"\",Daten!B138)","v":"Energieversorgung"},{"$f":"IF(Daten!$A138=\"\",\"\",Daten!C138)","v":913}]
[{"$f":"IF(Daten!A139=\"\",\"\",Daten!A139)","v":"D 35"},{"$f":"IF(Daten!$A139=\"\",\"\",Daten!B139)","v":"Energieversorgung"},{"$f":"IF(Daten!$A139=\"\",\"\",Daten!C139)","v":913}]
[{"$f":"IF(Daten!A140=\"\",\"\",Daten!A140)","v":"D 35.1"},{"$f":"IF(Daten!$A140=\"\",\"\",Daten!B140)","v":"Elektrizitätsversorgung"},{"$f":"IF(Daten!$A140=\"\",\"\",Daten!C140)","v":461}]
[{"$f":"IF(Daten!A141=\"\",\"\",Daten!A141)","v":"D 35.11"},{"$f":"IF(Daten!$A141=\"\",\"\",Daten!B141)","v":"Elektrizitätserzeugung"},{"$f":"IF(Daten!$A141=\"\",\"\",Daten!C141)","v":362}]
[{"$f":"IF(Daten!A142=\"\",\"\",Daten!A142)","v":"D 35.13"},{"$f":"IF(Daten!$A142=\"\",\"\",Daten!B142)","v":"Elektrizitätsverteilung"},{"$f":"IF(Daten!$A142=\"\",\"\",Daten!C142)","v":33}]
[{"$f":"IF(Daten!A143=\"\",\"\",Daten!A143)","v":"D 35.2"},{"$f":"IF(Daten!$A143=\"\",\"\",Daten!B143)","v":"Gasversorgung"},{"$f":"IF(Daten!$A143=\"\",\"\",Daten!C143)","v":31}]
[{"$f":"IF(Daten!A144=\"\",\"\",Daten!A144)","v":"D 35.3"},{"$f":"IF(Daten!$A144=\"\",\"\",Daten!B144)","v":"Wärme- und Kälteversorgung"},{"$f":"IF(Daten!$A144=\"\",\"\",Daten!C144)","v":382}]
[{"$f":"IF(Daten!A145=\"\",\"\",Daten!A145)","v":"E"},{"$f":"IF(Daten!$A145=\"\",\"\",Daten!B145)","v":"Wasserversorgung; Abwasser- und Abfallentsorgung undbeseitigung von Umweltverschmutzungen"},{"$f":"IF(Daten!$A145=\"\",\"\",Daten!C145)","v":478}]
[{"$f":"IF(Daten!A146=\"\",\"\",Daten!A146)","v":"E 37"},{"$f":"IF(Daten!$A146=\"\",\"\",Daten!B146)","v":"Abwasserentsorgung"},{"$f":"IF(Daten!$A146=\"\",\"\",Daten!C146)","v":76}]
[{"$f":"IF(Daten!A147=\"\",\"\",Daten!A147)","v":"E 38"},{"$f":"IF(Daten!$A147=\"\",\"\",Daten!B147)","v":"Sammlung, Behandlung und Beseitigung von Abfällen; Rückgewinnung"},{"$f":"IF(Daten!$A147=\"\",\"\",Daten!C147)","v":362}]
[{"$f":"IF(Daten!A148=\"\",\"\",Daten!A148)","v":"E 38.1"},{"$f":"IF(Daten!$A148=\"\",\"\",Daten!B148)","v":"Sammlung von Abfällen"},{"$f":"IF(Daten!$A148=\"\",\"\",Daten!C148)","v":103}]
[{"$f":"IF(Daten!A149=\"\",\"\",Daten!A149)","v":"E 38.11"},{"$f":"IF(Daten!$A149=\"\",\"\",Daten!B149)","v":"Sammlung nicht gefährlicher Abfälle"},{"$f":"IF(Daten!$A149=\"\",\"\",Daten!C149)","v":90}]
[{"$f":"IF(Daten!A150=\"\",\"\",Daten!A150)","v":"E 38.2"},{"$f":"IF(Daten!$A150=\"\",\"\",Daten!B150)","v":"Abfallbehandlung und -beseitigung "},{"$f":"IF(Daten!$A150=\"\",\"\",Daten!C150)","v":127}]
[{"$f":"IF(Daten!A151=\"\",\"\",Daten!A151)","v":"E 38.21"},{"$f":"IF(Daten!$A151=\"\",\"\",Daten!B151)","v":"Behandlung und Beseitigung nicht gefährlicher Abfälle"},{"$f":"IF(Daten!$A151=\"\",\"\",Daten!C151)","v":76}]
[{"$f":"IF(Daten!A152=\"\",\"\",Daten!A152)","v":"E 38.21-9"},{"$f":"IF(Daten!$A152=\"\",\"\",Daten!B152)","v":"Sonstige Behandlung und Beseitigung nicht gefährlicher Abfälle "},{"$f":"IF(Daten!$A152=\"\",\"\",Daten!C152)","v":48}]
[{"$f":"IF(Daten!A153=\"\",\"\",Daten!A153)","v":"E 38.3"},{"$f":"IF(Daten!$A153=\"\",\"\",Daten!B153)","v":"Rückgewinnung"},{"$f":"IF(Daten!$A153=\"\",\"\",Daten!C153)","v":115}]
[{"$f":"IF(Daten!A154=\"\",\"\",Daten!A154)","v":"E 38.32"},{"$f":"IF(Daten!$A154=\"\",\"\",Daten!B154)","v":"Rückgewinnung sortierter Werkstoffe"},{"$f":"IF(Daten!$A154=\"\",\"\",Daten!C154)","v":100}]
[{"$f":"IF(Daten!A155=\"\",\"\",Daten!A155)","v":"E 38.32-9"},{"$f":"IF(Daten!$A155=\"\",\"\",Daten!B155)","v":"Rückgewinnung sonstiger sortierter Werkstoffe"},{"$f":"IF(Daten!$A155=\"\",\"\",Daten!C155)","v":70}]
[{"$f":"IF(Daten!A156=\"\",\"\",Daten!A156)","v":"F"},{"$f":"IF(Daten!$A156=\"\",\"\",Daten!B156)","v":"Bau"},{"$f":"IF(Daten!$A156=\"\",\"\",Daten!C156)","v":10506}]
[{"$f":"IF(Daten!A157=\"\",\"\",Daten!A157)","v":"F 41"},{"$f":"IF(Daten!$A157=\"\",\"\",Daten!B157)","v":"Hochbau"},{"$f":"IF(Daten!$A157=\"\",\"\",Daten!C157)","v":1644}]
[{"$f":"IF(Daten!A158=\"\",\"\",Daten!A158)","v":"F 41.2"},{"$f":"IF(Daten!$A158=\"\",\"\",Daten!B158)","v":"Bau von Gebäuden"},{"$f":"IF(Daten!$A158=\"\",\"\",Daten!C158)","v":1610}]
[{"$f":"IF(Daten!A159=\"\",\"\",Daten!A159)","v":"F 41.20-1"},{"$f":"IF(Daten!$A159=\"\",\"\",Daten!B159)","v":"Wohnungs- und Siedlungsbau"},{"$f":"IF(Daten!$A159=\"\",\"\",Daten!C159)","v":544}]
[{"$f":"IF(Daten!A160=\"\",\"\",Daten!A160)","v":"F 41.20-2"},{"$f":"IF(Daten!$A160=\"\",\"\",Daten!B160)","v":"Adaptierungsarbeiten im Hochbau"},{"$f":"IF(Daten!$A160=\"\",\"\",Daten!C160)","v":169}]
[{"$f":"IF(Daten!A161=\"\",\"\",Daten!A161)","v":"F 41.20-9"},{"$f":"IF(Daten!$A161=\"\",\"\",Daten!B161)","v":"Sonstiger Hochbau"},{"$f":"IF(Daten!$A161=\"\",\"\",Daten!C161)","v":746}]
[{"$f":"IF(Daten!A162=\"\",\"\",Daten!A162)","v":"F 42"},{"$f":"IF(Daten!$A162=\"\",\"\",Daten!B162)","v":"Tiefbau"},{"$f":"IF(Daten!$A162=\"\",\"\",Daten!C162)","v":256}]
[{"$f":"IF(Daten!A163=\"\",\"\",Daten!A163)","v":"F 42.1"},{"$f":"IF(Daten!$A163=\"\",\"\",Daten!B163)","v":"Bau von Straßen und Bahnverkehrsstrecken"},{"$f":"IF(Daten!$A163=\"\",\"\",Daten!C163)","v":88}]
[{"$f":"IF(Daten!A164=\"\",\"\",Daten!A164)","v":"F 42.11"},{"$f":"IF(Daten!$A164=\"\",\"\",Daten!B164)","v":"Bau von Straßen"},{"$f":"IF(Daten!$A164=\"\",\"\",Daten!C164)","v":59}]
[{"$f":"IF(Daten!A165=\"\",\"\",Daten!A165)","v":"F 42.2"},{"$f":"IF(Daten!$A165=\"\",\"\",Daten!B165)","v":"Leitungstiefbau und Kläranlagenbau"},{"$f":"IF(Daten!$A165=\"\",\"\",Daten!C165)","v":84}]
[{"$f":"IF(Daten!A166=\"\",\"\",Daten!A166)","v":"F 42.21"},{"$f":"IF(Daten!$A166=\"\",\"\",Daten!B166)","v":"Rohrleitungstiefbau, Brunnenbau und Kläranlagenbau"},{"$f":"IF(Daten!$A166=\"\",\"\",Daten!C166)","v":64}]
[{"$f":"IF(Daten!A167=\"\",\"\",Daten!A167)","v":"F 42.9"},{"$f":"IF(Daten!$A167=\"\",\"\",Daten!B167)","v":"Sonstiger Tiefbau"},{"$f":"IF(Daten!$A167=\"\",\"\",Daten!C167)","v":80}]
[{"$f":"IF(Daten!A168=\"\",\"\",Daten!A168)","v":"F 42.99"},{"$f":"IF(Daten!$A168=\"\",\"\",Daten!B168)","v":"Sonstiger Tiefbau a.n.g."},{"$f":"IF(Daten!$A168=\"\",\"\",Daten!C168)","v":55}]
[{"$f":"IF(Daten!A169=\"\",\"\",Daten!A169)","v":"F 43"},{"$f":"IF(Daten!$A169=\"\",\"\",Daten!B169)","v":"Vorbereitende Baustellenarbeiten, Bauinstallation und sonstiges Ausbaugewerbe"},{"$f":"IF(Daten!$A169=\"\",\"\",Daten!C169)","v":8606}]
[{"$f":"IF(Daten!A170=\"\",\"\",Daten!A170)","v":"F 43.1"},{"$f":"IF(Daten!$A170=\"\",\"\",Daten!B170)","v":"Abbrucharbeiten und vorbereitende Baustellenarbeiten "},{"$f":"IF(Daten!$A170=\"\",\"\",Daten!C170)","v":462}]
[{"$f":"IF(Daten!A171=\"\",\"\",Daten!A171)","v":"F 43.11"},{"$f":"IF(Daten!$A171=\"\",\"\",Daten!B171)","v":"Abbrucharbeiten"},{"$f":"IF(Daten!$A171=\"\",\"\",Daten!C171)","v":148}]
[{"$f":"IF(Daten!A172=\"\",\"\",Daten!A172)","v":"F 43.12"},{"$f":"IF(Daten!$A172=\"\",\"\",Daten!B172)","v":"Vorbereitende Baustellenarbeiten"},{"$f":"IF(Daten!$A172=\"\",\"\",Daten!C172)","v":239}]
[{"$f":"IF(Daten!A173=\"\",\"\",Daten!A173)","v":"F 43.2"},{"$f":"IF(Daten!$A173=\"\",\"\",Daten!B173)","v":"Bauinstallation"},{"$f":"IF(Daten!$A173=\"\",\"\",Daten!C173)","v":3333}]
[{"$f":"IF(Daten!A174=\"\",\"\",Daten!A174)","v":"F 43.21"},{"$f":"IF(Daten!$A174=\"\",\"\",Daten!B174)","v":"Elektroinstallation"},{"$f":"IF(Daten!$A174=\"\",\"\",Daten!C174)","v":1243}]
[{"$f":"IF(Daten!A175=\"\",\"\",Daten!A175)","v":"F 43.22"},{"$f":"IF(Daten!$A175=\"\",\"\",Daten!B175)","v":"Gas-, Wasser-, Heizungs- und Lüftungs- und Klimaanlageninstallation"},{"$f":"IF(Daten!$A175=\"\",\"\",Daten!C175)","v":1696}]
[{"$f":"IF(Daten!A176=\"\",\"\",Daten!A176)","v":"F 43.29"},{"$f":"IF(Daten!$A176=\"\",\"\",Daten!B176)","v":"Sonstige Bauinstallation"},{"$f":"IF(Daten!$A176=\"\",\"\",Daten!C176)","v":375}]
[{"$f":"IF(Daten!A177=\"\",\"\",Daten!A177)","v":"F 43.3"},{"$f":"IF(Daten!$A177=\"\",\"\",Daten!B177)","v":"Sonstiger Ausbau"},{"$f":"IF(Daten!$A177=\"\",\"\",Daten!C177)","v":2865}]
[{"$f":"IF(Daten!A178=\"\",\"\",Daten!A178)","v":"F 43.31"},{"$f":"IF(Daten!$A178=\"\",\"\",Daten!B178)","v":"Anbringen von Stuckaturen, Gipserei und Verputzerei"},{"$f":"IF(Daten!$A178=\"\",\"\",Daten!C178)","v":222}]
[{"$f":"IF(Daten!A179=\"\",\"\",Daten!A179)","v":"F 43.32"},{"$f":"IF(Daten!$A179=\"\",\"\",Daten!B179)","v":"Bautischlerei und -schlosserei"},{"$f":"IF(Daten!$A179=\"\",\"\",Daten!C179)","v":723}]
[{"$f":"IF(Daten!A180=\"\",\"\",Daten!A180)","v":"F 43.32-1"},{"$f":"IF(Daten!$A180=\"\",\"\",Daten!B180)","v":"Bautischlerei"},{"$f":"IF(Daten!$A180=\"\",\"\",Daten!C180)","v":407}]
[{"$f":"IF(Daten!A181=\"\",\"\",Daten!A181)","v":"F 43.32-2"},{"$f":"IF(Daten!$A181=\"\",\"\",Daten!B181)","v":"Bauschlosserei"},{"$f":"IF(Daten!$A181=\"\",\"\",Daten!C181)","v":293}]
[{"$f":"IF(Daten!A182=\"\",\"\",Daten!A182)","v":"F 43.33"},{"$f":"IF(Daten!$A182=\"\",\"\",Daten!B182)","v":"Fußboden-, Fliesen- und Plattenlegerei, Tapeziererei"},{"$f":"IF(Daten!$A182=\"\",\"\",Daten!C182)","v":711}]
[{"$f":"IF(Daten!A183=\"\",\"\",Daten!A183)","v":"F 43.33-1"},{"$f":"IF(Daten!$A183=\"\",\"\",Daten!B183)","v":"Fußbodenlegerei"},{"$f":"IF(Daten!$A183=\"\",\"\",Daten!C183)","v":189}]
[{"$f":"IF(Daten!A184=\"\",\"\",Daten!A184)","v":"F 43.33-2"},{"$f":"IF(Daten!$A184=\"\",\"\",Daten!B184)","v":"Fliesenlegerei"},{"$f":"IF(Daten!$A184=\"\",\"\",Daten!C184)","v":240}]
[{"$f":"IF(Daten!A185=\"\",\"\",Daten!A185)","v":"F 43.33-3"},{"$f":"IF(Daten!$A185=\"\",\"\",Daten!B185)","v":"Tapeziererei"},{"$f":"IF(Daten!$A185=\"\",\"\",Daten!C185)","v":146}]
[{"$f":"IF(Daten!A186=\"\",\"\",Daten!A186)","v":"F 43.33-4"},{"$f":"IF(Daten!$A186=\"\",\"\",Daten!B186)","v":"Ofensetzerei"},{"$f":"IF(Daten!$A186=\"\",\"\",Daten!C186)","v":85}]
[{"$f":"IF(Daten!A187=\"\",\"\",Daten!A187)","v":"F 43.34"},{"$f":"IF(Daten!$A187=\"\",\"\",Daten!B187)","v":"Malerei und Glaserei"},{"$f":"IF(Daten!$A187=\"\",\"\",Daten!C187)","v":869}]
[{"$f":"IF(Daten!A188=\"\",\"\",Daten!A188)","v":"F 43.34-1"},{"$f":"IF(Daten!$A188=\"\",\"\",Daten!B188)","v":"Malerei und Anstreicherei"},{"$f":"IF(Daten!$A188=\"\",\"\",Daten!C188)","v":663}]
[{"$f":"IF(Daten!A189=\"\",\"\",Daten!A189)","v":"F 43.34-2"},{"$f":"IF(Daten!$A189=\"\",\"\",Daten!B189)","v":"Glaserei"},{"$f":"IF(Daten!$A189=\"\",\"\",Daten!C189)","v":189}]
[{"$f":"IF(Daten!A190=\"\",\"\",Daten!A190)","v":"F 43.39"},{"$f":"IF(Daten!$A190=\"\",\"\",Daten!B190)","v":"Sonstiger Ausbau a.n.g."},{"$f":"IF(Daten!$A190=\"\",\"\",Daten!C190)","v":278}]
[{"$f":"IF(Daten!A191=\"\",\"\",Daten!A191)","v":"F 43.9"},{"$f":"IF(Daten!$A191=\"\",\"\",Daten!B191)","v":"Sonstige spezialisierte Bautätigkeiten"},{"$f":"IF(Daten!$A191=\"\",\"\",Daten!C191)","v":1878}]
[{"$f":"IF(Daten!A192=\"\",\"\",Daten!A192)","v":"F 43.91"},{"$f":"IF(Daten!$A192=\"\",\"\",Daten!B192)","v":"Dachdeckerei und Zimmerei"},{"$f":"IF(Daten!$A192=\"\",\"\",Daten!C192)","v":1294}]
[{"$f":"IF(Daten!A193=\"\",\"\",Daten!A193)","v":"F 43.91-1"},{"$f":"IF(Daten!$A193=\"\",\"\",Daten!B193)","v":"Dachdeckerei"},{"$f":"IF(Daten!$A193=\"\",\"\",Daten!C193)","v":401}]
[{"$f":"IF(Daten!A194=\"\",\"\",Daten!A194)","v":"F 43.91-2"},{"$f":"IF(Daten!$A194=\"\",\"\",Daten!B194)","v":"Zimmerei"},{"$f":"IF(Daten!$A194=\"\",\"\",Daten!C194)","v":473}]
[{"$f":"IF(Daten!A195=\"\",\"\",Daten!A195)","v":"F 43.91-3"},{"$f":"IF(Daten!$A195=\"\",\"\",Daten!B195)","v":"Bauspenglerei"},{"$f":"IF(Daten!$A195=\"\",\"\",Daten!C195)","v":370}]
[{"$f":"IF(Daten!A196=\"\",\"\",Daten!A196)","v":"F 43.99"},{"$f":"IF(Daten!$A196=\"\",\"\",Daten!B196)","v":"Sonstige spezialisierte Bautätigkeiten a.n.g."},{"$f":"IF(Daten!$A196=\"\",\"\",Daten!C196)","v":450}]
[{"$f":"IF(Daten!A197=\"\",\"\",Daten!A197)","v":"F 43.99-1"},{"$f":"IF(Daten!$A197=\"\",\"\",Daten!B197)","v":"Isolierer"},{"$f":"IF(Daten!$A197=\"\",\"\",Daten!C197)","v":89}]
[{"$f":"IF(Daten!A198=\"\",\"\",Daten!A198)","v":"F 43.99-9"},{"$f":"IF(Daten!$A198=\"\",\"\",Daten!B198)","v":"Sonstige spezialisierte Bautätigkeiten a.n.g. (ohne Isolierer)"},{"$f":"IF(Daten!$A198=\"\",\"\",Daten!C198)","v":308}]
[{"$f":"IF(Daten!A199=\"\",\"\",Daten!A199)","v":"G"},{"$f":"IF(Daten!$A199=\"\",\"\",Daten!B199)","v":"Handel; Instandhaltung und Reparatur von Kraftfahrzeugen"},{"$f":"IF(Daten!$A199=\"\",\"\",Daten!C199)","v":19197}]
[{"$f":"IF(Daten!A200=\"\",\"\",Daten!A200)","v":"G 45.1"},{"$f":"IF(Daten!$A200=\"\",\"\",Daten!B200)","v":"Handel mit Kraftwagen"},{"$f":"IF(Daten!$A200=\"\",\"\",Daten!C200)","v":1458}]
[{"$f":"IF(Daten!A201=\"\",\"\",Daten!A201)","v":"G 45.11"},{"$f":"IF(Daten!$A201=\"\",\"\",Daten!B201)","v":"Handel mit Kraftwagen mit einem Gesamtgewicht von 3,5 t oder weniger"},{"$f":"IF(Daten!$A201=\"\",\"\",Daten!C201)","v":1281}]
[{"$f":"IF(Daten!A202=\"\",\"\",Daten!A202)","v":"G 45.11-1"},{"$f":"IF(Daten!$A202=\"\",\"\",Daten!B202)","v":"Großhandel mit Kraftwagen mit einem Gesamtgewicht von 3,5 t oder weniger"},{"$f":"IF(Daten!$A202=\"\",\"\",Daten!C202)","v":36}]
[{"$f":"IF(Daten!A203=\"\",\"\",Daten!A203)","v":"G 45.11-2"},{"$f":"IF(Daten!$A203=\"\",\"\",Daten!B203)","v":"Einzelhandel mit Kraftwagen mit einem Gesamtgewicht von 3,5 t oder weniger"},{"$f":"IF(Daten!$A203=\"\",\"\",Daten!C203)","v":1179}]
[{"$f":"IF(Daten!A204=\"\",\"\",Daten!A204)","v":"G 45.19"},{"$f":"IF(Daten!$A204=\"\",\"\",Daten!B204)","v":"Handel mit Kraftwagen mit einem Gesamtgewicht von mehr als 3,5 t"},{"$f":"IF(Daten!$A204=\"\",\"\",Daten!C204)","v":40}]
[{"$f":"IF(Daten!A205=\"\",\"\",Daten!A205)","v":"G 45.2"},{"$f":"IF(Daten!$A205=\"\",\"\",Daten!B205)","v":"Instandhaltung und Reparatur von Kraftwagen"},{"$f":"IF(Daten!$A205=\"\",\"\",Daten!C205)","v":1032}]
[{"$f":"IF(Daten!A206=\"\",\"\",Daten!A206)","v":"G 45.3"},{"$f":"IF(Daten!$A206=\"\",\"\",Daten!B206)","v":"Handel mit Kraftwagenteilen und -zubehör"},{"$f":"IF(Daten!$A206=\"\",\"\",Daten!C206)","v":307}]
[{"$f":"IF(Daten!A207=\"\",\"\",Daten!A207)","v":"G 45.31"},{"$f":"IF(Daten!$A207=\"\",\"\",Daten!B207)","v":"Großhandel mit Kraftwagenteilen und -zubehör"},{"$f":"IF(Daten!$A207=\"\",\"\",Daten!C207)","v":100}]
[{"$f":"IF(Daten!A208=\"\",\"\",Daten!A208)","v":"G 45.32"},{"$f":"IF(Daten!$A208=\"\",\"\",Daten!B208)","v":"Einzelhandel mit Kraftwagenteilen und -zubehör"},{"$f":"IF(Daten!$A208=\"\",\"\",Daten!C208)","v":170}]
[{"$f":"IF(Daten!A209=\"\",\"\",Daten!A209)","v":"G 45.4"},{"$f":"IF(Daten!$A209=\"\",\"\",Daten!B209)","v":"Handel mit Krafträdern, Kraftradteilen und -zubehör; Instandhaltung und Reparatur von Krafträdern"},{"$f":"IF(Daten!$A209=\"\",\"\",Daten!C209)","v":169}]
[{"$f":"IF(Daten!A210=\"\",\"\",Daten!A210)","v":"G 46"},{"$f":"IF(Daten!$A210=\"\",\"\",Daten!B210)","v":"Großhandel (ohne Handel mit Kraftfahrzeugen)"},{"$f":"IF(Daten!$A210=\"\",\"\",Daten!C210)","v":6783}]
[{"$f":"IF(Daten!A211=\"\",\"\",Daten!A211)","v":"G 46.1"},{"$f":"IF(Daten!$A211=\"\",\"\",Daten!B211)","v":"Handelsvermittlung"},{"$f":"IF(Daten!$A211=\"\",\"\",Daten!C211)","v":594}]
[{"$f":"IF(Daten!A212=\"\",\"\",Daten!A212)","v":"G 46.13"},{"$f":"IF(Daten!$A212=\"\",\"\",Daten!B212)","v":"Handelsvermittlung von Holz, Baustoffen und Anstrichmitteln"},{"$f":"IF(Daten!$A212=\"\",\"\",Daten!C212)","v":49}]
[{"$f":"IF(Daten!A213=\"\",\"\",Daten!A213)","v":"G 46.14"},{"$f":"IF(Daten!$A213=\"\",\"\",Daten!B213)","v":"Handelsvermittlung von Maschinen, technischem Bedarf, Wasser- und Luftfahrzeugen"},{"$f":"IF(Daten!$A213=\"\",\"\",Daten!C213)","v":77}]
[{"$f":"IF(Daten!A214=\"\",\"\",Daten!A214)","v":"G 46.15"},{"$f":"IF(Daten!$A214=\"\",\"\",Daten!B214)","v":"Handelsvermittlung von Möbeln, Einrichtungs- und Haushaltsgegenständen, Eisen- und Metallwaren"},{"$f":"IF(Daten!$A214=\"\",\"\",Daten!C214)","v":34}]
[{"$f":"IF(Daten!A215=\"\",\"\",Daten!A215)","v":"G 46.16"},{"$f":"IF(Daten!$A215=\"\",\"\",Daten!B215)","v":"Handelsvermittlung von Textilien, Bekleidung, Schuhen und Lederwaren"},{"$f":"IF(Daten!$A215=\"\",\"\",Daten!C215)","v":48}]
[{"$f":"IF(Daten!A216=\"\",\"\",Daten!A216)","v":"G 46.18"},{"$f":"IF(Daten!$A216=\"\",\"\",Daten!B216)","v":"Handelsvermittlung von sonstigen Waren "},{"$f":"IF(Daten!$A216=\"\",\"\",Daten!C216)","v":135}]
[{"$f":"IF(Daten!A217=\"\",\"\",Daten!A217)","v":"G 46.19"},{"$f":"IF(Daten!$A217=\"\",\"\",Daten!B217)","v":"Handelsvermittlung von Waren ohne ausgeprägten Schwerpunkt"},{"$f":"IF(Daten!$A217=\"\",\"\",Daten!C217)","v":173}]
[{"$f":"IF(Daten!A218=\"\",\"\",Daten!A218)","v":"G 46.2"},{"$f":"IF(Daten!$A218=\"\",\"\",Daten!B218)","v":"Großhandel mit landwirtschaftlichen Grundstoffen und lebenden Tieren"},{"$f":"IF(Daten!$A218=\"\",\"\",Daten!C218)","v":274}]
[{"$f":"IF(Daten!A219=\"\",\"\",Daten!A219)","v":"G 46.21"},{"$f":"IF(Daten!$A219=\"\",\"\",Daten!B219)","v":"Großhandel mit Getreide, Rohtabak, Saatgut und Futtermitteln"},{"$f":"IF(Daten!$A219=\"\",\"\",Daten!C219)","v":150}]
[{"$f":"IF(Daten!A220=\"\",\"\",Daten!A220)","v":"G 46.22"},{"$f":"IF(Daten!$A220=\"\",\"\",Daten!B220)","v":"Großhandel mit Blumen und Pflanzen"},{"$f":"IF(Daten!$A220=\"\",\"\",Daten!C220)","v":43}]
[{"$f":"IF(Daten!A221=\"\",\"\",Daten!A221)","v":"G 46.23"},{"$f":"IF(Daten!$A221=\"\",\"\",Daten!B221)","v":"Großhandel mit lebenden Tieren"},{"$f":"IF(Daten!$A221=\"\",\"\",Daten!C221)","v":65}]
[{"$f":"IF(Daten!A222=\"\",\"\",Daten!A222)","v":"G 46.3"},{"$f":"IF(Daten!$A222=\"\",\"\",Daten!B222)","v":"Großhandel mit Nahrungs- und Genussmitteln, Getränken und Tabakwaren"},{"$f":"IF(Daten!$A222=\"\",\"\",Daten!C222)","v":855}]
[{"$f":"IF(Daten!A223=\"\",\"\",Daten!A223)","v":"G 46.31"},{"$f":"IF(Daten!$A223=\"\",\"\",Daten!B223)","v":"Großhandel mit Obst, Gemüse und Kartoffeln"},{"$f":"IF(Daten!$A223=\"\",\"\",Daten!C223)","v":156}]
[{"$f":"IF(Daten!A224=\"\",\"\",Daten!A224)","v":"G 46.32"},{"$f":"IF(Daten!$A224=\"\",\"\",Daten!B224)","v":"Großhandel mit Fleisch und Fleischwaren"},{"$f":"IF(Daten!$A224=\"\",\"\",Daten!C224)","v":74}]
[{"$f":"IF(Daten!A225=\"\",\"\",Daten!A225)","v":"G 46.34"},{"$f":"IF(Daten!$A225=\"\",\"\",Daten!B225)","v":"Großhandel mit Getränken"},{"$f":"IF(Daten!$A225=\"\",\"\",Daten!C225)","v":235}]
[{"$f":"IF(Daten!A226=\"\",\"\",Daten!A226)","v":"G 46.34-1"},{"$f":"IF(Daten!$A226=\"\",\"\",Daten!B226)","v":"Großhandel mit Wein und Spirituosen"},{"$f":"IF(Daten!$A226=\"\",\"\",Daten!C226)","v":137}]
[{"$f":"IF(Daten!A227=\"\",\"\",Daten!A227)","v":"G 46.34-9"},{"$f":"IF(Daten!$A227=\"\",\"\",Daten!B227)","v":"Großhandel mit sonstigen Getränken"},{"$f":"IF(Daten!$A227=\"\",\"\",Daten!C227)","v":58}]
[{"$f":"IF(Daten!A228=\"\",\"\",Daten!A228)","v":"G 46.38"},{"$f":"IF(Daten!$A228=\"\",\"\",Daten!B228)","v":"Großhandel mit sonstigen Nahrungs- und Genussmitteln"},{"$f":"IF(Daten!$A228=\"\",\"\",Daten!C228)","v":157}]
[{"$f":"IF(Daten!A229=\"\",\"\",Daten!A229)","v":"G 46.39"},{"$f":"IF(Daten!$A229=\"\",\"\",Daten!B229)","v":"Großhandel mit Nahrungs- und Genussmitteln, Getränken und Tabakwaren, ohne ausgeprägten Schwerpunkt"},{"$f":"IF(Daten!$A229=\"\",\"\",Daten!C229)","v":115}]
[{"$f":"IF(Daten!A230=\"\",\"\",Daten!A230)","v":"G 46.4"},{"$f":"IF(Daten!$A230=\"\",\"\",Daten!B230)","v":"Großhandel mit Gebrauchs- und Verbrauchsgütern"},{"$f":"IF(Daten!$A230=\"\",\"\",Daten!C230)","v":1570}]
[{"$f":"IF(Daten!A231=\"\",\"\",Daten!A231)","v":"G 46.41"},{"$f":"IF(Daten!$A231=\"\",\"\",Daten!B231)","v":"Großhandel mit Textilien"},{"$f":"IF(Daten!$A231=\"\",\"\",Daten!C231)","v":125}]
[{"$f":"IF(Daten!A232=\"\",\"\",Daten!A232)","v":"G 46.42"},{"$f":"IF(Daten!$A232=\"\",\"\",Daten!B232)","v":"Großhandel mit Bekleidung und Schuhen"},{"$f":"IF(Daten!$A232=\"\",\"\",Daten!C232)","v":153}]
[{"$f":"IF(Daten!A233=\"\",\"\",Daten!A233)","v":"G 46.42-1"},{"$f":"IF(Daten!$A233=\"\",\"\",Daten!B233)","v":"Großhandel mit Bekleidung"},{"$f":"IF(Daten!$A233=\"\",\"\",Daten!C233)","v":111}]
[{"$f":"IF(Daten!A234=\"\",\"\",Daten!A234)","v":"G 46.42-2"},{"$f":"IF(Daten!$A234=\"\",\"\",Daten!B234)","v":"Großhandel mit Schuhen"},{"$f":"IF(Daten!$A234=\"\",\"\",Daten!C234)","v":30}]
[{"$f":"IF(Daten!A235=\"\",\"\",Daten!A235)","v":"G 46.43"},{"$f":"IF(Daten!$A235=\"\",\"\",Daten!B235)","v":"Großhandel mit Foto- und optischen Erzeugnissen, elektrischen Haushaltsgeräten und Geräten der Unterhaltungselektronik"},{"$f":"IF(Daten!$A235=\"\",\"\",Daten!C235)","v":208}]
[{"$f":"IF(Daten!A236=\"\",\"\",Daten!A236)","v":"G 46.43-1"},{"$f":"IF(Daten!$A236=\"\",\"\",Daten!B236)","v":"Großhandel mit Foto- und optischen Erzeugnissen"},{"$f":"IF(Daten!$A236=\"\",\"\",Daten!C236)","v":32}]
[{"$f":"IF(Daten!A237=\"\",\"\",Daten!A237)","v":"G 46.43-2"},{"$f":"IF(Daten!$A237=\"\",\"\",Daten!B237)","v":"Großhandel mit elektrischen Haushaltsgeräten "},{"$f":"IF(Daten!$A237=\"\",\"\",Daten!C237)","v":111}]
[{"$f":"IF(Daten!A238=\"\",\"\",Daten!A238)","v":"G 46.43-3"},{"$f":"IF(Daten!$A238=\"\",\"\",Daten!B238)","v":"Großhandel mit Geräten der Unterhaltungselektronik"},{"$f":"IF(Daten!$A238=\"\",\"\",Daten!C238)","v":47}]
[{"$f":"IF(Daten!A239=\"\",\"\",Daten!A239)","v":"G 46.44"},{"$f":"IF(Daten!$A239=\"\",\"\",Daten!B239)","v":"Großhandel mit keramischen Erzeugnissen, Glaswaren und Reinigungsmitteln"},{"$f":"IF(Daten!$A239=\"\",\"\",Daten!C239)","v":45}]
[{"$f":"IF(Daten!A240=\"\",\"\",Daten!A240)","v":"G 46.45"},{"$f":"IF(Daten!$A240=\"\",\"\",Daten!B240)","v":"Großhandel mit kosmetischen Erzeugnissen und Körperpflegemitteln"},{"$f":"IF(Daten!$A240=\"\",\"\",Daten!C240)","v":85}]
[{"$f":"IF(Daten!A241=\"\",\"\",Daten!A241)","v":"G 46.46"},{"$f":"IF(Daten!$A241=\"\",\"\",Daten!B241)","v":"Großhandel mit pharmazeutischen, medizinischen und orthopädischen Erzeugnissen"},{"$f":"IF(Daten!$A241=\"\",\"\",Daten!C241)","v":368}]
[{"$f":"IF(Daten!A242=\"\",\"\",Daten!A242)","v":"G 46.46-1"},{"$f":"IF(Daten!$A242=\"\",\"\",Daten!B242)","v":"Großhandel mit pharmazeutischen Erzeugnissen"},{"$f":"IF(Daten!$A242=\"\",\"\",Daten!C242)","v":128}]
[{"$f":"IF(Daten!A243=\"\",\"\",Daten!A243)","v":"G 46.46-2"},{"$f":"IF(Daten!$A243=\"\",\"\",Daten!B243)","v":"Großhandel mit medizinischen und orthopädischen Artikeln, Laborbedarf"},{"$f":"IF(Daten!$A243=\"\",\"\",Daten!C243)","v":227}]
[{"$f":"IF(Daten!A244=\"\",\"\",Daten!A244)","v":"G 46.47"},{"$f":"IF(Daten!$A244=\"\",\"\",Daten!B244)","v":"Großhandel mit Möbeln, Teppichen, Lampen und Leuchten"},{"$f":"IF(Daten!$A244=\"\",\"\",Daten!C244)","v":78}]
[{"$f":"IF(Daten!A245=\"\",\"\",Daten!A245)","v":"G 46.48"},{"$f":"IF(Daten!$A245=\"\",\"\",Daten!B245)","v":"Großhandel mit Uhren und Schmuck"},{"$f":"IF(Daten!$A245=\"\",\"\",Daten!C245)","v":58}]
[{"$f":"IF(Daten!A246=\"\",\"\",Daten!A246)","v":"G 46.49"},{"$f":"IF(Daten!$A246=\"\",\"\",Daten!B246)","v":"Großhandel mit sonstigen Gebrauchs- und Verbrauchsgütern"},{"$f":"IF(Daten!$A246=\"\",\"\",Daten!C246)","v":440}]
[{"$f":"IF(Daten!A247=\"\",\"\",Daten!A247)","v":"G 46.49-1"},{"$f":"IF(Daten!$A247=\"\",\"\",Daten!B247)","v":"Großhandel mit Schreibwaren und Bürobedarf"},{"$f":"IF(Daten!$A247=\"\",\"\",Daten!C247)","v":58}]
[{"$f":"IF(Daten!A248=\"\",\"\",Daten!A248)","v":"G 46.49-3"},{"$f":"IF(Daten!$A248=\"\",\"\",Daten!B248)","v":"Großhandel mit Sportartikeln"},{"$f":"IF(Daten!$A248=\"\",\"\",Daten!C248)","v":85}]
[{"$f":"IF(Daten!A249=\"\",\"\",Daten!A249)","v":"G 46.49-9"},{"$f":"IF(Daten!$A249=\"\",\"\",Daten!B249)","v":"Großhandel mit sonstigen Gebrauchs- und Verbrauchsgütern a.n.g."},{"$f":"IF(Daten!$A249=\"\",\"\",Daten!C249)","v":239}]
[{"$f":"IF(Daten!A250=\"\",\"\",Daten!A250)","v":"G 46.5"},{"$f":"IF(Daten!$A250=\"\",\"\",Daten!B250)","v":"Großhandel mit Geräten der Informations- und Kommunikationstechnik"},{"$f":"IF(Daten!$A250=\"\",\"\",Daten!C250)","v":242}]
[{"$f":"IF(Daten!A251=\"\",\"\",Daten!A251)","v":"G 46.51"},{"$f":"IF(Daten!$A251=\"\",\"\",Daten!B251)","v":"Großhandel mit Datenverarbeitungsgeräten, peripheren Geräten und Software"},{"$f":"IF(Daten!$A251=\"\",\"\",Daten!C251)","v":152}]
[{"$f":"IF(Daten!A252=\"\",\"\",Daten!A252)","v":"G 46.51-1"},{"$f":"IF(Daten!$A252=\"\",\"\",Daten!B252)","v":"Großhandel mit Datenverarbeitungsgeräten und peripheren Einheiten"},{"$f":"IF(Daten!$A252=\"\",\"\",Daten!C252)","v":103}]
[{"$f":"IF(Daten!A253=\"\",\"\",Daten!A253)","v":"G 46.51-2"},{"$f":"IF(Daten!$A253=\"\",\"\",Daten!B253)","v":"Großhandel mit Standardsoftware"},{"$f":"IF(Daten!$A253=\"\",\"\",Daten!C253)","v":38}]
[{"$f":"IF(Daten!A254=\"\",\"\",Daten!A254)","v":"G 46.52"},{"$f":"IF(Daten!$A254=\"\",\"\",Daten!B254)","v":"Großhandel mit elektronischen Bauteilen und Telekommunikationsgeräten"},{"$f":"IF(Daten!$A254=\"\",\"\",Daten!C254)","v":87}]
[{"$f":"IF(Daten!A255=\"\",\"\",Daten!A255)","v":"G 46.6"},{"$f":"IF(Daten!$A255=\"\",\"\",Daten!B255)","v":"Großhandel mit sonstigen Maschinen, Ausrüstungen und Zubehör"},{"$f":"IF(Daten!$A255=\"\",\"\",Daten!C255)","v":1448}]
[{"$f":"IF(Daten!A256=\"\",\"\",Daten!A256)","v":"G 46.61"},{"$f":"IF(Daten!$A256=\"\",\"\",Daten!B256)","v":"Großhandel mit landwirtschaftlichen Maschinen und Geräten"},{"$f":"IF(Daten!$A256=\"\",\"\",Daten!C256)","v":214}]
[{"$f":"IF(Daten!A257=\"\",\"\",Daten!A257)","v":"G 46.62"},{"$f":"IF(Daten!$A257=\"\",\"\",Daten!B257)","v":"Großhandel mit Werkzeugmaschinen"},{"$f":"IF(Daten!$A257=\"\",\"\",Daten!C257)","v":76}]
[{"$f":"IF(Daten!A258=\"\",\"\",Daten!A258)","v":"G 46.63"},{"$f":"IF(Daten!$A258=\"\",\"\",Daten!B258)","v":"Großhandel mit Bergwerks-, Bau- und Baustoffmaschinen"},{"$f":"IF(Daten!$A258=\"\",\"\",Daten!C258)","v":66}]
[{"$f":"IF(Daten!A259=\"\",\"\",Daten!A259)","v":"G 46.65"},{"$f":"IF(Daten!$A259=\"\",\"\",Daten!B259)","v":"Großhandel mit Büromöbeln"},{"$f":"IF(Daten!$A259=\"\",\"\",Daten!C259)","v":36}]
[{"$f":"IF(Daten!A260=\"\",\"\",Daten!A260)","v":"G 46.66"},{"$f":"IF(Daten!$A260=\"\",\"\",Daten!B260)","v":"Großhandel mit sonstigen Büromaschinen und -einrichtungen"},{"$f":"IF(Daten!$A260=\"\",\"\",Daten!C260)","v":36}]
[{"$f":"IF(Daten!A261=\"\",\"\",Daten!A261)","v":"G 46.69"},{"$f":"IF(Daten!$A261=\"\",\"\",Daten!B261)","v":"Großhandel mit sonstigen Maschinen und Ausrüstungen"},{"$f":"IF(Daten!$A261=\"\",\"\",Daten!C261)","v":964}]
[{"$f":"IF(Daten!A262=\"\",\"\",Daten!A262)","v":"G 46.7"},{"$f":"IF(Daten!$A262=\"\",\"\",Daten!B262)","v":"Sonstiger Großhandel"},{"$f":"IF(Daten!$A262=\"\",\"\",Daten!C262)","v":1466}]
[{"$f":"IF(Daten!A263=\"\",\"\",Daten!A263)","v":"G 46.71"},{"$f":"IF(Daten!$A263=\"\",\"\",Daten!B263)","v":"Großhandel mit festen Brennstoffen und Mineralölerzeugnissen"},{"$f":"IF(Daten!$A263=\"\",\"\",Daten!C263)","v":104}]
[{"$f":"IF(Daten!A264=\"\",\"\",Daten!A264)","v":"G 46.71-2"},{"$f":"IF(Daten!$A264=\"\",\"\",Daten!B264)","v":"Großhandel mit Mineralölerzeugnissen"},{"$f":"IF(Daten!$A264=\"\",\"\",Daten!C264)","v":79}]
[{"$f":"IF(Daten!A265=\"\",\"\",Daten!A265)","v":"G 46.72"},{"$f":"IF(Daten!$A265=\"\",\"\",Daten!B265)","v":"Großhandel mit Erzen, Metallen und Metallhalbzeug"},{"$f":"IF(Daten!$A265=\"\",\"\",Daten!C265)","v":170}]
[{"$f":"IF(Daten!A266=\"\",\"\",Daten!A266)","v":"G 46.72-1"},{"$f":"IF(Daten!$A266=\"\",\"\",Daten!B266)","v":"Großhandel mit Erzen, Eisen, Stahl und Halbzeug"},{"$f":"IF(Daten!$A266=\"\",\"\",Daten!C266)","v":118}]
[{"$f":"IF(Daten!A267=\"\",\"\",Daten!A267)","v":"G 46.72-2"},{"$f":"IF(Daten!$A267=\"\",\"\",Daten!B267)","v":"Großhandel mit NE-Metallen und Halbzeug"},{"$f":"IF(Daten!$A267=\"\",\"\",Daten!C267)","v":34}]
[{"$f":"IF(Daten!A268=\"\",\"\",Daten!A268)","v":"G 46.73"},{"$f":"IF(Daten!$A268=\"\",\"\",Daten!B268)","v":"Großhandel mit Holz, Baustoffen, Anstrichmitteln und Sanitärkeramik"},{"$f":"IF(Daten!$A268=\"\",\"\",Daten!C268)","v":569}]
[{"$f":"IF(Daten!A269=\"\",\"\",Daten!A269)","v":"G 46.73-1"},{"$f":"IF(Daten!$A269=\"\",\"\",Daten!B269)","v":"Großhandel mit Holz"},{"$f":"IF(Daten!$A269=\"\",\"\",Daten!C269)","v":231}]
[{"$f":"IF(Daten!A270=\"\",\"\",Daten!A270)","v":"G 46.73-2"},{"$f":"IF(Daten!$A270=\"\",\"\",Daten!B270)","v":"Großhandel mit Baustoffen und Sanitärkeramik"},{"$f":"IF(Daten!$A270=\"\",\"\",Daten!C270)","v":260}]
[{"$f":"IF(Daten!A271=\"\",\"\",Daten!A271)","v":"G 46.73-3"},{"$f":"IF(Daten!$A271=\"\",\"\",Daten!B271)","v":"Großhandel mit Flachglas, Anstrichmitteln, Tapeten und Bodenbelägen"},{"$f":"IF(Daten!$A271=\"\",\"\",Daten!C271)","v":54}]
[{"$f":"IF(Daten!A272=\"\",\"\",Daten!A272)","v":"G 46.74"},{"$f":"IF(Daten!$A272=\"\",\"\",Daten!B272)","v":"Großhandel mit Metall- und Kunststoffwaren für Bauzwecke sowie Installationsbedarf für Gas, Wasser und Heizung"},{"$f":"IF(Daten!$A272=\"\",\"\",Daten!C272)","v":297}]
[{"$f":"IF(Daten!A273=\"\",\"\",Daten!A273)","v":"G 46.75"},{"$f":"IF(Daten!$A273=\"\",\"\",Daten!B273)","v":"Großhandel mit chemischen Erzeugnissen"},{"$f":"IF(Daten!$A273=\"\",\"\",Daten!C273)","v":129}]
[{"$f":"IF(Daten!A274=\"\",\"\",Daten!A274)","v":"G 46.76"},{"$f":"IF(Daten!$A274=\"\",\"\",Daten!B274)","v":"Großhandel mit sonstigen Halbwaren"},{"$f":"IF(Daten!$A274=\"\",\"\",Daten!C274)","v":105}]
[{"$f":"IF(Daten!A275=\"\",\"\",Daten!A275)","v":"G 46.76-1"},{"$f":"IF(Daten!$A275=\"\",\"\",Daten!B275)","v":"Großhandel mit Papier und Pappe"},{"$f":"IF(Daten!$A275=\"\",\"\",Daten!C275)","v":51}]
[{"$f":"IF(Daten!A276=\"\",\"\",Daten!A276)","v":"G 46.76-9"},{"$f":"IF(Daten!$A276=\"\",\"\",Daten!B276)","v":"Großhandel mit sonstigen Halbwaren a.n.g"},{"$f":"IF(Daten!$A276=\"\",\"\",Daten!C276)","v":49}]
[{"$f":"IF(Daten!A277=\"\",\"\",Daten!A277)","v":"G 46.77"},{"$f":"IF(Daten!$A277=\"\",\"\",Daten!B277)","v":"Großhandel mit Altmaterialien und Reststoffen"},{"$f":"IF(Daten!$A277=\"\",\"\",Daten!C277)","v":70}]
[{"$f":"IF(Daten!A278=\"\",\"\",Daten!A278)","v":"G 46.9"},{"$f":"IF(Daten!$A278=\"\",\"\",Daten!B278)","v":"Großhandel ohne ausgeprägten Schwerpunkt"},{"$f":"IF(Daten!$A278=\"\",\"\",Daten!C278)","v":287}]
[{"$f":"IF(Daten!A279=\"\",\"\",Daten!A279)","v":"G 47"},{"$f":"IF(Daten!$A279=\"\",\"\",Daten!B279)","v":"Einzelhandel (ohne Handel mit Kraftfahrzeugen)"},{"$f":"IF(Daten!$A279=\"\",\"\",Daten!C279)","v":9200}]
[{"$f":"IF(Daten!A280=\"\",\"\",Daten!A280)","v":"G 47.1"},{"$f":"IF(Daten!$A280=\"\",\"\",Daten!B280)","v":"Einzelhandel mit Waren verschiedener Art (in Verkaufsräumen)"},{"$f":"IF(Daten!$A280=\"\",\"\",Daten!C280)","v":971}]
[{"$f":"IF(Daten!A281=\"\",\"\",Daten!A281)","v":"G 47.11"},{"$f":"IF(Daten!$A281=\"\",\"\",Daten!B281)","v":"Einzelhandel mit Waren verschiedener Art, Hauptrichtung Nahrungs- und Genussmittel, Getränke und Tabakwaren"},{"$f":"IF(Daten!$A281=\"\",\"\",Daten!C281)","v":453}]
[{"$f":"IF(Daten!A282=\"\",\"\",Daten!A282)","v":"G 47.19"},{"$f":"IF(Daten!$A282=\"\",\"\",Daten!B282)","v":"Sonstiger Einzelhandel mit Waren verschiedener Art"},{"$f":"IF(Daten!$A282=\"\",\"\",Daten!C282)","v":436}]
[{"$f":"IF(Daten!A283=\"\",\"\",Daten!A283)","v":"G 47.19-9"},{"$f":"IF(Daten!$A283=\"\",\"\",Daten!B283)","v":"Sonstiger Einzelhandel mit Waren verschiedener Art (ohne Warenhäuser)"},{"$f":"IF(Daten!$A283=\"\",\"\",Daten!C283)","v":296}]
[{"$f":"IF(Daten!A284=\"\",\"\",Daten!A284)","v":"G 47.2"},{"$f":"IF(Daten!$A284=\"\",\"\",Daten!B284)","v":"Einzelhandel mit Nahrungs- und Genussmitteln, Getränken und Tabakwaren (in Verkaufsräumen)"},{"$f":"IF(Daten!$A284=\"\",\"\",Daten!C284)","v":1235}]
[{"$f":"IF(Daten!A285=\"\",\"\",Daten!A285)","v":"G 47.21"},{"$f":"IF(Daten!$A285=\"\",\"\",Daten!B285)","v":"Einzelhandel mit Obst, Gemüse und Kartoffeln "},{"$f":"IF(Daten!$A285=\"\",\"\",Daten!C285)","v":42}]
[{"$f":"IF(Daten!A286=\"\",\"\",Daten!A286)","v":"G 47.22"},{"$f":"IF(Daten!$A286=\"\",\"\",Daten!B286)","v":"Einzelhandel mit Fleisch und Fleischwaren "},{"$f":"IF(Daten!$A286=\"\",\"\",Daten!C286)","v":49}]
[{"$f":"IF(Daten!A287=\"\",\"\",Daten!A287)","v":"G 47.24"},{"$f":"IF(Daten!$A287=\"\",\"\",Daten!B287)","v":"Einzelhandel mit Back- und Süßwaren "},{"$f":"IF(Daten!$A287=\"\",\"\",Daten!C287)","v":50}]
[{"$f":"IF(Daten!A288=\"\",\"\",Daten!A288)","v":"G 47.25"},{"$f":"IF(Daten!$A288=\"\",\"\",Daten!B288)","v":"Einzelhandel mit Getränken "},{"$f":"IF(Daten!$A288=\"\",\"\",Daten!C288)","v":110}]
[{"$f":"IF(Daten!A289=\"\",\"\",Daten!A289)","v":"G 47.26"},{"$f":"IF(Daten!$A289=\"\",\"\",Daten!B289)","v":"Einzelhandel mit Tabakwaren "},{"$f":"IF(Daten!$A289=\"\",\"\",Daten!C289)","v":759}]
[{"$f":"IF(Daten!A290=\"\",\"\",Daten!A290)","v":"G 47.29"},{"$f":"IF(Daten!$A290=\"\",\"\",Daten!B290)","v":"Sonstiger Einzelhandel mit Nahrungs- und Genussmitteln"},{"$f":"IF(Daten!$A290=\"\",\"\",Daten!C290)","v":136}]
[{"$f":"IF(Daten!A291=\"\",\"\",Daten!A291)","v":"G 47.3"},{"$f":"IF(Daten!$A291=\"\",\"\",Daten!B291)","v":"Einzelhandel mit Motorenkraftstoffen (Tankstellen)"},{"$f":"IF(Daten!$A291=\"\",\"\",Daten!C291)","v":816}]
[{"$f":"IF(Daten!A292=\"\",\"\",Daten!A292)","v":"G 47.4"},{"$f":"IF(Daten!$A292=\"\",\"\",Daten!B292)","v":"Einzelhandel mit Geräten der Informations- und Kommunikationstechnik (in Verkaufsräumen)"},{"$f":"IF(Daten!$A292=\"\",\"\",Daten!C292)","v":517}]
[{"$f":"IF(Daten!A293=\"\",\"\",Daten!A293)","v":"G 47.41"},{"$f":"IF(Daten!$A293=\"\",\"\",Daten!B293)","v":"Einzelhandel mit Datenverarbeitungsgeräten, peripheren Geräten und Software "},{"$f":"IF(Daten!$A293=\"\",\"\",Daten!C293)","v":283}]
[{"$f":"IF(Daten!A294=\"\",\"\",Daten!A294)","v":"G 47.42"},{"$f":"IF(Daten!$A294=\"\",\"\",Daten!B294)","v":"Einzelhandel mit Telekommunikationsgeräten "},{"$f":"IF(Daten!$A294=\"\",\"\",Daten!C294)","v":58}]
[{"$f":"IF(Daten!A295=\"\",\"\",Daten!A295)","v":"G 47.43"},{"$f":"IF(Daten!$A295=\"\",\"\",Daten!B295)","v":"Einzelhandel mit Geräten der Unterhaltungselektronik"},{"$f":"IF(Daten!$A295=\"\",\"\",Daten!C295)","v":170}]
[{"$f":"IF(Daten!A296=\"\",\"\",Daten!A296)","v":"G 47.5"},{"$f":"IF(Daten!$A296=\"\",\"\",Daten!B296)","v":"Einzelhandel mit sonstigen Haushaltsgeräten, Textilien, Heimwerker- und Einrichtungsbedarf (in Verkaufsräumen)"},{"$f":"IF(Daten!$A296=\"\",\"\",Daten!C296)","v":1832}]
[{"$f":"IF(Daten!A297=\"\",\"\",Daten!A297)","v":"G 47.51"},{"$f":"IF(Daten!$A297=\"\",\"\",Daten!B297)","v":"Einzelhandel mit Textilien "},{"$f":"IF(Daten!$A297=\"\",\"\",Daten!C297)","v":249}]
[{"$f":"IF(Daten!A298=\"\",\"\",Daten!A298)","v":"G 47.52"},{"$f":"IF(Daten!$A298=\"\",\"\",Daten!B298)","v":"Einzelhandel mit Metallwaren, Anstrichmitteln, Bau- und Heimwerkerbedarf "},{"$f":"IF(Daten!$A298=\"\",\"\",Daten!C298)","v":649}]
[{"$f":"IF(Daten!A299=\"\",\"\",Daten!A299)","v":"G 47.54"},{"$f":"IF(Daten!$A299=\"\",\"\",Daten!B299)","v":"Einzelhandel mit elektrischen Haushaltsgeräten "},{"$f":"IF(Daten!$A299=\"\",\"\",Daten!C299)","v":208}]
[{"$f":"IF(Daten!A300=\"\",\"\",Daten!A300)","v":"G 47.59"},{"$f":"IF(Daten!$A300=\"\",\"\",Daten!B300)","v":"Einzelhandel mit Möbeln, Einrichtungsgegenständen und sonstigem Hausrat "},{"$f":"IF(Daten!$A300=\"\",\"\",Daten!C300)","v":682}]
[{"$f":"IF(Daten!A301=\"\",\"\",Daten!A301)","v":"G 47.59-1"},{"$f":"IF(Daten!$A301=\"\",\"\",Daten!B301)","v":"Einzelhandel mit Musikinstrumenten und Musikalien"},{"$f":"IF(Daten!$A301=\"\",\"\",Daten!C301)","v":60}]
[{"$f":"IF(Daten!A302=\"\",\"\",Daten!A302)","v":"G 47.59-2"},{"$f":"IF(Daten!$A302=\"\",\"\",Daten!B302)","v":"Einzelhandel mit Wohnmöbeln"},{"$f":"IF(Daten!$A302=\"\",\"\",Daten!C302)","v":294}]
[{"$f":"IF(Daten!A303=\"\",\"\",Daten!A303)","v":"G 47.59-9"},{"$f":"IF(Daten!$A303=\"\",\"\",Daten!B303)","v":"Einzelhandel mit Einrichtungsgegenständen und Hausrat a.n.g. "},{"$f":"IF(Daten!$A303=\"\",\"\",Daten!C303)","v":202}]
[{"$f":"IF(Daten!A304=\"\",\"\",Daten!A304)","v":"G 47.6"},{"$f":"IF(Daten!$A304=\"\",\"\",Daten!B304)","v":"Einzelhandel mit Verlagsprodukten, Sportausrüstungen und Spielwaren (in Verkaufsräumen)"},{"$f":"IF(Daten!$A304=\"\",\"\",Daten!C304)","v":768}]
[{"$f":"IF(Daten!A305=\"\",\"\",Daten!A305)","v":"G 47.61"},{"$f":"IF(Daten!$A305=\"\",\"\",Daten!B305)","v":"Einzelhandel mit Büchern "},{"$f":"IF(Daten!$A305=\"\",\"\",Daten!C305)","v":72}]
[{"$f":"IF(Daten!A306=\"\",\"\",Daten!A306)","v":"G 47.62"},{"$f":"IF(Daten!$A306=\"\",\"\",Daten!B306)","v":"Einzelhandel mit Zeitschriften, Zeitungen, Schreibwaren und Bürobedarf "},{"$f":"IF(Daten!$A306=\"\",\"\",Daten!C306)","v":115}]
[{"$f":"IF(Daten!A307=\"\",\"\",Daten!A307)","v":"G 47.64"},{"$f":"IF(Daten!$A307=\"\",\"\",Daten!B307)","v":"Einzelhandel mit Fahrrädern, Sport- und Campingartikeln"},{"$f":"IF(Daten!$A307=\"\",\"\",Daten!C307)","v":487}]
[{"$f":"IF(Daten!A308=\"\",\"\",Daten!A308)","v":"G 47.65"},{"$f":"IF(Daten!$A308=\"\",\"\",Daten!B308)","v":"Einzelhandel mit Spielwaren "},{"$f":"IF(Daten!$A308=\"\",\"\",Daten!C308)","v":72}]
[{"$f":"IF(Daten!A309=\"\",\"\",Daten!A309)","v":"G 47.7"},{"$f":"IF(Daten!$A309=\"\",\"\",Daten!B309)","v":"Einzelhandel mit sonstigen Gütern (in Verkaufsräumen)"},{"$f":"IF(Daten!$A309=\"\",\"\",Daten!C309)","v":2826}]
[{"$f":"IF(Daten!A310=\"\",\"\",Daten!A310)","v":"G 47.71"},{"$f":"IF(Daten!$A310=\"\",\"\",Daten!B310)","v":"Einzelhandel mit Bekleidung"},{"$f":"IF(Daten!$A310=\"\",\"\",Daten!C310)","v":612}]
[{"$f":"IF(Daten!A311=\"\",\"\",Daten!A311)","v":"G 47.72"},{"$f":"IF(Daten!$A311=\"\",\"\",Daten!B311)","v":"Einzelhandel mit Schuhen und Lederwaren "},{"$f":"IF(Daten!$A311=\"\",\"\",Daten!C311)","v":251}]
[{"$f":"IF(Daten!A312=\"\",\"\",Daten!A312)","v":"G 47.72-1"},{"$f":"IF(Daten!$A312=\"\",\"\",Daten!B312)","v":"Einzelhandel mit Schuhen"},{"$f":"IF(Daten!$A312=\"\",\"\",Daten!C312)","v":170}]
[{"$f":"IF(Daten!A313=\"\",\"\",Daten!A313)","v":"G 47.72-2"},{"$f":"IF(Daten!$A313=\"\",\"\",Daten!B313)","v":"Einzelhandel mit Leder- und Taschnerwaren"},{"$f":"IF(Daten!$A313=\"\",\"\",Daten!C313)","v":37}]
[{"$f":"IF(Daten!A314=\"\",\"\",Daten!A314)","v":"G 47.73"},{"$f":"IF(Daten!$A314=\"\",\"\",Daten!B314)","v":"Apotheken"},{"$f":"IF(Daten!$A314=\"\",\"\",Daten!C314)","v":473}]
[{"$f":"IF(Daten!A315=\"\",\"\",Daten!A315)","v":"G 47.74"},{"$f":"IF(Daten!$A315=\"\",\"\",Daten!B315)","v":"Einzelhandel mit medizinischen und orthopädischen Artikeln "},{"$f":"IF(Daten!$A315=\"\",\"\",Daten!C315)","v":111}]
[{"$f":"IF(Daten!A316=\"\",\"\",Daten!A316)","v":"G 47.75"},{"$f":"IF(Daten!$A316=\"\",\"\",Daten!B316)","v":"Einzelhandel mit kosmetischen Erzeugnissen und Körperpflegemitteln "},{"$f":"IF(Daten!$A316=\"\",\"\",Daten!C316)","v":117}]
[{"$f":"IF(Daten!A317=\"\",\"\",Daten!A317)","v":"G 47.76"},{"$f":"IF(Daten!$A317=\"\",\"\",Daten!B317)","v":"Einzelhandel mit Blumen, Pflanzen, Sämereien, Düngemitteln, zoologischem Bedarf und lebenden Tieren"},{"$f":"IF(Daten!$A317=\"\",\"\",Daten!C317)","v":207}]
[{"$f":"IF(Daten!A318=\"\",\"\",Daten!A318)","v":"G 47.76-1"},{"$f":"IF(Daten!$A318=\"\",\"\",Daten!B318)","v":"Einzelhandel mit Blumen, Pflanzen, Sämereien, Düngemitteln; Blumenbinderei"},{"$f":"IF(Daten!$A318=\"\",\"\",Daten!C318)","v":162}]
[{"$f":"IF(Daten!A319=\"\",\"\",Daten!A319)","v":"G 47.76-2"},{"$f":"IF(Daten!$A319=\"\",\"\",Daten!B319)","v":"Einzelhandel mit zoologischem Bedarf und lebenden Tieren"},{"$f":"IF(Daten!$A319=\"\",\"\",Daten!C319)","v":39}]
[{"$f":"IF(Daten!A320=\"\",\"\",Daten!A320)","v":"G 47.77"},{"$f":"IF(Daten!$A320=\"\",\"\",Daten!B320)","v":"Einzelhandel mit Uhren und Schmuck "},{"$f":"IF(Daten!$A320=\"\",\"\",Daten!C320)","v":295}]
[{"$f":"IF(Daten!A321=\"\",\"\",Daten!A321)","v":"G 47.78"},{"$f":"IF(Daten!$A321=\"\",\"\",Daten!B321)","v":"Sonstiger Einzelhandel in Verkaufsräumen (ohne Antiquitäten und Gebrauchtwaren)"},{"$f":"IF(Daten!$A321=\"\",\"\",Daten!C321)","v":660}]
[{"$f":"IF(Daten!A322=\"\",\"\",Daten!A322)","v":"G 47.78-1"},{"$f":"IF(Daten!$A322=\"\",\"\",Daten!B322)","v":"Einzelhandel mit Fotoartikeln, optischen und feinmechanischen Artikeln"},{"$f":"IF(Daten!$A322=\"\",\"\",Daten!C322)","v":247}]
[{"$f":"IF(Daten!A323=\"\",\"\",Daten!A323)","v":"G 47.78-2"},{"$f":"IF(Daten!$A323=\"\",\"\",Daten!B323)","v":"Einzelhandel mit Brennstoffen"},{"$f":"IF(Daten!$A323=\"\",\"\",Daten!C323)","v":61}]
[{"$f":"IF(Daten!A324=\"\",\"\",Daten!A324)","v":"G 47.78-9"},{"$f":"IF(Daten!$A324=\"\",\"\",Daten!B324)","v":"Sonstiger Einzelhandel a.n.g. in Verkaufsräumen (ohne Antiquitäten und Gebrauchtwaren)"},{"$f":"IF(Daten!$A324=\"\",\"\",Daten!C324)","v":335}]
[{"$f":"IF(Daten!A325=\"\",\"\",Daten!A325)","v":"G 47.79"},{"$f":"IF(Daten!$A325=\"\",\"\",Daten!B325)","v":"Einzelhandel mit Antiquitäten und Gebrauchtwaren"},{"$f":"IF(Daten!$A325=\"\",\"\",Daten!C325)","v":75}]
[{"$f":"IF(Daten!A326=\"\",\"\",Daten!A326)","v":"G 47.8"},{"$f":"IF(Daten!$A326=\"\",\"\",Daten!B326)","v":"Einzelhandel an Verkaufsständen und auf Märkten"},{"$f":"IF(Daten!$A326=\"\",\"\",Daten!C326)","v":49}]
[{"$f":"IF(Daten!A327=\"\",\"\",Daten!A327)","v":"G 47.9"},{"$f":"IF(Daten!$A327=\"\",\"\",Daten!B327)","v":"Einzelhandel, nicht in Verkaufsräumen, an Verkaufsständen oder auf Märkten"},{"$f":"IF(Daten!$A327=\"\",\"\",Daten!C327)","v":133}]
[{"$f":"IF(Daten!A328=\"\",\"\",Daten!A328)","v":"G 47.91"},{"$f":"IF(Daten!$A328=\"\",\"\",Daten!B328)","v":"Versand- und Internet-Einzelhandel"},{"$f":"IF(Daten!$A328=\"\",\"\",Daten!C328)","v":64}]
[{"$f":"IF(Daten!A329=\"\",\"\",Daten!A329)","v":"G 47.99"},{"$f":"IF(Daten!$A329=\"\",\"\",Daten!B329)","v":"Sonstiger Einzelhandel, nicht in Verkaufsräumen, an Verkaufsständen oder auf Märkten"},{"$f":"IF(Daten!$A329=\"\",\"\",Daten!C329)","v":65}]
[{"$f":"IF(Daten!A330=\"\",\"\",Daten!A330)","v":"H"},{"$f":"IF(Daten!$A330=\"\",\"\",Daten!B330)","v":"Verkehr und Lagerei"},{"$f":"IF(Daten!$A330=\"\",\"\",Daten!C330)","v":4181}]
[{"$f":"IF(Daten!A331=\"\",\"\",Daten!A331)","v":"H 49"},{"$f":"IF(Daten!$A331=\"\",\"\",Daten!B331)","v":"Landverkehr und Transport in Rohrfernleitungen"},{"$f":"IF(Daten!$A331=\"\",\"\",Daten!C331)","v":3364}]
[{"$f":"IF(Daten!A332=\"\",\"\",Daten!A332)","v":"H 49.3"},{"$f":"IF(Daten!$A332=\"\",\"\",Daten!B332)","v":"Sonstige Personenbeförderung im Landverkehr"},{"$f":"IF(Daten!$A332=\"\",\"\",Daten!C332)","v":983}]
[{"$f":"IF(Daten!A333=\"\",\"\",Daten!A333)","v":"H 49.31"},{"$f":"IF(Daten!$A333=\"\",\"\",Daten!B333)","v":"Personenbeförderung im Nahverkehr zu Lande  (ohne Taxi)"},{"$f":"IF(Daten!$A333=\"\",\"\",Daten!C333)","v":89}]
[{"$f":"IF(Daten!A334=\"\",\"\",Daten!A334)","v":"H 49.31-2"},{"$f":"IF(Daten!$A334=\"\",\"\",Daten!B334)","v":"Autobusliniennahverkehr"},{"$f":"IF(Daten!$A334=\"\",\"\",Daten!C334)","v":72}]
[{"$f":"IF(Daten!A335=\"\",\"\",Daten!A335)","v":"H 49.32"},{"$f":"IF(Daten!$A335=\"\",\"\",Daten!B335)","v":"Betrieb von Taxis"},{"$f":"IF(Daten!$A335=\"\",\"\",Daten!C335)","v":248}]
[{"$f":"IF(Daten!A336=\"\",\"\",Daten!A336)","v":"H 49.39"},{"$f":"IF(Daten!$A336=\"\",\"\",Daten!B336)","v":"Sonstige Personenbeförderung im Landverkehr a.n.g."},{"$f":"IF(Daten!$A336=\"\",\"\",Daten!C336)","v":588}]
[{"$f":"IF(Daten!A337=\"\",\"\",Daten!A337)","v":"H 49.39-1"},{"$f":"IF(Daten!$A337=\"\",\"\",Daten!B337)","v":"Seilbahn-, Sessel- und Schleppliftverkehr"},{"$f":"IF(Daten!$A337=\"\",\"\",Daten!C337)","v":387}]
[{"$f":"IF(Daten!A338=\"\",\"\",Daten!A338)","v":"H 49.39-9"},{"$f":"IF(Daten!$A338=\"\",\"\",Daten!B338)","v":"Sonstige Personenbeförderung im Landverkehr a.n.g. (ohne Seilbahnwirtschaft)"},{"$f":"IF(Daten!$A338=\"\",\"\",Daten!C338)","v":175}]
[{"$f":"IF(Daten!A339=\"\",\"\",Daten!A339)","v":"H 49.4"},{"$f":"IF(Daten!$A339=\"\",\"\",Daten!B339)","v":"Güterbeförderung im Straßenverkehr, Umzugstransporte"},{"$f":"IF(Daten!$A339=\"\",\"\",Daten!C339)","v":2349}]
[{"$f":"IF(Daten!A340=\"\",\"\",Daten!A340)","v":"H 49.41"},{"$f":"IF(Daten!$A340=\"\",\"\",Daten!B340)","v":"Güterbeförderung im Straßenverkehr "},{"$f":"IF(Daten!$A340=\"\",\"\",Daten!C340)","v":2207}]
[{"$f":"IF(Daten!A341=\"\",\"\",Daten!A341)","v":"H 51"},{"$f":"IF(Daten!$A341=\"\",\"\",Daten!B341)","v":"Luftfahrt"},{"$f":"IF(Daten!$A341=\"\",\"\",Daten!C341)","v":56}]
[{"$f":"IF(Daten!A342=\"\",\"\",Daten!A342)","v":"H 51.1"},{"$f":"IF(Daten!$A342=\"\",\"\",Daten!B342)","v":"Personenbeförderung in der Luftfahrt"},{"$f":"IF(Daten!$A342=\"\",\"\",Daten!C342)","v":44}]
[{"$f":"IF(Daten!A343=\"\",\"\",Daten!A343)","v":"H 52"},{"$f":"IF(Daten!$A343=\"\",\"\",Daten!B343)","v":"Lagerei sowie Erbringung von sonstigen Dienstleistungen für den Verkehr"},{"$f":"IF(Daten!$A343=\"\",\"\",Daten!C343)","v":681}]
[{"$f":"IF(Daten!A344=\"\",\"\",Daten!A344)","v":"H 52.1"},{"$f":"IF(Daten!$A344=\"\",\"\",Daten!B344)","v":"Lagerei"},{"$f":"IF(Daten!$A344=\"\",\"\",Daten!C344)","v":48}]
[{"$f":"IF(Daten!A345=\"\",\"\",Daten!A345)","v":"H 52.2"},{"$f":"IF(Daten!$A345=\"\",\"\",Daten!B345)","v":"Erbringung von sonstigen Dienstleistungen für den Verkehr"},{"$f":"IF(Daten!$A345=\"\",\"\",Daten!C345)","v":627}]
[{"$f":"IF(Daten!A346=\"\",\"\",Daten!A346)","v":"H 52.21"},{"$f":"IF(Daten!$A346=\"\",\"\",Daten!B346)","v":"Erbringung von sonstigen Dienstleistungen für den Landverkehr"},{"$f":"IF(Daten!$A346=\"\",\"\",Daten!C346)","v":79}]
[{"$f":"IF(Daten!A347=\"\",\"\",Daten!A347)","v":"H 52.21-1"},{"$f":"IF(Daten!$A347=\"\",\"\",Daten!B347)","v":"Parkhäuser und Parkgaragen"},{"$f":"IF(Daten!$A347=\"\",\"\",Daten!C347)","v":35}]
[{"$f":"IF(Daten!A348=\"\",\"\",Daten!A348)","v":"H 52.21-9"},{"$f":"IF(Daten!$A348=\"\",\"\",Daten!B348)","v":"Erbringung von sonstigen Dienstleistungen für den Landverkehr a.n.g."},{"$f":"IF(Daten!$A348=\"\",\"\",Daten!C348)","v":34}]
[{"$f":"IF(Daten!A349=\"\",\"\",Daten!A349)","v":"H 52.23"},{"$f":"IF(Daten!$A349=\"\",\"\",Daten!B349)","v":"Erbringung von sonstigen Dienstleistungen für die Luftfahrt"},{"$f":"IF(Daten!$A349=\"\",\"\",Daten!C349)","v":33}]
[{"$f":"IF(Daten!A350=\"\",\"\",Daten!A350)","v":"H 52.29"},{"$f":"IF(Daten!$A350=\"\",\"\",Daten!B350)","v":"Erbringung von sonstigen Dienstleistungen für den Verkehr a.n.g."},{"$f":"IF(Daten!$A350=\"\",\"\",Daten!C350)","v":469}]
[{"$f":"IF(Daten!A351=\"\",\"\",Daten!A351)","v":"H 53"},{"$f":"IF(Daten!$A351=\"\",\"\",Daten!B351)","v":"Post-, Kurier- und Expressdienste"},{"$f":"IF(Daten!$A351=\"\",\"\",Daten!C351)","v":53}]
[{"$f":"IF(Daten!A352=\"\",\"\",Daten!A352)","v":"H 53.2"},{"$f":"IF(Daten!$A352=\"\",\"\",Daten!B352)","v":"Sonstige Post-, Kurier- und Expressdienste"},{"$f":"IF(Daten!$A352=\"\",\"\",Daten!C352)","v":45}]
[{"$f":"IF(Daten!A353=\"\",\"\",Daten!A353)","v":"I"},{"$f":"IF(Daten!$A353=\"\",\"\",Daten!B353)","v":"Beherbergung und Gastronomie"},{"$f":"IF(Daten!$A353=\"\",\"\",Daten!C353)","v":8559}]
[{"$f":"IF(Daten!A354=\"\",\"\",Daten!A354)","v":"I 55.1"},{"$f":"IF(Daten!$A354=\"\",\"\",Daten!B354)","v":"Hotels, Gasthöfe und Pensionen"},{"$f":"IF(Daten!$A354=\"\",\"\",Daten!C354)","v":4531}]
[{"$f":"IF(Daten!A355=\"\",\"\",Daten!A355)","v":"I 55.10-1"},{"$f":"IF(Daten!$A355=\"\",\"\",Daten!B355)","v":"Hotels "},{"$f":"IF(Daten!$A355=\"\",\"\",Daten!C355)","v":2852}]
[{"$f":"IF(Daten!A356=\"\",\"\",Daten!A356)","v":"I 55.10-2"},{"$f":"IF(Daten!$A356=\"\",\"\",Daten!B356)","v":"Gasthöfe"},{"$f":"IF(Daten!$A356=\"\",\"\",Daten!C356)","v":825}]
[{"$f":"IF(Daten!A357=\"\",\"\",Daten!A357)","v":"I 55.10-3"},{"$f":"IF(Daten!$A357=\"\",\"\",Daten!B357)","v":"Pensionen"},{"$f":"IF(Daten!$A357=\"\",\"\",Daten!C357)","v":319}]
[{"$f":"IF(Daten!A358=\"\",\"\",Daten!A358)","v":"I 55.2"},{"$f":"IF(Daten!$A358=\"\",\"\",Daten!B358)","v":"Ferienunterkünfte und ähnliche Beherbergungsstätten"},{"$f":"IF(Daten!$A358=\"\",\"\",Daten!C358)","v":152}]
[{"$f":"IF(Daten!A359=\"\",\"\",Daten!A359)","v":"I 55.20-1"},{"$f":"IF(Daten!$A359=\"\",\"\",Daten!B359)","v":"Jugendherbergen"},{"$f":"IF(Daten!$A359=\"\",\"\",Daten!C359)","v":56}]
[{"$f":"IF(Daten!A360=\"\",\"\",Daten!A360)","v":"I 55.20-3"},{"$f":"IF(Daten!$A360=\"\",\"\",Daten!B360)","v":"Ferienhäuser und Ferienwohnungen"},{"$f":"IF(Daten!$A360=\"\",\"\",Daten!C360)","v":50}]
[{"$f":"IF(Daten!A361=\"\",\"\",Daten!A361)","v":"I 55.3"},{"$f":"IF(Daten!$A361=\"\",\"\",Daten!B361)","v":"Campingplätze"},{"$f":"IF(Daten!$A361=\"\",\"\",Daten!C361)","v":75}]
[{"$f":"IF(Daten!A362=\"\",\"\",Daten!A362)","v":"I 55.9"},{"$f":"IF(Daten!$A362=\"\",\"\",Daten!B362)","v":"Sonstige Beherbergungsstätten"},{"$f":"IF(Daten!$A362=\"\",\"\",Daten!C362)","v":121}]
[{"$f":"IF(Daten!A363=\"\",\"\",Daten!A363)","v":"I 56"},{"$f":"IF(Daten!$A363=\"\",\"\",Daten!B363)","v":"Gastronomie"},{"$f":"IF(Daten!$A363=\"\",\"\",Daten!C363)","v":3632}]
[{"$f":"IF(Daten!A364=\"\",\"\",Daten!A364)","v":"I 56.1"},{"$f":"IF(Daten!$A364=\"\",\"\",Daten!B364)","v":"Restaurants, Gaststätten, Imbissstuben, Cafés, Eissalons u.Ä."},{"$f":"IF(Daten!$A364=\"\",\"\",Daten!C364)","v":2986}]
[{"$f":"IF(Daten!A365=\"\",\"\",Daten!A365)","v":"I 56.10-1"},{"$f":"IF(Daten!$A365=\"\",\"\",Daten!B365)","v":"Restaurants und Gaststätten"},{"$f":"IF(Daten!$A365=\"\",\"\",Daten!C365)","v":2088}]
[{"$f":"IF(Daten!A366=\"\",\"\",Daten!A366)","v":"I 56.10-2"},{"$f":"IF(Daten!$A366=\"\",\"\",Daten!B366)","v":"Buffets und Imbissstuben"},{"$f":"IF(Daten!$A366=\"\",\"\",Daten!C366)","v":172}]
[{"$f":"IF(Daten!A367=\"\",\"\",Daten!A367)","v":"I 56.10-3"},{"$f":"IF(Daten!$A367=\"\",\"\",Daten!B367)","v":"Cafehäuser"},{"$f":"IF(Daten!$A367=\"\",\"\",Daten!C367)","v":466}]
[{"$f":"IF(Daten!A368=\"\",\"\",Daten!A368)","v":"I 56.10-4"},{"$f":"IF(Daten!$A368=\"\",\"\",Daten!B368)","v":"Eissalons"},{"$f":"IF(Daten!$A368=\"\",\"\",Daten!C368)","v":49}]
[{"$f":"IF(Daten!A369=\"\",\"\",Daten!A369)","v":"I 56.2"},{"$f":"IF(Daten!$A369=\"\",\"\",Daten!B369)","v":"Caterer und Erbringung sonstiger Verpflegungsdienstleistungen"},{"$f":"IF(Daten!$A369=\"\",\"\",Daten!C369)","v":155}]
[{"$f":"IF(Daten!A370=\"\",\"\",Daten!A370)","v":"I 56.21"},{"$f":"IF(Daten!$A370=\"\",\"\",Daten!B370)","v":"Event-Caterer"},{"$f":"IF(Daten!$A370=\"\",\"\",Daten!C370)","v":70}]
[{"$f":"IF(Daten!A371=\"\",\"\",Daten!A371)","v":"I 56.29"},{"$f":"IF(Daten!$A371=\"\",\"\",Daten!B371)","v":"Erbringung sonstiger Verpflegungsdienstleistungen"},{"$f":"IF(Daten!$A371=\"\",\"\",Daten!C371)","v":65}]
[{"$f":"IF(Daten!A372=\"\",\"\",Daten!A372)","v":"I 56.3"},{"$f":"IF(Daten!$A372=\"\",\"\",Daten!B372)","v":"Ausschank von Getränken"},{"$f":"IF(Daten!$A372=\"\",\"\",Daten!C372)","v":387}]
[{"$f":"IF(Daten!A373=\"\",\"\",Daten!A373)","v":"I 56.30-1"},{"$f":"IF(Daten!$A373=\"\",\"\",Daten!B373)","v":"Bars und Diskotheken"},{"$f":"IF(Daten!$A373=\"\",\"\",Daten!C373)","v":263}]
[{"$f":"IF(Daten!A374=\"\",\"\",Daten!A374)","v":"I 56.30-9"},{"$f":"IF(Daten!$A374=\"\",\"\",Daten!B374)","v":"Sonstiger Ausschank von Getränken"},{"$f":"IF(Daten!$A374=\"\",\"\",Daten!C374)","v":107}]
[{"$f":"IF(Daten!A375=\"\",\"\",Daten!A375)","v":"J"},{"$f":"IF(Daten!$A375=\"\",\"\",Daten!B375)","v":"Information und Kommunikation"},{"$f":"IF(Daten!$A375=\"\",\"\",Daten!C375)","v":2555}]
[{"$f":"IF(Daten!A376=\"\",\"\",Daten!A376)","v":"J 58"},{"$f":"IF(Daten!$A376=\"\",\"\",Daten!B376)","v":"Verlagswesen"},{"$f":"IF(Daten!$A376=\"\",\"\",Daten!C376)","v":400}]
[{"$f":"IF(Daten!A377=\"\",\"\",Daten!A377)","v":"J 58.1"},{"$f":"IF(Daten!$A377=\"\",\"\",Daten!B377)","v":"Verlegen von Büchern und Zeitschriften; sonstiges Verlagswesen (ohne Software)"},{"$f":"IF(Daten!$A377=\"\",\"\",Daten!C377)","v":326}]
[{"$f":"IF(Daten!A378=\"\",\"\",Daten!A378)","v":"J 58.11"},{"$f":"IF(Daten!$A378=\"\",\"\",Daten!B378)","v":"Verlegen von Büchern"},{"$f":"IF(Daten!$A378=\"\",\"\",Daten!C378)","v":67}]
[{"$f":"IF(Daten!A379=\"\",\"\",Daten!A379)","v":"J 58.13"},{"$f":"IF(Daten!$A379=\"\",\"\",Daten!B379)","v":"Verlegen von Zeitungen"},{"$f":"IF(Daten!$A379=\"\",\"\",Daten!C379)","v":59}]
[{"$f":"IF(Daten!A380=\"\",\"\",Daten!A380)","v":"J 58.14"},{"$f":"IF(Daten!$A380=\"\",\"\",Daten!B380)","v":"Verlegen von Zeitschriften"},{"$f":"IF(Daten!$A380=\"\",\"\",Daten!C380)","v":100}]
[{"$f":"IF(Daten!A381=\"\",\"\",Daten!A381)","v":"J 58.19"},{"$f":"IF(Daten!$A381=\"\",\"\",Daten!B381)","v":"Sonstiges Verlagswesen (ohne Software)"},{"$f":"IF(Daten!$A381=\"\",\"\",Daten!C381)","v":64}]
[{"$f":"IF(Daten!A382=\"\",\"\",Daten!A382)","v":"J 58.2"},{"$f":"IF(Daten!$A382=\"\",\"\",Daten!B382)","v":"Verlegen von Software"},{"$f":"IF(Daten!$A382=\"\",\"\",Daten!C382)","v":62}]
[{"$f":"IF(Daten!A383=\"\",\"\",Daten!A383)","v":"J 58.29"},{"$f":"IF(Daten!$A383=\"\",\"\",Daten!B383)","v":"Verlegen von sonstiger Software"},{"$f":"IF(Daten!$A383=\"\",\"\",Daten!C383)","v":41}]
[{"$f":"IF(Daten!A384=\"\",\"\",Daten!A384)","v":"J 59"},{"$f":"IF(Daten!$A384=\"\",\"\",Daten!B384)","v":"Herstellung, Verleih und Vertrieb von Filmen und Fernsehprogrammen; Kinos; Tonstudios und Verlegen von Musik"},{"$f":"IF(Daten!$A384=\"\",\"\",Daten!C384)","v":287}]
[{"$f":"IF(Daten!A385=\"\",\"\",Daten!A385)","v":"J 59.1"},{"$f":"IF(Daten!$A385=\"\",\"\",Daten!B385)","v":"Herstellung von Filmen und Fernsehprogrammen, deren Verleih und Vertrieb; Kinos"},{"$f":"IF(Daten!$A385=\"\",\"\",Daten!C385)","v":247}]
[{"$f":"IF(Daten!A386=\"\",\"\",Daten!A386)","v":"J 59.11"},{"$f":"IF(Daten!$A386=\"\",\"\",Daten!B386)","v":"Herstellung von Filmen, Videofilmen und Fernsehprogrammen"},{"$f":"IF(Daten!$A386=\"\",\"\",Daten!C386)","v":178}]
[{"$f":"IF(Daten!A387=\"\",\"\",Daten!A387)","v":"J 59.14"},{"$f":"IF(Daten!$A387=\"\",\"\",Daten!B387)","v":"Kinos"},{"$f":"IF(Daten!$A387=\"\",\"\",Daten!C387)","v":49}]
[{"$f":"IF(Daten!A388=\"\",\"\",Daten!A388)","v":"J 59.2"},{"$f":"IF(Daten!$A388=\"\",\"\",Daten!B388)","v":"Tonstudios; Herstellung von Hörfunkbeiträgen; Verlegen von bespielten Tonträgern und Musikalien"},{"$f":"IF(Daten!$A388=\"\",\"\",Daten!C388)","v":36}]
[{"$f":"IF(Daten!A389=\"\",\"\",Daten!A389)","v":"J 60"},{"$f":"IF(Daten!$A389=\"\",\"\",Daten!B389)","v":"Rundfunkveranstalter"},{"$f":"IF(Daten!$A389=\"\",\"\",Daten!C389)","v":34}]
[{"$f":"IF(Daten!A390=\"\",\"\",Daten!A390)","v":"J 61"},{"$f":"IF(Daten!$A390=\"\",\"\",Daten!B390)","v":"Telekommunikation"},{"$f":"IF(Daten!$A390=\"\",\"\",Daten!C390)","v":94}]
[{"$f":"IF(Daten!A391=\"\",\"\",Daten!A391)","v":"J 61.1"},{"$f":"IF(Daten!$A391=\"\",\"\",Daten!B391)","v":"Leitungsgebundene Telekommunikation"},{"$f":"IF(Daten!$A391=\"\",\"\",Daten!C391)","v":31}]
[{"$f":"IF(Daten!A392=\"\",\"\",Daten!A392)","v":"J 61.9"},{"$f":"IF(Daten!$A392=\"\",\"\",Daten!B392)","v":"Sonstige Telekommunikation"},{"$f":"IF(Daten!$A392=\"\",\"\",Daten!C392)","v":47}]
[{"$f":"IF(Daten!A393=\"\",\"\",Daten!A393)","v":"J 62"},{"$f":"IF(Daten!$A393=\"\",\"\",Daten!B393)","v":"Erbringung von Dienstleistungen der Informationstechnologie"},{"$f":"IF(Daten!$A393=\"\",\"\",Daten!C393)","v":1325}]
[{"$f":"IF(Daten!A394=\"\",\"\",Daten!A394)","v":"J 62.01"},{"$f":"IF(Daten!$A394=\"\",\"\",Daten!B394)","v":"Programmierungstätigkeiten"},{"$f":"IF(Daten!$A394=\"\",\"\",Daten!C394)","v":401}]
[{"$f":"IF(Daten!A395=\"\",\"\",Daten!A395)","v":"J 62.02"},{"$f":"IF(Daten!$A395=\"\",\"\",Daten!B395)","v":"Erbringung von Beratungsleistungen auf dem Gebiet der Informationstechnologie"},{"$f":"IF(Daten!$A395=\"\",\"\",Daten!C395)","v":249}]
[{"$f":"IF(Daten!A396=\"\",\"\",Daten!A396)","v":"J 62.03"},{"$f":"IF(Daten!$A396=\"\",\"\",Daten!B396)","v":"Betrieb von Datenverarbeitungsanlagen für Dritte"},{"$f":"IF(Daten!$A396=\"\",\"\",Daten!C396)","v":74}]
[{"$f":"IF(Daten!A397=\"\",\"\",Daten!A397)","v":"J 62.09"},{"$f":"IF(Daten!$A397=\"\",\"\",Daten!B397)","v":"Erbringung von sonstigen Dienstleistungen der Informationstechnologie"},{"$f":"IF(Daten!$A397=\"\",\"\",Daten!C397)","v":454}]
[{"$f":"IF(Daten!A398=\"\",\"\",Daten!A398)","v":"J 63"},{"$f":"IF(Daten!$A398=\"\",\"\",Daten!B398)","v":"Informationsdienstleistungen"},{"$f":"IF(Daten!$A398=\"\",\"\",Daten!C398)","v":415}]
[{"$f":"IF(Daten!A399=\"\",\"\",Daten!A399)","v":"J 63.1"},{"$f":"IF(Daten!$A399=\"\",\"\",Daten!B399)","v":"Datenverarbeitung, Hosting und damit verbundene Tätigkeiten; Webportale"},{"$f":"IF(Daten!$A399=\"\",\"\",Daten!C399)","v":368}]
[{"$f":"IF(Daten!A400=\"\",\"\",Daten!A400)","v":"J 63.11"},{"$f":"IF(Daten!$A400=\"\",\"\",Daten!B400)","v":"Datenverarbeitung, Hosting und damit verbundene Tätigkeiten"},{"$f":"IF(Daten!$A400=\"\",\"\",Daten!C400)","v":339}]
[{"$f":"IF(Daten!A401=\"\",\"\",Daten!A401)","v":"J 63.9"},{"$f":"IF(Daten!$A401=\"\",\"\",Daten!B401)","v":"Erbringung von sonstigen Informationsdienstleistungen"},{"$f":"IF(Daten!$A401=\"\",\"\",Daten!C401)","v":42}]
[{"$f":"IF(Daten!A402=\"\",\"\",Daten!A402)","v":"M"},{"$f":"IF(Daten!$A402=\"\",\"\",Daten!B402)","v":"Erbringung von Freiberuflichen, Wissenschaftlichen und Technischen Dienstleistungen"},{"$f":"IF(Daten!$A402=\"\",\"\",Daten!C402)","v":6259}]
[{"$f":"IF(Daten!A403=\"\",\"\",Daten!A403)","v":"M 69"},{"$f":"IF(Daten!$A403=\"\",\"\",Daten!B403)","v":"Rechts- und Steuerberatung, Wirtschaftsprüfung"},{"$f":"IF(Daten!$A403=\"\",\"\",Daten!C403)","v":1420}]
[{"$f":"IF(Daten!A404=\"\",\"\",Daten!A404)","v":"M 69.1"},{"$f":"IF(Daten!$A404=\"\",\"\",Daten!B404)","v":"Rechtsberatung"},{"$f":"IF(Daten!$A404=\"\",\"\",Daten!C404)","v":220}]
[{"$f":"IF(Daten!A405=\"\",\"\",Daten!A405)","v":"M 69.2"},{"$f":"IF(Daten!$A405=\"\",\"\",Daten!B405)","v":"Wirtschaftsprüfung und Steuerberatung; Buchführung"},{"$f":"IF(Daten!$A405=\"\",\"\",Daten!C405)","v":1188}]
[{"$f":"IF(Daten!A406=\"\",\"\",Daten!A406)","v":"M 70"},{"$f":"IF(Daten!$A406=\"\",\"\",Daten!B406)","v":"Verwaltung und Führung von Unternehmen und Betrieben; Unternehmensberatung"},{"$f":"IF(Daten!$A406=\"\",\"\",Daten!C406)","v":1263}]
[{"$f":"IF(Daten!A407=\"\",\"\",Daten!A407)","v":"M 70.2"},{"$f":"IF(Daten!$A407=\"\",\"\",Daten!B407)","v":"Public-Relations- und Unternehmensberatung"},{"$f":"IF(Daten!$A407=\"\",\"\",Daten!C407)","v":1254}]
[{"$f":"IF(Daten!A408=\"\",\"\",Daten!A408)","v":"M 70.21"},{"$f":"IF(Daten!$A408=\"\",\"\",Daten!B408)","v":"Public-Relations-Beratung"},{"$f":"IF(Daten!$A408=\"\",\"\",Daten!C408)","v":141}]
[{"$f":"IF(Daten!A409=\"\",\"\",Daten!A409)","v":"M 70.22"},{"$f":"IF(Daten!$A409=\"\",\"\",Daten!B409)","v":"Unternehmensberatung"},{"$f":"IF(Daten!$A409=\"\",\"\",Daten!C409)","v":1065}]
[{"$f":"IF(Daten!A410=\"\",\"\",Daten!A410)","v":"M 71"},{"$f":"IF(Daten!$A410=\"\",\"\",Daten!B410)","v":"Architektur- und Ingenieurbüros; technische, physikalische und chemische Untersuchung"},{"$f":"IF(Daten!$A410=\"\",\"\",Daten!C410)","v":2142}]
[{"$f":"IF(Daten!A411=\"\",\"\",Daten!A411)","v":"M 71.1"},{"$f":"IF(Daten!$A411=\"\",\"\",Daten!B411)","v":"Architektur- und Ingenieurbüros"},{"$f":"IF(Daten!$A411=\"\",\"\",Daten!C411)","v":1995}]
[{"$f":"IF(Daten!A412=\"\",\"\",Daten!A412)","v":"M 71.11"},{"$f":"IF(Daten!$A412=\"\",\"\",Daten!B412)","v":"Architekturbüros"},{"$f":"IF(Daten!$A412=\"\",\"\",Daten!C412)","v":531}]
[{"$f":"IF(Daten!A413=\"\",\"\",Daten!A413)","v":"M 71.12"},{"$f":"IF(Daten!$A413=\"\",\"\",Daten!B413)","v":"Ingenieurbüros"},{"$f":"IF(Daten!$A413=\"\",\"\",Daten!C413)","v":1370}]
[{"$f":"IF(Daten!A414=\"\",\"\",Daten!A414)","v":"M 71.2"},{"$f":"IF(Daten!$A414=\"\",\"\",Daten!B414)","v":"Technische, physikalische und chemische Untersuchung"},{"$f":"IF(Daten!$A414=\"\",\"\",Daten!C414)","v":134}]
[{"$f":"IF(Daten!A415=\"\",\"\",Daten!A415)","v":"M 72"},{"$f":"IF(Daten!$A415=\"\",\"\",Daten!B415)","v":"Forschung und Entwicklung"},{"$f":"IF(Daten!$A415=\"\",\"\",Daten!C415)","v":135}]
[{"$f":"IF(Daten!A416=\"\",\"\",Daten!A416)","v":"M 72.1"},{"$f":"IF(Daten!$A416=\"\",\"\",Daten!B416)","v":"Forschung und Entwicklung im Bereich Natur-, Ingenieur-, Agrarwissenschaften und Medizin"},{"$f":"IF(Daten!$A416=\"\",\"\",Daten!C416)","v":114}]
[{"$f":"IF(Daten!A417=\"\",\"\",Daten!A417)","v":"M 72.19"},{"$f":"IF(Daten!$A417=\"\",\"\",Daten!B417)","v":"Sonstige Forschung und Entwicklung im Bereich Natur-, Ingenieur-, Agrarwissenschaften und Medizin"},{"$f":"IF(Daten!$A417=\"\",\"\",Daten!C417)","v":88}]
[{"$f":"IF(Daten!A418=\"\",\"\",Daten!A418)","v":"M 73"},{"$f":"IF(Daten!$A418=\"\",\"\",Daten!B418)","v":"Werbung und Marktforschung"},{"$f":"IF(Daten!$A418=\"\",\"\",Daten!C418)","v":1012}]
[{"$f":"IF(Daten!A419=\"\",\"\",Daten!A419)","v":"M 73.1"},{"$f":"IF(Daten!$A419=\"\",\"\",Daten!B419)","v":"Werbung"},{"$f":"IF(Daten!$A419=\"\",\"\",Daten!C419)","v":971}]
[{"$f":"IF(Daten!A420=\"\",\"\",Daten!A420)","v":"M 73.11"},{"$f":"IF(Daten!$A420=\"\",\"\",Daten!B420)","v":"Werbeagenturen"},{"$f":"IF(Daten!$A420=\"\",\"\",Daten!C420)","v":899}]
[{"$f":"IF(Daten!A421=\"\",\"\",Daten!A421)","v":"M 73.11-1"},{"$f":"IF(Daten!$A421=\"\",\"\",Daten!B421)","v":"Werbegestaltung"},{"$f":"IF(Daten!$A421=\"\",\"\",Daten!C421)","v":697}]
[{"$f":"IF(Daten!A422=\"\",\"\",Daten!A422)","v":"M 73.11-2"},{"$f":"IF(Daten!$A422=\"\",\"\",Daten!B422)","v":"Werbemittelverbreitung "},{"$f":"IF(Daten!$A422=\"\",\"\",Daten!C422)","v":133}]
[{"$f":"IF(Daten!A423=\"\",\"\",Daten!A423)","v":"M 73.2"},{"$f":"IF(Daten!$A423=\"\",\"\",Daten!B423)","v":"Markt- und Meinungsforschung"},{"$f":"IF(Daten!$A423=\"\",\"\",Daten!C423)","v":38}]
[{"$f":"IF(Daten!A424=\"\",\"\",Daten!A424)","v":"M 74"},{"$f":"IF(Daten!$A424=\"\",\"\",Daten!B424)","v":"Sonstige freiberufliche, wissenschaftliche und technische Tätigkeiten"},{"$f":"IF(Daten!$A424=\"\",\"\",Daten!C424)","v":258}]
[{"$f":"IF(Daten!A425=\"\",\"\",Daten!A425)","v":"M 74.1"},{"$f":"IF(Daten!$A425=\"\",\"\",Daten!B425)","v":"Ateliers für Textil-, Schmuck-, Grafik- u.ä. Design"},{"$f":"IF(Daten!$A425=\"\",\"\",Daten!C425)","v":40}]
[{"$f":"IF(Daten!A426=\"\",\"\",Daten!A426)","v":"M 74.2"},{"$f":"IF(Daten!$A426=\"\",\"\",Daten!B426)","v":"Fotografie und Fotolabors"},{"$f":"IF(Daten!$A426=\"\",\"\",Daten!C426)","v":92}]
[{"$f":"IF(Daten!A427=\"\",\"\",Daten!A427)","v":"M 74.9"},{"$f":"IF(Daten!$A427=\"\",\"\",Daten!B427)","v":"Sonstige freiberufliche, wissenschaftliche und technische Tätigkeiten a.n.g."},{"$f":"IF(Daten!$A427=\"\",\"\",Daten!C427)","v":103}]
[{"$f":"IF(Daten!A428=\"\",\"\",Daten!A428)","v":"N"},{"$f":"IF(Daten!$A428=\"\",\"\",Daten!B428)","v":"Erbringung von Sonstigen Wirtschaftlichen Dienstleistungen"},{"$f":"IF(Daten!$A428=\"\",\"\",Daten!C428)","v":3271}]
[{"$f":"IF(Daten!A429=\"\",\"\",Daten!A429)","v":"N 77"},{"$f":"IF(Daten!$A429=\"\",\"\",Daten!B429)","v":"Vermietung von beweglichen Sachen"},{"$f":"IF(Daten!$A429=\"\",\"\",Daten!C429)","v":555}]
[{"$f":"IF(Daten!A430=\"\",\"\",Daten!A430)","v":"N 77.1"},{"$f":"IF(Daten!$A430=\"\",\"\",Daten!B430)","v":"Vermietung von Kraftwagen"},{"$f":"IF(Daten!$A430=\"\",\"\",Daten!C430)","v":100}]
[{"$f":"IF(Daten!A431=\"\",\"\",Daten!A431)","v":"N 77.11"},{"$f":"IF(Daten!$A431=\"\",\"\",Daten!B431)","v":"Vermietung von Kraftwagen mit einem Gesamtgewicht von 3,5 t oder weniger"},{"$f":"IF(Daten!$A431=\"\",\"\",Daten!C431)","v":71}]
[{"$f":"IF(Daten!A432=\"\",\"\",Daten!A432)","v":"N 77.11-2"},{"$f":"IF(Daten!$A432=\"\",\"\",Daten!B432)","v":"Vermietung von Kraftwagen mit einem Gesamtgewicht von 3,5 t oder weniger"},{"$f":"IF(Daten!$A432=\"\",\"\",Daten!C432)","v":45}]
[{"$f":"IF(Daten!A433=\"\",\"\",Daten!A433)","v":"N 77.2"},{"$f":"IF(Daten!$A433=\"\",\"\",Daten!B433)","v":"Vermietung von Gebrauchsgütern"},{"$f":"IF(Daten!$A433=\"\",\"\",Daten!C433)","v":140}]
[{"$f":"IF(Daten!A434=\"\",\"\",Daten!A434)","v":"N 77.21"},{"$f":"IF(Daten!$A434=\"\",\"\",Daten!B434)","v":"Vermietung von Sport- und Freizeitgeräten"},{"$f":"IF(Daten!$A434=\"\",\"\",Daten!C434)","v":42}]
[{"$f":"IF(Daten!A435=\"\",\"\",Daten!A435)","v":"N 77.29"},{"$f":"IF(Daten!$A435=\"\",\"\",Daten!B435)","v":"Vermietung von sonstigen Gebrauchsgütern "},{"$f":"IF(Daten!$A435=\"\",\"\",Daten!C435)","v":81}]
[{"$f":"IF(Daten!A436=\"\",\"\",Daten!A436)","v":"N 77.3"},{"$f":"IF(Daten!$A436=\"\",\"\",Daten!B436)","v":"Vermietung von  Maschinen, Geräten und sonstigen beweglichen Sachen"},{"$f":"IF(Daten!$A436=\"\",\"\",Daten!C436)","v":293}]
[{"$f":"IF(Daten!A437=\"\",\"\",Daten!A437)","v":"N 77.31"},{"$f":"IF(Daten!$A437=\"\",\"\",Daten!B437)","v":"Vermietung von landwirtschaftlichen Maschinen und Geräten"},{"$f":"IF(Daten!$A437=\"\",\"\",Daten!C437)","v":38}]
[{"$f":"IF(Daten!A438=\"\",\"\",Daten!A438)","v":"N 77.32"},{"$f":"IF(Daten!$A438=\"\",\"\",Daten!B438)","v":"Vermietung von Baumaschinen und -geräten"},{"$f":"IF(Daten!$A438=\"\",\"\",Daten!C438)","v":110}]
[{"$f":"IF(Daten!A439=\"\",\"\",Daten!A439)","v":"N 77.39"},{"$f":"IF(Daten!$A439=\"\",\"\",Daten!B439)","v":"Vermietung von sonstigen Maschinen, Geräten und beweglichen Sachen a.n.g."},{"$f":"IF(Daten!$A439=\"\",\"\",Daten!C439)","v":101}]
[{"$f":"IF(Daten!A440=\"\",\"\",Daten!A440)","v":"N 78"},{"$f":"IF(Daten!$A440=\"\",\"\",Daten!B440)","v":"Vermittlung und Überlassung von Arbeitskräften"},{"$f":"IF(Daten!$A440=\"\",\"\",Daten!C440)","v":431}]
[{"$f":"IF(Daten!A441=\"\",\"\",Daten!A441)","v":"N 78.1"},{"$f":"IF(Daten!$A441=\"\",\"\",Daten!B441)","v":"Vermittlung von Arbeitskräften"},{"$f":"IF(Daten!$A441=\"\",\"\",Daten!C441)","v":113}]
[{"$f":"IF(Daten!A442=\"\",\"\",Daten!A442)","v":"N 78.2"},{"$f":"IF(Daten!$A442=\"\",\"\",Daten!B442)","v":"Befristete Überlassung von Arbeitskräften"},{"$f":"IF(Daten!$A442=\"\",\"\",Daten!C442)","v":230}]
[{"$f":"IF(Daten!A443=\"\",\"\",Daten!A443)","v":"N 78.3"},{"$f":"IF(Daten!$A443=\"\",\"\",Daten!B443)","v":"Sonstige Überlassung von Arbeitskräften "},{"$f":"IF(Daten!$A443=\"\",\"\",Daten!C443)","v":67}]
[{"$f":"IF(Daten!A444=\"\",\"\",Daten!A444)","v":"N 79"},{"$f":"IF(Daten!$A444=\"\",\"\",Daten!B444)","v":"Reisebüros, Reiseveranstalter und Erbringung sonstiger Reservierungsdienstleistungen"},{"$f":"IF(Daten!$A444=\"\",\"\",Daten!C444)","v":499}]
[{"$f":"IF(Daten!A445=\"\",\"\",Daten!A445)","v":"N 79.1"},{"$f":"IF(Daten!$A445=\"\",\"\",Daten!B445)","v":"Reisebüros und Reiseveranstalter"},{"$f":"IF(Daten!$A445=\"\",\"\",Daten!C445)","v":445}]
[{"$f":"IF(Daten!A446=\"\",\"\",Daten!A446)","v":"N 79.11"},{"$f":"IF(Daten!$A446=\"\",\"\",Daten!B446)","v":"Reisebüros"},{"$f":"IF(Daten!$A446=\"\",\"\",Daten!C446)","v":339}]
[{"$f":"IF(Daten!A447=\"\",\"\",Daten!A447)","v":"N 79.12"},{"$f":"IF(Daten!$A447=\"\",\"\",Daten!B447)","v":"Reiseveranstalter"},{"$f":"IF(Daten!$A447=\"\",\"\",Daten!C447)","v":56}]
[{"$f":"IF(Daten!A448=\"\",\"\",Daten!A448)","v":"N 79.9"},{"$f":"IF(Daten!$A448=\"\",\"\",Daten!B448)","v":"Erbringung sonstiger Reservierungsdienstleistungen"},{"$f":"IF(Daten!$A448=\"\",\"\",Daten!C448)","v":52}]
[{"$f":"IF(Daten!A449=\"\",\"\",Daten!A449)","v":"N 79.90-2"},{"$f":"IF(Daten!$A449=\"\",\"\",Daten!B449)","v":"Tourismusbüros"},{"$f":"IF(Daten!$A449=\"\",\"\",Daten!C449)","v":37}]
[{"$f":"IF(Daten!A450=\"\",\"\",Daten!A450)","v":"N 80.1"},{"$f":"IF(Daten!$A450=\"\",\"\",Daten!B450)","v":"Private Wach- und Sicherheitsdienste"},{"$f":"IF(Daten!$A450=\"\",\"\",Daten!C450)","v":39}]
[{"$f":"IF(Daten!A451=\"\",\"\",Daten!A451)","v":"N 81"},{"$f":"IF(Daten!$A451=\"\",\"\",Daten!B451)","v":"Gebäudebetreuung; Garten- und Landschaftsbau"},{"$f":"IF(Daten!$A451=\"\",\"\",Daten!C451)","v":903}]
[{"$f":"IF(Daten!A452=\"\",\"\",Daten!A452)","v":"N 81.1"},{"$f":"IF(Daten!$A452=\"\",\"\",Daten!B452)","v":"Hausmeisterdienste"},{"$f":"IF(Daten!$A452=\"\",\"\",Daten!C452)","v":89}]
[{"$f":"IF(Daten!A453=\"\",\"\",Daten!A453)","v":"N 81.10-1"},{"$f":"IF(Daten!$A453=\"\",\"\",Daten!B453)","v":"Hauswartung"},{"$f":"IF(Daten!$A453=\"\",\"\",Daten!C453)","v":52}]
[{"$f":"IF(Daten!A454=\"\",\"\",Daten!A454)","v":"N 81.10-2"},{"$f":"IF(Daten!$A454=\"\",\"\",Daten!B454)","v":"Facility Management (ohne Hauswartung)"},{"$f":"IF(Daten!$A454=\"\",\"\",Daten!C454)","v":36}]
[{"$f":"IF(Daten!A455=\"\",\"\",Daten!A455)","v":"N 81.2"},{"$f":"IF(Daten!$A455=\"\",\"\",Daten!B455)","v":"Reinigung von Gebäuden, Straßen und Verkehrsmitteln"},{"$f":"IF(Daten!$A455=\"\",\"\",Daten!C455)","v":550}]
[{"$f":"IF(Daten!A456=\"\",\"\",Daten!A456)","v":"N 81.21"},{"$f":"IF(Daten!$A456=\"\",\"\",Daten!B456)","v":"Allgemeine Gebäudereinigung"},{"$f":"IF(Daten!$A456=\"\",\"\",Daten!C456)","v":204}]
[{"$f":"IF(Daten!A457=\"\",\"\",Daten!A457)","v":"N 81.22"},{"$f":"IF(Daten!$A457=\"\",\"\",Daten!B457)","v":"Spezielle Reinigung von Gebäuden und Reinigung von Maschinen"},{"$f":"IF(Daten!$A457=\"\",\"\",Daten!C457)","v":244}]
[{"$f":"IF(Daten!A458=\"\",\"\",Daten!A458)","v":"N 81.22-1"},{"$f":"IF(Daten!$A458=\"\",\"\",Daten!B458)","v":"Rauchfangkehrerinnen und -kehrer"},{"$f":"IF(Daten!$A458=\"\",\"\",Daten!C458)","v":213}]
[{"$f":"IF(Daten!A459=\"\",\"\",Daten!A459)","v":"N 81.29"},{"$f":"IF(Daten!$A459=\"\",\"\",Daten!B459)","v":"Reinigung a.n.g."},{"$f":"IF(Daten!$A459=\"\",\"\",Daten!C459)","v":84}]
[{"$f":"IF(Daten!A460=\"\",\"\",Daten!A460)","v":"N 81.29-9"},{"$f":"IF(Daten!$A460=\"\",\"\",Daten!B460)","v":"Sonstige Reinigung a.n.g."},{"$f":"IF(Daten!$A460=\"\",\"\",Daten!C460)","v":49}]
[{"$f":"IF(Daten!A461=\"\",\"\",Daten!A461)","v":"N 81.3"},{"$f":"IF(Daten!$A461=\"\",\"\",Daten!B461)","v":"Garten- und Landschaftsbau sowie Erbringung von sonstigen gärtnerischen Dienstleistungen"},{"$f":"IF(Daten!$A461=\"\",\"\",Daten!C461)","v":259}]
[{"$f":"IF(Daten!A462=\"\",\"\",Daten!A462)","v":"N 82"},{"$f":"IF(Daten!$A462=\"\",\"\",Daten!B462)","v":"Erbringung von wirtschaftlichen Dienstleistungen für Unternehmen und Privatpersonen a.n.g."},{"$f":"IF(Daten!$A462=\"\",\"\",Daten!C462)","v":817}]
[{"$f":"IF(Daten!A463=\"\",\"\",Daten!A463)","v":"N 82.1"},{"$f":"IF(Daten!$A463=\"\",\"\",Daten!B463)","v":"Sekretariats- und Schreibdienste, Copy-Shops"},{"$f":"IF(Daten!$A463=\"\",\"\",Daten!C463)","v":33}]
[{"$f":"IF(Daten!A464=\"\",\"\",Daten!A464)","v":"N 82.2"},{"$f":"IF(Daten!$A464=\"\",\"\",Daten!B464)","v":"Call Centers"},{"$f":"IF(Daten!$A464=\"\",\"\",Daten!C464)","v":32}]
[{"$f":"IF(Daten!A465=\"\",\"\",Daten!A465)","v":"N 82.3"},{"$f":"IF(Daten!$A465=\"\",\"\",Daten!B465)","v":"Messe-, Ausstellungs- und Kongressveranstalter"},{"$f":"IF(Daten!$A465=\"\",\"\",Daten!C465)","v":67}]
[{"$f":"IF(Daten!A466=\"\",\"\",Daten!A466)","v":"N 82.9"},{"$f":"IF(Daten!$A466=\"\",\"\",Daten!B466)","v":"Erbringung sonstiger wirtschaftlicher Dienstleistungen für Unternehmen und Privatpersonen"},{"$f":"IF(Daten!$A466=\"\",\"\",Daten!C466)","v":659}]
[{"$f":"IF(Daten!A467=\"\",\"\",Daten!A467)","v":"N 82.99"},{"$f":"IF(Daten!$A467=\"\",\"\",Daten!B467)","v":"Erbringung sonstiger wirtschaftlicher Dienstleistungen für Unternehmen und Privatpersonen a.n.g."},{"$f":"IF(Daten!$A467=\"\",\"\",Daten!C467)","v":601}]
[{"$f":"IF(Daten!A468=\"\",\"\",Daten!A468)","v":"O"},{"$f":"IF(Daten!$A468=\"\",\"\",Daten!B468)","v":"Öffentliche Verwaltung, Verteidigung, Sozialversicherung"},{"$f":"IF(Daten!$A468=\"\",\"\",Daten!C468)","v":54}]
[{"$f":"IF(Daten!A469=\"\",\"\",Daten!A469)","v":"O 84"},{"$f":"IF(Daten!$A469=\"\",\"\",Daten!B469)","v":"Öffentliche Verwaltung, Verteidigung, Sozialversicherung"},{"$f":"IF(Daten!$A469=\"\",\"\",Daten!C469)","v":54}]
[{"$f":"IF(Daten!A470=\"\",\"\",Daten!A470)","v":"O 84.1"},{"$f":"IF(Daten!$A470=\"\",\"\",Daten!B470)","v":"Öffentliche Verwaltung"},{"$f":"IF(Daten!$A470=\"\",\"\",Daten!C470)","v":48}]
[{"$f":"IF(Daten!A471=\"\",\"\",Daten!A471)","v":"P"},{"$f":"IF(Daten!$A471=\"\",\"\",Daten!B471)","v":"Erziehung und Unterricht"},{"$f":"IF(Daten!$A471=\"\",\"\",Daten!C471)","v":411}]
[{"$f":"IF(Daten!A472=\"\",\"\",Daten!A472)","v":"P 85.5"},{"$f":"IF(Daten!$A472=\"\",\"\",Daten!B472)","v":"Sonstiger Unterricht"},{"$f":"IF(Daten!$A472=\"\",\"\",Daten!C472)","v":354}]
[{"$f":"IF(Daten!A473=\"\",\"\",Daten!A473)","v":"P 85.51"},{"$f":"IF(Daten!$A473=\"\",\"\",Daten!B473)","v":"Sport- und Freizeitunterricht"},{"$f":"IF(Daten!$A473=\"\",\"\",Daten!C473)","v":41}]
[{"$f":"IF(Daten!A474=\"\",\"\",Daten!A474)","v":"P 85.53"},{"$f":"IF(Daten!$A474=\"\",\"\",Daten!B474)","v":"Fahr- und Flugschulen"},{"$f":"IF(Daten!$A474=\"\",\"\",Daten!C474)","v":127}]
[{"$f":"IF(Daten!A475=\"\",\"\",Daten!A475)","v":"P 85.59"},{"$f":"IF(Daten!$A475=\"\",\"\",Daten!B475)","v":"Sonstiger Unterricht a.n.g."},{"$f":"IF(Daten!$A475=\"\",\"\",Daten!C475)","v":154}]
[{"$f":"IF(Daten!A476=\"\",\"\",Daten!A476)","v":"Q"},{"$f":"IF(Daten!$A476=\"\",\"\",Daten!B476)","v":"Gesundheits- und Sozialwesen"},{"$f":"IF(Daten!$A476=\"\",\"\",Daten!C476)","v":1040}]
[{"$f":"IF(Daten!A477=\"\",\"\",Daten!A477)","v":"Q 86"},{"$f":"IF(Daten!$A477=\"\",\"\",Daten!B477)","v":"Gesundheitswesen"},{"$f":"IF(Daten!$A477=\"\",\"\",Daten!C477)","v":574}]
[{"$f":"IF(Daten!A478=\"\",\"\",Daten!A478)","v":"Q 86.1"},{"$f":"IF(Daten!$A478=\"\",\"\",Daten!B478)","v":"Krankenhäuser"},{"$f":"IF(Daten!$A478=\"\",\"\",Daten!C478)","v":78}]
[{"$f":"IF(Daten!A479=\"\",\"\",Daten!A479)","v":"Q 86.2"},{"$f":"IF(Daten!$A479=\"\",\"\",Daten!B479)","v":"Arzt- und Zahnarztpraxen"},{"$f":"IF(Daten!$A479=\"\",\"\",Daten!C479)","v":250}]
[{"$f":"IF(Daten!A480=\"\",\"\",Daten!A480)","v":"Q 86.22"},{"$f":"IF(Daten!$A480=\"\",\"\",Daten!B480)","v":"Facharztpraxen"},{"$f":"IF(Daten!$A480=\"\",\"\",Daten!C480)","v":198}]
[{"$f":"IF(Daten!A481=\"\",\"\",Daten!A481)","v":"Q 86.23"},{"$f":"IF(Daten!$A481=\"\",\"\",Daten!B481)","v":"Zahnarztpraxen"},{"$f":"IF(Daten!$A481=\"\",\"\",Daten!C481)","v":31}]
[{"$f":"IF(Daten!A482=\"\",\"\",Daten!A482)","v":"Q 86.9"},{"$f":"IF(Daten!$A482=\"\",\"\",Daten!B482)","v":"Gesundheitswesen a.n.g."},{"$f":"IF(Daten!$A482=\"\",\"\",Daten!C482)","v":237}]
[{"$f":"IF(Daten!A483=\"\",\"\",Daten!A483)","v":"Q 86.90-1"},{"$f":"IF(Daten!$A483=\"\",\"\",Daten!B483)","v":"Krankentransporte und Rettungsdienste"},{"$f":"IF(Daten!$A483=\"\",\"\",Daten!C483)","v":33}]
[{"$f":"IF(Daten!A484=\"\",\"\",Daten!A484)","v":"Q 86.90-9"},{"$f":"IF(Daten!$A484=\"\",\"\",Daten!B484)","v":"Sonstiges Gesundheitswesen a.n.g."},{"$f":"IF(Daten!$A484=\"\",\"\",Daten!C484)","v":149}]
[{"$f":"IF(Daten!A485=\"\",\"\",Daten!A485)","v":"Q 87"},{"$f":"IF(Daten!$A485=\"\",\"\",Daten!B485)","v":"Heime (ohne Erholungs- und Ferienheime)"},{"$f":"IF(Daten!$A485=\"\",\"\",Daten!C485)","v":273}]
[{"$f":"IF(Daten!A486=\"\",\"\",Daten!A486)","v":"Q 87.1"},{"$f":"IF(Daten!$A486=\"\",\"\",Daten!B486)","v":"Pflegeheime"},{"$f":"IF(Daten!$A486=\"\",\"\",Daten!C486)","v":83}]
[{"$f":"IF(Daten!A487=\"\",\"\",Daten!A487)","v":"Q 87.3"},{"$f":"IF(Daten!$A487=\"\",\"\",Daten!B487)","v":"Altenheime; Alten- und Behindertenwohnheime"},{"$f":"IF(Daten!$A487=\"\",\"\",Daten!C487)","v":138}]
[{"$f":"IF(Daten!A488=\"\",\"\",Daten!A488)","v":"Q 87.9"},{"$f":"IF(Daten!$A488=\"\",\"\",Daten!B488)","v":"Sonstige Heime (ohne Erholungs- und Ferienheime)"},{"$f":"IF(Daten!$A488=\"\",\"\",Daten!C488)","v":43}]
[{"$f":"IF(Daten!A489=\"\",\"\",Daten!A489)","v":"Q 88"},{"$f":"IF(Daten!$A489=\"\",\"\",Daten!B489)","v":"Sozialwesen (ohne Heime)"},{"$f":"IF(Daten!$A489=\"\",\"\",Daten!C489)","v":193}]
[{"$f":"IF(Daten!A490=\"\",\"\",Daten!A490)","v":"Q 88.9"},{"$f":"IF(Daten!$A490=\"\",\"\",Daten!B490)","v":"Sonstiges Sozialwesen (ohne Heime)"},{"$f":"IF(Daten!$A490=\"\",\"\",Daten!C490)","v":175}]
[{"$f":"IF(Daten!A491=\"\",\"\",Daten!A491)","v":"Q 88.99"},{"$f":"IF(Daten!$A491=\"\",\"\",Daten!B491)","v":"Sonstiges Sozialwesen a.n.g."},{"$f":"IF(Daten!$A491=\"\",\"\",Daten!C491)","v":164}]
[{"$f":"IF(Daten!A492=\"\",\"\",Daten!A492)","v":"R"},{"$f":"IF(Daten!$A492=\"\",\"\",Daten!B492)","v":"Kunst, Unterhaltung und Erholung"},{"$f":"IF(Daten!$A492=\"\",\"\",Daten!C492)","v":975}]
[{"$f":"IF(Daten!A493=\"\",\"\",Daten!A493)","v":"R 90"},{"$f":"IF(Daten!$A493=\"\",\"\",Daten!B493)","v":"Kreative, künstlerische und unterhaltende Tätigkeiten"},{"$f":"IF(Daten!$A493=\"\",\"\",Daten!C493)","v":129}]
[{"$f":"IF(Daten!A494=\"\",\"\",Daten!A494)","v":"R 90.02"},{"$f":"IF(Daten!$A494=\"\",\"\",Daten!B494)","v":"Erbringung von Dienstleistungen für die darstellende Kunst"},{"$f":"IF(Daten!$A494=\"\",\"\",Daten!C494)","v":44}]
[{"$f":"IF(Daten!A495=\"\",\"\",Daten!A495)","v":"R 90.03"},{"$f":"IF(Daten!$A495=\"\",\"\",Daten!B495)","v":"Künstlerisches und schriftstellerisches Schaffen"},{"$f":"IF(Daten!$A495=\"\",\"\",Daten!C495)","v":34}]
[{"$f":"IF(Daten!A496=\"\",\"\",Daten!A496)","v":"R 90.04"},{"$f":"IF(Daten!$A496=\"\",\"\",Daten!B496)","v":"Betrieb von Kultur- und Unterhaltungseinrichtungen"},{"$f":"IF(Daten!$A496=\"\",\"\",Daten!C496)","v":38}]
[{"$f":"IF(Daten!A497=\"\",\"\",Daten!A497)","v":"R 91"},{"$f":"IF(Daten!$A497=\"\",\"\",Daten!B497)","v":"Bibliotheken, Archive, Museen, botanische und zoologische Gärten"},{"$f":"IF(Daten!$A497=\"\",\"\",Daten!C497)","v":53}]
[{"$f":"IF(Daten!A498=\"\",\"\",Daten!A498)","v":"R 92"},{"$f":"IF(Daten!$A498=\"\",\"\",Daten!B498)","v":"Spiel-, Wett- und Lotteriewesen"},{"$f":"IF(Daten!$A498=\"\",\"\",Daten!C498)","v":82}]
[{"$f":"IF(Daten!A499=\"\",\"\",Daten!A499)","v":"R 92.00-1"},{"$f":"IF(Daten!$A499=\"\",\"\",Daten!B499)","v":"Wett-, Toto- und Lotteriewesen"},{"$f":"IF(Daten!$A499=\"\",\"\",Daten!C499)","v":33}]
[{"$f":"IF(Daten!A500=\"\",\"\",Daten!A500)","v":"R 92.00-3"},{"$f":"IF(Daten!$A500=\"\",\"\",Daten!B500)","v":"Betrieb von Glücksspielautomaten"},{"$f":"IF(Daten!$A500=\"\",\"\",Daten!C500)","v":39}]
[{"$f":"IF(Daten!A501=\"\",\"\",Daten!A501)","v":"R 93"},{"$f":"IF(Daten!$A501=\"\",\"\",Daten!B501)","v":"Erbringung von Dienstleistungen des Sports, der Unterhaltung und der Erholung"},{"$f":"IF(Daten!$A501=\"\",\"\",Daten!C501)","v":711}]
[{"$f":"IF(Daten!A502=\"\",\"\",Daten!A502)","v":"R 93.1"},{"$f":"IF(Daten!$A502=\"\",\"\",Daten!B502)","v":"Erbringung von Dienstleistungen des Sports "},{"$f":"IF(Daten!$A502=\"\",\"\",Daten!C502)","v":459}]
[{"$f":"IF(Daten!A503=\"\",\"\",Daten!A503)","v":"R 93.11"},{"$f":"IF(Daten!$A503=\"\",\"\",Daten!B503)","v":"Betrieb von Sportanlagen"},{"$f":"IF(Daten!$A503=\"\",\"\",Daten!C503)","v":188}]
[{"$f":"IF(Daten!A504=\"\",\"\",Daten!A504)","v":"R 93.11-9"},{"$f":"IF(Daten!$A504=\"\",\"\",Daten!B504)","v":"Betrieb von sonstigen Sportanlagen"},{"$f":"IF(Daten!$A504=\"\",\"\",Daten!C504)","v":136}]
[{"$f":"IF(Daten!A505=\"\",\"\",Daten!A505)","v":"R 93.13"},{"$f":"IF(Daten!$A505=\"\",\"\",Daten!B505)","v":"Fitnesszentren"},{"$f":"IF(Daten!$A505=\"\",\"\",Daten!C505)","v":151}]
[{"$f":"IF(Daten!A506=\"\",\"\",Daten!A506)","v":"R 93.19"},{"$f":"IF(Daten!$A506=\"\",\"\",Daten!B506)","v":"Erbringung von sonstigen Dienstleistungen des Sports"},{"$f":"IF(Daten!$A506=\"\",\"\",Daten!C506)","v":103}]
[{"$f":"IF(Daten!A507=\"\",\"\",Daten!A507)","v":"R 93.2"},{"$f":"IF(Daten!$A507=\"\",\"\",Daten!B507)","v":"Erbringung von Dienstleistungen der Unterhaltung und der Erholung"},{"$f":"IF(Daten!$A507=\"\",\"\",Daten!C507)","v":244}]
[{"$f":"IF(Daten!A508=\"\",\"\",Daten!A508)","v":"R 93.21"},{"$f":"IF(Daten!$A508=\"\",\"\",Daten!B508)","v":"Vergnügungs- und Themenparks"},{"$f":"IF(Daten!$A508=\"\",\"\",Daten!C508)","v":32}]
[{"$f":"IF(Daten!A509=\"\",\"\",Daten!A509)","v":"R 93.29"},{"$f":"IF(Daten!$A509=\"\",\"\",Daten!B509)","v":"Erbringung von Dienstleistungen der Unterhaltung und der Erholung a.n.g."},{"$f":"IF(Daten!$A509=\"\",\"\",Daten!C509)","v":188}]
[{"$f":"IF(Daten!A510=\"\",\"\",Daten!A510)","v":"S"},{"$f":"IF(Daten!$A510=\"\",\"\",Daten!B510)","v":"Erbringung von Sonstigen Dienstleistungen"},{"$f":"IF(Daten!$A510=\"\",\"\",Daten!C510)","v":1555}]
[{"$f":"IF(Daten!A511=\"\",\"\",Daten!A511)","v":"S 94"},{"$f":"IF(Daten!$A511=\"\",\"\",Daten!B511)","v":"Interessenvertretungen sowie kirchliche und sonstige religiöse Vereinigungen (ohne Sozialwesen und Sport)"},{"$f":"IF(Daten!$A511=\"\",\"\",Daten!C511)","v":287}]
[{"$f":"IF(Daten!A512=\"\",\"\",Daten!A512)","v":"S 94.9"},{"$f":"IF(Daten!$A512=\"\",\"\",Daten!B512)","v":"Kirchliche Vereinigungen; politische Parteien sowie sonstige Interessenvertretungen und Vereinigungen a.n.g."},{"$f":"IF(Daten!$A512=\"\",\"\",Daten!C512)","v":266}]
[{"$f":"IF(Daten!A513=\"\",\"\",Daten!A513)","v":"S 94.99"},{"$f":"IF(Daten!$A513=\"\",\"\",Daten!B513)","v":"Sonstige Interessenvertretungen und Vereinigungen a.n.g."},{"$f":"IF(Daten!$A513=\"\",\"\",Daten!C513)","v":237}]
[{"$f":"IF(Daten!A514=\"\",\"\",Daten!A514)","v":"S 95.2"},{"$f":"IF(Daten!$A514=\"\",\"\",Daten!B514)","v":"Reparatur von Gebrauchsgütern"},{"$f":"IF(Daten!$A514=\"\",\"\",Daten!C514)","v":94}]
[{"$f":"IF(Daten!A515=\"\",\"\",Daten!A515)","v":"S 95.29"},{"$f":"IF(Daten!$A515=\"\",\"\",Daten!B515)","v":"Reparatur von sonstigen Gebrauchsgütern "},{"$f":"IF(Daten!$A515=\"\",\"\",Daten!C515)","v":49}]
[{"$f":"IF(Daten!A516=\"\",\"\",Daten!A516)","v":"S 96"},{"$f":"IF(Daten!$A516=\"\",\"\",Daten!B516)","v":"Erbringung von sonstigen überwiegend persönlichen Dienstleistungen"},{"$f":"IF(Daten!$A516=\"\",\"\",Daten!C516)","v":1152}]
[{"$f":"IF(Daten!A517=\"\",\"\",Daten!A517)","v":"S 96.01"},{"$f":"IF(Daten!$A517=\"\",\"\",Daten!B517)","v":"Wäscherei und chemische Reinigung"},{"$f":"IF(Daten!$A517=\"\",\"\",Daten!C517)","v":93}]
[{"$f":"IF(Daten!A518=\"\",\"\",Daten!A518)","v":"S 96.01-1"},{"$f":"IF(Daten!$A518=\"\",\"\",Daten!B518)","v":"Wäschereien"},{"$f":"IF(Daten!$A518=\"\",\"\",Daten!C518)","v":39}]
[{"$f":"IF(Daten!A519=\"\",\"\",Daten!A519)","v":"S 96.01-2"},{"$f":"IF(Daten!$A519=\"\",\"\",Daten!B519)","v":"Chemische Reinigung und Bekleidungsfärberei"},{"$f":"IF(Daten!$A519=\"\",\"\",Daten!C519)","v":32}]
[{"$f":"IF(Daten!A520=\"\",\"\",Daten!A520)","v":"S 96.02"},{"$f":"IF(Daten!$A520=\"\",\"\",Daten!B520)","v":"Frisör- und Kosmetiksalons"},{"$f":"IF(Daten!$A520=\"\",\"\",Daten!C520)","v":410}]
[{"$f":"IF(Daten!A521=\"\",\"\",Daten!A521)","v":"S 96.02-1"},{"$f":"IF(Daten!$A521=\"\",\"\",Daten!B521)","v":"Frisörsalons"},{"$f":"IF(Daten!$A521=\"\",\"\",Daten!C521)","v":302}]
[{"$f":"IF(Daten!A522=\"\",\"\",Daten!A522)","v":"S 96.02-2"},{"$f":"IF(Daten!$A522=\"\",\"\",Daten!B522)","v":"Kosmetiksalons"},{"$f":"IF(Daten!$A522=\"\",\"\",Daten!C522)","v":55}]
[{"$f":"IF(Daten!A523=\"\",\"\",Daten!A523)","v":"S 96.03"},{"$f":"IF(Daten!$A523=\"\",\"\",Daten!B523)","v":"Bestattungswesen"},{"$f":"IF(Daten!$A523=\"\",\"\",Daten!C523)","v":123}]
[{"$f":"IF(Daten!A524=\"\",\"\",Daten!A524)","v":"S 96.04"},{"$f":"IF(Daten!$A524=\"\",\"\",Daten!B524)","v":"Saunas, Solarien, Bäder u.Ä."},{"$f":"IF(Daten!$A524=\"\",\"\",Daten!C524)","v":132}]
[{"$f":"IF(Daten!A525=\"\",\"\",Daten!A525)","v":"S 96.04-2"},{"$f":"IF(Daten!$A525=\"\",\"\",Daten!B525)","v":"Heil-, Kur- und Thermalbäder "},{"$f":"IF(Daten!$A525=\"\",\"\",Daten!C525)","v":67}]
[{"$f":"IF(Daten!A526=\"\",\"\",Daten!A526)","v":"S 96.04-9"},{"$f":"IF(Daten!$A526=\"\",\"\",Daten!B526)","v":"Solarien, Saunas, Bäder a.n.g"},{"$f":"IF(Daten!$A526=\"\",\"\",Daten!C526)","v":42}]
[{"$f":"IF(Daten!A527=\"\",\"\",Daten!A527)","v":"S 96.09"},{"$f":"IF(Daten!$A527=\"\",\"\",Daten!B527)","v":"Erbringung von sonstigen Dienstleistungen a.n.g."},{"$f":"IF(Daten!$A527=\"\",\"\",Daten!C527)","v":338}]
[{"$f":"IF(Daten!A528=\"\",\"\",Daten!A528)","v":""},{"$f":"IF(Daten!$A528=\"\",\"\",Daten!B528)","v":""},{"$f":"IF(Daten!$A528=\"\",\"\",Daten!C528)","v":""}]
[{"$f":"IF(Daten!A529=\"\",\"\",Daten!A529)","v":""},{"$f":"IF(Daten!$A529=\"\",\"\",Daten!B529)","v":""},{"$f":"IF(Daten!$A529=\"\",\"\",Daten!C529)","v":""}]
[{"$f":"IF(Daten!A530=\"\",\"\",Daten!A530)","v":""},{"$f":"IF(Daten!$A530=\"\",\"\",Daten!B530)","v":""},{"$f":"IF(Daten!$A530=\"\",\"\",Daten!C530)","v":""}]
[{"$f":"IF(Daten!A531=\"\",\"\",Daten!A531)","v":""},{"$f":"IF(Daten!$A531=\"\",\"\",Daten!B531)","v":""},{"$f":"IF(Daten!$A531=\"\",\"\",Daten!C531)","v":""}]
[{"$f":"IF(Daten!A532=\"\",\"\",Daten!A532)","v":""},{"$f":"IF(Daten!$A532=\"\",\"\",Daten!B532)","v":""},{"$f":"IF(Daten!$A532=\"\",\"\",Daten!C532)","v":""}]
[{"$f":"IF(Daten!A533=\"\",\"\",Daten!A533)","v":""},{"$f":"IF(Daten!$A533=\"\",\"\",Daten!B533)","v":""},{"$f":"IF(Daten!$A533=\"\",\"\",Daten!C533)","v":""}]
[{"$f":"IF(Daten!A534=\"\",\"\",Daten!A534)","v":""},{"$f":"IF(Daten!$A534=\"\",\"\",Daten!B534)","v":""},{"$f":"IF(Daten!$A534=\"\",\"\",Daten!C534)","v":""}]
[{"$f":"IF(Daten!A535=\"\",\"\",Daten!A535)","v":""},{"$f":"IF(Daten!$A535=\"\",\"\",Daten!B535)","v":""},{"$f":"IF(Daten!$A535=\"\",\"\",Daten!C535)","v":""}]
[{"$f":"IF(Daten!A536=\"\",\"\",Daten!A536)","v":""},{"$f":"IF(Daten!$A536=\"\",\"\",Daten!B536)","v":""},{"$f":"IF(Daten!$A536=\"\",\"\",Daten!C536)","v":""}]
[{"$f":"IF(Daten!A537=\"\",\"\",Daten!A537)","v":""},{"$f":"IF(Daten!$A537=\"\",\"\",Daten!B537)","v":""},{"$f":"IF(Daten!$A537=\"\",\"\",Daten!C537)","v":""}]
[{"$f":"IF(Daten!A538=\"\",\"\",Daten!A538)","v":""},{"$f":"IF(Daten!$A538=\"\",\"\",Daten!B538)","v":""},{"$f":"IF(Daten!$A538=\"\",\"\",Daten!C538)","v":""}]
[{"$f":"IF(Daten!A539=\"\",\"\",Daten!A539)","v":""},{"$f":"IF(Daten!$A539=\"\",\"\",Daten!B539)","v":""},{"$f":"IF(Daten!$A539=\"\",\"\",Daten!C539)","v":""}]
[{"$f":"IF(Daten!A540=\"\",\"\",Daten!A540)","v":""},{"$f":"IF(Daten!$A540=\"\",\"\",Daten!B540)","v":""},{"$f":"IF(Daten!$A540=\"\",\"\",Daten!C540)","v":""}]
[{"$f":"IF(Daten!A541=\"\",\"\",Daten!A541)","v":""},{"$f":"IF(Daten!$A541=\"\",\"\",Daten!B541)","v":""},{"$f":"IF(Daten!$A541=\"\",\"\",Daten!C541)","v":""}]

{"sheet":"Kennzahlen","index":4,"n_rows":22,"n_cols":7,"rows_kept":22,"cut":false,"hidden":true,"merged":[[0,0,1,0]]}
["Kennzahl durch Anklicken/Markieren auswählen, danach Schalter \"Berechnen\" drücken"]
[null,null,null,null,null,"Sort","Texte"]
["Kennzahlen in Prozent des Gesamtkapitals","Anlagevermögen",null,null,null,"D",{"$f":"B3&\" in Prozent Gesamtkapital\"","v":"Anlagevermögen in Prozent Gesamtkapital"}]
[null,"Umlaufvermögen",null,null,null,"D",{"$f":"B4&\" in Prozent Gesamtkapital\"","v":"Umlaufvermögen in Prozent Gesamtkapital"}]
[null,"Eigenkapital",null,null,null,"D",{"$f":"B5&\" in Prozent Gesamtkapital\"","v":"Eigenkapital in Prozent Gesamtkapital"}]
[null,"Sozialkapital",null,null,null,"D",{"$f":"B6&\" in Prozent Gesamtkapital\"","v":"Sozialkapital in Prozent Gesamtkapital"}]
[null,"Fremdkapital",null,null,null,"A",{"$f":"B7&\" in Prozent Gesamtkapital\"","v":"Fremdkapital in Prozent Gesamtkapital"}]
["Kennzahlen in Prozent der Betriebsleistung","Materialkosten inkl. Fremdleistungen",null,null,null,"A",{"$f":"B8&\" in Prozent der Betriebsleistung\"","v":"Materialkosten inkl. Fremdleistungen in Prozent der Betriebsleistung"}]
[null,"Rohertrag",null,null,null,null,{"$f":"B9&\" in Prozent der Betriebsleistung\"","v":"Rohertrag in Prozent der Betriebsleistung"}]
[null,"Personalkosten",null,null,null,"A","Personalkosten in Prozent der Betriebsleistung"]
[null,"Sonstige Kosten",null,null,null,"A","Sonstige Kosten in Prozent der Betriebsleistung"]
[null,"Finanzergebnis",null,null,null,"D","Finanzergebnis in Prozent der Betriebsleistung"]
[null,"Ergebnis vor Steuern",null,null,null,"D","Ergebnis vor Steuern in Prozent der Betriebsleistung"]
[null,"Cash-flow",null,null,null,"D","Cash-flow in Prozent der Betriebsleistung"]
[null,"Vorräte",null,null,null,"A","Vorräte in Prozent der Betriebsleistung"]
[null,"Forderungen",null,null,null,"A","Forderungen in Prozent der Betriebsleistung"]
["Weitere Kennzahlen","Kapitalumschlag",null,null,null,"D",{"$f":"B17","v":"Kapitalumschlag"}]
[null,"Gesamtkapitalrentabilität (ROI)",null,null,null,"D","Gesamtkapitalrentabilität (ROI)"]
[null,"Anlagendeckung",null,null,null,"D","Anlagendeckung"]
[null,"Schuldentilgungsdauer",null,null,null,"A","Schuldentilgungsdauer"]
[null,"Nettoproduktivität",null,null,null,"D","Nettoproduktivität"]
[null,"Bruttoproduktivität",null,null,null,"D","Bruttoproduktivität"]

{"sheet":"EineBranche","index":5,"n_rows":33,"n_cols":4,"rows_kept":33,"cut":false,"hidden":true,"merged":[[34,0,34,3],[35,0,35,3],[32,0,33,3],[31,0,31,3]]}
[]
[]
[{"$f":"Auswahl!A5","v":"Branchenkennzahlen 2013/2014"},null,"Median","Top-Betriebe"]
["Branche\n(ÖNACE-2008):",{"$f":"DatenBranche!F1","v":"C 10"}]
[null,{"$f":"DatenBranche!F2","v":"Herstellung von Nahrungs- und Futtermitteln"}]
[{"$f":"\"Datenbasis: \"&DatenBranche!C5&\" Betriebe\"","v":"Datenbasis: 1449 Betriebe"}]
["Kennzahlen in Prozent des Gesamtkapitals"]
[null,"Anlagevermögen",{"$f":"DatenBranche!C7","v":0.61399999999999999},{"$f":"DatenBranche!D7","v":0.58799999999999997}]
[null,"Umlaufvermögen",{"$f":"DatenBranche!C8","v":0.38100000000000001},{"$f":"DatenBranche!D8","v":0.40899999999999997}]
[null,"Eigenkapital",{"$f":"DatenBranche!C9","v":0.121},{"$f":"DatenBranche!D9","v":0.29299999999999998}]
[null,"Sozialkapital",{"$f":"DatenBranche!C10","v":0},{"$f":"DatenBranche!D10","v":8.0000000000000002E-3}]
[null,"Fremdkapital",{"$f":"DatenBranche!C11","v":0.83199999999999996},{"$f":"DatenBranche!D11","v":0.67600000000000005}]
["Kennzahlen in Prozent der Betriebsleistung"]
[null,"Materialkosten inkl. Fremdleistungen",{"$f":"DatenBranche!C13","v":0.43099999999999999},{"$f":"DatenBranche!D13","v":0.35899999999999999}]
[null,"Rohertrag",{"$f":"DatenBranche!C14","v":0.56699999999999995},{"$f":"DatenBranche!D14","v":0.63600000000000001}]
[null,"Personalkosten",{"$f":"DatenBranche!C15","v":0.33800000000000002},{"$f":"DatenBranche!D15","v":0.30399999999999999}]
[null,"Sonstige Kosten",{"$f":"DatenBranche!C16","v":0.20499999999999999},{"$f":"DatenBranche!D16","v":0.20599999999999999}]
[null,"Finanzergebnis",{"$f":"DatenBranche!C17","v":-0.01},{"$f":"DatenBranche!D17","v":-8.9999999999999993E-3}]
[null,"Ergebnis vor Steuern (Umsatzrentabilität)",{"$f":"DatenBranche!C18","v":3.0000000000000001E-3},{"$f":"DatenBranche!D18","v":6.3E-2}]
[null,"Cash-flow",{"$f":"DatenBranche!C19","v":3.5999999999999997E-2},{"$f":"DatenBranche!D19","v":0.11700000000000001}]
[null,"Vorräte",{"$f":"DatenBranche!C20","v":3.3000000000000002E-2},{"$f":"DatenBranche!D20","v":3.1E-2}]
[null,"Forderungen",{"$f":"DatenBranche!C21","v":6.7000000000000004E-2},{"$f":"DatenBranche!D21","v":8.5999999999999993E-2}]
["Weitere Kennzahlen"]
[null,"Kapitalumschlag",{"$f":"ROUND(DatenBranche!C23,1) & \"x\"","v":"2,1x"},{"$f":"ROUND(DatenBranche!D23,1) & \"x\"","v":"1,8x"}]
[null,"Gesamtkapitalrentabilität (ROI)",{"$f":"DatenBranche!C24","v":2.8000000000000001E-2},{"$f":"DatenBranche!D24","v":0.14899999999999999}]
[null,"Anlagendeckung",{"$f":"DatenBranche!C25","v":0.95099999999999996},{"$f":"DatenBranche!D25","v":1.1259999999999999}]
[null,"Schuldentilgungsdauer",{"$f":"IF(ISNUMBER(DatenBranche!C26),DatenBranche!C26 & \" Jahre\",\"negativ\")","v":"8,9 Jahre"},{"$f":"IF(ISNUMBER(DatenBranche!D26),DatenBranche!D26 & \" Jahre\",\"negativ\")","v":"2,8 Jahre"}]
[null,"Nettoproduktivität",{"$f":"DatenBranche!C27","v":1.61},{"$f":"DatenBranche!D27","v":1.91279069767442}]
[null,"Bruttoproduktivität",{"$f":"DatenBranche!C28","v":2.9532293986637002},{"$f":"DatenBranche!D28","v":3.27536231884058}]
["© KMU Forschung Austria, Wien 2015, Stand Juli 2015"]
[]
["Die Branchenkennzahlen basieren auf den betriebswirtschaftlich korrigierten Jahresabschlüssen (Bilanzstichtage zwischen 1. Juli 2013 und 30. Juni 2014) von rd. 83.400 österreichischen KMU. "]
["Nähere Erläuterungen zu den einzelnen Kennzahlen, Definitionen, Interpretationshilfen, Maßnahmenempfehlungen etc. enthält die Kennzahlenbroschüre: Bilanzkennzahlen – Handbuch für Praktiker, KMU Forschung Austria, Wien 2011"]

{"sheet":"EineKennzahl","index":6,"n_rows":537,"n_cols":7,"rows_kept":537,"cut":false,"hidden":true,"merged":[[534,0,535,3],[536,0,537,3]]}
[]
[]
[{"$f":"Auswahl!A5","v":"Branchenkennzahlen 2013/2014"}]
[{"$f":"DatenKennzahl!B2","v":"Schuldentilgungsdauer"}]
["Branche\n(ÖNACE-2008)",null,"Median","oberes Quartil",null,null,"SortierFeld"]
[{"$f":"IF(DatenKennzahl!A6=\"\",\"\",DatenKennzahl!A6)","v":"C"},{"$f":"IF(DatenKennzahl!B6=\"\",\"\",DatenKennzahl!B6)","v":"Herstellung von Waren"},{"$f":"IF(Zeile<>20,DatenKennzahl!C6,IF(DatenKennzahl!C6>=100,\"negativ\",DatenKennzahl!C6))","v":7.3882272297977103},{"$f":"IF(Zeile<>20,DatenKennzahl!D6,IF(DatenKennzahl!D6>=100,\"negativ\",DatenKennzahl!D6))","v":1.5200461933832901},{"$f":"IF(DatenKennzahl!A6=\"\",\"\",DatenKennzahl!E6)","v":9999},null,{"$f":"IF(DatenKennzahl!C6=\"\",\"\",DatenKennzahl!C6/100)","v":7.38822722979771E-2}]
[{"$f":"IF(DatenKennzahl!A7=\"\",\"\",DatenKennzahl!A7)","v":"C 10"},{"$f":"IF(DatenKennzahl!B7=\"\",\"\",DatenKennzahl!B7)","v":"Herstellung von Nahrungs- und Futtermitteln"},{"$f":"IF(Zeile<>20,DatenKennzahl!C7,IF(DatenKennzahl!C7>=100,\"negativ\",DatenKennzahl!C7))","v":8.8523871788528794},{"$f":"IF(Zeile<>20,DatenKennzahl!D7,IF(DatenKennzahl!D7>=100,\"negativ\",DatenKennzahl!D7))","v":2.7649769585253501}]
[{"$f":"IF(DatenKennzahl!A8=\"\",\"\",DatenKennzahl!A8)","v":"C 10.1"},{"$f":"IF(DatenKennzahl!B8=\"\",\"\",DatenKennzahl!B8)","v":"Schlachten und Fleischverarbeitung"},{"$f":"IF(Zeile<>20,DatenKennzahl!C8,IF(DatenKennzahl!C8>=100,\"negativ\",DatenKennzahl!C8))","v":10.1129753914989},{"$f":"IF(Zeile<>20,DatenKennzahl!D8,IF(DatenKennzahl!D8>=100,\"negativ\",DatenKennzahl!D8))","v":3.08750995753969}]
[{"$f":"IF(DatenKennzahl!A9=\"\",\"\",DatenKennzahl!A9)","v":"C 10.11"},{"$f":"IF(DatenKennzahl!B9=\"\",\"\",DatenKennzahl!B9)","v":"Schlachten (ohne Schlachten von Geflügel)"},{"$f":"IF(Zeile<>20,DatenKennzahl!C9,IF(DatenKennzahl!C9>=100,\"negativ\",DatenKennzahl!C9))","v":11.7740776001088},{"$f":"IF(Zeile<>20,DatenKennzahl!D9,IF(DatenKennzahl!D9>=100,\"negativ\",DatenKennzahl!D9))","v":4.4647302904564299}]
[{"$f":"IF(DatenKennzahl!A10=\"\",\"\",DatenKennzahl!A10)","v":"C 10.13"},{"$f":"IF(DatenKennzahl!B10=\"\",\"\",DatenKennzahl!B10)","v":"Fleischverarbeitung"},{"$f":"IF(Zeile<>20,DatenKennzahl!C10,IF(DatenKennzahl!C10>=100,\"negativ\",DatenKennzahl!C10))","v":10.2299465240642},{"$f":"IF(Zeile<>20,DatenKennzahl!D10,IF(DatenKennzahl!D10>=100,\"negativ\",DatenKennzahl!D10))","v":2.6272401433691801}]
[{"$f":"IF(DatenKennzahl!A11=\"\",\"\",DatenKennzahl!A11)","v":"C 10.3"},{"$f":"IF(DatenKennzahl!B11=\"\",\"\",DatenKennzahl!B11)","v":"Obst- und Gemüseverarbeitung"},{"$f":"IF(Zeile<>20,DatenKennzahl!C11,IF(DatenKennzahl!C11>=100,\"negativ\",DatenKennzahl!C11))","v":7.6299599546926098},{"$f":"IF(Zeile<>20,DatenKennzahl!D11,IF(DatenKennzahl!D11>=100,\"negativ\",DatenKennzahl!D11))","v":1.93367346938776}]
[{"$f":"IF(DatenKennzahl!A12=\"\",\"\",DatenKennzahl!A12)","v":"C 10.5"},{"$f":"IF(DatenKennzahl!B12=\"\",\"\",DatenKennzahl!B12)","v":"Milchverarbeitung"},{"$f":"IF(Zeile<>20,DatenKennzahl!C12,IF(DatenKennzahl!C12>=100,\"negativ\",DatenKennzahl!C12))","v":8.3136252775187298},{"$f":"IF(Zeile<>20,DatenKennzahl!D12,IF(DatenKennzahl!D12>=100,\"negativ\",DatenKennzahl!D12))","v":3.7194435396710199}]
[{"$f":"IF(DatenKennzahl!A13=\"\",\"\",DatenKennzahl!A13)","v":"C 10.51"},{"$f":"IF(DatenKennzahl!B13=\"\",\"\",DatenKennzahl!B13)","v":"Milchverarbeitung (ohne Herstellung von Speiseeis)"},{"$f":"IF(Zeile<>20,DatenKennzahl!C13,IF(DatenKennzahl!C13>=100,\"negativ\",DatenKennzahl!C13))","v":10.272732470601699},{"$f":"IF(Zeile<>20,DatenKennzahl!D13,IF(DatenKennzahl!D13>=100,\"negativ\",DatenKennzahl!D13))","v":3.5550847457627102}]
[{"$f":"IF(DatenKennzahl!A14=\"\",\"\",DatenKennzahl!A14)","v":"C 10.6"},{"$f":"IF(DatenKennzahl!B14=\"\",\"\",DatenKennzahl!B14)","v":"Mahl- und Schälmühlen, Herstellung von Stärke und Stärkeerzeugnissen"},{"$f":"IF(Zeile<>20,DatenKennzahl!C14,IF(DatenKennzahl!C14>=100,\"negativ\",DatenKennzahl!C14))","v":8.1620016963528403},{"$f":"IF(Zeile<>20,DatenKennzahl!D14,IF(DatenKennzahl!D14>=100,\"negativ\",DatenKennzahl!D14))","v":3.8694344163658201}]
[{"$f":"IF(DatenKennzahl!A15=\"\",\"\",DatenKennzahl!A15)","v":"C 10.61"},{"$f":"IF(DatenKennzahl!B15=\"\",\"\",DatenKennzahl!B15)","v":"Mahl- und Schälmühlen"},{"$f":"IF(Zeile<>20,DatenKennzahl!C15,IF(DatenKennzahl!C15>=100,\"negativ\",DatenKennzahl!C15))","v":8.1620016963528403},{"$f":"IF(Zeile<>20,DatenKennzahl!D15,IF(DatenKennzahl!D15>=100,\"negativ\",DatenKennzahl!D15))","v":3.8694344163658201}]
[{"$f":"IF(DatenKennzahl!A16=\"\",\"\",DatenKennzahl!A16)","v":"C 10.7"},{"$f":"IF(DatenKennzahl!B16=\"\",\"\",DatenKennzahl!B16)","v":"Herstellung von Back- und Teigwaren"},{"$f":"IF(Zeile<>20,DatenKennzahl!C16,IF(DatenKennzahl!C16>=100,\"negativ\",DatenKennzahl!C16))","v":8.80439121756487},{"$f":"IF(Zeile<>20,DatenKennzahl!D16,IF(DatenKennzahl!D16>=100,\"negativ\",DatenKennzahl!D16))","v":2.5483589594486}]
[{"$f":"IF(DatenKennzahl!A17=\"\",\"\",DatenKennzahl!A17)","v":"C 10.71"},{"$f":"IF(DatenKennzahl!B17=\"\",\"\",DatenKennzahl!B17)","v":"Herstellung von Backwaren (ohne Dauerbackwaren)"},{"$f":"IF(Zeile<>20,DatenKennzahl!C17,IF(DatenKennzahl!C17>=100,\"negativ\",DatenKennzahl!C17))","v":8.8809717435361204},{"$f":"IF(Zeile<>20,DatenKennzahl!D17,IF(DatenKennzahl!D17>=100,\"negativ\",DatenKennzahl!D17))","v":2.7073027501020199}]
[{"$f":"IF(DatenKennzahl!A18=\"\",\"\",DatenKennzahl!A18)","v":"C 10.71-1"},{"$f":"IF(DatenKennzahl!B18=\"\",\"\",DatenKennzahl!B18)","v":"Herstellung von Schwarz- und Weißbackwaren"},{"$f":"IF(Zeile<>20,DatenKennzahl!C18,IF(DatenKennzahl!C18>=100,\"negativ\",DatenKennzahl!C18))","v":9.7149431164514901},{"$f":"IF(Zeile<>20,DatenKennzahl!D18,IF(DatenKennzahl!D18>=100,\"negativ\",DatenKennzahl!D18))","v":2.9636363636363598}]
[{"$f":"IF(DatenKennzahl!A19=\"\",\"\",DatenKennzahl!A19)","v":"C 10.71-2"},{"$f":"IF(DatenKennzahl!B19=\"\",\"\",DatenKennzahl!B19)","v":"Herstellung von Zuckerbäcker- und Konditorwaren"},{"$f":"IF(Zeile<>20,DatenKennzahl!C19,IF(DatenKennzahl!C19>=100,\"negativ\",DatenKennzahl!C19))","v":8.4133333333333304},{"$f":"IF(Zeile<>20,DatenKennzahl!D19,IF(DatenKennzahl!D19>=100,\"negativ\",DatenKennzahl!D19))","v":2.60704022117402}]
[{"$f":"IF(DatenKennzahl!A20=\"\",\"\",DatenKennzahl!A20)","v":"C 10.8"},{"$f":"IF(DatenKennzahl!B20=\"\",\"\",DatenKennzahl!B20)","v":"Herstellung von sonstigen Nahrungsmitteln"},{"$f":"IF(Zeile<>20,DatenKennzahl!C20,IF(DatenKennzahl!C20>=100,\"negativ\",DatenKennzahl!C20))","v":6.2702702702702702},{"$f":"IF(Zeile<>20,DatenKennzahl!D20,IF(DatenKennzahl!D20>=100,\"negativ\",DatenKennzahl!D20))","v":1.4461538461538499}]
[{"$f":"IF(DatenKennzahl!A21=\"\",\"\",DatenKennzahl!A21)","v":"C 10.89"},{"$f":"IF(DatenKennzahl!B21=\"\",\"\",DatenKennzahl!B21)","v":"Herstellung von sonstigen Nahrungsmitteln a.n.g."},{"$f":"IF(Zeile<>20,DatenKennzahl!C21,IF(DatenKennzahl!C21>=100,\"negativ\",DatenKennzahl!C21))","v":7.45340501792115},{"$f":"IF(Zeile<>20,DatenKennzahl!D21,IF(DatenKennzahl!D21>=100,\"negativ\",DatenKennzahl!D21))","v":1.4461538461538499}]
[{"$f":"IF(DatenKennzahl!A22=\"\",\"\",DatenKennzahl!A22)","v":"C 11"},{"$f":"IF(DatenKennzahl!B22=\"\",\"\",DatenKennzahl!B22)","v":"Getränkeherstellung"},{"$f":"IF(Zeile<>20,DatenKennzahl!C22,IF(DatenKennzahl!C22>=100,\"negativ\",DatenKennzahl!C22))","v":6.875},{"$f":"IF(Zeile<>20,DatenKennzahl!D22,IF(DatenKennzahl!D22>=100,\"negativ\",DatenKennzahl!D22))","v":3.5836298932384301}]
[{"$f":"IF(DatenKennzahl!A23=\"\",\"\",DatenKennzahl!A23)","v":"C 11.01"},{"$f":"IF(DatenKennzahl!B23=\"\",\"\",DatenKennzahl!B23)","v":"Herstellung von Spirituosen"},{"$f":"IF(Zeile<>20,DatenKennzahl!C23,IF(DatenKennzahl!C23>=100,\"negativ\",DatenKennzahl!C23))","v":10.345070422535199},{"$f":"IF(Zeile<>20,DatenKennzahl!D23,IF(DatenKennzahl!D23>=100,\"negativ\",DatenKennzahl!D23))","v":2.7009174311926598}]
[{"$f":"IF(DatenKennzahl!A24=\"\",\"\",DatenKennzahl!A24)","v":"C 11.02"},{"$f":"IF(DatenKennzahl!B24=\"\",\"\",DatenKennzahl!B24)","v":"Herstellung von Traubenwein"},{"$f":"IF(Zeile<>20,DatenKennzahl!C24,IF(DatenKennzahl!C24>=100,\"negativ\",DatenKennzahl!C24))","v":7.5057736720554296},{"$f":"IF(Zeile<>20,DatenKennzahl!D24,IF(DatenKennzahl!D24>=100,\"negativ\",DatenKennzahl!D24))","v":4.5961538461538503}]
[{"$f":"IF(DatenKennzahl!A25=\"\",\"\",DatenKennzahl!A25)","v":"C 11.05"},{"$f":"IF(DatenKennzahl!B25=\"\",\"\",DatenKennzahl!B25)","v":"Herstellung von Bier"},{"$f":"IF(Zeile<>20,DatenKennzahl!C25,IF(DatenKennzahl!C25>=100,\"negativ\",DatenKennzahl!C25))","v":5.6417910447761201},{"$f":"IF(Zeile<>20,DatenKennzahl!D25,IF(DatenKennzahl!D25>=100,\"negativ\",DatenKennzahl!D25))","v":2.5318326732149701}]
[{"$f":"IF(DatenKennzahl!A26=\"\",\"\",DatenKennzahl!A26)","v":"C 11.07"},{"$f":"IF(DatenKennzahl!B26=\"\",\"\",DatenKennzahl!B26)","v":"Herstellung von Erfrischungsgetränken; Gewinnung natürlicher Mineralwässer "},{"$f":"IF(Zeile<>20,DatenKennzahl!C26,IF(DatenKennzahl!C26>=100,\"negativ\",DatenKennzahl!C26))","v":5.8506616257088799},{"$f":"IF(Zeile<>20,DatenKennzahl!D26,IF(DatenKennzahl!D26>=100,\"negativ\",DatenKennzahl!D26))","v":3.1146959753641799}]
[{"$f":"IF(DatenKennzahl!A27=\"\",\"\",DatenKennzahl!A27)","v":"C 13"},{"$f":"IF(DatenKennzahl!B27=\"\",\"\",DatenKennzahl!B27)","v":"Herstellung von Textilien"},{"$f":"IF(Zeile<>20,DatenKennzahl!C27,IF(DatenKennzahl!C27>=100,\"negativ\",DatenKennzahl!C27))","v":9.4357162494384195},{"$f":"IF(Zeile<>20,DatenKennzahl!D27,IF(DatenKennzahl!D27>=100,\"negativ\",DatenKennzahl!D27))","v":1.5609623672333599}]
[{"$f":"IF(DatenKennzahl!A28=\"\",\"\",DatenKennzahl!A28)","v":"C 13.9"},{"$f":"IF(DatenKennzahl!B28=\"\",\"\",DatenKennzahl!B28)","v":"Herstellung von sonstigen Textilwaren"},{"$f":"IF(Zeile<>20,DatenKennzahl!C28,IF(DatenKennzahl!C28>=100,\"negativ\",DatenKennzahl!C28))","v":7.6606317145552003},{"$f":"IF(Zeile<>20,DatenKennzahl!D28,IF(DatenKennzahl!D28>=100,\"negativ\",DatenKennzahl!D28))","v":1.44444444444444}]
[{"$f":"IF(DatenKennzahl!A29=\"\",\"\",DatenKennzahl!A29)","v":"C 13.92"},{"$f":"IF(DatenKennzahl!B29=\"\",\"\",DatenKennzahl!B29)","v":"Herstellung von konfektionierten Textilwaren (ohne Bekleidung)"},{"$f":"IF(Zeile<>20,DatenKennzahl!C29,IF(DatenKennzahl!C29>=100,\"negativ\",DatenKennzahl!C29))","v":4.2819383259911898},{"$f":"IF(Zeile<>20,DatenKennzahl!D29,IF(DatenKennzahl!D29>=100,\"negativ\",DatenKennzahl!D29))","v":1.41121930228547}]
[{"$f":"IF(DatenKennzahl!A30=\"\",\"\",DatenKennzahl!A30)","v":"C 13.99"},{"$f":"IF(DatenKennzahl!B30=\"\",\"\",DatenKennzahl!B30)","v":"Herstellung von sonstigen Textilwaren a.n.g."},{"$f":"IF(Zeile<>20,DatenKennzahl!C30,IF(DatenKennzahl!C30>=100,\"negativ\",DatenKennzahl!C30))","v":7.6606317145552003},{"$f":"IF(Zeile<>20,DatenKennzahl!D30,IF(DatenKennzahl!D30>=100,\"negativ\",DatenKennzahl!D30))","v":0.92692072721144303}]
[{"$f":"IF(DatenKennzahl!A31=\"\",\"\",DatenKennzahl!A31)","v":"C 13.99-1"},{"$f":"IF(DatenKennzahl!B31=\"\",\"\",DatenKennzahl!B31)","v":"Herstellung von Stickereien"},{"$f":"IF(Zeile<>20,DatenKennzahl!C31,IF(DatenKennzahl!C31>=100,\"negativ\",DatenKennzahl!C31))","v":5.8571428571428603},{"$f":"IF(Zeile<>20,DatenKennzahl!D31,IF(DatenKennzahl!D31>=100,\"negativ\",DatenKennzahl!D31))","v":0.92692072721144303}]
[{"$f":"IF(DatenKennzahl!A32=\"\",\"\",DatenKennzahl!A32)","v":"C 14"},{"$f":"IF(DatenKennzahl!B32=\"\",\"\",DatenKennzahl!B32)","v":"Herstellung von Bekleidung"},{"$f":"IF(Zeile<>20,DatenKennzahl!C32,IF(DatenKennzahl!C32>=100,\"negativ\",DatenKennzahl!C32))","v":16.005678183508898},{"$f":"IF(Zeile<>20,DatenKennzahl!D32,IF(DatenKennzahl!D32>=100,\"negativ\",DatenKennzahl!D32))","v":1.42722841225627}]
[{"$f":"IF(DatenKennzahl!A33=\"\",\"\",DatenKennzahl!A33)","v":"C 14.1"},{"$f":"IF(DatenKennzahl!B33=\"\",\"\",DatenKennzahl!B33)","v":"Herstellung von Bekleidung (ohne Pelzbekleidung)"},{"$f":"IF(Zeile<>20,DatenKennzahl!C33,IF(DatenKennzahl!C33>=100,\"negativ\",DatenKennzahl!C33))","v":16.005678183508898},{"$f":"IF(Zeile<>20,DatenKennzahl!D33,IF(DatenKennzahl!D33>=100,\"negativ\",DatenKennzahl!D33))","v":1.3136531365313699}]
[{"$f":"IF(DatenKennzahl!A34=\"\",\"\",DatenKennzahl!A34)","v":"C 14.13"},{"$f":"IF(DatenKennzahl!B34=\"\",\"\",DatenKennzahl!B34)","v":"Herstellung von sonstiger Oberbekleidung"},{"$f":"IF(Zeile<>20,DatenKennzahl!C34,IF(DatenKennzahl!C34>=100,\"negativ\",DatenKennzahl!C34))","v":18.198453608247402},{"$f":"IF(Zeile<>20,DatenKennzahl!D34,IF(DatenKennzahl!D34>=100,\"negativ\",DatenKennzahl!D34))","v":1.3136531365313699}]
[{"$f":"IF(DatenKennzahl!A35=\"\",\"\",DatenKennzahl!A35)","v":"C 15"},{"$f":"IF(DatenKennzahl!B35=\"\",\"\",DatenKennzahl!B35)","v":"Herstellung von Leder, Lederwaren und Schuhen"},{"$f":"IF(Zeile<>20,DatenKennzahl!C35,IF(DatenKennzahl!C35>=100,\"negativ\",DatenKennzahl!C35))","v":9.1384615384615397},{"$f":"IF(Zeile<>20,DatenKennzahl!D35,IF(DatenKennzahl!D35>=100,\"negativ\",DatenKennzahl!D35))","v":1.1471209173324499}]
[{"$f":"IF(DatenKennzahl!A36=\"\",\"\",DatenKennzahl!A36)","v":"C 15.2"},{"$f":"IF(DatenKennzahl!B36=\"\",\"\",DatenKennzahl!B36)","v":"Herstellung von Schuhen"},{"$f":"IF(Zeile<>20,DatenKennzahl!C36,IF(DatenKennzahl!C36>=100,\"negativ\",DatenKennzahl!C36))","v":8.6923175252460698},{"$f":"IF(Zeile<>20,DatenKennzahl!D36,IF(DatenKennzahl!D36>=100,\"negativ\",DatenKennzahl!D36))","v":1.40816326530612}]
[{"$f":"IF(DatenKennzahl!A37=\"\",\"\",DatenKennzahl!A37)","v":"C 16"},{"$f":"IF(DatenKennzahl!B37=\"\",\"\",DatenKennzahl!B37)","v":"Herstellung von Holz-, Flecht-, Korb- und Korkwaren (ohne Möbel)"},{"$f":"IF(Zeile<>20,DatenKennzahl!C37,IF(DatenKennzahl!C37>=100,\"negativ\",DatenKennzahl!C37))","v":13.245598232656},{"$f":"IF(Zeile<>20,DatenKennzahl!D37,IF(DatenKennzahl!D37>=100,\"negativ\",DatenKennzahl!D37))","v":2.7563559322033901}]
[{"$f":"IF(DatenKennzahl!A38=\"\",\"\",DatenKennzahl!A38)","v":"C 16.1"},{"$f":"IF(DatenKennzahl!B38=\"\",\"\",DatenKennzahl!B38)","v":"Säge-, Hobel- und Holzimprägnierwerke"},{"$f":"IF(Zeile<>20,DatenKennzahl!C38,IF(DatenKennzahl!C38>=100,\"negativ\",DatenKennzahl!C38))","v":15.4634146341463},{"$f":"IF(Zeile<>20,DatenKennzahl!D38,IF(DatenKennzahl!D38>=100,\"negativ\",DatenKennzahl!D38))","v":3.6124999999999998}]
[{"$f":"IF(DatenKennzahl!A39=\"\",\"\",DatenKennzahl!A39)","v":"C 16.2"},{"$f":"IF(DatenKennzahl!B39=\"\",\"\",DatenKennzahl!B39)","v":"Herstellung von sonstigen Holz-, Kork-, Flecht- und Korbwaren (ohne Möbel)"},{"$f":"IF(Zeile<>20,DatenKennzahl!C39,IF(DatenKennzahl!C39>=100,\"negativ\",DatenKennzahl!C39))","v":11.431372549019599},{"$f":"IF(Zeile<>20,DatenKennzahl!D39,IF(DatenKennzahl!D39>=100,\"negativ\",DatenKennzahl!D39))","v":2.2486347574686798}]
[{"$f":"IF(DatenKennzahl!A40=\"\",\"\",DatenKennzahl!A40)","v":"C 16.23"},{"$f":"IF(DatenKennzahl!B40=\"\",\"\",DatenKennzahl!B40)","v":"Herstellung von sonstigen Konstruktionsteilen, Fertigbauteilen, Ausbauelementen und Fertigteilbauten aus Holz"},{"$f":"IF(Zeile<>20,DatenKennzahl!C40,IF(DatenKennzahl!C40>=100,\"negativ\",DatenKennzahl!C40))","v":11.422839506172799},{"$f":"IF(Zeile<>20,DatenKennzahl!D40,IF(DatenKennzahl!D40>=100,\"negativ\",DatenKennzahl!D40))","v":2.2311111111111099}]
[{"$f":"IF(DatenKennzahl!A41=\"\",\"\",DatenKennzahl!A41)","v":"C 16.23-1"},{"$f":"IF(DatenKennzahl!B41=\"\",\"\",DatenKennzahl!B41)","v":"Fertighaus- und Hallenerzeugung"},{"$f":"IF(Zeile<>20,DatenKennzahl!C41,IF(DatenKennzahl!C41>=100,\"negativ\",DatenKennzahl!C41))","v":13.0531430696541},{"$f":"IF(Zeile<>20,DatenKennzahl!D41,IF(DatenKennzahl!D41>=100,\"negativ\",DatenKennzahl!D41))","v":4.0723278202912896}]
[{"$f":"IF(DatenKennzahl!A42=\"\",\"\",DatenKennzahl!A42)","v":"C 16.23-9"},{"$f":"IF(DatenKennzahl!B42=\"\",\"\",DatenKennzahl!B42)","v":"Herstellung von sonstigen Konstruktionsteilen und Ausbauelementen aus Holz a.n.g."},{"$f":"IF(Zeile<>20,DatenKennzahl!C42,IF(DatenKennzahl!C42>=100,\"negativ\",DatenKennzahl!C42))","v":11.953125},{"$f":"IF(Zeile<>20,DatenKennzahl!D42,IF(DatenKennzahl!D42>=100,\"negativ\",DatenKennzahl!D42))","v":2.2589285714285698}]
[{"$f":"IF(DatenKennzahl!A43=\"\",\"\",DatenKennzahl!A43)","v":"C 16.24"},{"$f":"IF(DatenKennzahl!B43=\"\",\"\",DatenKennzahl!B43)","v":"Herstellung von Verpackungsmitteln, Lagerbehältern und Ladungsträgern aus Holz"},{"$f":"IF(Zeile<>20,DatenKennzahl!C43,IF(DatenKennzahl!C43>=100,\"negativ\",DatenKennzahl!C43))","v":7.4791666666666696},{"$f":"IF(Zeile<>20,DatenKennzahl!D43,IF(DatenKennzahl!D43>=100,\"negativ\",DatenKennzahl!D43))","v":0.67318435754189898}]
[{"$f":"IF(DatenKennzahl!A44=\"\",\"\",DatenKennzahl!A44)","v":"C 16.29"},{"$f":"IF(DatenKennzahl!B44=\"\",\"\",DatenKennzahl!B44)","v":"Herstellung von Holzwaren a.n.g., Kork-, Flecht- und Korbwaren (ohne Möbel)"},{"$f":"IF(Zeile<>20,DatenKennzahl!C44,IF(DatenKennzahl!C44>=100,\"negativ\",DatenKennzahl!C44))","v":16.121940495383299},{"$f":"IF(Zeile<>20,DatenKennzahl!D44,IF(DatenKennzahl!D44>=100,\"negativ\",DatenKennzahl!D44))","v":2.2620891263115799}]
[{"$f":"IF(DatenKennzahl!A45=\"\",\"\",DatenKennzahl!A45)","v":"C 17"},{"$f":"IF(DatenKennzahl!B45=\"\",\"\",DatenKennzahl!B45)","v":"Herstellung von Papier, Pappe und Waren daraus"},{"$f":"IF(Zeile<>20,DatenKennzahl!C45,IF(DatenKennzahl!C45>=100,\"negativ\",DatenKennzahl!C45))","v":5.5027027027026998},{"$f":"IF(Zeile<>20,DatenKennzahl!D45,IF(DatenKennzahl!D45>=100,\"negativ\",DatenKennzahl!D45))","v":1.7068965517241399}]
[{"$f":"IF(DatenKennzahl!A46=\"\",\"\",DatenKennzahl!A46)","v":"C 17.2"},{"$f":"IF(DatenKennzahl!B46=\"\",\"\",DatenKennzahl!B46)","v":"Herstellung von Waren aus Papier, Karton und Pappe"},{"$f":"IF(Zeile<>20,DatenKennzahl!C46,IF(DatenKennzahl!C46>=100,\"negativ\",DatenKennzahl!C46))","v":5.2550177095631598},{"$f":"IF(Zeile<>20,DatenKennzahl!D46,IF(DatenKennzahl!D46>=100,\"negativ\",DatenKennzahl!D46))","v":1.6663422230874101}]
[{"$f":"IF(DatenKennzahl!A47=\"\",\"\",DatenKennzahl!A47)","v":"C 17.21"},{"$f":"IF(DatenKennzahl!B47=\"\",\"\",DatenKennzahl!B47)","v":"Herstellung von Wellpapier und -pappe sowie von Verpackungsmitteln aus Papier, Karton und Pappe"},{"$f":"IF(Zeile<>20,DatenKennzahl!C47,IF(DatenKennzahl!C47>=100,\"negativ\",DatenKennzahl!C47))","v":5.3970588235294104},{"$f":"IF(Zeile<>20,DatenKennzahl!D47,IF(DatenKennzahl!D47>=100,\"negativ\",DatenKennzahl!D47))","v":3.2490660024906601}]
[{"$f":"IF(DatenKennzahl!A48=\"\",\"\",DatenKennzahl!A48)","v":"C 18"},{"$f":"IF(DatenKennzahl!B48=\"\",\"\",DatenKennzahl!B48)","v":"Herstellung von Druckerzeugnissen; Vervielfältigung von bespielten Ton-, Bild- und Datenträgern"},{"$f":"IF(Zeile<>20,DatenKennzahl!C48,IF(DatenKennzahl!C48>=100,\"negativ\",DatenKennzahl!C48))","v":6.9103616160822998},{"$f":"IF(Zeile<>20,DatenKennzahl!D48,IF(DatenKennzahl!D48>=100,\"negativ\",DatenKennzahl!D48))","v":1.6742494132242001}]
[{"$f":"IF(DatenKennzahl!A49=\"\",\"\",DatenKennzahl!A49)","v":"C 18.1"},{"$f":"IF(DatenKennzahl!B49=\"\",\"\",DatenKennzahl!B49)","v":"Herstellung von Druckerzeugnissen"},{"$f":"IF(Zeile<>20,DatenKennzahl!C49,IF(DatenKennzahl!C49>=100,\"negativ\",DatenKennzahl!C49))","v":6.9024844847715201},{"$f":"IF(Zeile<>20,DatenKennzahl!D49,IF(DatenKennzahl!D49>=100,\"negativ\",DatenKennzahl!D49))","v":1.57051617631662}]
[{"$f":"IF(DatenKennzahl!A50=\"\",\"\",DatenKennzahl!A50)","v":"C 18.12"},{"$f":"IF(DatenKennzahl!B50=\"\",\"\",DatenKennzahl!B50)","v":"Drucken a.n.g."},{"$f":"IF(Zeile<>20,DatenKennzahl!C50,IF(DatenKennzahl!C50>=100,\"negativ\",DatenKennzahl!C50))","v":6.9024844847715201},{"$f":"IF(Zeile<>20,DatenKennzahl!D50,IF(DatenKennzahl!D50>=100,\"negativ\",DatenKennzahl!D50))","v":1.84745762711864}]
[{"$f":"IF(DatenKennzahl!A51=\"\",\"\",DatenKennzahl!A51)","v":"C 18.13"},{"$f":"IF(DatenKennzahl!B51=\"\",\"\",DatenKennzahl!B51)","v":"Druck- und Medienvorstufe"},{"$f":"IF(Zeile<>20,DatenKennzahl!C51,IF(DatenKennzahl!C51>=100,\"negativ\",DatenKennzahl!C51))","v":5.5408163265306101},{"$f":"IF(Zeile<>20,DatenKennzahl!D51,IF(DatenKennzahl!D51>=100,\"negativ\",DatenKennzahl!D51))","v":1.0823529411764701}]
[{"$f":"IF(DatenKennzahl!A52=\"\",\"\",DatenKennzahl!A52)","v":"C 20.1"},{"$f":"IF(DatenKennzahl!B52=\"\",\"\",DatenKennzahl!B52)","v":"Herstellung von chemischen Grundstoffen, Düngemitteln und Stickstoffverbindungen, Kunststoffen in Primärformen und synthetischem Kautschuk in Primärformen"},{"$f":"IF(Zeile<>20,DatenKennzahl!C52,IF(DatenKennzahl!C52>=100,\"negativ\",DatenKennzahl!C52))","v":9.9289099526066291},{"$f":"IF(Zeile<>20,DatenKennzahl!D52,IF(DatenKennzahl!D52>=100,\"negativ\",DatenKennzahl!D52))","v":0.78789808917197501}]
[{"$f":"IF(DatenKennzahl!A53=\"\",\"\",DatenKennzahl!A53)","v":"C 20.4"},{"$f":"IF(DatenKennzahl!B53=\"\",\"\",DatenKennzahl!B53)","v":"Herstellung von Seifen, Wasch-, Reinigungs- und Körperpflegemitteln sowie von Duftstoffen"},{"$f":"IF(Zeile<>20,DatenKennzahl!C53,IF(DatenKennzahl!C53>=100,\"negativ\",DatenKennzahl!C53))","v":3.46511627906977},{"$f":"IF(Zeile<>20,DatenKennzahl!D53,IF(DatenKennzahl!D53>=100,\"negativ\",DatenKennzahl!D53))","v":1.29804332634521}]
[{"$f":"IF(DatenKennzahl!A54=\"\",\"\",DatenKennzahl!A54)","v":"C 20.5"},{"$f":"IF(DatenKennzahl!B54=\"\",\"\",DatenKennzahl!B54)","v":"Herstellung von sonstigen chemischen Erzeugnissen"},{"$f":"IF(Zeile<>20,DatenKennzahl!C54,IF(DatenKennzahl!C54>=100,\"negativ\",DatenKennzahl!C54))","v":4.4117647058823497},{"$f":"IF(Zeile<>20,DatenKennzahl!D54,IF(DatenKennzahl!D54>=100,\"negativ\",DatenKennzahl!D54))","v":0.61610878661087898}]
[{"$f":"IF(DatenKennzahl!A55=\"\",\"\",DatenKennzahl!A55)","v":"C 20.59"},{"$f":"IF(DatenKennzahl!B55=\"\",\"\",DatenKennzahl!B55)","v":"Herstellung von sonstigen chemischen Erzeugnissen a.n.g."},{"$f":"IF(Zeile<>20,DatenKennzahl!C55,IF(DatenKennzahl!C55>=100,\"negativ\",DatenKennzahl!C55))","v":4.4117647058823497},{"$f":"IF(Zeile<>20,DatenKennzahl!D55,IF(DatenKennzahl!D55>=100,\"negativ\",DatenKennzahl!D55))","v":0.388176240936977}]
[{"$f":"IF(DatenKennzahl!A56=\"\",\"\",DatenKennzahl!A56)","v":"C 21"},{"$f":"IF(DatenKennzahl!B56=\"\",\"\",DatenKennzahl!B56)","v":"Herstellung von pharmazeutischen Erzeugnissen"},{"$f":"IF(Zeile<>20,DatenKennzahl!C56,IF(DatenKennzahl!C56>=100,\"negativ\",DatenKennzahl!C56))","v":4.1058823529411796},{"$f":"IF(Zeile<>20,DatenKennzahl!D56,IF(DatenKennzahl!D56>=100,\"negativ\",DatenKennzahl!D56))","v":1.6421052631578901}]
[{"$f":"IF(DatenKennzahl!A57=\"\",\"\",DatenKennzahl!A57)","v":"C 21.2"},{"$f":"IF(DatenKennzahl!B57=\"\",\"\",DatenKennzahl!B57)","v":"Herstellung von pharmazeutischen Spezialitäten und sonstigen pharmazeutischen Erzeugnissen"},{"$f":"IF(Zeile<>20,DatenKennzahl!C57,IF(DatenKennzahl!C57>=100,\"negativ\",DatenKennzahl!C57))","v":3.53132250580046},{"$f":"IF(Zeile<>20,DatenKennzahl!D57,IF(DatenKennzahl!D57>=100,\"negativ\",DatenKennzahl!D57))","v":1.65507776761208}]
[{"$f":"IF(DatenKennzahl!A58=\"\",\"\",DatenKennzahl!A58)","v":"C 22"},{"$f":"IF(DatenKennzahl!B58=\"\",\"\",DatenKennzahl!B58)","v":"Herstellung von Gummi- und Kunststoffwaren"},{"$f":"IF(Zeile<>20,DatenKennzahl!C58,IF(DatenKennzahl!C58>=100,\"negativ\",DatenKennzahl!C58))","v":4.9785714285714304},{"$f":"IF(Zeile<>20,DatenKennzahl!D58,IF(DatenKennzahl!D58>=100,\"negativ\",DatenKennzahl!D58))","v":1.17370806890299}]
[{"$f":"IF(DatenKennzahl!A59=\"\",\"\",DatenKennzahl!A59)","v":"C 22.1"},{"$f":"IF(DatenKennzahl!B59=\"\",\"\",DatenKennzahl!B59)","v":"Herstellung von Gummiwaren"},{"$f":"IF(Zeile<>20,DatenKennzahl!C59,IF(DatenKennzahl!C59>=100,\"negativ\",DatenKennzahl!C59))","v":5.2897196261682202},{"$f":"IF(Zeile<>20,DatenKennzahl!D59,IF(DatenKennzahl!D59>=100,\"negativ\",DatenKennzahl!D59))","v":0.37931034482758602}]
[{"$f":"IF(DatenKennzahl!A60=\"\",\"\",DatenKennzahl!A60)","v":"C 22.2"},{"$f":"IF(DatenKennzahl!B60=\"\",\"\",DatenKennzahl!B60)","v":"Herstellung von Kunststoffwaren"},{"$f":"IF(Zeile<>20,DatenKennzahl!C60,IF(DatenKennzahl!C60>=100,\"negativ\",DatenKennzahl!C60))","v":4.9696969696969697},{"$f":"IF(Zeile<>20,DatenKennzahl!D60,IF(DatenKennzahl!D60>=100,\"negativ\",DatenKennzahl!D60))","v":1.1848341232227499}]
[{"$f":"IF(DatenKennzahl!A61=\"\",\"\",DatenKennzahl!A61)","v":"C 22.21"},{"$f":"IF(DatenKennzahl!B61=\"\",\"\",DatenKennzahl!B61)","v":"Herstellung von Platten, Folien, Schläuchen und Profilen aus Kunststoffen"},{"$f":"IF(Zeile<>20,DatenKennzahl!C61,IF(DatenKennzahl!C61>=100,\"negativ\",DatenKennzahl!C61))","v":9.6933100422071004},{"$f":"IF(Zeile<>20,DatenKennzahl!D61,IF(DatenKennzahl!D61>=100,\"negativ\",DatenKennzahl!D61))","v":1.9290150842945899}]
[{"$f":"IF(DatenKennzahl!A62=\"\",\"\",DatenKennzahl!A62)","v":"C 22.22"},{"$f":"IF(DatenKennzahl!B62=\"\",\"\",DatenKennzahl!B62)","v":"Herstellung von Verpackungsmitteln aus Kunststoffen"},{"$f":"IF(Zeile<>20,DatenKennzahl!C62,IF(DatenKennzahl!C62>=100,\"negativ\",DatenKennzahl!C62))","v":4.0802980774625004},{"$f":"IF(Zeile<>20,DatenKennzahl!D62,IF(DatenKennzahl!D62>=100,\"negativ\",DatenKennzahl!D62))","v":1.20305882352941}]
[{"$f":"IF(DatenKennzahl!A63=\"\",\"\",DatenKennzahl!A63)","v":"C 22.23"},{"$f":"IF(DatenKennzahl!B63=\"\",\"\",DatenKennzahl!B63)","v":"Herstellung von Baubedarfsartikeln aus Kunststoffen"},{"$f":"IF(Zeile<>20,DatenKennzahl!C63,IF(DatenKennzahl!C63>=100,\"negativ\",DatenKennzahl!C63))","v":4.1909547738693496},{"$f":"IF(Zeile<>20,DatenKennzahl!D63,IF(DatenKennzahl!D63>=100,\"negativ\",DatenKennzahl!D63))","v":1.61984021304927}]
[{"$f":"IF(DatenKennzahl!A64=\"\",\"\",DatenKennzahl!A64)","v":"C 22.23-1"},{"$f":"IF(DatenKennzahl!B64=\"\",\"\",DatenKennzahl!B64)","v":"Herstellung von Türen, Fenstern, Rahmen, Rollläden und Jalousien aus Kunststoffen"},{"$f":"IF(Zeile<>20,DatenKennzahl!C64,IF(DatenKennzahl!C64>=100,\"negativ\",DatenKennzahl!C64))","v":3.5689310087053001},{"$f":"IF(Zeile<>20,DatenKennzahl!D64,IF(DatenKennzahl!D64>=100,\"negativ\",DatenKennzahl!D64))","v":1.7254901960784299}]
[{"$f":"IF(DatenKennzahl!A65=\"\",\"\",DatenKennzahl!A65)","v":"C 22.29"},{"$f":"IF(DatenKennzahl!B65=\"\",\"\",DatenKennzahl!B65)","v":"Herstellung von sonstigen Kunststoffwaren"},{"$f":"IF(Zeile<>20,DatenKennzahl!C65,IF(DatenKennzahl!C65>=100,\"negativ\",DatenKennzahl!C65))","v":4.59375},{"$f":"IF(Zeile<>20,DatenKennzahl!D65,IF(DatenKennzahl!D65>=100,\"negativ\",DatenKennzahl!D65))","v":0.76761268104932601}]
[{"$f":"IF(DatenKennzahl!A66=\"\",\"\",DatenKennzahl!A66)","v":"C 22.29-1"},{"$f":"IF(DatenKennzahl!B66=\"\",\"\",DatenKennzahl!B66)","v":"Herstellung von technischen Kunststoffteilen"},{"$f":"IF(Zeile<>20,DatenKennzahl!C66,IF(DatenKennzahl!C66>=100,\"negativ\",DatenKennzahl!C66))","v":4.3522458628841596},{"$f":"IF(Zeile<>20,DatenKennzahl!D66,IF(DatenKennzahl!D66>=100,\"negativ\",DatenKennzahl!D66))","v":0.54016620498614998}]
[{"$f":"IF(DatenKennzahl!A67=\"\",\"\",DatenKennzahl!A67)","v":"C 22.29-9"},{"$f":"IF(DatenKennzahl!B67=\"\",\"\",DatenKennzahl!B67)","v":"Herstellung von sonstigen Kunststoffwaren a.n.g."},{"$f":"IF(Zeile<>20,DatenKennzahl!C67,IF(DatenKennzahl!C67>=100,\"negativ\",DatenKennzahl!C67))","v":4.6016127483920499},{"$f":"IF(Zeile<>20,DatenKennzahl!D67,IF(DatenKennzahl!D67>=100,\"negativ\",DatenKennzahl!D67))","v":0.71034482758620698}]
[{"$f":"IF(DatenKennzahl!A68=\"\",\"\",DatenKennzahl!A68)","v":"C 23.1"},{"$f":"IF(DatenKennzahl!B68=\"\",\"\",DatenKennzahl!B68)","v":"Herstellung von Glas und Glaswaren"},{"$f":"IF(Zeile<>20,DatenKennzahl!C68,IF(DatenKennzahl!C68>=100,\"negativ\",DatenKennzahl!C68))","v":4.6557777266093199},{"$f":"IF(Zeile<>20,DatenKennzahl!D68,IF(DatenKennzahl!D68>=100,\"negativ\",DatenKennzahl!D68))","v":0.94104938271604899}]
[{"$f":"IF(DatenKennzahl!A69=\"\",\"\",DatenKennzahl!A69)","v":"C 23.6"},{"$f":"IF(DatenKennzahl!B69=\"\",\"\",DatenKennzahl!B69)","v":"Herstellung von Erzeugnissen aus Beton, Zement und Gips"},{"$f":"IF(Zeile<>20,DatenKennzahl!C69,IF(DatenKennzahl!C69>=100,\"negativ\",DatenKennzahl!C69))","v":6.5535714285714297},{"$f":"IF(Zeile<>20,DatenKennzahl!D69,IF(DatenKennzahl!D69>=100,\"negativ\",DatenKennzahl!D69))","v":2.23441860465116}]
[{"$f":"IF(DatenKennzahl!A70=\"\",\"\",DatenKennzahl!A70)","v":"C 23.61"},{"$f":"IF(DatenKennzahl!B70=\"\",\"\",DatenKennzahl!B70)","v":"Herstellung von Erzeugnissen aus Beton, Zement und Kalksandstein für den Bau"},{"$f":"IF(Zeile<>20,DatenKennzahl!C70,IF(DatenKennzahl!C70>=100,\"negativ\",DatenKennzahl!C70))","v":7.46717857781971},{"$f":"IF(Zeile<>20,DatenKennzahl!D70,IF(DatenKennzahl!D70>=100,\"negativ\",DatenKennzahl!D70))","v":2.8905547226386799}]
[{"$f":"IF(DatenKennzahl!A71=\"\",\"\",DatenKennzahl!A71)","v":"C 23.63"},{"$f":"IF(DatenKennzahl!B71=\"\",\"\",DatenKennzahl!B71)","v":"Herstellung von Frischbeton (Transportbeton)"},{"$f":"IF(Zeile<>20,DatenKennzahl!C71,IF(DatenKennzahl!C71>=100,\"negativ\",DatenKennzahl!C71))","v":5.84182305630027},{"$f":"IF(Zeile<>20,DatenKennzahl!D71,IF(DatenKennzahl!D71>=100,\"negativ\",DatenKennzahl!D71))","v":1.9932885906040301}]
[{"$f":"IF(DatenKennzahl!A72=\"\",\"\",DatenKennzahl!A72)","v":"C 23.7"},{"$f":"IF(DatenKennzahl!B72=\"\",\"\",DatenKennzahl!B72)","v":"Be- und Verarbeitung von Naturwerksteinen und Natursteinen a.n.g."},{"$f":"IF(Zeile<>20,DatenKennzahl!C72,IF(DatenKennzahl!C72>=100,\"negativ\",DatenKennzahl!C72))","v":7.8188389761746704},{"$f":"IF(Zeile<>20,DatenKennzahl!D72,IF(DatenKennzahl!D72>=100,\"negativ\",DatenKennzahl!D72))","v":2.1781257360581301}]
[{"$f":"IF(DatenKennzahl!A73=\"\",\"\",DatenKennzahl!A73)","v":"C 23.9"},{"$f":"IF(DatenKennzahl!B73=\"\",\"\",DatenKennzahl!B73)","v":"Herstellung von Schleifkörpern und Schleifmitteln auf Unterlage sowie sonstigen Erzeugnissen aus nicht metallischen Mineralien"},{"$f":"IF(Zeile<>20,DatenKennzahl!C73,IF(DatenKennzahl!C73>=100,\"negativ\",DatenKennzahl!C73))","v":2.99045346062052},{"$f":"IF(Zeile<>20,DatenKennzahl!D73,IF(DatenKennzahl!D73>=100,\"negativ\",DatenKennzahl!D73))","v":1.6478109082978001}]
[{"$f":"IF(DatenKennzahl!A74=\"\",\"\",DatenKennzahl!A74)","v":"C 23.99"},{"$f":"IF(DatenKennzahl!B74=\"\",\"\",DatenKennzahl!B74)","v":"Herstellung von sonstigen Erzeugnissen aus nicht metallischen Mineralien a.n.g."},{"$f":"IF(Zeile<>20,DatenKennzahl!C74,IF(DatenKennzahl!C74>=100,\"negativ\",DatenKennzahl!C74))","v":3.13024282560706},{"$f":"IF(Zeile<>20,DatenKennzahl!D74,IF(DatenKennzahl!D74>=100,\"negativ\",DatenKennzahl!D74))","v":1.6214042934105599}]
[{"$f":"IF(DatenKennzahl!A75=\"\",\"\",DatenKennzahl!A75)","v":"C 24.4"},{"$f":"IF(DatenKennzahl!B75=\"\",\"\",DatenKennzahl!B75)","v":"Erzeugung und erste Bearbeitung von NE-Metallen"},{"$f":"IF(Zeile<>20,DatenKennzahl!C75,IF(DatenKennzahl!C75>=100,\"negativ\",DatenKennzahl!C75))","v":4.8333934367111402},{"$f":"IF(Zeile<>20,DatenKennzahl!D75,IF(DatenKennzahl!D75>=100,\"negativ\",DatenKennzahl!D75))","v":0.77643908969210196}]
[{"$f":"IF(DatenKennzahl!A76=\"\",\"\",DatenKennzahl!A76)","v":"C 24.5"},{"$f":"IF(DatenKennzahl!B76=\"\",\"\",DatenKennzahl!B76)","v":"Gießereien"},{"$f":"IF(Zeile<>20,DatenKennzahl!C76,IF(DatenKennzahl!C76>=100,\"negativ\",DatenKennzahl!C76))","v":10.094339622641501},{"$f":"IF(Zeile<>20,DatenKennzahl!D76,IF(DatenKennzahl!D76>=100,\"negativ\",DatenKennzahl!D76))","v":2.5110282752469999}]
[{"$f":"IF(DatenKennzahl!A77=\"\",\"\",DatenKennzahl!A77)","v":"C 25.1"},{"$f":"IF(DatenKennzahl!B77=\"\",\"\",DatenKennzahl!B77)","v":"Stahl- und Leichtmetallbau"},{"$f":"IF(Zeile<>20,DatenKennzahl!C77,IF(DatenKennzahl!C77>=100,\"negativ\",DatenKennzahl!C77))","v":6.97938144329897},{"$f":"IF(Zeile<>20,DatenKennzahl!D77,IF(DatenKennzahl!D77>=100,\"negativ\",DatenKennzahl!D77))","v":1.4621212121212099}]
[{"$f":"IF(DatenKennzahl!A78=\"\",\"\",DatenKennzahl!A78)","v":"C 25.11"},{"$f":"IF(DatenKennzahl!B78=\"\",\"\",DatenKennzahl!B78)","v":"Herstellung von Metallkonstruktionen"},{"$f":"IF(Zeile<>20,DatenKennzahl!C78,IF(DatenKennzahl!C78>=100,\"negativ\",DatenKennzahl!C78))","v":6.6377570570954099},{"$f":"IF(Zeile<>20,DatenKennzahl!D78,IF(DatenKennzahl!D78>=100,\"negativ\",DatenKennzahl!D78))","v":1.4167217448777301}]
[{"$f":"IF(DatenKennzahl!A79=\"\",\"\",DatenKennzahl!A79)","v":"C 25.12"},{"$f":"IF(DatenKennzahl!B79=\"\",\"\",DatenKennzahl!B79)","v":"Herstellung von Ausbauelementen aus Metall"},{"$f":"IF(Zeile<>20,DatenKennzahl!C79,IF(DatenKennzahl!C79>=100,\"negativ\",DatenKennzahl!C79))","v":12.4},{"$f":"IF(Zeile<>20,DatenKennzahl!D79,IF(DatenKennzahl!D79>=100,\"negativ\",DatenKennzahl!D79))","v":1.7265861027190299}]
[{"$f":"IF(DatenKennzahl!A80=\"\",\"\",DatenKennzahl!A80)","v":"C 25.12-1"},{"$f":"IF(DatenKennzahl!B80=\"\",\"\",DatenKennzahl!B80)","v":"Herstellung von Ausbauelementen aus Stahl "},{"$f":"IF(Zeile<>20,DatenKennzahl!C80,IF(DatenKennzahl!C80>=100,\"negativ\",DatenKennzahl!C80))","v":15.284826117668899},{"$f":"IF(Zeile<>20,DatenKennzahl!D80,IF(DatenKennzahl!D80>=100,\"negativ\",DatenKennzahl!D80))","v":2.1807339752770898}]
[{"$f":"IF(DatenKennzahl!A81=\"\",\"\",DatenKennzahl!A81)","v":"C 25.12-2"},{"$f":"IF(DatenKennzahl!B81=\"\",\"\",DatenKennzahl!B81)","v":"Herstellung von Ausbauelementen aus Leichtmetall"},{"$f":"IF(Zeile<>20,DatenKennzahl!C81,IF(DatenKennzahl!C81>=100,\"negativ\",DatenKennzahl!C81))","v":8.28712871287129},{"$f":"IF(Zeile<>20,DatenKennzahl!D81,IF(DatenKennzahl!D81>=100,\"negativ\",DatenKennzahl!D81))","v":0.473999572009416}]
[{"$f":"IF(DatenKennzahl!A82=\"\",\"\",DatenKennzahl!A82)","v":"C 25.2"},{"$f":"IF(DatenKennzahl!B82=\"\",\"\",DatenKennzahl!B82)","v":"Herstellung von Metalltanks und -behältern; Herstellung von Heizkörpern und -kesseln für Zentralheizungen"},{"$f":"IF(Zeile<>20,DatenKennzahl!C82,IF(DatenKennzahl!C82>=100,\"negativ\",DatenKennzahl!C82))","v":5.8256949661908299},{"$f":"IF(Zeile<>20,DatenKennzahl!D82,IF(DatenKennzahl!D82>=100,\"negativ\",DatenKennzahl!D82))","v":0.67679558011049701}]
[{"$f":"IF(DatenKennzahl!A83=\"\",\"\",DatenKennzahl!A83)","v":"C 25.5"},{"$f":"IF(DatenKennzahl!B83=\"\",\"\",DatenKennzahl!B83)","v":"Herstellung von Schmiede-, Press-, Zieh- und Stanzteilen, gewalzten Ringen und pulvermetallurgischen Erzeugnissen"},{"$f":"IF(Zeile<>20,DatenKennzahl!C83,IF(DatenKennzahl!C83>=100,\"negativ\",DatenKennzahl!C83))","v":8.0728530728530696},{"$f":"IF(Zeile<>20,DatenKennzahl!D83,IF(DatenKennzahl!D83>=100,\"negativ\",DatenKennzahl!D83))","v":1.2266666666666699}]
[{"$f":"IF(DatenKennzahl!A84=\"\",\"\",DatenKennzahl!A84)","v":"C 25.6"},{"$f":"IF(DatenKennzahl!B84=\"\",\"\",DatenKennzahl!B84)","v":"Oberflächenveredlung und Wärmebehandlung; Mechanik a.n.g."},{"$f":"IF(Zeile<>20,DatenKennzahl!C84,IF(DatenKennzahl!C84>=100,\"negativ\",DatenKennzahl!C84))","v":4.3305306241329404},{"$f":"IF(Zeile<>20,DatenKennzahl!D84,IF(DatenKennzahl!D84>=100,\"negativ\",DatenKennzahl!D84))","v":0.90697674418604601}]
[{"$f":"IF(DatenKennzahl!A85=\"\",\"\",DatenKennzahl!A85)","v":"C 25.61"},{"$f":"IF(DatenKennzahl!B85=\"\",\"\",DatenKennzahl!B85)","v":"Oberflächenveredlung und Wärmebehandlung"},{"$f":"IF(Zeile<>20,DatenKennzahl!C85,IF(DatenKennzahl!C85>=100,\"negativ\",DatenKennzahl!C85))","v":5.2056555269922899},{"$f":"IF(Zeile<>20,DatenKennzahl!D85,IF(DatenKennzahl!D85>=100,\"negativ\",DatenKennzahl!D85))","v":1.1884057971014499}]
[{"$f":"IF(DatenKennzahl!A86=\"\",\"\",DatenKennzahl!A86)","v":"C 25.62"},{"$f":"IF(DatenKennzahl!B86=\"\",\"\",DatenKennzahl!B86)","v":"Mechanik a.n.g."},{"$f":"IF(Zeile<>20,DatenKennzahl!C86,IF(DatenKennzahl!C86>=100,\"negativ\",DatenKennzahl!C86))","v":3.9625425652667401},{"$f":"IF(Zeile<>20,DatenKennzahl!D86,IF(DatenKennzahl!D86>=100,\"negativ\",DatenKennzahl!D86))","v":0.88602941176470595}]
[{"$f":"IF(DatenKennzahl!A87=\"\",\"\",DatenKennzahl!A87)","v":"C 25.7"},{"$f":"IF(DatenKennzahl!B87=\"\",\"\",DatenKennzahl!B87)","v":"Herstellung von Schneidwaren, Werkzeugen, Schlössern und Beschlägen aus unedlen Metallen"},{"$f":"IF(Zeile<>20,DatenKennzahl!C87,IF(DatenKennzahl!C87>=100,\"negativ\",DatenKennzahl!C87))","v":4.2636363636363601},{"$f":"IF(Zeile<>20,DatenKennzahl!D87,IF(DatenKennzahl!D87>=100,\"negativ\",DatenKennzahl!D87))","v":1.24285714285714}]
[{"$f":"IF(DatenKennzahl!A88=\"\",\"\",DatenKennzahl!A88)","v":"C 25.72"},{"$f":"IF(DatenKennzahl!B88=\"\",\"\",DatenKennzahl!B88)","v":"Herstellung von Schlössern und Beschlägen aus unedlen Metallen"},{"$f":"IF(Zeile<>20,DatenKennzahl!C88,IF(DatenKennzahl!C88>=100,\"negativ\",DatenKennzahl!C88))","v":6.2395261032978704},{"$f":"IF(Zeile<>20,DatenKennzahl!D88,IF(DatenKennzahl!D88>=100,\"negativ\",DatenKennzahl!D88))","v":1.3874892287020399}]
[{"$f":"IF(DatenKennzahl!A89=\"\",\"\",DatenKennzahl!A89)","v":"C 25.72-1"},{"$f":"IF(DatenKennzahl!B89=\"\",\"\",DatenKennzahl!B89)","v":"Herstellung von Schlössern aus unedlen Metallen"},{"$f":"IF(Zeile<>20,DatenKennzahl!C89,IF(DatenKennzahl!C89>=100,\"negativ\",DatenKennzahl!C89))","v":5.3034019157767398},{"$f":"IF(Zeile<>20,DatenKennzahl!D89,IF(DatenKennzahl!D89>=100,\"negativ\",DatenKennzahl!D89))","v":1.0859084654053901}]
[{"$f":"IF(DatenKennzahl!A90=\"\",\"\",DatenKennzahl!A90)","v":"C 25.73"},{"$f":"IF(DatenKennzahl!B90=\"\",\"\",DatenKennzahl!B90)","v":"Herstellung von Werkzeugen"},{"$f":"IF(Zeile<>20,DatenKennzahl!C90,IF(DatenKennzahl!C90>=100,\"negativ\",DatenKennzahl!C90))","v":3.8336636611488002},{"$f":"IF(Zeile<>20,DatenKennzahl!D90,IF(DatenKennzahl!D90>=100,\"negativ\",DatenKennzahl!D90))","v":1.0335243889929899}]
[{"$f":"IF(DatenKennzahl!A91=\"\",\"\",DatenKennzahl!A91)","v":"C 25.73-9"},{"$f":"IF(DatenKennzahl!B91=\"\",\"\",DatenKennzahl!B91)","v":"Herstellung von sonstigen Werkzeugen"},{"$f":"IF(Zeile<>20,DatenKennzahl!C91,IF(DatenKennzahl!C91>=100,\"negativ\",DatenKennzahl!C91))","v":3.1400363577431101},{"$f":"IF(Zeile<>20,DatenKennzahl!D91,IF(DatenKennzahl!D91>=100,\"negativ\",DatenKennzahl!D91))","v":0.78333333333333299}]
[{"$f":"IF(DatenKennzahl!A92=\"\",\"\",DatenKennzahl!A92)","v":"C 25.9"},{"$f":"IF(DatenKennzahl!B92=\"\",\"\",DatenKennzahl!B92)","v":"Herstellung von sonstigen Metallwaren"},{"$f":"IF(Zeile<>20,DatenKennzahl!C92,IF(DatenKennzahl!C92>=100,\"negativ\",DatenKennzahl!C92))","v":6.3733333333333304},{"$f":"IF(Zeile<>20,DatenKennzahl!D92,IF(DatenKennzahl!D92>=100,\"negativ\",DatenKennzahl!D92))","v":1.26470588235294}]
[{"$f":"IF(DatenKennzahl!A93=\"\",\"\",DatenKennzahl!A93)","v":"C 25.99"},{"$f":"IF(DatenKennzahl!B93=\"\",\"\",DatenKennzahl!B93)","v":"Herstellung von sonstigen Metallwaren a.n.g."},{"$f":"IF(Zeile<>20,DatenKennzahl!C93,IF(DatenKennzahl!C93>=100,\"negativ\",DatenKennzahl!C93))","v":6.39416058394161},{"$f":"IF(Zeile<>20,DatenKennzahl!D93,IF(DatenKennzahl!D93>=100,\"negativ\",DatenKennzahl!D93))","v":1.2258064516128999}]
[{"$f":"IF(DatenKennzahl!A94=\"\",\"\",DatenKennzahl!A94)","v":"C 26.1"},{"$f":"IF(DatenKennzahl!B94=\"\",\"\",DatenKennzahl!B94)","v":"Herstellung von elektronischen Bauelementen und Leiterplatten"},{"$f":"IF(Zeile<>20,DatenKennzahl!C94,IF(DatenKennzahl!C94>=100,\"negativ\",DatenKennzahl!C94))","v":6.65},{"$f":"IF(Zeile<>20,DatenKennzahl!D94,IF(DatenKennzahl!D94>=100,\"negativ\",DatenKennzahl!D94))","v":0.47029702970296999}]
[{"$f":"IF(DatenKennzahl!A95=\"\",\"\",DatenKennzahl!A95)","v":"C 26.11"},{"$f":"IF(DatenKennzahl!B95=\"\",\"\",DatenKennzahl!B95)","v":"Herstellung von elektronischen Bauelementen"},{"$f":"IF(Zeile<>20,DatenKennzahl!C95,IF(DatenKennzahl!C95>=100,\"negativ\",DatenKennzahl!C95))","v":6.65},{"$f":"IF(Zeile<>20,DatenKennzahl!D95,IF(DatenKennzahl!D95>=100,\"negativ\",DatenKennzahl!D95))","v":0.42276355845112501}]
[{"$f":"IF(DatenKennzahl!A96=\"\",\"\",DatenKennzahl!A96)","v":"C 26.3"},{"$f":"IF(DatenKennzahl!B96=\"\",\"\",DatenKennzahl!B96)","v":"Herstellung von Geräten und Einrichtungen der Telekommunikationstechnik"},{"$f":"IF(Zeile<>20,DatenKennzahl!C96,IF(DatenKennzahl!C96>=100,\"negativ\",DatenKennzahl!C96))","v":3.9108330074305799},{"$f":"IF(Zeile<>20,DatenKennzahl!D96,IF(DatenKennzahl!D96>=100,\"negativ\",DatenKennzahl!D96))","v":0.92485160335637095}]
[{"$f":"IF(DatenKennzahl!A97=\"\",\"\",DatenKennzahl!A97)","v":"C 26.5"},{"$f":"IF(DatenKennzahl!B97=\"\",\"\",DatenKennzahl!B97)","v":"Herstellung von Mess-, Kontroll-, Navigations- u. ä. Instrumenten und Vorrichtungen; Herstellung von Uhren"},{"$f":"IF(Zeile<>20,DatenKennzahl!C97,IF(DatenKennzahl!C97>=100,\"negativ\",DatenKennzahl!C97))","v":5.3669684736077397},{"$f":"IF(Zeile<>20,DatenKennzahl!D97,IF(DatenKennzahl!D97>=100,\"negativ\",DatenKennzahl!D97))","v":0.38744257274119398}]
[{"$f":"IF(DatenKennzahl!A98=\"\",\"\",DatenKennzahl!A98)","v":"C 26.51"},{"$f":"IF(DatenKennzahl!B98=\"\",\"\",DatenKennzahl!B98)","v":"Herstellung von Mess-, Kontroll-, Navigations- u.ä. Instrumenten und -vorrichtungen"},{"$f":"IF(Zeile<>20,DatenKennzahl!C98,IF(DatenKennzahl!C98>=100,\"negativ\",DatenKennzahl!C98))","v":4.8803418803418799},{"$f":"IF(Zeile<>20,DatenKennzahl!D98,IF(DatenKennzahl!D98>=100,\"negativ\",DatenKennzahl!D98))","v":0.38744257274119398}]
[{"$f":"IF(DatenKennzahl!A99=\"\",\"\",DatenKennzahl!A99)","v":"C 27"},{"$f":"IF(DatenKennzahl!B99=\"\",\"\",DatenKennzahl!B99)","v":"Herstellung von elektrischen Ausrüstungen"},{"$f":"IF(Zeile<>20,DatenKennzahl!C99,IF(DatenKennzahl!C99>=100,\"negativ\",DatenKennzahl!C99))","v":4.3658536585365901},{"$f":"IF(Zeile<>20,DatenKennzahl!D99,IF(DatenKennzahl!D99>=100,\"negativ\",DatenKennzahl!D99))","v":0.86549707602339199}]
[{"$f":"IF(DatenKennzahl!A100=\"\",\"\",DatenKennzahl!A100)","v":"C 27.1"},{"$f":"IF(DatenKennzahl!B100=\"\",\"\",DatenKennzahl!B100)","v":"Herstellung von Elektromotoren, Generatoren, Transformatoren, Elektrizitätsverteilungs- und -schalteinrichtungen"},{"$f":"IF(Zeile<>20,DatenKennzahl!C100,IF(DatenKennzahl!C100>=100,\"negativ\",DatenKennzahl!C100))","v":3.4807692307692299},{"$f":"IF(Zeile<>20,DatenKennzahl!D100,IF(DatenKennzahl!D100>=100,\"negativ\",DatenKennzahl!D100))","v":0.64473684210526305}]
[{"$f":"IF(DatenKennzahl!A101=\"\",\"\",DatenKennzahl!A101)","v":"C 27.11"},{"$f":"IF(DatenKennzahl!B101=\"\",\"\",DatenKennzahl!B101)","v":"Herstellung von Elektromotoren, Generatoren und Transformatoren"},{"$f":"IF(Zeile<>20,DatenKennzahl!C101,IF(DatenKennzahl!C101>=100,\"negativ\",DatenKennzahl!C101))","v":2.0172413793103399},{"$f":"IF(Zeile<>20,DatenKennzahl!D101,IF(DatenKennzahl!D101>=100,\"negativ\",DatenKennzahl!D101))","v":1.0967741935483899}]
[{"$f":"IF(DatenKennzahl!A102=\"\",\"\",DatenKennzahl!A102)","v":"C 27.12"},{"$f":"IF(DatenKennzahl!B102=\"\",\"\",DatenKennzahl!B102)","v":"Herstellung von Elektrizitätsverteilungs- und  -schalteinrichtungen"},{"$f":"IF(Zeile<>20,DatenKennzahl!C102,IF(DatenKennzahl!C102>=100,\"negativ\",DatenKennzahl!C102))","v":5.7346938775510203},{"$f":"IF(Zeile<>20,DatenKennzahl!D102,IF(DatenKennzahl!D102>=100,\"negativ\",DatenKennzahl!D102))","v":0.43289606458123098}]
[{"$f":"IF(DatenKennzahl!A103=\"\",\"\",DatenKennzahl!A103)","v":"C 27.4"},{"$f":"IF(DatenKennzahl!B103=\"\",\"\",DatenKennzahl!B103)","v":"Herstellung von elektrischen Lampen und Leuchten"},{"$f":"IF(Zeile<>20,DatenKennzahl!C103,IF(DatenKennzahl!C103>=100,\"negativ\",DatenKennzahl!C103))","v":4.9352380952381001},{"$f":"IF(Zeile<>20,DatenKennzahl!D103,IF(DatenKennzahl!D103>=100,\"negativ\",DatenKennzahl!D103))","v":0.545030020013342}]
[{"$f":"IF(DatenKennzahl!A104=\"\",\"\",DatenKennzahl!A104)","v":"C 27.9"},{"$f":"IF(DatenKennzahl!B104=\"\",\"\",DatenKennzahl!B104)","v":"Herstellung von sonstigen elektrischen Ausrüstungen und Geräten a.n.g."},{"$f":"IF(Zeile<>20,DatenKennzahl!C104,IF(DatenKennzahl!C104>=100,\"negativ\",DatenKennzahl!C104))","v":4.5904255319148897},{"$f":"IF(Zeile<>20,DatenKennzahl!D104,IF(DatenKennzahl!D104>=100,\"negativ\",DatenKennzahl!D104))","v":0.840425531914894}]
[{"$f":"IF(DatenKennzahl!A105=\"\",\"\",DatenKennzahl!A105)","v":"C 28"},{"$f":"IF(DatenKennzahl!B105=\"\",\"\",DatenKennzahl!B105)","v":"Maschinenbau"},{"$f":"IF(Zeile<>20,DatenKennzahl!C105,IF(DatenKennzahl!C105>=100,\"negativ\",DatenKennzahl!C105))","v":5.3394160583941597},{"$f":"IF(Zeile<>20,DatenKennzahl!D105,IF(DatenKennzahl!D105>=100,\"negativ\",DatenKennzahl!D105))","v":1.18954248366013}]
[{"$f":"IF(DatenKennzahl!A106=\"\",\"\",DatenKennzahl!A106)","v":"C 28.1"},{"$f":"IF(DatenKennzahl!B106=\"\",\"\",DatenKennzahl!B106)","v":"Herstellung von nicht wirtschaftszweigspezifischen Maschinen"},{"$f":"IF(Zeile<>20,DatenKennzahl!C106,IF(DatenKennzahl!C106>=100,\"negativ\",DatenKennzahl!C106))","v":4.8624338624338597},{"$f":"IF(Zeile<>20,DatenKennzahl!D106,IF(DatenKennzahl!D106>=100,\"negativ\",DatenKennzahl!D106))","v":1.9282516359537001}]
[{"$f":"IF(DatenKennzahl!A107=\"\",\"\",DatenKennzahl!A107)","v":"C 28.12"},{"$f":"IF(DatenKennzahl!B107=\"\",\"\",DatenKennzahl!B107)","v":"Herstellung von hydraulischen und pneumatischen Komponenten und Systemen"},{"$f":"IF(Zeile<>20,DatenKennzahl!C107,IF(DatenKennzahl!C107>=100,\"negativ\",DatenKennzahl!C107))","v":6.0749811605124302},{"$f":"IF(Zeile<>20,DatenKennzahl!D107,IF(DatenKennzahl!D107>=100,\"negativ\",DatenKennzahl!D107))","v":1.8911564625850299}]
[{"$f":"IF(DatenKennzahl!A108=\"\",\"\",DatenKennzahl!A108)","v":"C 28.2"},{"$f":"IF(DatenKennzahl!B108=\"\",\"\",DatenKennzahl!B108)","v":"Herstellung von sonstigen nicht wirtschaftszweigspezifischen Maschinen"},{"$f":"IF(Zeile<>20,DatenKennzahl!C108,IF(DatenKennzahl!C108>=100,\"negativ\",DatenKennzahl!C108))","v":5.2268907563025202},{"$f":"IF(Zeile<>20,DatenKennzahl!D108,IF(DatenKennzahl!D108>=100,\"negativ\",DatenKennzahl!D108))","v":1.10659898477157}]
[{"$f":"IF(DatenKennzahl!A109=\"\",\"\",DatenKennzahl!A109)","v":"C 28.21"},{"$f":"IF(DatenKennzahl!B109=\"\",\"\",DatenKennzahl!B109)","v":"Herstellung von Öfen und Brennern"},{"$f":"IF(Zeile<>20,DatenKennzahl!C109,IF(DatenKennzahl!C109>=100,\"negativ\",DatenKennzahl!C109))","v":11.975206611570201},{"$f":"IF(Zeile<>20,DatenKennzahl!D109,IF(DatenKennzahl!D109>=100,\"negativ\",DatenKennzahl!D109))","v":1.3092580433355201}]
[{"$f":"IF(DatenKennzahl!A110=\"\",\"\",DatenKennzahl!A110)","v":"C 28.22"},{"$f":"IF(DatenKennzahl!B110=\"\",\"\",DatenKennzahl!B110)","v":"Herstellung von Hebezeugen und Fördermitteln"},{"$f":"IF(Zeile<>20,DatenKennzahl!C110,IF(DatenKennzahl!C110>=100,\"negativ\",DatenKennzahl!C110))","v":3.6253547776726598},{"$f":"IF(Zeile<>20,DatenKennzahl!D110,IF(DatenKennzahl!D110>=100,\"negativ\",DatenKennzahl!D110))","v":0.88418859283333595}]
[{"$f":"IF(DatenKennzahl!A111=\"\",\"\",DatenKennzahl!A111)","v":"C 28.25"},{"$f":"IF(DatenKennzahl!B111=\"\",\"\",DatenKennzahl!B111)","v":"Herstellung von kälte- und lufttechnischen Erzeugnissen, nicht für den Haushalt"},{"$f":"IF(Zeile<>20,DatenKennzahl!C111,IF(DatenKennzahl!C111>=100,\"negativ\",DatenKennzahl!C111))","v":4.5076923076923103},{"$f":"IF(Zeile<>20,DatenKennzahl!D111,IF(DatenKennzahl!D111>=100,\"negativ\",DatenKennzahl!D111))","v":0.62963618833992496}]
[{"$f":"IF(DatenKennzahl!A112=\"\",\"\",DatenKennzahl!A112)","v":"C 28.29"},{"$f":"IF(DatenKennzahl!B112=\"\",\"\",DatenKennzahl!B112)","v":"Herstellung von sonstigen nicht wirtschaftszweigspezifischen Maschinen a.n.g."},{"$f":"IF(Zeile<>20,DatenKennzahl!C112,IF(DatenKennzahl!C112>=100,\"negativ\",DatenKennzahl!C112))","v":4.58},{"$f":"IF(Zeile<>20,DatenKennzahl!D112,IF(DatenKennzahl!D112>=100,\"negativ\",DatenKennzahl!D112))","v":1.10659898477157}]
[{"$f":"IF(DatenKennzahl!A113=\"\",\"\",DatenKennzahl!A113)","v":"C 28.3"},{"$f":"IF(DatenKennzahl!B113=\"\",\"\",DatenKennzahl!B113)","v":"Herstellung von land- und forstwirtschaftlichen Maschinen"},{"$f":"IF(Zeile<>20,DatenKennzahl!C113,IF(DatenKennzahl!C113>=100,\"negativ\",DatenKennzahl!C113))","v":5.7237790232185803},{"$f":"IF(Zeile<>20,DatenKennzahl!D113,IF(DatenKennzahl!D113>=100,\"negativ\",DatenKennzahl!D113))","v":1.3523986066822899}]
[{"$f":"IF(DatenKennzahl!A114=\"\",\"\",DatenKennzahl!A114)","v":"C 28.4"},{"$f":"IF(DatenKennzahl!B114=\"\",\"\",DatenKennzahl!B114)","v":"Herstellung von Werkzeugmaschinen"},{"$f":"IF(Zeile<>20,DatenKennzahl!C114,IF(DatenKennzahl!C114>=100,\"negativ\",DatenKennzahl!C114))","v":5.8568872987477603},{"$f":"IF(Zeile<>20,DatenKennzahl!D114,IF(DatenKennzahl!D114>=100,\"negativ\",DatenKennzahl!D114))","v":1.2437275985663101}]
[{"$f":"IF(DatenKennzahl!A115=\"\",\"\",DatenKennzahl!A115)","v":"C 28.41"},{"$f":"IF(DatenKennzahl!B115=\"\",\"\",DatenKennzahl!B115)","v":"Herstellung von Werkzeugmaschinen für die Metallbearbeitung"},{"$f":"IF(Zeile<>20,DatenKennzahl!C115,IF(DatenKennzahl!C115>=100,\"negativ\",DatenKennzahl!C115))","v":4.5199652777777803},{"$f":"IF(Zeile<>20,DatenKennzahl!D115,IF(DatenKennzahl!D115>=100,\"negativ\",DatenKennzahl!D115))","v":1.15710526315789}]
[{"$f":"IF(DatenKennzahl!A116=\"\",\"\",DatenKennzahl!A116)","v":"C 28.9"},{"$f":"IF(DatenKennzahl!B116=\"\",\"\",DatenKennzahl!B116)","v":"Herstellung von Maschinen für sonstige bestimmte Wirtschaftszweige"},{"$f":"IF(Zeile<>20,DatenKennzahl!C116,IF(DatenKennzahl!C116>=100,\"negativ\",DatenKennzahl!C116))","v":4.8794117647058801},{"$f":"IF(Zeile<>20,DatenKennzahl!D116,IF(DatenKennzahl!D116>=100,\"negativ\",DatenKennzahl!D116))","v":1.3384030418250901}]
[{"$f":"IF(DatenKennzahl!A117=\"\",\"\",DatenKennzahl!A117)","v":"C 28.93"},{"$f":"IF(DatenKennzahl!B117=\"\",\"\",DatenKennzahl!B117)","v":"Herstellung von Maschinen für die Nahrungs- und Genussmittelerzeugung und die Tabakverarbeitung"},{"$f":"IF(Zeile<>20,DatenKennzahl!C117,IF(DatenKennzahl!C117>=100,\"negativ\",DatenKennzahl!C117))","v":7.1548130887131203},{"$f":"IF(Zeile<>20,DatenKennzahl!D117,IF(DatenKennzahl!D117>=100,\"negativ\",DatenKennzahl!D117))","v":2.2046204620462002}]
[{"$f":"IF(DatenKennzahl!A118=\"\",\"\",DatenKennzahl!A118)","v":"C 28.99"},{"$f":"IF(DatenKennzahl!B118=\"\",\"\",DatenKennzahl!B118)","v":"Herstellung von Maschinen für sonstige bestimmte Wirtschaftszweige a.n.g."},{"$f":"IF(Zeile<>20,DatenKennzahl!C118,IF(DatenKennzahl!C118>=100,\"negativ\",DatenKennzahl!C118))","v":4.5025870989996504},{"$f":"IF(Zeile<>20,DatenKennzahl!D118,IF(DatenKennzahl!D118>=100,\"negativ\",DatenKennzahl!D118))","v":0.82033563672260601}]
[{"$f":"IF(DatenKennzahl!A119=\"\",\"\",DatenKennzahl!A119)","v":"C 28.99-9"},{"$f":"IF(DatenKennzahl!B119=\"\",\"\",DatenKennzahl!B119)","v":"Herstellung von sonstigen Maschinen für sonstige bestimmte Wirtschaftszweige a.n.g."},{"$f":"IF(Zeile<>20,DatenKennzahl!C119,IF(DatenKennzahl!C119>=100,\"negativ\",DatenKennzahl!C119))","v":5.0169491525423702},{"$f":"IF(Zeile<>20,DatenKennzahl!D119,IF(DatenKennzahl!D119>=100,\"negativ\",DatenKennzahl!D119))","v":0.69323671497584505}]
[{"$f":"IF(DatenKennzahl!A120=\"\",\"\",DatenKennzahl!A120)","v":"C 29.2"},{"$f":"IF(DatenKennzahl!B120=\"\",\"\",DatenKennzahl!B120)","v":"Herstellung von Karosserien, Aufbauten und Anhängern"},{"$f":"IF(Zeile<>20,DatenKennzahl!C120,IF(DatenKennzahl!C120>=100,\"negativ\",DatenKennzahl!C120))","v":5.6470588235294104},{"$f":"IF(Zeile<>20,DatenKennzahl!D120,IF(DatenKennzahl!D120>=100,\"negativ\",DatenKennzahl!D120))","v":0.89022923873749404}]
[{"$f":"IF(DatenKennzahl!A121=\"\",\"\",DatenKennzahl!A121)","v":"C 29.3"},{"$f":"IF(DatenKennzahl!B121=\"\",\"\",DatenKennzahl!B121)","v":"Herstellung von Teilen und Zubehör für Kraftwagen "},{"$f":"IF(Zeile<>20,DatenKennzahl!C121,IF(DatenKennzahl!C121>=100,\"negativ\",DatenKennzahl!C121))","v":4.8110047846889996},{"$f":"IF(Zeile<>20,DatenKennzahl!D121,IF(DatenKennzahl!D121>=100,\"negativ\",DatenKennzahl!D121))","v":0.99647460368384499}]
[{"$f":"IF(DatenKennzahl!A122=\"\",\"\",DatenKennzahl!A122)","v":"C 29.32"},{"$f":"IF(DatenKennzahl!B122=\"\",\"\",DatenKennzahl!B122)","v":"Herstellung von sonstigen Teilen und sonstigem Zubehör für Kraftwagen "},{"$f":"IF(Zeile<>20,DatenKennzahl!C122,IF(DatenKennzahl!C122>=100,\"negativ\",DatenKennzahl!C122))","v":7.1104370009148097},{"$f":"IF(Zeile<>20,DatenKennzahl!D122,IF(DatenKennzahl!D122>=100,\"negativ\",DatenKennzahl!D122))","v":0.99647460368384499}]
[{"$f":"IF(DatenKennzahl!A123=\"\",\"\",DatenKennzahl!A123)","v":"C 30"},{"$f":"IF(DatenKennzahl!B123=\"\",\"\",DatenKennzahl!B123)","v":"Sonstiger Fahrzeugbau"},{"$f":"IF(Zeile<>20,DatenKennzahl!C123,IF(DatenKennzahl!C123>=100,\"negativ\",DatenKennzahl!C123))","v":5.54285714285714},{"$f":"IF(Zeile<>20,DatenKennzahl!D123,IF(DatenKennzahl!D123>=100,\"negativ\",DatenKennzahl!D123))","v":0.69606330762295898}]
[{"$f":"IF(DatenKennzahl!A124=\"\",\"\",DatenKennzahl!A124)","v":"C 31"},{"$f":"IF(DatenKennzahl!B124=\"\",\"\",DatenKennzahl!B124)","v":"Herstellung von Möbeln"},{"$f":"IF(Zeile<>20,DatenKennzahl!C124,IF(DatenKennzahl!C124>=100,\"negativ\",DatenKennzahl!C124))","v":12.3021632455595},{"$f":"IF(Zeile<>20,DatenKennzahl!D124,IF(DatenKennzahl!D124>=100,\"negativ\",DatenKennzahl!D124))","v":2.4645881090249002}]
[{"$f":"IF(DatenKennzahl!A125=\"\",\"\",DatenKennzahl!A125)","v":"C 31.01"},{"$f":"IF(DatenKennzahl!B125=\"\",\"\",DatenKennzahl!B125)","v":"Herstellung von Büro- und Ladenmöbeln"},{"$f":"IF(Zeile<>20,DatenKennzahl!C125,IF(DatenKennzahl!C125>=100,\"negativ\",DatenKennzahl!C125))","v":5.9426542326719902},{"$f":"IF(Zeile<>20,DatenKennzahl!D125,IF(DatenKennzahl!D125>=100,\"negativ\",DatenKennzahl!D125))","v":0.42045454545454503}]
[{"$f":"IF(DatenKennzahl!A126=\"\",\"\",DatenKennzahl!A126)","v":"C 31.01-2"},{"$f":"IF(DatenKennzahl!B126=\"\",\"\",DatenKennzahl!B126)","v":"Herstellung von Ladenmöbeln"},{"$f":"IF(Zeile<>20,DatenKennzahl!C126,IF(DatenKennzahl!C126>=100,\"negativ\",DatenKennzahl!C126))","v":4.2542877101438297},{"$f":"IF(Zeile<>20,DatenKennzahl!D126,IF(DatenKennzahl!D126>=100,\"negativ\",DatenKennzahl!D126))","v":0}]
[{"$f":"IF(DatenKennzahl!A127=\"\",\"\",DatenKennzahl!A127)","v":"C 31.02"},{"$f":"IF(DatenKennzahl!B127=\"\",\"\",DatenKennzahl!B127)","v":"Herstellung von Küchenmöbeln"},{"$f":"IF(Zeile<>20,DatenKennzahl!C127,IF(DatenKennzahl!C127>=100,\"negativ\",DatenKennzahl!C127))","v":9.6784818465124491},{"$f":"IF(Zeile<>20,DatenKennzahl!D127,IF(DatenKennzahl!D127>=100,\"negativ\",DatenKennzahl!D127))","v":4.7613636363636402}]
[{"$f":"IF(DatenKennzahl!A128=\"\",\"\",DatenKennzahl!A128)","v":"C 31.09"},{"$f":"IF(DatenKennzahl!B128=\"\",\"\",DatenKennzahl!B128)","v":"Herstellung von sonstigen Möbeln"},{"$f":"IF(Zeile<>20,DatenKennzahl!C128,IF(DatenKennzahl!C128>=100,\"negativ\",DatenKennzahl!C128))","v":12.865535462273099},{"$f":"IF(Zeile<>20,DatenKennzahl!D128,IF(DatenKennzahl!D128>=100,\"negativ\",DatenKennzahl!D128))","v":2.2242268041237101}]
[{"$f":"IF(DatenKennzahl!A129=\"\",\"\",DatenKennzahl!A129)","v":"C 32"},{"$f":"IF(DatenKennzahl!B129=\"\",\"\",DatenKennzahl!B129)","v":"Herstellung von sonstigen Waren "},{"$f":"IF(Zeile<>20,DatenKennzahl!C129,IF(DatenKennzahl!C129>=100,\"negativ\",DatenKennzahl!C129))","v":6.0767445036187402},{"$f":"IF(Zeile<>20,DatenKennzahl!D129,IF(DatenKennzahl!D129>=100,\"negativ\",DatenKennzahl!D129))","v":0.97604790419161702}]
[{"$f":"IF(DatenKennzahl!A130=\"\",\"\",DatenKennzahl!A130)","v":"C 32.1"},{"$f":"IF(DatenKennzahl!B130=\"\",\"\",DatenKennzahl!B130)","v":"Herstellung von Münzen, Schmuck und ähnlichen Erzeugnissen"},{"$f":"IF(Zeile<>20,DatenKennzahl!C130,IF(DatenKennzahl!C130>=100,\"negativ\",DatenKennzahl!C130))","v":"negativ"},{"$f":"IF(Zeile<>20,DatenKennzahl!D130,IF(DatenKennzahl!D130>=100,\"negativ\",DatenKennzahl!D130))","v":2.2904290429042899}]
[{"$f":"IF(DatenKennzahl!A131=\"\",\"\",DatenKennzahl!A131)","v":"C 32.12"},{"$f":"IF(DatenKennzahl!B131=\"\",\"\",DatenKennzahl!B131)","v":"Herstellung von Schmuck, Gold- und Silberschmiedewaren (ohne Fantasieschmuck)"},{"$f":"IF(Zeile<>20,DatenKennzahl!C131,IF(DatenKennzahl!C131>=100,\"negativ\",DatenKennzahl!C131))","v":"negativ"},{"$f":"IF(Zeile<>20,DatenKennzahl!D131,IF(DatenKennzahl!D131>=100,\"negativ\",DatenKennzahl!D131))","v":2.3056069320226}]
[{"$f":"IF(DatenKennzahl!A132=\"\",\"\",DatenKennzahl!A132)","v":"C 32.5"},{"$f":"IF(DatenKennzahl!B132=\"\",\"\",DatenKennzahl!B132)","v":"Herstellung von medizinischen und zahnmedizinischen Apparaten und Materialien"},{"$f":"IF(Zeile<>20,DatenKennzahl!C132,IF(DatenKennzahl!C132>=100,\"negativ\",DatenKennzahl!C132))","v":4.2962962962963003},{"$f":"IF(Zeile<>20,DatenKennzahl!D132,IF(DatenKennzahl!D132>=100,\"negativ\",DatenKennzahl!D132))","v":0.71856733524355298}]
[{"$f":"IF(DatenKennzahl!A133=\"\",\"\",DatenKennzahl!A133)","v":"C 32.50-1"},{"$f":"IF(DatenKennzahl!B133=\"\",\"\",DatenKennzahl!B133)","v":"Zahntechnische Laboratorien"},{"$f":"IF(Zeile<>20,DatenKennzahl!C133,IF(DatenKennzahl!C133>=100,\"negativ\",DatenKennzahl!C133))","v":4.5873630721812697},{"$f":"IF(Zeile<>20,DatenKennzahl!D133,IF(DatenKennzahl!D133>=100,\"negativ\",DatenKennzahl!D133))","v":0.266129032258065}]
[{"$f":"IF(DatenKennzahl!A134=\"\",\"\",DatenKennzahl!A134)","v":"C 32.50-2"},{"$f":"IF(DatenKennzahl!B134=\"\",\"\",DatenKennzahl!B134)","v":"Herstellung von Sehbehelfen und deren Teile"},{"$f":"IF(Zeile<>20,DatenKennzahl!C134,IF(DatenKennzahl!C134>=100,\"negativ\",DatenKennzahl!C134))","v":4.0526315789473699},{"$f":"IF(Zeile<>20,DatenKennzahl!D134,IF(DatenKennzahl!D134>=100,\"negativ\",DatenKennzahl!D134))","v":0.96747967479674801}]
[{"$f":"IF(DatenKennzahl!A135=\"\",\"\",DatenKennzahl!A135)","v":"C 32.50-9"},{"$f":"IF(DatenKennzahl!B135=\"\",\"\",DatenKennzahl!B135)","v":"Herstellung von sonstigen medizinischen und zahnmedizinischen Apparaten und Materialien"},{"$f":"IF(Zeile<>20,DatenKennzahl!C135,IF(DatenKennzahl!C135>=100,\"negativ\",DatenKennzahl!C135))","v":4.1152263374485596},{"$f":"IF(Zeile<>20,DatenKennzahl!D135,IF(DatenKennzahl!D135>=100,\"negativ\",DatenKennzahl!D135))","v":0.62703639514731402}]
[{"$f":"IF(DatenKennzahl!A136=\"\",\"\",DatenKennzahl!A136)","v":"C 32.9"},{"$f":"IF(DatenKennzahl!B136=\"\",\"\",DatenKennzahl!B136)","v":"Herstellung von Erzeugnissen a.n.g."},{"$f":"IF(Zeile<>20,DatenKennzahl!C136,IF(DatenKennzahl!C136>=100,\"negativ\",DatenKennzahl!C136))","v":4.9629629629629601},{"$f":"IF(Zeile<>20,DatenKennzahl!D136,IF(DatenKennzahl!D136>=100,\"negativ\",DatenKennzahl!D136))","v":1.11851851851852}]
[{"$f":"IF(DatenKennzahl!A137=\"\",\"\",DatenKennzahl!A137)","v":"C 32.99"},{"$f":"IF(DatenKennzahl!B137=\"\",\"\",DatenKennzahl!B137)","v":"Herstellung von sonstigen Erzeugnissen a.n.g. "},{"$f":"IF(Zeile<>20,DatenKennzahl!C137,IF(DatenKennzahl!C137>=100,\"negativ\",DatenKennzahl!C137))","v":5.8522920203735103},{"$f":"IF(Zeile<>20,DatenKennzahl!D137,IF(DatenKennzahl!D137>=100,\"negativ\",DatenKennzahl!D137))","v":1.11851851851852}]
[{"$f":"IF(DatenKennzahl!A138=\"\",\"\",DatenKennzahl!A138)","v":"C 33"},{"$f":"IF(DatenKennzahl!B138=\"\",\"\",DatenKennzahl!B138)","v":"Reparatur und Installation von Maschinen und Ausrüstungen"},{"$f":"IF(Zeile<>20,DatenKennzahl!C138,IF(DatenKennzahl!C138>=100,\"negativ\",DatenKennzahl!C138))","v":6.4521754294184301},{"$f":"IF(Zeile<>20,DatenKennzahl!D138,IF(DatenKennzahl!D138>=100,\"negativ\",DatenKennzahl!D138))","v":0.982926207725072}]
[{"$f":"IF(DatenKennzahl!A139=\"\",\"\",DatenKennzahl!A139)","v":"C 33.1"},{"$f":"IF(DatenKennzahl!B139=\"\",\"\",DatenKennzahl!B139)","v":"Reparatur von Metallerzeugnissen, Maschinen und Ausrüstungen"},{"$f":"IF(Zeile<>20,DatenKennzahl!C139,IF(DatenKennzahl!C139>=100,\"negativ\",DatenKennzahl!C139))","v":7.3076923076923102},{"$f":"IF(Zeile<>20,DatenKennzahl!D139,IF(DatenKennzahl!D139>=100,\"negativ\",DatenKennzahl!D139))","v":1.0655737704918}]
[{"$f":"IF(DatenKennzahl!A140=\"\",\"\",DatenKennzahl!A140)","v":"C 33.12"},{"$f":"IF(DatenKennzahl!B140=\"\",\"\",DatenKennzahl!B140)","v":"Reparatur von Maschinen"},{"$f":"IF(Zeile<>20,DatenKennzahl!C140,IF(DatenKennzahl!C140>=100,\"negativ\",DatenKennzahl!C140))","v":7.4186046511627897},{"$f":"IF(Zeile<>20,DatenKennzahl!D140,IF(DatenKennzahl!D140>=100,\"negativ\",DatenKennzahl!D140))","v":1.65384615384615}]
[{"$f":"IF(DatenKennzahl!A141=\"\",\"\",DatenKennzahl!A141)","v":"C 33.2"},{"$f":"IF(DatenKennzahl!B141=\"\",\"\",DatenKennzahl!B141)","v":"Installation von Maschinen und Ausrüstungen a.n.g."},{"$f":"IF(Zeile<>20,DatenKennzahl!C141,IF(DatenKennzahl!C141>=100,\"negativ\",DatenKennzahl!C141))","v":5.6640964452148896},{"$f":"IF(Zeile<>20,DatenKennzahl!D141,IF(DatenKennzahl!D141>=100,\"negativ\",DatenKennzahl!D141))","v":0.43852459016393402}]
[{"$f":"IF(DatenKennzahl!A142=\"\",\"\",DatenKennzahl!A142)","v":"D"},{"$f":"IF(DatenKennzahl!B142=\"\",\"\",DatenKennzahl!B142)","v":"Energieversorgung"},{"$f":"IF(Zeile<>20,DatenKennzahl!C142,IF(DatenKennzahl!C142>=100,\"negativ\",DatenKennzahl!C142))","v":10.5446985446985},{"$f":"IF(Zeile<>20,DatenKennzahl!D142,IF(DatenKennzahl!D142>=100,\"negativ\",DatenKennzahl!D142))","v":4.043100923371}]
[{"$f":"IF(DatenKennzahl!A143=\"\",\"\",DatenKennzahl!A143)","v":"D 35"},{"$f":"IF(DatenKennzahl!B143=\"\",\"\",DatenKennzahl!B143)","v":"Energieversorgung"},{"$f":"IF(Zeile<>20,DatenKennzahl!C143,IF(DatenKennzahl!C143>=100,\"negativ\",DatenKennzahl!C143))","v":10.5446985446985},{"$f":"IF(Zeile<>20,DatenKennzahl!D143,IF(DatenKennzahl!D143>=100,\"negativ\",DatenKennzahl!D143))","v":4.043100923371}]
[{"$f":"IF(DatenKennzahl!A144=\"\",\"\",DatenKennzahl!A144)","v":"D 35.1"},{"$f":"IF(DatenKennzahl!B144=\"\",\"\",DatenKennzahl!B144)","v":"Elektrizitätsversorgung"},{"$f":"IF(Zeile<>20,DatenKennzahl!C144,IF(DatenKennzahl!C144>=100,\"negativ\",DatenKennzahl!C144))","v":8.93241379310345},{"$f":"IF(Zeile<>20,DatenKennzahl!D144,IF(DatenKennzahl!D144>=100,\"negativ\",DatenKennzahl!D144))","v":4.7681151988775401}]
[{"$f":"IF(DatenKennzahl!A145=\"\",\"\",DatenKennzahl!A145)","v":"D 35.11"},{"$f":"IF(DatenKennzahl!B145=\"\",\"\",DatenKennzahl!B145)","v":"Elektrizitätserzeugung"},{"$f":"IF(Zeile<>20,DatenKennzahl!C145,IF(DatenKennzahl!C145>=100,\"negativ\",DatenKennzahl!C145))","v":9.2876662415740601},{"$f":"IF(Zeile<>20,DatenKennzahl!D145,IF(DatenKennzahl!D145>=100,\"negativ\",DatenKennzahl!D145))","v":5.1158562367864704}]
[{"$f":"IF(DatenKennzahl!A146=\"\",\"\",DatenKennzahl!A146)","v":"D 35.13"},{"$f":"IF(DatenKennzahl!B146=\"\",\"\",DatenKennzahl!B146)","v":"Elektrizitätsverteilung"},{"$f":"IF(Zeile<>20,DatenKennzahl!C146,IF(DatenKennzahl!C146>=100,\"negativ\",DatenKennzahl!C146))","v":4.8666666666666698},{"$f":"IF(Zeile<>20,DatenKennzahl!D146,IF(DatenKennzahl!D146>=100,\"negativ\",DatenKennzahl!D146))","v":1.2207792207792201}]
[{"$f":"IF(DatenKennzahl!A147=\"\",\"\",DatenKennzahl!A147)","v":"D 35.2"},{"$f":"IF(DatenKennzahl!B147=\"\",\"\",DatenKennzahl!B147)","v":"Gasversorgung"},{"$f":"IF(Zeile<>20,DatenKennzahl!C147,IF(DatenKennzahl!C147>=100,\"negativ\",DatenKennzahl!C147))","v":5.9790874524714797},{"$f":"IF(Zeile<>20,DatenKennzahl!D147,IF(DatenKennzahl!D147>=100,\"negativ\",DatenKennzahl!D147))","v":0.14453692716150501}]
[{"$f":"IF(DatenKennzahl!A148=\"\",\"\",DatenKennzahl!A148)","v":"D 35.3"},{"$f":"IF(DatenKennzahl!B148=\"\",\"\",DatenKennzahl!B148)","v":"Wärme- und Kälteversorgung"},{"$f":"IF(Zeile<>20,DatenKennzahl!C148,IF(DatenKennzahl!C148>=100,\"negativ\",DatenKennzahl!C148))","v":13.56},{"$f":"IF(Zeile<>20,DatenKennzahl!D148,IF(DatenKennzahl!D148>=100,\"negativ\",DatenKennzahl!D148))","v":5.6639999999999997}]
[{"$f":"IF(DatenKennzahl!A149=\"\",\"\",DatenKennzahl!A149)","v":"E"},{"$f":"IF(DatenKennzahl!B149=\"\",\"\",DatenKennzahl!B149)","v":"Wasserversorgung; Abwasser- und Abfallentsorgung undbeseitigung von Umweltverschmutzungen"},{"$f":"IF(Zeile<>20,DatenKennzahl!C149,IF(DatenKennzahl!C149>=100,\"negativ\",DatenKennzahl!C149))","v":4.5440649076157396},{"$f":"IF(Zeile<>20,DatenKennzahl!D149,IF(DatenKennzahl!D149>=100,\"negativ\",DatenKennzahl!D149))","v":1.7576530612244901}]
[{"$f":"IF(DatenKennzahl!A150=\"\",\"\",DatenKennzahl!A150)","v":"E 37"},{"$f":"IF(DatenKennzahl!B150=\"\",\"\",DatenKennzahl!B150)","v":"Abwasserentsorgung"},{"$f":"IF(Zeile<>20,DatenKennzahl!C150,IF(DatenKennzahl!C150>=100,\"negativ\",DatenKennzahl!C150))","v":3.5477487402329801},{"$f":"IF(Zeile<>20,DatenKennzahl!D150,IF(DatenKennzahl!D150>=100,\"negativ\",DatenKennzahl!D150))","v":1.3216000000000001}]
[{"$f":"IF(DatenKennzahl!A151=\"\",\"\",DatenKennzahl!A151)","v":"E 38"},{"$f":"IF(DatenKennzahl!B151=\"\",\"\",DatenKennzahl!B151)","v":"Sammlung, Behandlung und Beseitigung von Abfällen; Rückgewinnung"},{"$f":"IF(Zeile<>20,DatenKennzahl!C151,IF(DatenKennzahl!C151>=100,\"negativ\",DatenKennzahl!C151))","v":4.6017316017315997},{"$f":"IF(Zeile<>20,DatenKennzahl!D151,IF(DatenKennzahl!D151>=100,\"negativ\",DatenKennzahl!D151))","v":2.0282485875706202}]
[{"$f":"IF(DatenKennzahl!A152=\"\",\"\",DatenKennzahl!A152)","v":"E 38.1"},{"$f":"IF(DatenKennzahl!B152=\"\",\"\",DatenKennzahl!B152)","v":"Sammlung von Abfällen"},{"$f":"IF(Zeile<>20,DatenKennzahl!C152,IF(DatenKennzahl!C152>=100,\"negativ\",DatenKennzahl!C152))","v":3.2215288611544501},{"$f":"IF(Zeile<>20,DatenKennzahl!D152,IF(DatenKennzahl!D152>=100,\"negativ\",DatenKennzahl!D152))","v":1.3107074718081599}]
[{"$f":"IF(DatenKennzahl!A153=\"\",\"\",DatenKennzahl!A153)","v":"E 38.11"},{"$f":"IF(DatenKennzahl!B153=\"\",\"\",DatenKennzahl!B153)","v":"Sammlung nicht gefährlicher Abfälle"},{"$f":"IF(Zeile<>20,DatenKennzahl!C153,IF(DatenKennzahl!C153>=100,\"negativ\",DatenKennzahl!C153))","v":3.2215288611544501},{"$f":"IF(Zeile<>20,DatenKennzahl!D153,IF(DatenKennzahl!D153>=100,\"negativ\",DatenKennzahl!D153))","v":1.3107074718081599}]
[{"$f":"IF(DatenKennzahl!A154=\"\",\"\",DatenKennzahl!A154)","v":"E 38.2"},{"$f":"IF(DatenKennzahl!B154=\"\",\"\",DatenKennzahl!B154)","v":"Abfallbehandlung und -beseitigung "},{"$f":"IF(Zeile<>20,DatenKennzahl!C154,IF(DatenKennzahl!C154>=100,\"negativ\",DatenKennzahl!C154))","v":5.1862653035913597},{"$f":"IF(Zeile<>20,DatenKennzahl!D154,IF(DatenKennzahl!D154>=100,\"negativ\",DatenKennzahl!D154))","v":1.57075471698113}]
[{"$f":"IF(DatenKennzahl!A155=\"\",\"\",DatenKennzahl!A155)","v":"E 38.21"},{"$f":"IF(DatenKennzahl!B155=\"\",\"\",DatenKennzahl!B155)","v":"Behandlung und Beseitigung nicht gefährlicher Abfälle"},{"$f":"IF(Zeile<>20,DatenKennzahl!C155,IF(DatenKennzahl!C155>=100,\"negativ\",DatenKennzahl!C155))","v":4.5348258706467703},{"$f":"IF(Zeile<>20,DatenKennzahl!D155,IF(DatenKennzahl!D155>=100,\"negativ\",DatenKennzahl!D155))","v":2.0624731511551802}]
[{"$f":"IF(DatenKennzahl!A156=\"\",\"\",DatenKennzahl!A156)","v":"E 38.21-9"},{"$f":"IF(DatenKennzahl!B156=\"\",\"\",DatenKennzahl!B156)","v":"Sonstige Behandlung und Beseitigung nicht gefährlicher Abfälle "},{"$f":"IF(Zeile<>20,DatenKennzahl!C156,IF(DatenKennzahl!C156>=100,\"negativ\",DatenKennzahl!C156))","v":4.09054593874834},{"$f":"IF(Zeile<>20,DatenKennzahl!D156,IF(DatenKennzahl!D156>=100,\"negativ\",DatenKennzahl!D156))","v":1.1149260848831699}]
[{"$f":"IF(DatenKennzahl!A157=\"\",\"\",DatenKennzahl!A157)","v":"E 38.3"},{"$f":"IF(DatenKennzahl!B157=\"\",\"\",DatenKennzahl!B157)","v":"Rückgewinnung"},{"$f":"IF(Zeile<>20,DatenKennzahl!C157,IF(DatenKennzahl!C157>=100,\"negativ\",DatenKennzahl!C157))","v":6.1973063973064004},{"$f":"IF(Zeile<>20,DatenKennzahl!D157,IF(DatenKennzahl!D157>=100,\"negativ\",DatenKennzahl!D157))","v":2.9921752738654099}]
[{"$f":"IF(DatenKennzahl!A158=\"\",\"\",DatenKennzahl!A158)","v":"E 38.32"},{"$f":"IF(DatenKennzahl!B158=\"\",\"\",DatenKennzahl!B158)","v":"Rückgewinnung sortierter Werkstoffe"},{"$f":"IF(Zeile<>20,DatenKennzahl!C158,IF(DatenKennzahl!C158>=100,\"negativ\",DatenKennzahl!C158))","v":5.7155247181266304},{"$f":"IF(Zeile<>20,DatenKennzahl!D158,IF(DatenKennzahl!D158>=100,\"negativ\",DatenKennzahl!D158))","v":2.9921752738654099}]
[{"$f":"IF(DatenKennzahl!A159=\"\",\"\",DatenKennzahl!A159)","v":"E 38.32-9"},{"$f":"IF(DatenKennzahl!B159=\"\",\"\",DatenKennzahl!B159)","v":"Rückgewinnung sonstiger sortierter Werkstoffe"},{"$f":"IF(Zeile<>20,DatenKennzahl!C159,IF(DatenKennzahl!C159>=100,\"negativ\",DatenKennzahl!C159))","v":4.4400000000000004},{"$f":"IF(Zeile<>20,DatenKennzahl!D159,IF(DatenKennzahl!D159>=100,\"negativ\",DatenKennzahl!D159))","v":3.5}]
[{"$f":"IF(DatenKennzahl!A160=\"\",\"\",DatenKennzahl!A160)","v":"F"},{"$f":"IF(DatenKennzahl!B160=\"\",\"\",DatenKennzahl!B160)","v":"Bau"},{"$f":"IF(Zeile<>20,DatenKennzahl!C160,IF(DatenKennzahl!C160>=100,\"negativ\",DatenKennzahl!C160))","v":6.96428571428571},{"$f":"IF(Zeile<>20,DatenKennzahl!D160,IF(DatenKennzahl!D160>=100,\"negativ\",DatenKennzahl!D160))","v":1.2231082118916501}]
[{"$f":"IF(DatenKennzahl!A161=\"\",\"\",DatenKennzahl!A161)","v":"F 41"},{"$f":"IF(DatenKennzahl!B161=\"\",\"\",DatenKennzahl!B161)","v":"Hochbau"},{"$f":"IF(Zeile<>20,DatenKennzahl!C161,IF(DatenKennzahl!C161>=100,\"negativ\",DatenKennzahl!C161))","v":8.6428571428571406},{"$f":"IF(Zeile<>20,DatenKennzahl!D161,IF(DatenKennzahl!D161>=100,\"negativ\",DatenKennzahl!D161))","v":1.68207282913165}]
[{"$f":"IF(DatenKennzahl!A162=\"\",\"\",DatenKennzahl!A162)","v":"F 41.2"},{"$f":"IF(DatenKennzahl!B162=\"\",\"\",DatenKennzahl!B162)","v":"Bau von Gebäuden"},{"$f":"IF(Zeile<>20,DatenKennzahl!C162,IF(DatenKennzahl!C162>=100,\"negativ\",DatenKennzahl!C162))","v":8.6169573119811407},{"$f":"IF(Zeile<>20,DatenKennzahl!D162,IF(DatenKennzahl!D162>=100,\"negativ\",DatenKennzahl!D162))","v":1.63814500326584}]
[{"$f":"IF(DatenKennzahl!A163=\"\",\"\",DatenKennzahl!A163)","v":"F 41.20-1"},{"$f":"IF(DatenKennzahl!B163=\"\",\"\",DatenKennzahl!B163)","v":"Wohnungs- und Siedlungsbau"},{"$f":"IF(Zeile<>20,DatenKennzahl!C163,IF(DatenKennzahl!C163>=100,\"negativ\",DatenKennzahl!C163))","v":9.5106382978723403},{"$f":"IF(Zeile<>20,DatenKennzahl!D163,IF(DatenKennzahl!D163>=100,\"negativ\",DatenKennzahl!D163))","v":2.0750000000000002}]
[{"$f":"IF(DatenKennzahl!A164=\"\",\"\",DatenKennzahl!A164)","v":"F 41.20-2"},{"$f":"IF(DatenKennzahl!B164=\"\",\"\",DatenKennzahl!B164)","v":"Adaptierungsarbeiten im Hochbau"},{"$f":"IF(Zeile<>20,DatenKennzahl!C164,IF(DatenKennzahl!C164>=100,\"negativ\",DatenKennzahl!C164))","v":5.5625},{"$f":"IF(Zeile<>20,DatenKennzahl!D164,IF(DatenKennzahl!D164>=100,\"negativ\",DatenKennzahl!D164))","v":1.3841414935906999}]
[{"$f":"IF(DatenKennzahl!A165=\"\",\"\",DatenKennzahl!A165)","v":"F 41.20-9"},{"$f":"IF(DatenKennzahl!B165=\"\",\"\",DatenKennzahl!B165)","v":"Sonstiger Hochbau"},{"$f":"IF(Zeile<>20,DatenKennzahl!C165,IF(DatenKennzahl!C165>=100,\"negativ\",DatenKennzahl!C165))","v":8.0564473721011307},{"$f":"IF(Zeile<>20,DatenKennzahl!D165,IF(DatenKennzahl!D165>=100,\"negativ\",DatenKennzahl!D165))","v":1.27663551401869}]
[{"$f":"IF(DatenKennzahl!A166=\"\",\"\",DatenKennzahl!A166)","v":"F 42"},{"$f":"IF(DatenKennzahl!B166=\"\",\"\",DatenKennzahl!B166)","v":"Tiefbau"},{"$f":"IF(Zeile<>20,DatenKennzahl!C166,IF(DatenKennzahl!C166>=100,\"negativ\",DatenKennzahl!C166))","v":5.8676558589158399},{"$f":"IF(Zeile<>20,DatenKennzahl!D166,IF(DatenKennzahl!D166>=100,\"negativ\",DatenKennzahl!D166))","v":1.0465116279069799}]
[{"$f":"IF(DatenKennzahl!A167=\"\",\"\",DatenKennzahl!A167)","v":"F 42.1"},{"$f":"IF(DatenKennzahl!B167=\"\",\"\",DatenKennzahl!B167)","v":"Bau von Straßen und Bahnverkehrsstrecken"},{"$f":"IF(Zeile<>20,DatenKennzahl!C167,IF(DatenKennzahl!C167>=100,\"negativ\",DatenKennzahl!C167))","v":6.1302325581395296},{"$f":"IF(Zeile<>20,DatenKennzahl!D167,IF(DatenKennzahl!D167>=100,\"negativ\",DatenKennzahl!D167))","v":0.72338090010976996}]
[{"$f":"IF(DatenKennzahl!A168=\"\",\"\",DatenKennzahl!A168)","v":"F 42.11"},{"$f":"IF(DatenKennzahl!B168=\"\",\"\",DatenKennzahl!B168)","v":"Bau von Straßen"},{"$f":"IF(Zeile<>20,DatenKennzahl!C168,IF(DatenKennzahl!C168>=100,\"negativ\",DatenKennzahl!C168))","v":6.4255638129390702},{"$f":"IF(Zeile<>20,DatenKennzahl!D168,IF(DatenKennzahl!D168>=100,\"negativ\",DatenKennzahl!D168))","v":0.75233644859813098}]
[{"$f":"IF(DatenKennzahl!A169=\"\",\"\",DatenKennzahl!A169)","v":"F 42.2"},{"$f":"IF(DatenKennzahl!B169=\"\",\"\",DatenKennzahl!B169)","v":"Leitungstiefbau und Kläranlagenbau"},{"$f":"IF(Zeile<>20,DatenKennzahl!C169,IF(DatenKennzahl!C169>=100,\"negativ\",DatenKennzahl!C169))","v":4.7669902912621396},{"$f":"IF(Zeile<>20,DatenKennzahl!D169,IF(DatenKennzahl!D169>=100,\"negativ\",DatenKennzahl!D169))","v":1.0384615384615401}]
[{"$f":"IF(DatenKennzahl!A170=\"\",\"\",DatenKennzahl!A170)","v":"F 42.21"},{"$f":"IF(DatenKennzahl!B170=\"\",\"\",DatenKennzahl!B170)","v":"Rohrleitungstiefbau, Brunnenbau und Kläranlagenbau"},{"$f":"IF(Zeile<>20,DatenKennzahl!C170,IF(DatenKennzahl!C170>=100,\"negativ\",DatenKennzahl!C170))","v":5.0579710144927503},{"$f":"IF(Zeile<>20,DatenKennzahl!D170,IF(DatenKennzahl!D170>=100,\"negativ\",DatenKennzahl!D170))","v":0.80392156862745101}]
[{"$f":"IF(DatenKennzahl!A171=\"\",\"\",DatenKennzahl!A171)","v":"F 42.9"},{"$f":"IF(DatenKennzahl!B171=\"\",\"\",DatenKennzahl!B171)","v":"Sonstiger Tiefbau"},{"$f":"IF(Zeile<>20,DatenKennzahl!C171,IF(DatenKennzahl!C171>=100,\"negativ\",DatenKennzahl!C171))","v":5.8961589100692704},{"$f":"IF(Zeile<>20,DatenKennzahl!D171,IF(DatenKennzahl!D171>=100,\"negativ\",DatenKennzahl!D171))","v":1.7702114267904101}]
[{"$f":"IF(DatenKennzahl!A172=\"\",\"\",DatenKennzahl!A172)","v":"F 42.99"},{"$f":"IF(DatenKennzahl!B172=\"\",\"\",DatenKennzahl!B172)","v":"Sonstiger Tiefbau a.n.g."},{"$f":"IF(Zeile<>20,DatenKennzahl!C172,IF(DatenKennzahl!C172>=100,\"negativ\",DatenKennzahl!C172))","v":5.0562500000000004},{"$f":"IF(Zeile<>20,DatenKennzahl!D172,IF(DatenKennzahl!D172>=100,\"negativ\",DatenKennzahl!D172))","v":1.4241598453637101}]
[{"$f":"IF(DatenKennzahl!A173=\"\",\"\",DatenKennzahl!A173)","v":"F 43"},{"$f":"IF(DatenKennzahl!B173=\"\",\"\",DatenKennzahl!B173)","v":"Vorbereitende Baustellenarbeiten, Bauinstallation und sonstiges Ausbaugewerbe"},{"$f":"IF(Zeile<>20,DatenKennzahl!C173,IF(DatenKennzahl!C173>=100,\"negativ\",DatenKennzahl!C173))","v":6.75},{"$f":"IF(Zeile<>20,DatenKennzahl!D173,IF(DatenKennzahl!D173>=100,\"negativ\",DatenKennzahl!D173))","v":1.1422196249269501}]
[{"$f":"IF(DatenKennzahl!A174=\"\",\"\",DatenKennzahl!A174)","v":"F 43.1"},{"$f":"IF(DatenKennzahl!B174=\"\",\"\",DatenKennzahl!B174)","v":"Abbrucharbeiten und vorbereitende Baustellenarbeiten "},{"$f":"IF(Zeile<>20,DatenKennzahl!C174,IF(DatenKennzahl!C174>=100,\"negativ\",DatenKennzahl!C174))","v":5.22272727272727},{"$f":"IF(Zeile<>20,DatenKennzahl!D174,IF(DatenKennzahl!D174>=100,\"negativ\",DatenKennzahl!D174))","v":1.85238095238095}]
[{"$f":"IF(DatenKennzahl!A175=\"\",\"\",DatenKennzahl!A175)","v":"F 43.11"},{"$f":"IF(DatenKennzahl!B175=\"\",\"\",DatenKennzahl!B175)","v":"Abbrucharbeiten"},{"$f":"IF(Zeile<>20,DatenKennzahl!C175,IF(DatenKennzahl!C175>=100,\"negativ\",DatenKennzahl!C175))","v":5.8374972213899801},{"$f":"IF(Zeile<>20,DatenKennzahl!D175,IF(DatenKennzahl!D175>=100,\"negativ\",DatenKennzahl!D175))","v":1.7030567685589499}]
[{"$f":"IF(DatenKennzahl!A176=\"\",\"\",DatenKennzahl!A176)","v":"F 43.12"},{"$f":"IF(DatenKennzahl!B176=\"\",\"\",DatenKennzahl!B176)","v":"Vorbereitende Baustellenarbeiten"},{"$f":"IF(Zeile<>20,DatenKennzahl!C176,IF(DatenKennzahl!C176>=100,\"negativ\",DatenKennzahl!C176))","v":4.8181818181818201},{"$f":"IF(Zeile<>20,DatenKennzahl!D176,IF(DatenKennzahl!D176>=100,\"negativ\",DatenKennzahl!D176))","v":2.0225225225225198}]
[{"$f":"IF(DatenKennzahl!A177=\"\",\"\",DatenKennzahl!A177)","v":"F 43.2"},{"$f":"IF(DatenKennzahl!B177=\"\",\"\",DatenKennzahl!B177)","v":"Bauinstallation"},{"$f":"IF(Zeile<>20,DatenKennzahl!C177,IF(DatenKennzahl!C177>=100,\"negativ\",DatenKennzahl!C177))","v":6.8271927710098801},{"$f":"IF(Zeile<>20,DatenKennzahl!D177,IF(DatenKennzahl!D177>=100,\"negativ\",DatenKennzahl!D177))","v":1.07968901846453}]
[{"$f":"IF(DatenKennzahl!A178=\"\",\"\",DatenKennzahl!A178)","v":"F 43.21"},{"$f":"IF(DatenKennzahl!B178=\"\",\"\",DatenKennzahl!B178)","v":"Elektroinstallation"},{"$f":"IF(Zeile<>20,DatenKennzahl!C178,IF(DatenKennzahl!C178>=100,\"negativ\",DatenKennzahl!C178))","v":7.10528690691548},{"$f":"IF(Zeile<>20,DatenKennzahl!D178,IF(DatenKennzahl!D178>=100,\"negativ\",DatenKennzahl!D178))","v":1.18957345971564}]
[{"$f":"IF(DatenKennzahl!A179=\"\",\"\",DatenKennzahl!A179)","v":"F 43.22"},{"$f":"IF(DatenKennzahl!B179=\"\",\"\",DatenKennzahl!B179)","v":"Gas-, Wasser-, Heizungs- und Lüftungs- und Klimaanlageninstallation"},{"$f":"IF(Zeile<>20,DatenKennzahl!C179,IF(DatenKennzahl!C179>=100,\"negativ\",DatenKennzahl!C179))","v":6.9074074074074101},{"$f":"IF(Zeile<>20,DatenKennzahl!D179,IF(DatenKennzahl!D179>=100,\"negativ\",DatenKennzahl!D179))","v":1.07968901846453}]
[{"$f":"IF(DatenKennzahl!A180=\"\",\"\",DatenKennzahl!A180)","v":"F 43.29"},{"$f":"IF(DatenKennzahl!B180=\"\",\"\",DatenKennzahl!B180)","v":"Sonstige Bauinstallation"},{"$f":"IF(Zeile<>20,DatenKennzahl!C180,IF(DatenKennzahl!C180>=100,\"negativ\",DatenKennzahl!C180))","v":6.3076923076923102},{"$f":"IF(Zeile<>20,DatenKennzahl!D180,IF(DatenKennzahl!D180>=100,\"negativ\",DatenKennzahl!D180))","v":0.71910346281698001}]
[{"$f":"IF(DatenKennzahl!A181=\"\",\"\",DatenKennzahl!A181)","v":"F 43.3"},{"$f":"IF(DatenKennzahl!B181=\"\",\"\",DatenKennzahl!B181)","v":"Sonstiger Ausbau"},{"$f":"IF(Zeile<>20,DatenKennzahl!C181,IF(DatenKennzahl!C181>=100,\"negativ\",DatenKennzahl!C181))","v":7.7697594501718203},{"$f":"IF(Zeile<>20,DatenKennzahl!D181,IF(DatenKennzahl!D181>=100,\"negativ\",DatenKennzahl!D181))","v":1.2790697674418601}]
[{"$f":"IF(DatenKennzahl!A182=\"\",\"\",DatenKennzahl!A182)","v":"F 43.31"},{"$f":"IF(DatenKennzahl!B182=\"\",\"\",DatenKennzahl!B182)","v":"Anbringen von Stuckaturen, Gipserei und Verputzerei"},{"$f":"IF(Zeile<>20,DatenKennzahl!C182,IF(DatenKennzahl!C182>=100,\"negativ\",DatenKennzahl!C182))","v":6.4861111111111098},{"$f":"IF(Zeile<>20,DatenKennzahl!D182,IF(DatenKennzahl!D182>=100,\"negativ\",DatenKennzahl!D182))","v":1.1050228310502299}]
[{"$f":"IF(DatenKennzahl!A183=\"\",\"\",DatenKennzahl!A183)","v":"F 43.32"},{"$f":"IF(DatenKennzahl!B183=\"\",\"\",DatenKennzahl!B183)","v":"Bautischlerei und -schlosserei"},{"$f":"IF(Zeile<>20,DatenKennzahl!C183,IF(DatenKennzahl!C183>=100,\"negativ\",DatenKennzahl!C183))","v":9.0155009246165605},{"$f":"IF(Zeile<>20,DatenKennzahl!D183,IF(DatenKennzahl!D183>=100,\"negativ\",DatenKennzahl!D183))","v":1.25882352941176}]
[{"$f":"IF(DatenKennzahl!A184=\"\",\"\",DatenKennzahl!A184)","v":"F 43.32-1"},{"$f":"IF(DatenKennzahl!B184=\"\",\"\",DatenKennzahl!B184)","v":"Bautischlerei"},{"$f":"IF(Zeile<>20,DatenKennzahl!C184,IF(DatenKennzahl!C184>=100,\"negativ\",DatenKennzahl!C184))","v":11.3354587318456},{"$f":"IF(Zeile<>20,DatenKennzahl!D184,IF(DatenKennzahl!D184>=100,\"negativ\",DatenKennzahl!D184))","v":1.8079768414281101}]
[{"$f":"IF(DatenKennzahl!A185=\"\",\"\",DatenKennzahl!A185)","v":"F 43.32-2"},{"$f":"IF(DatenKennzahl!B185=\"\",\"\",DatenKennzahl!B185)","v":"Bauschlosserei"},{"$f":"IF(Zeile<>20,DatenKennzahl!C185,IF(DatenKennzahl!C185>=100,\"negativ\",DatenKennzahl!C185))","v":6.7905138339920903},{"$f":"IF(Zeile<>20,DatenKennzahl!D185,IF(DatenKennzahl!D185>=100,\"negativ\",DatenKennzahl!D185))","v":0.86448598130841103}]
[{"$f":"IF(DatenKennzahl!A186=\"\",\"\",DatenKennzahl!A186)","v":"F 43.33"},{"$f":"IF(DatenKennzahl!B186=\"\",\"\",DatenKennzahl!B186)","v":"Fußboden-, Fliesen- und Plattenlegerei, Tapeziererei"},{"$f":"IF(Zeile<>20,DatenKennzahl!C186,IF(DatenKennzahl!C186>=100,\"negativ\",DatenKennzahl!C186))","v":7.8353922214046898},{"$f":"IF(Zeile<>20,DatenKennzahl!D186,IF(DatenKennzahl!D186>=100,\"negativ\",DatenKennzahl!D186))","v":1.6551724137931001}]
[{"$f":"IF(DatenKennzahl!A187=\"\",\"\",DatenKennzahl!A187)","v":"F 43.33-1"},{"$f":"IF(DatenKennzahl!B187=\"\",\"\",DatenKennzahl!B187)","v":"Fußbodenlegerei"},{"$f":"IF(Zeile<>20,DatenKennzahl!C187,IF(DatenKennzahl!C187>=100,\"negativ\",DatenKennzahl!C187))","v":6.2435233160621797},{"$f":"IF(Zeile<>20,DatenKennzahl!D187,IF(DatenKennzahl!D187>=100,\"negativ\",DatenKennzahl!D187))","v":1.2815533980582501}]
[{"$f":"IF(DatenKennzahl!A188=\"\",\"\",DatenKennzahl!A188)","v":"F 43.33-2"},{"$f":"IF(DatenKennzahl!B188=\"\",\"\",DatenKennzahl!B188)","v":"Fliesenlegerei"},{"$f":"IF(Zeile<>20,DatenKennzahl!C188,IF(DatenKennzahl!C188>=100,\"negativ\",DatenKennzahl!C188))","v":8.8365243004418303},{"$f":"IF(Zeile<>20,DatenKennzahl!D188,IF(DatenKennzahl!D188>=100,\"negativ\",DatenKennzahl!D188))","v":1.71428571428571}]
[{"$f":"IF(DatenKennzahl!A189=\"\",\"\",DatenKennzahl!A189)","v":"F 43.33-3"},{"$f":"IF(DatenKennzahl!B189=\"\",\"\",DatenKennzahl!B189)","v":"Tapeziererei"},{"$f":"IF(Zeile<>20,DatenKennzahl!C189,IF(DatenKennzahl!C189>=100,\"negativ\",DatenKennzahl!C189))","v":8.2686567164179099},{"$f":"IF(Zeile<>20,DatenKennzahl!D189,IF(DatenKennzahl!D189>=100,\"negativ\",DatenKennzahl!D189))","v":1.10896431878723}]
[{"$f":"IF(DatenKennzahl!A190=\"\",\"\",DatenKennzahl!A190)","v":"F 43.33-4"},{"$f":"IF(DatenKennzahl!B190=\"\",\"\",DatenKennzahl!B190)","v":"Ofensetzerei"},{"$f":"IF(Zeile<>20,DatenKennzahl!C190,IF(DatenKennzahl!C190>=100,\"negativ\",DatenKennzahl!C190))","v":11.539473684210501},{"$f":"IF(Zeile<>20,DatenKennzahl!D190,IF(DatenKennzahl!D190>=100,\"negativ\",DatenKennzahl!D190))","v":2.1409728682664499}]
[{"$f":"IF(DatenKennzahl!A191=\"\",\"\",DatenKennzahl!A191)","v":"F 43.34"},{"$f":"IF(DatenKennzahl!B191=\"\",\"\",DatenKennzahl!B191)","v":"Malerei und Glaserei"},{"$f":"IF(Zeile<>20,DatenKennzahl!C191,IF(DatenKennzahl!C191>=100,\"negativ\",DatenKennzahl!C191))","v":7.7209302325581399},{"$f":"IF(Zeile<>20,DatenKennzahl!D191,IF(DatenKennzahl!D191>=100,\"negativ\",DatenKennzahl!D191))","v":1.0276010023616799}]
[{"$f":"IF(DatenKennzahl!A192=\"\",\"\",DatenKennzahl!A192)","v":"F 43.34-1"},{"$f":"IF(DatenKennzahl!B192=\"\",\"\",DatenKennzahl!B192)","v":"Malerei und Anstreicherei"},{"$f":"IF(Zeile<>20,DatenKennzahl!C192,IF(DatenKennzahl!C192>=100,\"negativ\",DatenKennzahl!C192))","v":7.2876712328767104},{"$f":"IF(Zeile<>20,DatenKennzahl!D192,IF(DatenKennzahl!D192>=100,\"negativ\",DatenKennzahl!D192))","v":0.96477063847505296}]
[{"$f":"IF(DatenKennzahl!A193=\"\",\"\",DatenKennzahl!A193)","v":"F 43.34-2"},{"$f":"IF(DatenKennzahl!B193=\"\",\"\",DatenKennzahl!B193)","v":"Glaserei"},{"$f":"IF(Zeile<>20,DatenKennzahl!C193,IF(DatenKennzahl!C193>=100,\"negativ\",DatenKennzahl!C193))","v":8.4499999999999993},{"$f":"IF(Zeile<>20,DatenKennzahl!D193,IF(DatenKennzahl!D193>=100,\"negativ\",DatenKennzahl!D193))","v":0.94446308516323096}]
[{"$f":"IF(DatenKennzahl!A194=\"\",\"\",DatenKennzahl!A194)","v":"F 43.39"},{"$f":"IF(DatenKennzahl!B194=\"\",\"\",DatenKennzahl!B194)","v":"Sonstiger Ausbau a.n.g."},{"$f":"IF(Zeile<>20,DatenKennzahl!C194,IF(DatenKennzahl!C194>=100,\"negativ\",DatenKennzahl!C194))","v":5.8363636363636404},{"$f":"IF(Zeile<>20,DatenKennzahl!D194,IF(DatenKennzahl!D194>=100,\"negativ\",DatenKennzahl!D194))","v":1.2199546485260799}]
[{"$f":"IF(DatenKennzahl!A195=\"\",\"\",DatenKennzahl!A195)","v":"F 43.9"},{"$f":"IF(DatenKennzahl!B195=\"\",\"\",DatenKennzahl!B195)","v":"Sonstige spezialisierte Bautätigkeiten"},{"$f":"IF(Zeile<>20,DatenKennzahl!C195,IF(DatenKennzahl!C195>=100,\"negativ\",DatenKennzahl!C195))","v":5.44455287893574},{"$f":"IF(Zeile<>20,DatenKennzahl!D195,IF(DatenKennzahl!D195>=100,\"negativ\",DatenKennzahl!D195))","v":0.859375}]
[{"$f":"IF(DatenKennzahl!A196=\"\",\"\",DatenKennzahl!A196)","v":"F 43.91"},{"$f":"IF(DatenKennzahl!B196=\"\",\"\",DatenKennzahl!B196)","v":"Dachdeckerei und Zimmerei"},{"$f":"IF(Zeile<>20,DatenKennzahl!C196,IF(DatenKennzahl!C196>=100,\"negativ\",DatenKennzahl!C196))","v":6.3458980044345896},{"$f":"IF(Zeile<>20,DatenKennzahl!D196,IF(DatenKennzahl!D196>=100,\"negativ\",DatenKennzahl!D196))","v":0.98201438848920897}]
[{"$f":"IF(DatenKennzahl!A197=\"\",\"\",DatenKennzahl!A197)","v":"F 43.91-1"},{"$f":"IF(DatenKennzahl!B197=\"\",\"\",DatenKennzahl!B197)","v":"Dachdeckerei"},{"$f":"IF(Zeile<>20,DatenKennzahl!C197,IF(DatenKennzahl!C197>=100,\"negativ\",DatenKennzahl!C197))","v":4.8878504672897201},{"$f":"IF(Zeile<>20,DatenKennzahl!D197,IF(DatenKennzahl!D197>=100,\"negativ\",DatenKennzahl!D197))","v":0.64214625703158801}]
[{"$f":"IF(DatenKennzahl!A198=\"\",\"\",DatenKennzahl!A198)","v":"F 43.91-2"},{"$f":"IF(DatenKennzahl!B198=\"\",\"\",DatenKennzahl!B198)","v":"Zimmerei"},{"$f":"IF(Zeile<>20,DatenKennzahl!C198,IF(DatenKennzahl!C198>=100,\"negativ\",DatenKennzahl!C198))","v":8.5965406334761205},{"$f":"IF(Zeile<>20,DatenKennzahl!D198,IF(DatenKennzahl!D198>=100,\"negativ\",DatenKennzahl!D198))","v":1.7037974683544299}]
[{"$f":"IF(DatenKennzahl!A199=\"\",\"\",DatenKennzahl!A199)","v":"F 43.91-3"},{"$f":"IF(DatenKennzahl!B199=\"\",\"\",DatenKennzahl!B199)","v":"Bauspenglerei"},{"$f":"IF(Zeile<>20,DatenKennzahl!C199,IF(DatenKennzahl!C199>=100,\"negativ\",DatenKennzahl!C199))","v":5.0650459597328696},{"$f":"IF(Zeile<>20,DatenKennzahl!D199,IF(DatenKennzahl!D199>=100,\"negativ\",DatenKennzahl!D199))","v":0.68065937772179996}]
[{"$f":"IF(DatenKennzahl!A200=\"\",\"\",DatenKennzahl!A200)","v":"F 43.99"},{"$f":"IF(DatenKennzahl!B200=\"\",\"\",DatenKennzahl!B200)","v":"Sonstige spezialisierte Bautätigkeiten a.n.g."},{"$f":"IF(Zeile<>20,DatenKennzahl!C200,IF(DatenKennzahl!C200>=100,\"negativ\",DatenKennzahl!C200))","v":3.5882352941176499},{"$f":"IF(Zeile<>20,DatenKennzahl!D200,IF(DatenKennzahl!D200>=100,\"negativ\",DatenKennzahl!D200))","v":0.643356643356643}]
[{"$f":"IF(DatenKennzahl!A201=\"\",\"\",DatenKennzahl!A201)","v":"F 43.99-1"},{"$f":"IF(DatenKennzahl!B201=\"\",\"\",DatenKennzahl!B201)","v":"Isolierer"},{"$f":"IF(Zeile<>20,DatenKennzahl!C201,IF(DatenKennzahl!C201>=100,\"negativ\",DatenKennzahl!C201))","v":4.7174959871589097},{"$f":"IF(Zeile<>20,DatenKennzahl!D201,IF(DatenKennzahl!D201>=100,\"negativ\",DatenKennzahl!D201))","v":0.55367231638418102}]
[{"$f":"IF(DatenKennzahl!A202=\"\",\"\",DatenKennzahl!A202)","v":"F 43.99-9"},{"$f":"IF(DatenKennzahl!B202=\"\",\"\",DatenKennzahl!B202)","v":"Sonstige spezialisierte Bautätigkeiten a.n.g. (ohne Isolierer)"},{"$f":"IF(Zeile<>20,DatenKennzahl!C202,IF(DatenKennzahl!C202>=100,\"negativ\",DatenKennzahl!C202))","v":3.0548780487804899},{"$f":"IF(Zeile<>20,DatenKennzahl!D202,IF(DatenKennzahl!D202>=100,\"negativ\",DatenKennzahl!D202))","v":0.67200000000000004}]
[{"$f":"IF(DatenKennzahl!A203=\"\",\"\",DatenKennzahl!A203)","v":"G"},{"$f":"IF(DatenKennzahl!B203=\"\",\"\",DatenKennzahl!B203)","v":"Handel; Instandhaltung und Reparatur von Kraftfahrzeugen"},{"$f":"IF(Zeile<>20,DatenKennzahl!C203,IF(DatenKennzahl!C203>=100,\"negativ\",DatenKennzahl!C203))","v":9.0681818181818201},{"$f":"IF(Zeile<>20,DatenKennzahl!D203,IF(DatenKennzahl!D203>=100,\"negativ\",DatenKennzahl!D203))","v":1.58205128205128}]
[{"$f":"IF(DatenKennzahl!A204=\"\",\"\",DatenKennzahl!A204)","v":"G 45.1"},{"$f":"IF(DatenKennzahl!B204=\"\",\"\",DatenKennzahl!B204)","v":"Handel mit Kraftwagen"},{"$f":"IF(Zeile<>20,DatenKennzahl!C204,IF(DatenKennzahl!C204>=100,\"negativ\",DatenKennzahl!C204))","v":16.601532567049802},{"$f":"IF(Zeile<>20,DatenKennzahl!D204,IF(DatenKennzahl!D204>=100,\"negativ\",DatenKennzahl!D204))","v":3.6264501160092801}]
[{"$f":"IF(DatenKennzahl!A205=\"\",\"\",DatenKennzahl!A205)","v":"G 45.11"},{"$f":"IF(DatenKennzahl!B205=\"\",\"\",DatenKennzahl!B205)","v":"Handel mit Kraftwagen mit einem Gesamtgewicht von 3,5 t oder weniger"},{"$f":"IF(Zeile<>20,DatenKennzahl!C205,IF(DatenKennzahl!C205>=100,\"negativ\",DatenKennzahl!C205))","v":16.8571428571429},{"$f":"IF(Zeile<>20,DatenKennzahl!D205,IF(DatenKennzahl!D205>=100,\"negativ\",DatenKennzahl!D205))","v":3.5824175824175799}]
[{"$f":"IF(DatenKennzahl!A206=\"\",\"\",DatenKennzahl!A206)","v":"G 45.11-1"},{"$f":"IF(DatenKennzahl!B206=\"\",\"\",DatenKennzahl!B206)","v":"Großhandel mit Kraftwagen mit einem Gesamtgewicht von 3,5 t oder weniger"},{"$f":"IF(Zeile<>20,DatenKennzahl!C206,IF(DatenKennzahl!C206>=100,\"negativ\",DatenKennzahl!C206))","v":13.061697722410001},{"$f":"IF(Zeile<>20,DatenKennzahl!D206,IF(DatenKennzahl!D206>=100,\"negativ\",DatenKennzahl!D206))","v":0.55479452054794498}]
[{"$f":"IF(DatenKennzahl!A207=\"\",\"\",DatenKennzahl!A207)","v":"G 45.11-2"},{"$f":"IF(DatenKennzahl!B207=\"\",\"\",DatenKennzahl!B207)","v":"Einzelhandel mit Kraftwagen mit einem Gesamtgewicht von 3,5 t oder weniger"},{"$f":"IF(Zeile<>20,DatenKennzahl!C207,IF(DatenKennzahl!C207>=100,\"negativ\",DatenKennzahl!C207))","v":17.634615384615401},{"$f":"IF(Zeile<>20,DatenKennzahl!D207,IF(DatenKennzahl!D207>=100,\"negativ\",DatenKennzahl!D207))","v":3.7896995708154502}]
[{"$f":"IF(DatenKennzahl!A208=\"\",\"\",DatenKennzahl!A208)","v":"G 45.19"},{"$f":"IF(DatenKennzahl!B208=\"\",\"\",DatenKennzahl!B208)","v":"Handel mit Kraftwagen mit einem Gesamtgewicht von mehr als 3,5 t"},{"$f":"IF(Zeile<>20,DatenKennzahl!C208,IF(DatenKennzahl!C208>=100,\"negativ\",DatenKennzahl!C208))","v":12.8793103448276},{"$f":"IF(Zeile<>20,DatenKennzahl!D208,IF(DatenKennzahl!D208>=100,\"negativ\",DatenKennzahl!D208))","v":2.2556053811659198}]
[{"$f":"IF(DatenKennzahl!A209=\"\",\"\",DatenKennzahl!A209)","v":"G 45.2"},{"$f":"IF(DatenKennzahl!B209=\"\",\"\",DatenKennzahl!B209)","v":"Instandhaltung und Reparatur von Kraftwagen"},{"$f":"IF(Zeile<>20,DatenKennzahl!C209,IF(DatenKennzahl!C209>=100,\"negativ\",DatenKennzahl!C209))","v":9.6186440677966107},{"$f":"IF(Zeile<>20,DatenKennzahl!D209,IF(DatenKennzahl!D209>=100,\"negativ\",DatenKennzahl!D209))","v":1.50724637681159}]
[{"$f":"IF(DatenKennzahl!A210=\"\",\"\",DatenKennzahl!A210)","v":"G 45.3"},{"$f":"IF(DatenKennzahl!B210=\"\",\"\",DatenKennzahl!B210)","v":"Handel mit Kraftwagenteilen und -zubehör"},{"$f":"IF(Zeile<>20,DatenKennzahl!C210,IF(DatenKennzahl!C210>=100,\"negativ\",DatenKennzahl!C210))","v":12.255474452554701},{"$f":"IF(Zeile<>20,DatenKennzahl!D210,IF(DatenKennzahl!D210>=100,\"negativ\",DatenKennzahl!D210))","v":1.46}]
[{"$f":"IF(DatenKennzahl!A211=\"\",\"\",DatenKennzahl!A211)","v":"G 45.31"},{"$f":"IF(DatenKennzahl!B211=\"\",\"\",DatenKennzahl!B211)","v":"Großhandel mit Kraftwagenteilen und -zubehör"},{"$f":"IF(Zeile<>20,DatenKennzahl!C211,IF(DatenKennzahl!C211>=100,\"negativ\",DatenKennzahl!C211))","v":9.3661971830985902},{"$f":"IF(Zeile<>20,DatenKennzahl!D211,IF(DatenKennzahl!D211>=100,\"negativ\",DatenKennzahl!D211))","v":0.483870967741936}]
[{"$f":"IF(DatenKennzahl!A212=\"\",\"\",DatenKennzahl!A212)","v":"G 45.32"},{"$f":"IF(DatenKennzahl!B212=\"\",\"\",DatenKennzahl!B212)","v":"Einzelhandel mit Kraftwagenteilen und -zubehör"},{"$f":"IF(Zeile<>20,DatenKennzahl!C212,IF(DatenKennzahl!C212>=100,\"negativ\",DatenKennzahl!C212))","v":12.9530818767249},{"$f":"IF(Zeile<>20,DatenKennzahl!D212,IF(DatenKennzahl!D212>=100,\"negativ\",DatenKennzahl!D212))","v":1.85567010309278}]
[{"$f":"IF(DatenKennzahl!A213=\"\",\"\",DatenKennzahl!A213)","v":"G 45.4"},{"$f":"IF(DatenKennzahl!B213=\"\",\"\",DatenKennzahl!B213)","v":"Handel mit Krafträdern, Kraftradteilen und -zubehör; Instandhaltung und Reparatur von Krafträdern"},{"$f":"IF(Zeile<>20,DatenKennzahl!C213,IF(DatenKennzahl!C213>=100,\"negativ\",DatenKennzahl!C213))","v":30.8116883116883},{"$f":"IF(Zeile<>20,DatenKennzahl!D213,IF(DatenKennzahl!D213>=100,\"negativ\",DatenKennzahl!D213))","v":5.1333333333333302}]
[{"$f":"IF(DatenKennzahl!A214=\"\",\"\",DatenKennzahl!A214)","v":"G 46"},{"$f":"IF(DatenKennzahl!B214=\"\",\"\",DatenKennzahl!B214)","v":"Großhandel (ohne Handel mit Kraftfahrzeugen)"},{"$f":"IF(Zeile<>20,DatenKennzahl!C214,IF(DatenKennzahl!C214>=100,\"negativ\",DatenKennzahl!C214))","v":6.7140562248995996},{"$f":"IF(Zeile<>20,DatenKennzahl!D214,IF(DatenKennzahl!D214>=100,\"negativ\",DatenKennzahl!D214))","v":1.12597894821502}]
[{"$f":"IF(DatenKennzahl!A215=\"\",\"\",DatenKennzahl!A215)","v":"G 46.1"},{"$f":"IF(DatenKennzahl!B215=\"\",\"\",DatenKennzahl!B215)","v":"Handelsvermittlung"},{"$f":"IF(Zeile<>20,DatenKennzahl!C215,IF(DatenKennzahl!C215>=100,\"negativ\",DatenKennzahl!C215))","v":3.7589388696655099},{"$f":"IF(Zeile<>20,DatenKennzahl!D215,IF(DatenKennzahl!D215>=100,\"negativ\",DatenKennzahl!D215))","v":0.455384615384615}]
[{"$f":"IF(DatenKennzahl!A216=\"\",\"\",DatenKennzahl!A216)","v":"G 46.13"},{"$f":"IF(DatenKennzahl!B216=\"\",\"\",DatenKennzahl!B216)","v":"Handelsvermittlung von Holz, Baustoffen und Anstrichmitteln"},{"$f":"IF(Zeile<>20,DatenKennzahl!C216,IF(DatenKennzahl!C216>=100,\"negativ\",DatenKennzahl!C216))","v":30.649122807017498},{"$f":"IF(Zeile<>20,DatenKennzahl!D216,IF(DatenKennzahl!D216>=100,\"negativ\",DatenKennzahl!D216))","v":0.34482758620689702}]
[{"$f":"IF(DatenKennzahl!A217=\"\",\"\",DatenKennzahl!A217)","v":"G 46.14"},{"$f":"IF(DatenKennzahl!B217=\"\",\"\",DatenKennzahl!B217)","v":"Handelsvermittlung von Maschinen, technischem Bedarf, Wasser- und Luftfahrzeugen"},{"$f":"IF(Zeile<>20,DatenKennzahl!C217,IF(DatenKennzahl!C217>=100,\"negativ\",DatenKennzahl!C217))","v":3.78316519414029},{"$f":"IF(Zeile<>20,DatenKennzahl!D217,IF(DatenKennzahl!D217>=100,\"negativ\",DatenKennzahl!D217))","v":1.48648648648649}]
[{"$f":"IF(DatenKennzahl!A218=\"\",\"\",DatenKennzahl!A218)","v":"G 46.15"},{"$f":"IF(DatenKennzahl!B218=\"\",\"\",DatenKennzahl!B218)","v":"Handelsvermittlung von Möbeln, Einrichtungs- und Haushaltsgegenständen, Eisen- und Metallwaren"},{"$f":"IF(Zeile<>20,DatenKennzahl!C218,IF(DatenKennzahl!C218>=100,\"negativ\",DatenKennzahl!C218))","v":3.2291666666666701},{"$f":"IF(Zeile<>20,DatenKennzahl!D218,IF(DatenKennzahl!D218>=100,\"negativ\",DatenKennzahl!D218))","v":1.26086956521739}]
[{"$f":"IF(DatenKennzahl!A219=\"\",\"\",DatenKennzahl!A219)","v":"G 46.16"},{"$f":"IF(DatenKennzahl!B219=\"\",\"\",DatenKennzahl!B219)","v":"Handelsvermittlung von Textilien, Bekleidung, Schuhen und Lederwaren"},{"$f":"IF(Zeile<>20,DatenKennzahl!C219,IF(DatenKennzahl!C219>=100,\"negativ\",DatenKennzahl!C219))","v":2.52727272727273},{"$f":"IF(Zeile<>20,DatenKennzahl!D219,IF(DatenKennzahl!D219>=100,\"negativ\",DatenKennzahl!D219))","v":0.25290023201856099}]
[{"$f":"IF(DatenKennzahl!A220=\"\",\"\",DatenKennzahl!A220)","v":"G 46.18"},{"$f":"IF(DatenKennzahl!B220=\"\",\"\",DatenKennzahl!B220)","v":"Handelsvermittlung von sonstigen Waren "},{"$f":"IF(Zeile<>20,DatenKennzahl!C220,IF(DatenKennzahl!C220>=100,\"negativ\",DatenKennzahl!C220))","v":2.90625},{"$f":"IF(Zeile<>20,DatenKennzahl!D220,IF(DatenKennzahl!D220>=100,\"negativ\",DatenKennzahl!D220))","v":0.34025974025973998}]
[{"$f":"IF(DatenKennzahl!A221=\"\",\"\",DatenKennzahl!A221)","v":"G 46.19"},{"$f":"IF(DatenKennzahl!B221=\"\",\"\",DatenKennzahl!B221)","v":"Handelsvermittlung von Waren ohne ausgeprägten Schwerpunkt"},{"$f":"IF(Zeile<>20,DatenKennzahl!C221,IF(DatenKennzahl!C221>=100,\"negativ\",DatenKennzahl!C221))","v":3.2131147540983598},{"$f":"IF(Zeile<>20,DatenKennzahl!D221,IF(DatenKennzahl!D221>=100,\"negativ\",DatenKennzahl!D221))","v":0.52941176470588203}]
[{"$f":"IF(DatenKennzahl!A222=\"\",\"\",DatenKennzahl!A222)","v":"G 46.2"},{"$f":"IF(DatenKennzahl!B222=\"\",\"\",DatenKennzahl!B222)","v":"Großhandel mit landwirtschaftlichen Grundstoffen und lebenden Tieren"},{"$f":"IF(Zeile<>20,DatenKennzahl!C222,IF(DatenKennzahl!C222>=100,\"negativ\",DatenKennzahl!C222))","v":10.235294117647101},{"$f":"IF(Zeile<>20,DatenKennzahl!D222,IF(DatenKennzahl!D222>=100,\"negativ\",DatenKennzahl!D222))","v":3.0274481575966701}]
[{"$f":"IF(DatenKennzahl!A223=\"\",\"\",DatenKennzahl!A223)","v":"G 46.21"},{"$f":"IF(DatenKennzahl!B223=\"\",\"\",DatenKennzahl!B223)","v":"Großhandel mit Getreide, Rohtabak, Saatgut und Futtermitteln"},{"$f":"IF(Zeile<>20,DatenKennzahl!C223,IF(DatenKennzahl!C223>=100,\"negativ\",DatenKennzahl!C223))","v":10.235294117647101},{"$f":"IF(Zeile<>20,DatenKennzahl!D223,IF(DatenKennzahl!D223>=100,\"negativ\",DatenKennzahl!D223))","v":3.6481481481481501}]
[{"$f":"IF(DatenKennzahl!A224=\"\",\"\",DatenKennzahl!A224)","v":"G 46.22"},{"$f":"IF(DatenKennzahl!B224=\"\",\"\",DatenKennzahl!B224)","v":"Großhandel mit Blumen und Pflanzen"},{"$f":"IF(Zeile<>20,DatenKennzahl!C224,IF(DatenKennzahl!C224>=100,\"negativ\",DatenKennzahl!C224))","v":8.4604982125973294},{"$f":"IF(Zeile<>20,DatenKennzahl!D224,IF(DatenKennzahl!D224>=100,\"negativ\",DatenKennzahl!D224))","v":1.7532467532467499}]
[{"$f":"IF(DatenKennzahl!A225=\"\",\"\",DatenKennzahl!A225)","v":"G 46.23"},{"$f":"IF(DatenKennzahl!B225=\"\",\"\",DatenKennzahl!B225)","v":"Großhandel mit lebenden Tieren"},{"$f":"IF(Zeile<>20,DatenKennzahl!C225,IF(DatenKennzahl!C225>=100,\"negativ\",DatenKennzahl!C225))","v":13.818181818181801},{"$f":"IF(Zeile<>20,DatenKennzahl!D225,IF(DatenKennzahl!D225>=100,\"negativ\",DatenKennzahl!D225))","v":2.5704225352112702}]
[{"$f":"IF(DatenKennzahl!A226=\"\",\"\",DatenKennzahl!A226)","v":"G 46.3"},{"$f":"IF(DatenKennzahl!B226=\"\",\"\",DatenKennzahl!B226)","v":"Großhandel mit Nahrungs- und Genussmitteln, Getränken und Tabakwaren"},{"$f":"IF(Zeile<>20,DatenKennzahl!C226,IF(DatenKennzahl!C226>=100,\"negativ\",DatenKennzahl!C226))","v":8.2867523235776499},{"$f":"IF(Zeile<>20,DatenKennzahl!D226,IF(DatenKennzahl!D226>=100,\"negativ\",DatenKennzahl!D226))","v":1.92592592592593}]
[{"$f":"IF(DatenKennzahl!A227=\"\",\"\",DatenKennzahl!A227)","v":"G 46.31"},{"$f":"IF(DatenKennzahl!B227=\"\",\"\",DatenKennzahl!B227)","v":"Großhandel mit Obst, Gemüse und Kartoffeln"},{"$f":"IF(Zeile<>20,DatenKennzahl!C227,IF(DatenKennzahl!C227>=100,\"negativ\",DatenKennzahl!C227))","v":7.9129692832764498},{"$f":"IF(Zeile<>20,DatenKennzahl!D227,IF(DatenKennzahl!D227>=100,\"negativ\",DatenKennzahl!D227))","v":2.3796296296296302}]
[{"$f":"IF(DatenKennzahl!A228=\"\",\"\",DatenKennzahl!A228)","v":"G 46.32"},{"$f":"IF(DatenKennzahl!B228=\"\",\"\",DatenKennzahl!B228)","v":"Großhandel mit Fleisch und Fleischwaren"},{"$f":"IF(Zeile<>20,DatenKennzahl!C228,IF(DatenKennzahl!C228>=100,\"negativ\",DatenKennzahl!C228))","v":7.3870967741935498},{"$f":"IF(Zeile<>20,DatenKennzahl!D228,IF(DatenKennzahl!D228>=100,\"negativ\",DatenKennzahl!D228))","v":0.73978314639486498}]
[{"$f":"IF(DatenKennzahl!A229=\"\",\"\",DatenKennzahl!A229)","v":"G 46.34"},{"$f":"IF(DatenKennzahl!B229=\"\",\"\",DatenKennzahl!B229)","v":"Großhandel mit Getränken"},{"$f":"IF(Zeile<>20,DatenKennzahl!C229,IF(DatenKennzahl!C229>=100,\"negativ\",DatenKennzahl!C229))","v":10.0959346416176},{"$f":"IF(Zeile<>20,DatenKennzahl!D229,IF(DatenKennzahl!D229>=100,\"negativ\",DatenKennzahl!D229))","v":2.0072992700729899}]
[{"$f":"IF(DatenKennzahl!A230=\"\",\"\",DatenKennzahl!A230)","v":"G 46.34-1"},{"$f":"IF(DatenKennzahl!B230=\"\",\"\",DatenKennzahl!B230)","v":"Großhandel mit Wein und Spirituosen"},{"$f":"IF(Zeile<>20,DatenKennzahl!C230,IF(DatenKennzahl!C230>=100,\"negativ\",DatenKennzahl!C230))","v":13.4133333333333},{"$f":"IF(Zeile<>20,DatenKennzahl!D230,IF(DatenKennzahl!D230>=100,\"negativ\",DatenKennzahl!D230))","v":2.72826086956522}]
[{"$f":"IF(DatenKennzahl!A231=\"\",\"\",DatenKennzahl!A231)","v":"G 46.34-9"},{"$f":"IF(DatenKennzahl!B231=\"\",\"\",DatenKennzahl!B231)","v":"Großhandel mit sonstigen Getränken"},{"$f":"IF(Zeile<>20,DatenKennzahl!C231,IF(DatenKennzahl!C231>=100,\"negativ\",DatenKennzahl!C231))","v":7.5674662668665702},{"$f":"IF(Zeile<>20,DatenKennzahl!D231,IF(DatenKennzahl!D231>=100,\"negativ\",DatenKennzahl!D231))","v":1.6923076923076901}]
[{"$f":"IF(DatenKennzahl!A232=\"\",\"\",DatenKennzahl!A232)","v":"G 46.38"},{"$f":"IF(DatenKennzahl!B232=\"\",\"\",DatenKennzahl!B232)","v":"Großhandel mit sonstigen Nahrungs- und Genussmitteln"},{"$f":"IF(Zeile<>20,DatenKennzahl!C232,IF(DatenKennzahl!C232>=100,\"negativ\",DatenKennzahl!C232))","v":8.2790697674418592},{"$f":"IF(Zeile<>20,DatenKennzahl!D232,IF(DatenKennzahl!D232>=100,\"negativ\",DatenKennzahl!D232))","v":2.0588235294117601}]
[{"$f":"IF(DatenKennzahl!A233=\"\",\"\",DatenKennzahl!A233)","v":"G 46.39"},{"$f":"IF(DatenKennzahl!B233=\"\",\"\",DatenKennzahl!B233)","v":"Großhandel mit Nahrungs- und Genussmitteln, Getränken und Tabakwaren, ohne ausgeprägten Schwerpunkt"},{"$f":"IF(Zeile<>20,DatenKennzahl!C233,IF(DatenKennzahl!C233>=100,\"negativ\",DatenKennzahl!C233))","v":6.4225661217705596},{"$f":"IF(Zeile<>20,DatenKennzahl!D233,IF(DatenKennzahl!D233>=100,\"negativ\",DatenKennzahl!D233))","v":1.4801377118644099}]
[{"$f":"IF(DatenKennzahl!A234=\"\",\"\",DatenKennzahl!A234)","v":"G 46.4"},{"$f":"IF(DatenKennzahl!B234=\"\",\"\",DatenKennzahl!B234)","v":"Großhandel mit Gebrauchs- und Verbrauchsgütern"},{"$f":"IF(Zeile<>20,DatenKennzahl!C234,IF(DatenKennzahl!C234>=100,\"negativ\",DatenKennzahl!C234))","v":7.1360000000000001},{"$f":"IF(Zeile<>20,DatenKennzahl!D234,IF(DatenKennzahl!D234>=100,\"negativ\",DatenKennzahl!D234))","v":1.31034482758621}]
[{"$f":"IF(DatenKennzahl!A235=\"\",\"\",DatenKennzahl!A235)","v":"G 46.41"},{"$f":"IF(DatenKennzahl!B235=\"\",\"\",DatenKennzahl!B235)","v":"Großhandel mit Textilien"},{"$f":"IF(Zeile<>20,DatenKennzahl!C235,IF(DatenKennzahl!C235>=100,\"negativ\",DatenKennzahl!C235))","v":6.8778947368421104},{"$f":"IF(Zeile<>20,DatenKennzahl!D235,IF(DatenKennzahl!D235>=100,\"negativ\",DatenKennzahl!D235))","v":1.0900900900900901}]
[{"$f":"IF(DatenKennzahl!A236=\"\",\"\",DatenKennzahl!A236)","v":"G 46.42"},{"$f":"IF(DatenKennzahl!B236=\"\",\"\",DatenKennzahl!B236)","v":"Großhandel mit Bekleidung und Schuhen"},{"$f":"IF(Zeile<>20,DatenKennzahl!C236,IF(DatenKennzahl!C236>=100,\"negativ\",DatenKennzahl!C236))","v":7.58262196575898},{"$f":"IF(Zeile<>20,DatenKennzahl!D236,IF(DatenKennzahl!D236>=100,\"negativ\",DatenKennzahl!D236))","v":1.35120303925707}]
[{"$f":"IF(DatenKennzahl!A237=\"\",\"\",DatenKennzahl!A237)","v":"G 46.42-1"},{"$f":"IF(DatenKennzahl!B237=\"\",\"\",DatenKennzahl!B237)","v":"Großhandel mit Bekleidung"},{"$f":"IF(Zeile<>20,DatenKennzahl!C237,IF(DatenKennzahl!C237>=100,\"negativ\",DatenKennzahl!C237))","v":7.8945868945868902},{"$f":"IF(Zeile<>20,DatenKennzahl!D237,IF(DatenKennzahl!D237>=100,\"negativ\",DatenKennzahl!D237))","v":1.2129688493324899}]
[{"$f":"IF(DatenKennzahl!A238=\"\",\"\",DatenKennzahl!A238)","v":"G 46.42-2"},{"$f":"IF(DatenKennzahl!B238=\"\",\"\",DatenKennzahl!B238)","v":"Großhandel mit Schuhen"},{"$f":"IF(Zeile<>20,DatenKennzahl!C238,IF(DatenKennzahl!C238>=100,\"negativ\",DatenKennzahl!C238))","v":6.1556886227544902},{"$f":"IF(Zeile<>20,DatenKennzahl!D238,IF(DatenKennzahl!D238>=100,\"negativ\",DatenKennzahl!D238))","v":1.3691756272401401}]
[{"$f":"IF(DatenKennzahl!A239=\"\",\"\",DatenKennzahl!A239)","v":"G 46.43"},{"$f":"IF(DatenKennzahl!B239=\"\",\"\",DatenKennzahl!B239)","v":"Großhandel mit Foto- und optischen Erzeugnissen, elektrischen Haushaltsgeräten und Geräten der Unterhaltungselektronik"},{"$f":"IF(Zeile<>20,DatenKennzahl!C239,IF(DatenKennzahl!C239>=100,\"negativ\",DatenKennzahl!C239))","v":10.2751996007984},{"$f":"IF(Zeile<>20,DatenKennzahl!D239,IF(DatenKennzahl!D239>=100,\"negativ\",DatenKennzahl!D239))","v":1.35}]
[{"$f":"IF(DatenKennzahl!A240=\"\",\"\",DatenKennzahl!A240)","v":"G 46.43-1"},{"$f":"IF(DatenKennzahl!B240=\"\",\"\",DatenKennzahl!B240)","v":"Großhandel mit Foto- und optischen Erzeugnissen"},{"$f":"IF(Zeile<>20,DatenKennzahl!C240,IF(DatenKennzahl!C240>=100,\"negativ\",DatenKennzahl!C240))","v":5.9043303121852997},{"$f":"IF(Zeile<>20,DatenKennzahl!D240,IF(DatenKennzahl!D240>=100,\"negativ\",DatenKennzahl!D240))","v":1.13793103448276}]
[{"$f":"IF(DatenKennzahl!A241=\"\",\"\",DatenKennzahl!A241)","v":"G 46.43-2"},{"$f":"IF(DatenKennzahl!B241=\"\",\"\",DatenKennzahl!B241)","v":"Großhandel mit elektrischen Haushaltsgeräten "},{"$f":"IF(Zeile<>20,DatenKennzahl!C241,IF(DatenKennzahl!C241>=100,\"negativ\",DatenKennzahl!C241))","v":11.178343949044599},{"$f":"IF(Zeile<>20,DatenKennzahl!D241,IF(DatenKennzahl!D241>=100,\"negativ\",DatenKennzahl!D241))","v":1.1728110599078301}]
[{"$f":"IF(DatenKennzahl!A242=\"\",\"\",DatenKennzahl!A242)","v":"G 46.43-3"},{"$f":"IF(DatenKennzahl!B242=\"\",\"\",DatenKennzahl!B242)","v":"Großhandel mit Geräten der Unterhaltungselektronik"},{"$f":"IF(Zeile<>20,DatenKennzahl!C242,IF(DatenKennzahl!C242>=100,\"negativ\",DatenKennzahl!C242))","v":9.7525773195876297},{"$f":"IF(Zeile<>20,DatenKennzahl!D242,IF(DatenKennzahl!D242>=100,\"negativ\",DatenKennzahl!D242))","v":1.58223062381853}]
[{"$f":"IF(DatenKennzahl!A243=\"\",\"\",DatenKennzahl!A243)","v":"G 46.44"},{"$f":"IF(DatenKennzahl!B243=\"\",\"\",DatenKennzahl!B243)","v":"Großhandel mit keramischen Erzeugnissen, Glaswaren und Reinigungsmitteln"},{"$f":"IF(Zeile<>20,DatenKennzahl!C243,IF(DatenKennzahl!C243>=100,\"negativ\",DatenKennzahl!C243))","v":8.9181737650419493},{"$f":"IF(Zeile<>20,DatenKennzahl!D243,IF(DatenKennzahl!D243>=100,\"negativ\",DatenKennzahl!D243))","v":3.9814836091269501}]
[{"$f":"IF(DatenKennzahl!A244=\"\",\"\",DatenKennzahl!A244)","v":"G 46.45"},{"$f":"IF(DatenKennzahl!B244=\"\",\"\",DatenKennzahl!B244)","v":"Großhandel mit kosmetischen Erzeugnissen und Körperpflegemitteln"},{"$f":"IF(Zeile<>20,DatenKennzahl!C244,IF(DatenKennzahl!C244>=100,\"negativ\",DatenKennzahl!C244))","v":5.78405398065631},{"$f":"IF(Zeile<>20,DatenKennzahl!D244,IF(DatenKennzahl!D244>=100,\"negativ\",DatenKennzahl!D244))","v":0.93726090283091001}]
[{"$f":"IF(DatenKennzahl!A245=\"\",\"\",DatenKennzahl!A245)","v":"G 46.46"},{"$f":"IF(DatenKennzahl!B245=\"\",\"\",DatenKennzahl!B245)","v":"Großhandel mit pharmazeutischen, medizinischen und orthopädischen Erzeugnissen"},{"$f":"IF(Zeile<>20,DatenKennzahl!C245,IF(DatenKennzahl!C245>=100,\"negativ\",DatenKennzahl!C245))","v":4.9641367806505396},{"$f":"IF(Zeile<>20,DatenKennzahl!D245,IF(DatenKennzahl!D245>=100,\"negativ\",DatenKennzahl!D245))","v":0.579633204633205}]
[{"$f":"IF(DatenKennzahl!A246=\"\",\"\",DatenKennzahl!A246)","v":"G 46.46-1"},{"$f":"IF(DatenKennzahl!B246=\"\",\"\",DatenKennzahl!B246)","v":"Großhandel mit pharmazeutischen Erzeugnissen"},{"$f":"IF(Zeile<>20,DatenKennzahl!C246,IF(DatenKennzahl!C246>=100,\"negativ\",DatenKennzahl!C246))","v":3.5628140703517599},{"$f":"IF(Zeile<>20,DatenKennzahl!D246,IF(DatenKennzahl!D246>=100,\"negativ\",DatenKennzahl!D246))","v":0.90462070324561805}]
[{"$f":"IF(DatenKennzahl!A247=\"\",\"\",DatenKennzahl!A247)","v":"G 46.46-2"},{"$f":"IF(DatenKennzahl!B247=\"\",\"\",DatenKennzahl!B247)","v":"Großhandel mit medizinischen und orthopädischen Artikeln, Laborbedarf"},{"$f":"IF(Zeile<>20,DatenKennzahl!C247,IF(DatenKennzahl!C247>=100,\"negativ\",DatenKennzahl!C247))","v":5.7727272727272698},{"$f":"IF(Zeile<>20,DatenKennzahl!D247,IF(DatenKennzahl!D247>=100,\"negativ\",DatenKennzahl!D247))","v":0.55339805825242705}]
[{"$f":"IF(DatenKennzahl!A248=\"\",\"\",DatenKennzahl!A248)","v":"G 46.47"},{"$f":"IF(DatenKennzahl!B248=\"\",\"\",DatenKennzahl!B248)","v":"Großhandel mit Möbeln, Teppichen, Lampen und Leuchten"},{"$f":"IF(Zeile<>20,DatenKennzahl!C248,IF(DatenKennzahl!C248>=100,\"negativ\",DatenKennzahl!C248))","v":8.4528383004697307},{"$f":"IF(Zeile<>20,DatenKennzahl!D248,IF(DatenKennzahl!D248>=100,\"negativ\",DatenKennzahl!D248))","v":1.51237964236589}]
[{"$f":"IF(DatenKennzahl!A249=\"\",\"\",DatenKennzahl!A249)","v":"G 46.48"},{"$f":"IF(DatenKennzahl!B249=\"\",\"\",DatenKennzahl!B249)","v":"Großhandel mit Uhren und Schmuck"},{"$f":"IF(Zeile<>20,DatenKennzahl!C249,IF(DatenKennzahl!C249>=100,\"negativ\",DatenKennzahl!C249))","v":10.082758620689701},{"$f":"IF(Zeile<>20,DatenKennzahl!D249,IF(DatenKennzahl!D249>=100,\"negativ\",DatenKennzahl!D249))","v":1.58993576017131}]
[{"$f":"IF(DatenKennzahl!A250=\"\",\"\",DatenKennzahl!A250)","v":"G 46.49"},{"$f":"IF(DatenKennzahl!B250=\"\",\"\",DatenKennzahl!B250)","v":"Großhandel mit sonstigen Gebrauchs- und Verbrauchsgütern"},{"$f":"IF(Zeile<>20,DatenKennzahl!C250,IF(DatenKennzahl!C250>=100,\"negativ\",DatenKennzahl!C250))","v":8.0810810810810807},{"$f":"IF(Zeile<>20,DatenKennzahl!D250,IF(DatenKennzahl!D250>=100,\"negativ\",DatenKennzahl!D250))","v":1.8567901234567901}]
[{"$f":"IF(DatenKennzahl!A251=\"\",\"\",DatenKennzahl!A251)","v":"G 46.49-1"},{"$f":"IF(DatenKennzahl!B251=\"\",\"\",DatenKennzahl!B251)","v":"Großhandel mit Schreibwaren und Bürobedarf"},{"$f":"IF(Zeile<>20,DatenKennzahl!C251,IF(DatenKennzahl!C251>=100,\"negativ\",DatenKennzahl!C251))","v":8.5806451612903203},{"$f":"IF(Zeile<>20,DatenKennzahl!D251,IF(DatenKennzahl!D251>=100,\"negativ\",DatenKennzahl!D251))","v":0.96732026143790895}]
[{"$f":"IF(DatenKennzahl!A252=\"\",\"\",DatenKennzahl!A252)","v":"G 46.49-3"},{"$f":"IF(DatenKennzahl!B252=\"\",\"\",DatenKennzahl!B252)","v":"Großhandel mit Sportartikeln"},{"$f":"IF(Zeile<>20,DatenKennzahl!C252,IF(DatenKennzahl!C252>=100,\"negativ\",DatenKennzahl!C252))","v":8.9143835616438398},{"$f":"IF(Zeile<>20,DatenKennzahl!D252,IF(DatenKennzahl!D252>=100,\"negativ\",DatenKennzahl!D252))","v":1.94545454545455}]
[{"$f":"IF(DatenKennzahl!A253=\"\",\"\",DatenKennzahl!A253)","v":"G 46.49-9"},{"$f":"IF(DatenKennzahl!B253=\"\",\"\",DatenKennzahl!B253)","v":"Großhandel mit sonstigen Gebrauchs- und Verbrauchsgütern a.n.g."},{"$f":"IF(Zeile<>20,DatenKennzahl!C253,IF(DatenKennzahl!C253>=100,\"negativ\",DatenKennzahl!C253))","v":8.0810810810810807},{"$f":"IF(Zeile<>20,DatenKennzahl!D253,IF(DatenKennzahl!D253>=100,\"negativ\",DatenKennzahl!D253))","v":2.14854928074659}]
[{"$f":"IF(DatenKennzahl!A254=\"\",\"\",DatenKennzahl!A254)","v":"G 46.5"},{"$f":"IF(DatenKennzahl!B254=\"\",\"\",DatenKennzahl!B254)","v":"Großhandel mit Geräten der Informations- und Kommunikationstechnik"},{"$f":"IF(Zeile<>20,DatenKennzahl!C254,IF(DatenKennzahl!C254>=100,\"negativ\",DatenKennzahl!C254))","v":5.4563883459195601},{"$f":"IF(Zeile<>20,DatenKennzahl!D254,IF(DatenKennzahl!D254>=100,\"negativ\",DatenKennzahl!D254))","v":0.59735882486248204}]
[{"$f":"IF(DatenKennzahl!A255=\"\",\"\",DatenKennzahl!A255)","v":"G 46.51"},{"$f":"IF(DatenKennzahl!B255=\"\",\"\",DatenKennzahl!B255)","v":"Großhandel mit Datenverarbeitungsgeräten, peripheren Geräten und Software"},{"$f":"IF(Zeile<>20,DatenKennzahl!C255,IF(DatenKennzahl!C255>=100,\"negativ\",DatenKennzahl!C255))","v":5.5945945945945903},{"$f":"IF(Zeile<>20,DatenKennzahl!D255,IF(DatenKennzahl!D255>=100,\"negativ\",DatenKennzahl!D255))","v":0.55636154996823795}]
[{"$f":"IF(DatenKennzahl!A256=\"\",\"\",DatenKennzahl!A256)","v":"G 46.51-1"},{"$f":"IF(DatenKennzahl!B256=\"\",\"\",DatenKennzahl!B256)","v":"Großhandel mit Datenverarbeitungsgeräten und peripheren Einheiten"},{"$f":"IF(Zeile<>20,DatenKennzahl!C256,IF(DatenKennzahl!C256>=100,\"negativ\",DatenKennzahl!C256))","v":6.2279411764705896},{"$f":"IF(Zeile<>20,DatenKennzahl!D256,IF(DatenKennzahl!D256>=100,\"negativ\",DatenKennzahl!D256))","v":0.61842105263157898}]
[{"$f":"IF(DatenKennzahl!A257=\"\",\"\",DatenKennzahl!A257)","v":"G 46.51-2"},{"$f":"IF(DatenKennzahl!B257=\"\",\"\",DatenKennzahl!B257)","v":"Großhandel mit Standardsoftware"},{"$f":"IF(Zeile<>20,DatenKennzahl!C257,IF(DatenKennzahl!C257>=100,\"negativ\",DatenKennzahl!C257))","v":3.7286432160804002},{"$f":"IF(Zeile<>20,DatenKennzahl!D257,IF(DatenKennzahl!D257>=100,\"negativ\",DatenKennzahl!D257))","v":0}]
[{"$f":"IF(DatenKennzahl!A258=\"\",\"\",DatenKennzahl!A258)","v":"G 46.52"},{"$f":"IF(DatenKennzahl!B258=\"\",\"\",DatenKennzahl!B258)","v":"Großhandel mit elektronischen Bauteilen und Telekommunikationsgeräten"},{"$f":"IF(Zeile<>20,DatenKennzahl!C258,IF(DatenKennzahl!C258>=100,\"negativ\",DatenKennzahl!C258))","v":5.32804672669561},{"$f":"IF(Zeile<>20,DatenKennzahl!D258,IF(DatenKennzahl!D258>=100,\"negativ\",DatenKennzahl!D258))","v":0.305676855895197}]
[{"$f":"IF(DatenKennzahl!A259=\"\",\"\",DatenKennzahl!A259)","v":"G 46.6"},{"$f":"IF(DatenKennzahl!B259=\"\",\"\",DatenKennzahl!B259)","v":"Großhandel mit sonstigen Maschinen, Ausrüstungen und Zubehör"},{"$f":"IF(Zeile<>20,DatenKennzahl!C259,IF(DatenKennzahl!C259>=100,\"negativ\",DatenKennzahl!C259))","v":5.9205202312138701},{"$f":"IF(Zeile<>20,DatenKennzahl!D259,IF(DatenKennzahl!D259>=100,\"negativ\",DatenKennzahl!D259))","v":0.87111570866624}]
[{"$f":"IF(DatenKennzahl!A260=\"\",\"\",DatenKennzahl!A260)","v":"G 46.61"},{"$f":"IF(DatenKennzahl!B260=\"\",\"\",DatenKennzahl!B260)","v":"Großhandel mit landwirtschaftlichen Maschinen und Geräten"},{"$f":"IF(Zeile<>20,DatenKennzahl!C260,IF(DatenKennzahl!C260>=100,\"negativ\",DatenKennzahl!C260))","v":10.6078799249531},{"$f":"IF(Zeile<>20,DatenKennzahl!D260,IF(DatenKennzahl!D260>=100,\"negativ\",DatenKennzahl!D260))","v":3.0277264325323499}]
[{"$f":"IF(DatenKennzahl!A261=\"\",\"\",DatenKennzahl!A261)","v":"G 46.62"},{"$f":"IF(DatenKennzahl!B261=\"\",\"\",DatenKennzahl!B261)","v":"Großhandel mit Werkzeugmaschinen"},{"$f":"IF(Zeile<>20,DatenKennzahl!C261,IF(DatenKennzahl!C261>=100,\"negativ\",DatenKennzahl!C261))","v":9.4112627986348105},{"$f":"IF(Zeile<>20,DatenKennzahl!D261,IF(DatenKennzahl!D261>=100,\"negativ\",DatenKennzahl!D261))","v":1.6772908366533901}]
[{"$f":"IF(DatenKennzahl!A262=\"\",\"\",DatenKennzahl!A262)","v":"G 46.63"},{"$f":"IF(DatenKennzahl!B262=\"\",\"\",DatenKennzahl!B262)","v":"Großhandel mit Bergwerks-, Bau- und Baustoffmaschinen"},{"$f":"IF(Zeile<>20,DatenKennzahl!C262,IF(DatenKennzahl!C262>=100,\"negativ\",DatenKennzahl!C262))","v":9.0314136125654407},{"$f":"IF(Zeile<>20,DatenKennzahl!D262,IF(DatenKennzahl!D262>=100,\"negativ\",DatenKennzahl!D262))","v":1.2777777777777799}]
[{"$f":"IF(DatenKennzahl!A263=\"\",\"\",DatenKennzahl!A263)","v":"G 46.65"},{"$f":"IF(DatenKennzahl!B263=\"\",\"\",DatenKennzahl!B263)","v":"Großhandel mit Büromöbeln"},{"$f":"IF(Zeile<>20,DatenKennzahl!C263,IF(DatenKennzahl!C263>=100,\"negativ\",DatenKennzahl!C263))","v":10.7272727272727},{"$f":"IF(Zeile<>20,DatenKennzahl!D263,IF(DatenKennzahl!D263>=100,\"negativ\",DatenKennzahl!D263))","v":1.72727272727273}]
[{"$f":"IF(DatenKennzahl!A264=\"\",\"\",DatenKennzahl!A264)","v":"G 46.66"},{"$f":"IF(DatenKennzahl!B264=\"\",\"\",DatenKennzahl!B264)","v":"Großhandel mit sonstigen Büromaschinen und -einrichtungen"},{"$f":"IF(Zeile<>20,DatenKennzahl!C264,IF(DatenKennzahl!C264>=100,\"negativ\",DatenKennzahl!C264))","v":4.3056300268096503},{"$f":"IF(Zeile<>20,DatenKennzahl!D264,IF(DatenKennzahl!D264>=100,\"negativ\",DatenKennzahl!D264))","v":0.64137931034482798}]
[{"$f":"IF(DatenKennzahl!A265=\"\",\"\",DatenKennzahl!A265)","v":"G 46.69"},{"$f":"IF(DatenKennzahl!B265=\"\",\"\",DatenKennzahl!B265)","v":"Großhandel mit sonstigen Maschinen und Ausrüstungen"},{"$f":"IF(Zeile<>20,DatenKennzahl!C265,IF(DatenKennzahl!C265>=100,\"negativ\",DatenKennzahl!C265))","v":4.625},{"$f":"IF(Zeile<>20,DatenKennzahl!D265,IF(DatenKennzahl!D265>=100,\"negativ\",DatenKennzahl!D265))","v":0.713248638838475}]
[{"$f":"IF(DatenKennzahl!A266=\"\",\"\",DatenKennzahl!A266)","v":"G 46.7"},{"$f":"IF(DatenKennzahl!B266=\"\",\"\",DatenKennzahl!B266)","v":"Sonstiger Großhandel"},{"$f":"IF(Zeile<>20,DatenKennzahl!C266,IF(DatenKennzahl!C266>=100,\"negativ\",DatenKennzahl!C266))","v":6.8022151898734204},{"$f":"IF(Zeile<>20,DatenKennzahl!D266,IF(DatenKennzahl!D266>=100,\"negativ\",DatenKennzahl!D266))","v":1.2226148409894}]
[{"$f":"IF(DatenKennzahl!A267=\"\",\"\",DatenKennzahl!A267)","v":"G 46.71"},{"$f":"IF(DatenKennzahl!B267=\"\",\"\",DatenKennzahl!B267)","v":"Großhandel mit festen Brennstoffen und Mineralölerzeugnissen"},{"$f":"IF(Zeile<>20,DatenKennzahl!C267,IF(DatenKennzahl!C267>=100,\"negativ\",DatenKennzahl!C267))","v":11.75},{"$f":"IF(Zeile<>20,DatenKennzahl!D267,IF(DatenKennzahl!D267>=100,\"negativ\",DatenKennzahl!D267))","v":2.5901794145420198}]
[{"$f":"IF(DatenKennzahl!A268=\"\",\"\",DatenKennzahl!A268)","v":"G 46.71-2"},{"$f":"IF(DatenKennzahl!B268=\"\",\"\",DatenKennzahl!B268)","v":"Großhandel mit Mineralölerzeugnissen"},{"$f":"IF(Zeile<>20,DatenKennzahl!C268,IF(DatenKennzahl!C268>=100,\"negativ\",DatenKennzahl!C268))","v":11.75},{"$f":"IF(Zeile<>20,DatenKennzahl!D268,IF(DatenKennzahl!D268>=100,\"negativ\",DatenKennzahl!D268))","v":2.1007346372645999}]
[{"$f":"IF(DatenKennzahl!A269=\"\",\"\",DatenKennzahl!A269)","v":"G 46.72"},{"$f":"IF(DatenKennzahl!B269=\"\",\"\",DatenKennzahl!B269)","v":"Großhandel mit Erzen, Metallen und Metallhalbzeug"},{"$f":"IF(Zeile<>20,DatenKennzahl!C269,IF(DatenKennzahl!C269>=100,\"negativ\",DatenKennzahl!C269))","v":6.7140562248995996},{"$f":"IF(Zeile<>20,DatenKennzahl!D269,IF(DatenKennzahl!D269>=100,\"negativ\",DatenKennzahl!D269))","v":1.0952380952381}]
[{"$f":"IF(DatenKennzahl!A270=\"\",\"\",DatenKennzahl!A270)","v":"G 46.72-1"},{"$f":"IF(DatenKennzahl!B270=\"\",\"\",DatenKennzahl!B270)","v":"Großhandel mit Erzen, Eisen, Stahl und Halbzeug"},{"$f":"IF(Zeile<>20,DatenKennzahl!C270,IF(DatenKennzahl!C270>=100,\"negativ\",DatenKennzahl!C270))","v":7.3634272605158699},{"$f":"IF(Zeile<>20,DatenKennzahl!D270,IF(DatenKennzahl!D270>=100,\"negativ\",DatenKennzahl!D270))","v":1.5584255842558401}]
[{"$f":"IF(DatenKennzahl!A271=\"\",\"\",DatenKennzahl!A271)","v":"G 46.72-2"},{"$f":"IF(DatenKennzahl!B271=\"\",\"\",DatenKennzahl!B271)","v":"Großhandel mit NE-Metallen und Halbzeug"},{"$f":"IF(Zeile<>20,DatenKennzahl!C271,IF(DatenKennzahl!C271>=100,\"negativ\",DatenKennzahl!C271))","v":3.7916666666666701},{"$f":"IF(Zeile<>20,DatenKennzahl!D271,IF(DatenKennzahl!D271>=100,\"negativ\",DatenKennzahl!D271))","v":4.6296296296296301E-2}]
[{"$f":"IF(DatenKennzahl!A272=\"\",\"\",DatenKennzahl!A272)","v":"G 46.73"},{"$f":"IF(DatenKennzahl!B272=\"\",\"\",DatenKennzahl!B272)","v":"Großhandel mit Holz, Baustoffen, Anstrichmitteln und Sanitärkeramik"},{"$f":"IF(Zeile<>20,DatenKennzahl!C272,IF(DatenKennzahl!C272>=100,\"negativ\",DatenKennzahl!C272))","v":8.6390977443608996},{"$f":"IF(Zeile<>20,DatenKennzahl!D272,IF(DatenKennzahl!D272>=100,\"negativ\",DatenKennzahl!D272))","v":2}]
[{"$f":"IF(DatenKennzahl!A273=\"\",\"\",DatenKennzahl!A273)","v":"G 46.73-1"},{"$f":"IF(DatenKennzahl!B273=\"\",\"\",DatenKennzahl!B273)","v":"Großhandel mit Holz"},{"$f":"IF(Zeile<>20,DatenKennzahl!C273,IF(DatenKennzahl!C273>=100,\"negativ\",DatenKennzahl!C273))","v":10.2253102936251},{"$f":"IF(Zeile<>20,DatenKennzahl!D273,IF(DatenKennzahl!D273>=100,\"negativ\",DatenKennzahl!D273))","v":2.79190751445087}]
[{"$f":"IF(DatenKennzahl!A274=\"\",\"\",DatenKennzahl!A274)","v":"G 46.73-2"},{"$f":"IF(DatenKennzahl!B274=\"\",\"\",DatenKennzahl!B274)","v":"Großhandel mit Baustoffen und Sanitärkeramik"},{"$f":"IF(Zeile<>20,DatenKennzahl!C274,IF(DatenKennzahl!C274>=100,\"negativ\",DatenKennzahl!C274))","v":8.5701608948462304},{"$f":"IF(Zeile<>20,DatenKennzahl!D274,IF(DatenKennzahl!D274>=100,\"negativ\",DatenKennzahl!D274))","v":1.5833333333333299}]
[{"$f":"IF(DatenKennzahl!A275=\"\",\"\",DatenKennzahl!A275)","v":"G 46.73-3"},{"$f":"IF(DatenKennzahl!B275=\"\",\"\",DatenKennzahl!B275)","v":"Großhandel mit Flachglas, Anstrichmitteln, Tapeten und Bodenbelägen"},{"$f":"IF(Zeile<>20,DatenKennzahl!C275,IF(DatenKennzahl!C275>=100,\"negativ\",DatenKennzahl!C275))","v":4.47272727272727},{"$f":"IF(Zeile<>20,DatenKennzahl!D275,IF(DatenKennzahl!D275>=100,\"negativ\",DatenKennzahl!D275))","v":0.717592592592593}]
[{"$f":"IF(DatenKennzahl!A276=\"\",\"\",DatenKennzahl!A276)","v":"G 46.74"},{"$f":"IF(DatenKennzahl!B276=\"\",\"\",DatenKennzahl!B276)","v":"Großhandel mit Metall- und Kunststoffwaren für Bauzwecke sowie Installationsbedarf für Gas, Wasser und Heizung"},{"$f":"IF(Zeile<>20,DatenKennzahl!C276,IF(DatenKennzahl!C276>=100,\"negativ\",DatenKennzahl!C276))","v":4.3667052409003304},{"$f":"IF(Zeile<>20,DatenKennzahl!D276,IF(DatenKennzahl!D276>=100,\"negativ\",DatenKennzahl!D276))","v":0.59597358225149599}]
[{"$f":"IF(DatenKennzahl!A277=\"\",\"\",DatenKennzahl!A277)","v":"G 46.75"},{"$f":"IF(DatenKennzahl!B277=\"\",\"\",DatenKennzahl!B277)","v":"Großhandel mit chemischen Erzeugnissen"},{"$f":"IF(Zeile<>20,DatenKennzahl!C277,IF(DatenKennzahl!C277>=100,\"negativ\",DatenKennzahl!C277))","v":5.2992424242424203},{"$f":"IF(Zeile<>20,DatenKennzahl!D277,IF(DatenKennzahl!D277>=100,\"negativ\",DatenKennzahl!D277))","v":0.87067669172932305}]
[{"$f":"IF(DatenKennzahl!A278=\"\",\"\",DatenKennzahl!A278)","v":"G 46.76"},{"$f":"IF(DatenKennzahl!B278=\"\",\"\",DatenKennzahl!B278)","v":"Großhandel mit sonstigen Halbwaren"},{"$f":"IF(Zeile<>20,DatenKennzahl!C278,IF(DatenKennzahl!C278>=100,\"negativ\",DatenKennzahl!C278))","v":3.8},{"$f":"IF(Zeile<>20,DatenKennzahl!D278,IF(DatenKennzahl!D278>=100,\"negativ\",DatenKennzahl!D278))","v":0.65970149253731303}]
[{"$f":"IF(DatenKennzahl!A279=\"\",\"\",DatenKennzahl!A279)","v":"G 46.76-1"},{"$f":"IF(DatenKennzahl!B279=\"\",\"\",DatenKennzahl!B279)","v":"Großhandel mit Papier und Pappe"},{"$f":"IF(Zeile<>20,DatenKennzahl!C279,IF(DatenKennzahl!C279>=100,\"negativ\",DatenKennzahl!C279))","v":7.2723880597014903},{"$f":"IF(Zeile<>20,DatenKennzahl!D279,IF(DatenKennzahl!D279>=100,\"negativ\",DatenKennzahl!D279))","v":0.33461538461538498}]
[{"$f":"IF(DatenKennzahl!A280=\"\",\"\",DatenKennzahl!A280)","v":"G 46.76-9"},{"$f":"IF(DatenKennzahl!B280=\"\",\"\",DatenKennzahl!B280)","v":"Großhandel mit sonstigen Halbwaren a.n.g"},{"$f":"IF(Zeile<>20,DatenKennzahl!C280,IF(DatenKennzahl!C280>=100,\"negativ\",DatenKennzahl!C280))","v":1.82},{"$f":"IF(Zeile<>20,DatenKennzahl!D280,IF(DatenKennzahl!D280>=100,\"negativ\",DatenKennzahl!D280))","v":0.21056721056721101}]
[{"$f":"IF(DatenKennzahl!A281=\"\",\"\",DatenKennzahl!A281)","v":"G 46.77"},{"$f":"IF(DatenKennzahl!B281=\"\",\"\",DatenKennzahl!B281)","v":"Großhandel mit Altmaterialien und Reststoffen"},{"$f":"IF(Zeile<>20,DatenKennzahl!C281,IF(DatenKennzahl!C281>=100,\"negativ\",DatenKennzahl!C281))","v":2.66066066066066},{"$f":"IF(Zeile<>20,DatenKennzahl!D281,IF(DatenKennzahl!D281>=100,\"negativ\",DatenKennzahl!D281))","v":0.52895852725204295}]
[{"$f":"IF(DatenKennzahl!A282=\"\",\"\",DatenKennzahl!A282)","v":"G 46.9"},{"$f":"IF(DatenKennzahl!B282=\"\",\"\",DatenKennzahl!B282)","v":"Großhandel ohne ausgeprägten Schwerpunkt"},{"$f":"IF(Zeile<>20,DatenKennzahl!C282,IF(DatenKennzahl!C282>=100,\"negativ\",DatenKennzahl!C282))","v":5.7948004548940801},{"$f":"IF(Zeile<>20,DatenKennzahl!D282,IF(DatenKennzahl!D282>=100,\"negativ\",DatenKennzahl!D282))","v":1.3171641791044799}]
[{"$f":"IF(DatenKennzahl!A283=\"\",\"\",DatenKennzahl!A283)","v":"G 47"},{"$f":"IF(DatenKennzahl!B283=\"\",\"\",DatenKennzahl!B283)","v":"Einzelhandel (ohne Handel mit Kraftfahrzeugen)"},{"$f":"IF(Zeile<>20,DatenKennzahl!C283,IF(DatenKennzahl!C283>=100,\"negativ\",DatenKennzahl!C283))","v":9.8968253968254007},{"$f":"IF(Zeile<>20,DatenKennzahl!D283,IF(DatenKennzahl!D283>=100,\"negativ\",DatenKennzahl!D283))","v":1.88575241521367}]
[{"$f":"IF(DatenKennzahl!A284=\"\",\"\",DatenKennzahl!A284)","v":"G 47.1"},{"$f":"IF(DatenKennzahl!B284=\"\",\"\",DatenKennzahl!B284)","v":"Einzelhandel mit Waren verschiedener Art (in Verkaufsräumen)"},{"$f":"IF(Zeile<>20,DatenKennzahl!C284,IF(DatenKennzahl!C284>=100,\"negativ\",DatenKennzahl!C284))","v":10.397681436553199},{"$f":"IF(Zeile<>20,DatenKennzahl!D284,IF(DatenKennzahl!D284>=100,\"negativ\",DatenKennzahl!D284))","v":1.6860986547085199}]
[{"$f":"IF(DatenKennzahl!A285=\"\",\"\",DatenKennzahl!A285)","v":"G 47.11"},{"$f":"IF(DatenKennzahl!B285=\"\",\"\",DatenKennzahl!B285)","v":"Einzelhandel mit Waren verschiedener Art, Hauptrichtung Nahrungs- und Genussmittel, Getränke und Tabakwaren"},{"$f":"IF(Zeile<>20,DatenKennzahl!C285,IF(DatenKennzahl!C285>=100,\"negativ\",DatenKennzahl!C285))","v":13.464570284204701},{"$f":"IF(Zeile<>20,DatenKennzahl!D285,IF(DatenKennzahl!D285>=100,\"negativ\",DatenKennzahl!D285))","v":2.5293132744829898}]
[{"$f":"IF(DatenKennzahl!A286=\"\",\"\",DatenKennzahl!A286)","v":"G 47.19"},{"$f":"IF(DatenKennzahl!B286=\"\",\"\",DatenKennzahl!B286)","v":"Sonstiger Einzelhandel mit Waren verschiedener Art"},{"$f":"IF(Zeile<>20,DatenKennzahl!C286,IF(DatenKennzahl!C286>=100,\"negativ\",DatenKennzahl!C286))","v":7.9761904761904798},{"$f":"IF(Zeile<>20,DatenKennzahl!D286,IF(DatenKennzahl!D286>=100,\"negativ\",DatenKennzahl!D286))","v":1.0516129032258099}]
[{"$f":"IF(DatenKennzahl!A287=\"\",\"\",DatenKennzahl!A287)","v":"G 47.19-9"},{"$f":"IF(DatenKennzahl!B287=\"\",\"\",DatenKennzahl!B287)","v":"Sonstiger Einzelhandel mit Waren verschiedener Art (ohne Warenhäuser)"},{"$f":"IF(Zeile<>20,DatenKennzahl!C287,IF(DatenKennzahl!C287>=100,\"negativ\",DatenKennzahl!C287))","v":7.4010349288486399},{"$f":"IF(Zeile<>20,DatenKennzahl!D287,IF(DatenKennzahl!D287>=100,\"negativ\",DatenKennzahl!D287))","v":0.84848484848484895}]
[{"$f":"IF(DatenKennzahl!A288=\"\",\"\",DatenKennzahl!A288)","v":"G 47.2"},{"$f":"IF(DatenKennzahl!B288=\"\",\"\",DatenKennzahl!B288)","v":"Einzelhandel mit Nahrungs- und Genussmitteln, Getränken und Tabakwaren (in Verkaufsräumen)"},{"$f":"IF(Zeile<>20,DatenKennzahl!C288,IF(DatenKennzahl!C288>=100,\"negativ\",DatenKennzahl!C288))","v":8.1218786258386704},{"$f":"IF(Zeile<>20,DatenKennzahl!D288,IF(DatenKennzahl!D288>=100,\"negativ\",DatenKennzahl!D288))","v":1.5115276209444399}]
[{"$f":"IF(DatenKennzahl!A289=\"\",\"\",DatenKennzahl!A289)","v":"G 47.21"},{"$f":"IF(DatenKennzahl!B289=\"\",\"\",DatenKennzahl!B289)","v":"Einzelhandel mit Obst, Gemüse und Kartoffeln "},{"$f":"IF(Zeile<>20,DatenKennzahl!C289,IF(DatenKennzahl!C289>=100,\"negativ\",DatenKennzahl!C289))","v":18.148820326678798},{"$f":"IF(Zeile<>20,DatenKennzahl!D289,IF(DatenKennzahl!D289>=100,\"negativ\",DatenKennzahl!D289))","v":3.44019138755981}]
[{"$f":"IF(DatenKennzahl!A290=\"\",\"\",DatenKennzahl!A290)","v":"G 47.22"},{"$f":"IF(DatenKennzahl!B290=\"\",\"\",DatenKennzahl!B290)","v":"Einzelhandel mit Fleisch und Fleischwaren "},{"$f":"IF(Zeile<>20,DatenKennzahl!C290,IF(DatenKennzahl!C290>=100,\"negativ\",DatenKennzahl!C290))","v":9.1121070300484508},{"$f":"IF(Zeile<>20,DatenKennzahl!D290,IF(DatenKennzahl!D290>=100,\"negativ\",DatenKennzahl!D290))","v":3.4713375796178298}]
[{"$f":"IF(DatenKennzahl!A291=\"\",\"\",DatenKennzahl!A291)","v":"G 47.24"},{"$f":"IF(DatenKennzahl!B291=\"\",\"\",DatenKennzahl!B291)","v":"Einzelhandel mit Back- und Süßwaren "},{"$f":"IF(Zeile<>20,DatenKennzahl!C291,IF(DatenKennzahl!C291>=100,\"negativ\",DatenKennzahl!C291))","v":7.5505050505050502},{"$f":"IF(Zeile<>20,DatenKennzahl!D291,IF(DatenKennzahl!D291>=100,\"negativ\",DatenKennzahl!D291))","v":1.5611741471363501}]
[{"$f":"IF(DatenKennzahl!A292=\"\",\"\",DatenKennzahl!A292)","v":"G 47.25"},{"$f":"IF(DatenKennzahl!B292=\"\",\"\",DatenKennzahl!B292)","v":"Einzelhandel mit Getränken "},{"$f":"IF(Zeile<>20,DatenKennzahl!C292,IF(DatenKennzahl!C292>=100,\"negativ\",DatenKennzahl!C292))","v":22.126315789473701},{"$f":"IF(Zeile<>20,DatenKennzahl!D292,IF(DatenKennzahl!D292>=100,\"negativ\",DatenKennzahl!D292))","v":2.7950120680468999}]
[{"$f":"IF(DatenKennzahl!A293=\"\",\"\",DatenKennzahl!A293)","v":"G 47.26"},{"$f":"IF(DatenKennzahl!B293=\"\",\"\",DatenKennzahl!B293)","v":"Einzelhandel mit Tabakwaren "},{"$f":"IF(Zeile<>20,DatenKennzahl!C293,IF(DatenKennzahl!C293>=100,\"negativ\",DatenKennzahl!C293))","v":5.5680272108843498},{"$f":"IF(Zeile<>20,DatenKennzahl!D293,IF(DatenKennzahl!D293>=100,\"negativ\",DatenKennzahl!D293))","v":1.2404126688122199}]
[{"$f":"IF(DatenKennzahl!A294=\"\",\"\",DatenKennzahl!A294)","v":"G 47.29"},{"$f":"IF(DatenKennzahl!B294=\"\",\"\",DatenKennzahl!B294)","v":"Sonstiger Einzelhandel mit Nahrungs- und Genussmitteln"},{"$f":"IF(Zeile<>20,DatenKennzahl!C294,IF(DatenKennzahl!C294>=100,\"negativ\",DatenKennzahl!C294))","v":13.681818181818199},{"$f":"IF(Zeile<>20,DatenKennzahl!D294,IF(DatenKennzahl!D294>=100,\"negativ\",DatenKennzahl!D294))","v":1.53521126760563}]
[{"$f":"IF(DatenKennzahl!A295=\"\",\"\",DatenKennzahl!A295)","v":"G 47.3"},{"$f":"IF(DatenKennzahl!B295=\"\",\"\",DatenKennzahl!B295)","v":"Einzelhandel mit Motorenkraftstoffen (Tankstellen)"},{"$f":"IF(Zeile<>20,DatenKennzahl!C295,IF(DatenKennzahl!C295>=100,\"negativ\",DatenKennzahl!C295))","v":9.1743119266054993},{"$f":"IF(Zeile<>20,DatenKennzahl!D295,IF(DatenKennzahl!D295>=100,\"negativ\",DatenKennzahl!D295))","v":1.5010526315789501}]
[{"$f":"IF(DatenKennzahl!A296=\"\",\"\",DatenKennzahl!A296)","v":"G 47.4"},{"$f":"IF(DatenKennzahl!B296=\"\",\"\",DatenKennzahl!B296)","v":"Einzelhandel mit Geräten der Informations- und Kommunikationstechnik (in Verkaufsräumen)"},{"$f":"IF(Zeile<>20,DatenKennzahl!C296,IF(DatenKennzahl!C296>=100,\"negativ\",DatenKennzahl!C296))","v":7.0186903874334803},{"$f":"IF(Zeile<>20,DatenKennzahl!D296,IF(DatenKennzahl!D296>=100,\"negativ\",DatenKennzahl!D296))","v":1.0609756097561001}]
[{"$f":"IF(DatenKennzahl!A297=\"\",\"\",DatenKennzahl!A297)","v":"G 47.41"},{"$f":"IF(DatenKennzahl!B297=\"\",\"\",DatenKennzahl!B297)","v":"Einzelhandel mit Datenverarbeitungsgeräten, peripheren Geräten und Software "},{"$f":"IF(Zeile<>20,DatenKennzahl!C297,IF(DatenKennzahl!C297>=100,\"negativ\",DatenKennzahl!C297))","v":4.3096134921442903},{"$f":"IF(Zeile<>20,DatenKennzahl!D297,IF(DatenKennzahl!D297>=100,\"negativ\",DatenKennzahl!D297))","v":0.939183362005518}]
[{"$f":"IF(DatenKennzahl!A298=\"\",\"\",DatenKennzahl!A298)","v":"G 47.42"},{"$f":"IF(DatenKennzahl!B298=\"\",\"\",DatenKennzahl!B298)","v":"Einzelhandel mit Telekommunikationsgeräten "},{"$f":"IF(Zeile<>20,DatenKennzahl!C298,IF(DatenKennzahl!C298>=100,\"negativ\",DatenKennzahl!C298))","v":7.0818181818181802},{"$f":"IF(Zeile<>20,DatenKennzahl!D298,IF(DatenKennzahl!D298>=100,\"negativ\",DatenKennzahl!D298))","v":1.8235294117647101}]
[{"$f":"IF(DatenKennzahl!A299=\"\",\"\",DatenKennzahl!A299)","v":"G 47.43"},{"$f":"IF(DatenKennzahl!B299=\"\",\"\",DatenKennzahl!B299)","v":"Einzelhandel mit Geräten der Unterhaltungselektronik"},{"$f":"IF(Zeile<>20,DatenKennzahl!C299,IF(DatenKennzahl!C299>=100,\"negativ\",DatenKennzahl!C299))","v":14.3798463722742},{"$f":"IF(Zeile<>20,DatenKennzahl!D299,IF(DatenKennzahl!D299>=100,\"negativ\",DatenKennzahl!D299))","v":2.5344418052256499}]
[{"$f":"IF(DatenKennzahl!A300=\"\",\"\",DatenKennzahl!A300)","v":"G 47.5"},{"$f":"IF(DatenKennzahl!B300=\"\",\"\",DatenKennzahl!B300)","v":"Einzelhandel mit sonstigen Haushaltsgeräten, Textilien, Heimwerker- und Einrichtungsbedarf (in Verkaufsräumen)"},{"$f":"IF(Zeile<>20,DatenKennzahl!C300,IF(DatenKennzahl!C300>=100,\"negativ\",DatenKennzahl!C300))","v":9.7307692307692299},{"$f":"IF(Zeile<>20,DatenKennzahl!D300,IF(DatenKennzahl!D300>=100,\"negativ\",DatenKennzahl!D300))","v":2.2337662337662301}]
[{"$f":"IF(DatenKennzahl!A301=\"\",\"\",DatenKennzahl!A301)","v":"G 47.51"},{"$f":"IF(DatenKennzahl!B301=\"\",\"\",DatenKennzahl!B301)","v":"Einzelhandel mit Textilien "},{"$f":"IF(Zeile<>20,DatenKennzahl!C301,IF(DatenKennzahl!C301>=100,\"negativ\",DatenKennzahl!C301))","v":20.5828189562822},{"$f":"IF(Zeile<>20,DatenKennzahl!D301,IF(DatenKennzahl!D301>=100,\"negativ\",DatenKennzahl!D301))","v":2.0902777777777799}]
[{"$f":"IF(DatenKennzahl!A302=\"\",\"\",DatenKennzahl!A302)","v":"G 47.52"},{"$f":"IF(DatenKennzahl!B302=\"\",\"\",DatenKennzahl!B302)","v":"Einzelhandel mit Metallwaren, Anstrichmitteln, Bau- und Heimwerkerbedarf "},{"$f":"IF(Zeile<>20,DatenKennzahl!C302,IF(DatenKennzahl!C302>=100,\"negativ\",DatenKennzahl!C302))","v":7.9875638757049101},{"$f":"IF(Zeile<>20,DatenKennzahl!D302,IF(DatenKennzahl!D302>=100,\"negativ\",DatenKennzahl!D302))","v":1.9838709677419399}]
[{"$f":"IF(DatenKennzahl!A303=\"\",\"\",DatenKennzahl!A303)","v":"G 47.54"},{"$f":"IF(DatenKennzahl!B303=\"\",\"\",DatenKennzahl!B303)","v":"Einzelhandel mit elektrischen Haushaltsgeräten "},{"$f":"IF(Zeile<>20,DatenKennzahl!C303,IF(DatenKennzahl!C303>=100,\"negativ\",DatenKennzahl!C303))","v":7.5909090909090899},{"$f":"IF(Zeile<>20,DatenKennzahl!D303,IF(DatenKennzahl!D303>=100,\"negativ\",DatenKennzahl!D303))","v":2.2337662337662301}]
[{"$f":"IF(DatenKennzahl!A304=\"\",\"\",DatenKennzahl!A304)","v":"G 47.59"},{"$f":"IF(DatenKennzahl!B304=\"\",\"\",DatenKennzahl!B304)","v":"Einzelhandel mit Möbeln, Einrichtungsgegenständen und sonstigem Hausrat "},{"$f":"IF(Zeile<>20,DatenKennzahl!C304,IF(DatenKennzahl!C304>=100,\"negativ\",DatenKennzahl!C304))","v":10.4189406099518},{"$f":"IF(Zeile<>20,DatenKennzahl!D304,IF(DatenKennzahl!D304>=100,\"negativ\",DatenKennzahl!D304))","v":2.4170212765957402}]
[{"$f":"IF(DatenKennzahl!A305=\"\",\"\",DatenKennzahl!A305)","v":"G 47.59-1"},{"$f":"IF(DatenKennzahl!B305=\"\",\"\",DatenKennzahl!B305)","v":"Einzelhandel mit Musikinstrumenten und Musikalien"},{"$f":"IF(Zeile<>20,DatenKennzahl!C305,IF(DatenKennzahl!C305>=100,\"negativ\",DatenKennzahl!C305))","v":16.7169811320755},{"$f":"IF(Zeile<>20,DatenKennzahl!D305,IF(DatenKennzahl!D305>=100,\"negativ\",DatenKennzahl!D305))","v":4.5147058823529402}]
[{"$f":"IF(DatenKennzahl!A306=\"\",\"\",DatenKennzahl!A306)","v":"G 47.59-2"},{"$f":"IF(DatenKennzahl!B306=\"\",\"\",DatenKennzahl!B306)","v":"Einzelhandel mit Wohnmöbeln"},{"$f":"IF(Zeile<>20,DatenKennzahl!C306,IF(DatenKennzahl!C306>=100,\"negativ\",DatenKennzahl!C306))","v":8.9789569069673796},{"$f":"IF(Zeile<>20,DatenKennzahl!D306,IF(DatenKennzahl!D306>=100,\"negativ\",DatenKennzahl!D306))","v":1.51055254286971}]
[{"$f":"IF(DatenKennzahl!A307=\"\",\"\",DatenKennzahl!A307)","v":"G 47.59-9"},{"$f":"IF(DatenKennzahl!B307=\"\",\"\",DatenKennzahl!B307)","v":"Einzelhandel mit Einrichtungsgegenständen und Hausrat a.n.g. "},{"$f":"IF(Zeile<>20,DatenKennzahl!C307,IF(DatenKennzahl!C307>=100,\"negativ\",DatenKennzahl!C307))","v":10.2982456140351},{"$f":"IF(Zeile<>20,DatenKennzahl!D307,IF(DatenKennzahl!D307>=100,\"negativ\",DatenKennzahl!D307))","v":2.5645161290322598}]
[{"$f":"IF(DatenKennzahl!A308=\"\",\"\",DatenKennzahl!A308)","v":"G 47.6"},{"$f":"IF(DatenKennzahl!B308=\"\",\"\",DatenKennzahl!B308)","v":"Einzelhandel mit Verlagsprodukten, Sportausrüstungen und Spielwaren (in Verkaufsräumen)"},{"$f":"IF(Zeile<>20,DatenKennzahl!C308,IF(DatenKennzahl!C308>=100,\"negativ\",DatenKennzahl!C308))","v":15.4},{"$f":"IF(Zeile<>20,DatenKennzahl!D308,IF(DatenKennzahl!D308>=100,\"negativ\",DatenKennzahl!D308))","v":3.0779273503918101}]
[{"$f":"IF(DatenKennzahl!A309=\"\",\"\",DatenKennzahl!A309)","v":"G 47.61"},{"$f":"IF(DatenKennzahl!B309=\"\",\"\",DatenKennzahl!B309)","v":"Einzelhandel mit Büchern "},{"$f":"IF(Zeile<>20,DatenKennzahl!C309,IF(DatenKennzahl!C309>=100,\"negativ\",DatenKennzahl!C309))","v":64.8888888888889},{"$f":"IF(Zeile<>20,DatenKennzahl!D309,IF(DatenKennzahl!D309>=100,\"negativ\",DatenKennzahl!D309))","v":4.7234042553191502}]
[{"$f":"IF(DatenKennzahl!A310=\"\",\"\",DatenKennzahl!A310)","v":"G 47.62"},{"$f":"IF(DatenKennzahl!B310=\"\",\"\",DatenKennzahl!B310)","v":"Einzelhandel mit Zeitschriften, Zeitungen, Schreibwaren und Bürobedarf "},{"$f":"IF(Zeile<>20,DatenKennzahl!C310,IF(DatenKennzahl!C310>=100,\"negativ\",DatenKennzahl!C310))","v":23},{"$f":"IF(Zeile<>20,DatenKennzahl!D310,IF(DatenKennzahl!D310>=100,\"negativ\",DatenKennzahl!D310))","v":1.76685382229377}]
[{"$f":"IF(DatenKennzahl!A311=\"\",\"\",DatenKennzahl!A311)","v":"G 47.64"},{"$f":"IF(DatenKennzahl!B311=\"\",\"\",DatenKennzahl!B311)","v":"Einzelhandel mit Fahrrädern, Sport- und Campingartikeln"},{"$f":"IF(Zeile<>20,DatenKennzahl!C311,IF(DatenKennzahl!C311>=100,\"negativ\",DatenKennzahl!C311))","v":13.2941263683313},{"$f":"IF(Zeile<>20,DatenKennzahl!D311,IF(DatenKennzahl!D311>=100,\"negativ\",DatenKennzahl!D311))","v":3.0767386091127098}]
[{"$f":"IF(DatenKennzahl!A312=\"\",\"\",DatenKennzahl!A312)","v":"G 47.65"},{"$f":"IF(DatenKennzahl!B312=\"\",\"\",DatenKennzahl!B312)","v":"Einzelhandel mit Spielwaren "},{"$f":"IF(Zeile<>20,DatenKennzahl!C312,IF(DatenKennzahl!C312>=100,\"negativ\",DatenKennzahl!C312))","v":40.7368421052632},{"$f":"IF(Zeile<>20,DatenKennzahl!D312,IF(DatenKennzahl!D312>=100,\"negativ\",DatenKennzahl!D312))","v":4}]
[{"$f":"IF(DatenKennzahl!A313=\"\",\"\",DatenKennzahl!A313)","v":"G 47.7"},{"$f":"IF(DatenKennzahl!B313=\"\",\"\",DatenKennzahl!B313)","v":"Einzelhandel mit sonstigen Gütern (in Verkaufsräumen)"},{"$f":"IF(Zeile<>20,DatenKennzahl!C313,IF(DatenKennzahl!C313>=100,\"negativ\",DatenKennzahl!C313))","v":10.4230769230769},{"$f":"IF(Zeile<>20,DatenKennzahl!D313,IF(DatenKennzahl!D313>=100,\"negativ\",DatenKennzahl!D313))","v":1.7441860465116299}]
[{"$f":"IF(DatenKennzahl!A314=\"\",\"\",DatenKennzahl!A314)","v":"G 47.71"},{"$f":"IF(DatenKennzahl!B314=\"\",\"\",DatenKennzahl!B314)","v":"Einzelhandel mit Bekleidung"},{"$f":"IF(Zeile<>20,DatenKennzahl!C314,IF(DatenKennzahl!C314>=100,\"negativ\",DatenKennzahl!C314))","v":12.9166666666667},{"$f":"IF(Zeile<>20,DatenKennzahl!D314,IF(DatenKennzahl!D314>=100,\"negativ\",DatenKennzahl!D314))","v":1.52380952380952}]
[{"$f":"IF(DatenKennzahl!A315=\"\",\"\",DatenKennzahl!A315)","v":"G 47.72"},{"$f":"IF(DatenKennzahl!B315=\"\",\"\",DatenKennzahl!B315)","v":"Einzelhandel mit Schuhen und Lederwaren "},{"$f":"IF(Zeile<>20,DatenKennzahl!C315,IF(DatenKennzahl!C315>=100,\"negativ\",DatenKennzahl!C315))","v":14.125},{"$f":"IF(Zeile<>20,DatenKennzahl!D315,IF(DatenKennzahl!D315>=100,\"negativ\",DatenKennzahl!D315))","v":3.4108152385556401}]
[{"$f":"IF(DatenKennzahl!A316=\"\",\"\",DatenKennzahl!A316)","v":"G 47.72-1"},{"$f":"IF(DatenKennzahl!B316=\"\",\"\",DatenKennzahl!B316)","v":"Einzelhandel mit Schuhen"},{"$f":"IF(Zeile<>20,DatenKennzahl!C316,IF(DatenKennzahl!C316>=100,\"negativ\",DatenKennzahl!C316))","v":21.638330757341599},{"$f":"IF(Zeile<>20,DatenKennzahl!D316,IF(DatenKennzahl!D316>=100,\"negativ\",DatenKennzahl!D316))","v":2.8880597014925402}]
[{"$f":"IF(DatenKennzahl!A317=\"\",\"\",DatenKennzahl!A317)","v":"G 47.72-2"},{"$f":"IF(DatenKennzahl!B317=\"\",\"\",DatenKennzahl!B317)","v":"Einzelhandel mit Leder- und Taschnerwaren"},{"$f":"IF(Zeile<>20,DatenKennzahl!C317,IF(DatenKennzahl!C317>=100,\"negativ\",DatenKennzahl!C317))","v":8.6046511627907005},{"$f":"IF(Zeile<>20,DatenKennzahl!D317,IF(DatenKennzahl!D317>=100,\"negativ\",DatenKennzahl!D317))","v":0.29370629370629397}]
[{"$f":"IF(DatenKennzahl!A318=\"\",\"\",DatenKennzahl!A318)","v":"G 47.73"},{"$f":"IF(DatenKennzahl!B318=\"\",\"\",DatenKennzahl!B318)","v":"Apotheken"},{"$f":"IF(Zeile<>20,DatenKennzahl!C318,IF(DatenKennzahl!C318>=100,\"negativ\",DatenKennzahl!C318))","v":7.6629175483416896},{"$f":"IF(Zeile<>20,DatenKennzahl!D318,IF(DatenKennzahl!D318>=100,\"negativ\",DatenKennzahl!D318))","v":1.8761282388831499}]
[{"$f":"IF(DatenKennzahl!A319=\"\",\"\",DatenKennzahl!A319)","v":"G 47.74"},{"$f":"IF(DatenKennzahl!B319=\"\",\"\",DatenKennzahl!B319)","v":"Einzelhandel mit medizinischen und orthopädischen Artikeln "},{"$f":"IF(Zeile<>20,DatenKennzahl!C319,IF(DatenKennzahl!C319>=100,\"negativ\",DatenKennzahl!C319))","v":4.1183206106870198},{"$f":"IF(Zeile<>20,DatenKennzahl!D319,IF(DatenKennzahl!D319>=100,\"negativ\",DatenKennzahl!D319))","v":0.53475935828876997}]
[{"$f":"IF(DatenKennzahl!A320=\"\",\"\",DatenKennzahl!A320)","v":"G 47.75"},{"$f":"IF(DatenKennzahl!B320=\"\",\"\",DatenKennzahl!B320)","v":"Einzelhandel mit kosmetischen Erzeugnissen und Körperpflegemitteln "},{"$f":"IF(Zeile<>20,DatenKennzahl!C320,IF(DatenKennzahl!C320>=100,\"negativ\",DatenKennzahl!C320))","v":11.523809523809501},{"$f":"IF(Zeile<>20,DatenKennzahl!D320,IF(DatenKennzahl!D320>=100,\"negativ\",DatenKennzahl!D320))","v":1.6951219512195099}]
[{"$f":"IF(DatenKennzahl!A321=\"\",\"\",DatenKennzahl!A321)","v":"G 47.76"},{"$f":"IF(DatenKennzahl!B321=\"\",\"\",DatenKennzahl!B321)","v":"Einzelhandel mit Blumen, Pflanzen, Sämereien, Düngemitteln, zoologischem Bedarf und lebenden Tieren"},{"$f":"IF(Zeile<>20,DatenKennzahl!C321,IF(DatenKennzahl!C321>=100,\"negativ\",DatenKennzahl!C321))","v":23.312792337961199},{"$f":"IF(Zeile<>20,DatenKennzahl!D321,IF(DatenKennzahl!D321>=100,\"negativ\",DatenKennzahl!D321))","v":2.2961551614636799}]
[{"$f":"IF(DatenKennzahl!A322=\"\",\"\",DatenKennzahl!A322)","v":"G 47.76-1"},{"$f":"IF(DatenKennzahl!B322=\"\",\"\",DatenKennzahl!B322)","v":"Einzelhandel mit Blumen, Pflanzen, Sämereien, Düngemitteln; Blumenbinderei"},{"$f":"IF(Zeile<>20,DatenKennzahl!C322,IF(DatenKennzahl!C322>=100,\"negativ\",DatenKennzahl!C322))","v":21.2839279267452},{"$f":"IF(Zeile<>20,DatenKennzahl!D322,IF(DatenKennzahl!D322>=100,\"negativ\",DatenKennzahl!D322))","v":2.2961551614636799}]
[{"$f":"IF(DatenKennzahl!A323=\"\",\"\",DatenKennzahl!A323)","v":"G 47.76-2"},{"$f":"IF(DatenKennzahl!B323=\"\",\"\",DatenKennzahl!B323)","v":"Einzelhandel mit zoologischem Bedarf und lebenden Tieren"},{"$f":"IF(Zeile<>20,DatenKennzahl!C323,IF(DatenKennzahl!C323>=100,\"negativ\",DatenKennzahl!C323))","v":"negativ"},{"$f":"IF(Zeile<>20,DatenKennzahl!D323,IF(DatenKennzahl!D323>=100,\"negativ\",DatenKennzahl!D323))","v":2.2314753042398001}]
[{"$f":"IF(DatenKennzahl!A324=\"\",\"\",DatenKennzahl!A324)","v":"G 47.77"},{"$f":"IF(DatenKennzahl!B324=\"\",\"\",DatenKennzahl!B324)","v":"Einzelhandel mit Uhren und Schmuck "},{"$f":"IF(Zeile<>20,DatenKennzahl!C324,IF(DatenKennzahl!C324>=100,\"negativ\",DatenKennzahl!C324))","v":24.5654548291465},{"$f":"IF(Zeile<>20,DatenKennzahl!D324,IF(DatenKennzahl!D324>=100,\"negativ\",DatenKennzahl!D324))","v":2.62683042040624}]
[{"$f":"IF(DatenKennzahl!A325=\"\",\"\",DatenKennzahl!A325)","v":"G 47.78"},{"$f":"IF(DatenKennzahl!B325=\"\",\"\",DatenKennzahl!B325)","v":"Sonstiger Einzelhandel in Verkaufsräumen (ohne Antiquitäten und Gebrauchtwaren)"},{"$f":"IF(Zeile<>20,DatenKennzahl!C325,IF(DatenKennzahl!C325>=100,\"negativ\",DatenKennzahl!C325))","v":6.2653837547549802},{"$f":"IF(Zeile<>20,DatenKennzahl!D325,IF(DatenKennzahl!D325>=100,\"negativ\",DatenKennzahl!D325))","v":1.28943758573388}]
[{"$f":"IF(DatenKennzahl!A326=\"\",\"\",DatenKennzahl!A326)","v":"G 47.78-1"},{"$f":"IF(DatenKennzahl!B326=\"\",\"\",DatenKennzahl!B326)","v":"Einzelhandel mit Fotoartikeln, optischen und feinmechanischen Artikeln"},{"$f":"IF(Zeile<>20,DatenKennzahl!C326,IF(DatenKennzahl!C326>=100,\"negativ\",DatenKennzahl!C326))","v":4.8050942762417996},{"$f":"IF(Zeile<>20,DatenKennzahl!D326,IF(DatenKennzahl!D326>=100,\"negativ\",DatenKennzahl!D326))","v":1.05376688326858}]
[{"$f":"IF(DatenKennzahl!A327=\"\",\"\",DatenKennzahl!A327)","v":"G 47.78-2"},{"$f":"IF(DatenKennzahl!B327=\"\",\"\",DatenKennzahl!B327)","v":"Einzelhandel mit Brennstoffen"},{"$f":"IF(Zeile<>20,DatenKennzahl!C327,IF(DatenKennzahl!C327>=100,\"negativ\",DatenKennzahl!C327))","v":8.2569269521410593},{"$f":"IF(Zeile<>20,DatenKennzahl!D327,IF(DatenKennzahl!D327>=100,\"negativ\",DatenKennzahl!D327))","v":2.7878787878787898}]
[{"$f":"IF(DatenKennzahl!A328=\"\",\"\",DatenKennzahl!A328)","v":"G 47.78-9"},{"$f":"IF(DatenKennzahl!B328=\"\",\"\",DatenKennzahl!B328)","v":"Sonstiger Einzelhandel a.n.g. in Verkaufsräumen (ohne Antiquitäten und Gebrauchtwaren)"},{"$f":"IF(Zeile<>20,DatenKennzahl!C328,IF(DatenKennzahl!C328>=100,\"negativ\",DatenKennzahl!C328))","v":6.375},{"$f":"IF(Zeile<>20,DatenKennzahl!D328,IF(DatenKennzahl!D328>=100,\"negativ\",DatenKennzahl!D328))","v":1.4039528911972901}]
[{"$f":"IF(DatenKennzahl!A329=\"\",\"\",DatenKennzahl!A329)","v":"G 47.79"},{"$f":"IF(DatenKennzahl!B329=\"\",\"\",DatenKennzahl!B329)","v":"Einzelhandel mit Antiquitäten und Gebrauchtwaren"},{"$f":"IF(Zeile<>20,DatenKennzahl!C329,IF(DatenKennzahl!C329>=100,\"negativ\",DatenKennzahl!C329))","v":11.56},{"$f":"IF(Zeile<>20,DatenKennzahl!D329,IF(DatenKennzahl!D329>=100,\"negativ\",DatenKennzahl!D329))","v":2.4959054658626698}]
[{"$f":"IF(DatenKennzahl!A330=\"\",\"\",DatenKennzahl!A330)","v":"G 47.8"},{"$f":"IF(DatenKennzahl!B330=\"\",\"\",DatenKennzahl!B330)","v":"Einzelhandel an Verkaufsständen und auf Märkten"},{"$f":"IF(Zeile<>20,DatenKennzahl!C330,IF(DatenKennzahl!C330>=100,\"negativ\",DatenKennzahl!C330))","v":"negativ"},{"$f":"IF(Zeile<>20,DatenKennzahl!D330,IF(DatenKennzahl!D330>=100,\"negativ\",DatenKennzahl!D330))","v":5.4039054170500496}]
[{"$f":"IF(DatenKennzahl!A331=\"\",\"\",DatenKennzahl!A331)","v":"G 47.9"},{"$f":"IF(DatenKennzahl!B331=\"\",\"\",DatenKennzahl!B331)","v":"Einzelhandel, nicht in Verkaufsräumen, an Verkaufsständen oder auf Märkten"},{"$f":"IF(Zeile<>20,DatenKennzahl!C331,IF(DatenKennzahl!C331>=100,\"negativ\",DatenKennzahl!C331))","v":8.8139534883720891},{"$f":"IF(Zeile<>20,DatenKennzahl!D331,IF(DatenKennzahl!D331>=100,\"negativ\",DatenKennzahl!D331))","v":0.92783505154639201}]
[{"$f":"IF(DatenKennzahl!A332=\"\",\"\",DatenKennzahl!A332)","v":"G 47.91"},{"$f":"IF(DatenKennzahl!B332=\"\",\"\",DatenKennzahl!B332)","v":"Versand- und Internet-Einzelhandel"},{"$f":"IF(Zeile<>20,DatenKennzahl!C332,IF(DatenKennzahl!C332>=100,\"negativ\",DatenKennzahl!C332))","v":13.6283783783784},{"$f":"IF(Zeile<>20,DatenKennzahl!D332,IF(DatenKennzahl!D332>=100,\"negativ\",DatenKennzahl!D332))","v":1.2777777777777799}]
[{"$f":"IF(DatenKennzahl!A333=\"\",\"\",DatenKennzahl!A333)","v":"G 47.99"},{"$f":"IF(DatenKennzahl!B333=\"\",\"\",DatenKennzahl!B333)","v":"Sonstiger Einzelhandel, nicht in Verkaufsräumen, an Verkaufsständen oder auf Märkten"},{"$f":"IF(Zeile<>20,DatenKennzahl!C333,IF(DatenKennzahl!C333>=100,\"negativ\",DatenKennzahl!C333))","v":6.42372881355932},{"$f":"IF(Zeile<>20,DatenKennzahl!D333,IF(DatenKennzahl!D333>=100,\"negativ\",DatenKennzahl!D333))","v":0.614189544199642}]
[{"$f":"IF(DatenKennzahl!A334=\"\",\"\",DatenKennzahl!A334)","v":"H"},{"$f":"IF(DatenKennzahl!B334=\"\",\"\",DatenKennzahl!B334)","v":"Verkehr und Lagerei"},{"$f":"IF(Zeile<>20,DatenKennzahl!C334,IF(DatenKennzahl!C334>=100,\"negativ\",DatenKennzahl!C334))","v":5.3333333333333304},{"$f":"IF(Zeile<>20,DatenKennzahl!D334,IF(DatenKennzahl!D334>=100,\"negativ\",DatenKennzahl!D334))","v":1.6428571428571399}]
[{"$f":"IF(DatenKennzahl!A335=\"\",\"\",DatenKennzahl!A335)","v":"H 49"},{"$f":"IF(DatenKennzahl!B335=\"\",\"\",DatenKennzahl!B335)","v":"Landverkehr und Transport in Rohrfernleitungen"},{"$f":"IF(Zeile<>20,DatenKennzahl!C335,IF(DatenKennzahl!C335>=100,\"negativ\",DatenKennzahl!C335))","v":5.2691131498470902},{"$f":"IF(Zeile<>20,DatenKennzahl!D335,IF(DatenKennzahl!D335>=100,\"negativ\",DatenKennzahl!D335))","v":1.7336952241955901}]
[{"$f":"IF(DatenKennzahl!A336=\"\",\"\",DatenKennzahl!A336)","v":"H 49.3"},{"$f":"IF(DatenKennzahl!B336=\"\",\"\",DatenKennzahl!B336)","v":"Sonstige Personenbeförderung im Landverkehr"},{"$f":"IF(Zeile<>20,DatenKennzahl!C336,IF(DatenKennzahl!C336>=100,\"negativ\",DatenKennzahl!C336))","v":5.46511627906977},{"$f":"IF(Zeile<>20,DatenKennzahl!D336,IF(DatenKennzahl!D336>=100,\"negativ\",DatenKennzahl!D336))","v":2.23133543638275}]
[{"$f":"IF(DatenKennzahl!A337=\"\",\"\",DatenKennzahl!A337)","v":"H 49.31"},{"$f":"IF(DatenKennzahl!B337=\"\",\"\",DatenKennzahl!B337)","v":"Personenbeförderung im Nahverkehr zu Lande  (ohne Taxi)"},{"$f":"IF(Zeile<>20,DatenKennzahl!C337,IF(DatenKennzahl!C337>=100,\"negativ\",DatenKennzahl!C337))","v":2.7431818181818199},{"$f":"IF(Zeile<>20,DatenKennzahl!D337,IF(DatenKennzahl!D337>=100,\"negativ\",DatenKennzahl!D337))","v":1.0819462227912899}]
[{"$f":"IF(DatenKennzahl!A338=\"\",\"\",DatenKennzahl!A338)","v":"H 49.31-2"},{"$f":"IF(DatenKennzahl!B338=\"\",\"\",DatenKennzahl!B338)","v":"Autobusliniennahverkehr"},{"$f":"IF(Zeile<>20,DatenKennzahl!C338,IF(DatenKennzahl!C338>=100,\"negativ\",DatenKennzahl!C338))","v":2.6454849498327802},{"$f":"IF(Zeile<>20,DatenKennzahl!D338,IF(DatenKennzahl!D338>=100,\"negativ\",DatenKennzahl!D338))","v":1.04656862745098}]
[{"$f":"IF(DatenKennzahl!A339=\"\",\"\",DatenKennzahl!A339)","v":"H 49.32"},{"$f":"IF(DatenKennzahl!B339=\"\",\"\",DatenKennzahl!B339)","v":"Betrieb von Taxis"},{"$f":"IF(Zeile<>20,DatenKennzahl!C339,IF(DatenKennzahl!C339>=100,\"negativ\",DatenKennzahl!C339))","v":5.5666169289829002},{"$f":"IF(Zeile<>20,DatenKennzahl!D339,IF(DatenKennzahl!D339>=100,\"negativ\",DatenKennzahl!D339))","v":1.2197802197802201}]
[{"$f":"IF(DatenKennzahl!A340=\"\",\"\",DatenKennzahl!A340)","v":"H 49.39"},{"$f":"IF(DatenKennzahl!B340=\"\",\"\",DatenKennzahl!B340)","v":"Sonstige Personenbeförderung im Landverkehr a.n.g."},{"$f":"IF(Zeile<>20,DatenKennzahl!C340,IF(DatenKennzahl!C340>=100,\"negativ\",DatenKennzahl!C340))","v":5.6261682242990698},{"$f":"IF(Zeile<>20,DatenKennzahl!D340,IF(DatenKennzahl!D340>=100,\"negativ\",DatenKennzahl!D340))","v":3.09015715467328}]
[{"$f":"IF(DatenKennzahl!A341=\"\",\"\",DatenKennzahl!A341)","v":"H 49.39-1"},{"$f":"IF(DatenKennzahl!B341=\"\",\"\",DatenKennzahl!B341)","v":"Seilbahn-, Sessel- und Schleppliftverkehr"},{"$f":"IF(Zeile<>20,DatenKennzahl!C341,IF(DatenKennzahl!C341>=100,\"negativ\",DatenKennzahl!C341))","v":6.0212256877022998},{"$f":"IF(Zeile<>20,DatenKennzahl!D341,IF(DatenKennzahl!D341>=100,\"negativ\",DatenKennzahl!D341))","v":3.0966295762832599}]
[{"$f":"IF(DatenKennzahl!A342=\"\",\"\",DatenKennzahl!A342)","v":"H 49.39-9"},{"$f":"IF(DatenKennzahl!B342=\"\",\"\",DatenKennzahl!B342)","v":"Sonstige Personenbeförderung im Landverkehr a.n.g. (ohne Seilbahnwirtschaft)"},{"$f":"IF(Zeile<>20,DatenKennzahl!C342,IF(DatenKennzahl!C342>=100,\"negativ\",DatenKennzahl!C342))","v":5.0833333333333304},{"$f":"IF(Zeile<>20,DatenKennzahl!D342,IF(DatenKennzahl!D342>=100,\"negativ\",DatenKennzahl!D342))","v":2.0086956521739099}]
[{"$f":"IF(DatenKennzahl!A343=\"\",\"\",DatenKennzahl!A343)","v":"H 49.4"},{"$f":"IF(DatenKennzahl!B343=\"\",\"\",DatenKennzahl!B343)","v":"Güterbeförderung im Straßenverkehr, Umzugstransporte"},{"$f":"IF(Zeile<>20,DatenKennzahl!C343,IF(DatenKennzahl!C343>=100,\"negativ\",DatenKennzahl!C343))","v":5.1830985915493004},{"$f":"IF(Zeile<>20,DatenKennzahl!D343,IF(DatenKennzahl!D343>=100,\"negativ\",DatenKennzahl!D343))","v":1.5967741935483899}]
[{"$f":"IF(DatenKennzahl!A344=\"\",\"\",DatenKennzahl!A344)","v":"H 49.41"},{"$f":"IF(DatenKennzahl!B344=\"\",\"\",DatenKennzahl!B344)","v":"Güterbeförderung im Straßenverkehr "},{"$f":"IF(Zeile<>20,DatenKennzahl!C344,IF(DatenKennzahl!C344>=100,\"negativ\",DatenKennzahl!C344))","v":5.1830985915493004},{"$f":"IF(Zeile<>20,DatenKennzahl!D344,IF(DatenKennzahl!D344>=100,\"negativ\",DatenKennzahl!D344))","v":1.6177814832300399}]
[{"$f":"IF(DatenKennzahl!A345=\"\",\"\",DatenKennzahl!A345)","v":"H 51"},{"$f":"IF(DatenKennzahl!B345=\"\",\"\",DatenKennzahl!B345)","v":"Luftfahrt"},{"$f":"IF(Zeile<>20,DatenKennzahl!C345,IF(DatenKennzahl!C345>=100,\"negativ\",DatenKennzahl!C345))","v":11.281085366786201},{"$f":"IF(Zeile<>20,DatenKennzahl!D345,IF(DatenKennzahl!D345>=100,\"negativ\",DatenKennzahl!D345))","v":1.06024096385542}]
[{"$f":"IF(DatenKennzahl!A346=\"\",\"\",DatenKennzahl!A346)","v":"H 51.1"},{"$f":"IF(DatenKennzahl!B346=\"\",\"\",DatenKennzahl!B346)","v":"Personenbeförderung in der Luftfahrt"},{"$f":"IF(Zeile<>20,DatenKennzahl!C346,IF(DatenKennzahl!C346>=100,\"negativ\",DatenKennzahl!C346))","v":8.3818181818181792},{"$f":"IF(Zeile<>20,DatenKennzahl!D346,IF(DatenKennzahl!D346>=100,\"negativ\",DatenKennzahl!D346))","v":1.06024096385542}]
[{"$f":"IF(DatenKennzahl!A347=\"\",\"\",DatenKennzahl!A347)","v":"H 52"},{"$f":"IF(DatenKennzahl!B347=\"\",\"\",DatenKennzahl!B347)","v":"Lagerei sowie Erbringung von sonstigen Dienstleistungen für den Verkehr"},{"$f":"IF(Zeile<>20,DatenKennzahl!C347,IF(DatenKennzahl!C347>=100,\"negativ\",DatenKennzahl!C347))","v":5.3955789456208603},{"$f":"IF(Zeile<>20,DatenKennzahl!D347,IF(DatenKennzahl!D347>=100,\"negativ\",DatenKennzahl!D347))","v":1.11785714285714}]
[{"$f":"IF(DatenKennzahl!A348=\"\",\"\",DatenKennzahl!A348)","v":"H 52.1"},{"$f":"IF(DatenKennzahl!B348=\"\",\"\",DatenKennzahl!B348)","v":"Lagerei"},{"$f":"IF(Zeile<>20,DatenKennzahl!C348,IF(DatenKennzahl!C348>=100,\"negativ\",DatenKennzahl!C348))","v":6.6958261863922202},{"$f":"IF(Zeile<>20,DatenKennzahl!D348,IF(DatenKennzahl!D348>=100,\"negativ\",DatenKennzahl!D348))","v":1.8055210402722599}]
[{"$f":"IF(DatenKennzahl!A349=\"\",\"\",DatenKennzahl!A349)","v":"H 52.2"},{"$f":"IF(DatenKennzahl!B349=\"\",\"\",DatenKennzahl!B349)","v":"Erbringung von sonstigen Dienstleistungen für den Verkehr"},{"$f":"IF(Zeile<>20,DatenKennzahl!C349,IF(DatenKennzahl!C349>=100,\"negativ\",DatenKennzahl!C349))","v":5.35},{"$f":"IF(Zeile<>20,DatenKennzahl!D349,IF(DatenKennzahl!D349>=100,\"negativ\",DatenKennzahl!D349))","v":0.91582002902757598}]
[{"$f":"IF(DatenKennzahl!A350=\"\",\"\",DatenKennzahl!A350)","v":"H 52.21"},{"$f":"IF(DatenKennzahl!B350=\"\",\"\",DatenKennzahl!B350)","v":"Erbringung von sonstigen Dienstleistungen für den Landverkehr"},{"$f":"IF(Zeile<>20,DatenKennzahl!C350,IF(DatenKennzahl!C350>=100,\"negativ\",DatenKennzahl!C350))","v":5.0242130750605298},{"$f":"IF(Zeile<>20,DatenKennzahl!D350,IF(DatenKennzahl!D350>=100,\"negativ\",DatenKennzahl!D350))","v":0.74742264453998697}]
[{"$f":"IF(DatenKennzahl!A351=\"\",\"\",DatenKennzahl!A351)","v":"H 52.21-1"},{"$f":"IF(DatenKennzahl!B351=\"\",\"\",DatenKennzahl!B351)","v":"Parkhäuser und Parkgaragen"},{"$f":"IF(Zeile<>20,DatenKennzahl!C351,IF(DatenKennzahl!C351>=100,\"negativ\",DatenKennzahl!C351))","v":3.2535211267605599},{"$f":"IF(Zeile<>20,DatenKennzahl!D351,IF(DatenKennzahl!D351>=100,\"negativ\",DatenKennzahl!D351))","v":0.10319662491378701}]
[{"$f":"IF(DatenKennzahl!A352=\"\",\"\",DatenKennzahl!A352)","v":"H 52.21-9"},{"$f":"IF(DatenKennzahl!B352=\"\",\"\",DatenKennzahl!B352)","v":"Erbringung von sonstigen Dienstleistungen für den Landverkehr a.n.g."},{"$f":"IF(Zeile<>20,DatenKennzahl!C352,IF(DatenKennzahl!C352>=100,\"negativ\",DatenKennzahl!C352))","v":5.8715204569110497},{"$f":"IF(Zeile<>20,DatenKennzahl!D352,IF(DatenKennzahl!D352>=100,\"negativ\",DatenKennzahl!D352))","v":0.66666666666666696}]
[{"$f":"IF(DatenKennzahl!A353=\"\",\"\",DatenKennzahl!A353)","v":"H 52.23"},{"$f":"IF(DatenKennzahl!B353=\"\",\"\",DatenKennzahl!B353)","v":"Erbringung von sonstigen Dienstleistungen für die Luftfahrt"},{"$f":"IF(Zeile<>20,DatenKennzahl!C353,IF(DatenKennzahl!C353>=100,\"negativ\",DatenKennzahl!C353))","v":4.8453500522465998},{"$f":"IF(Zeile<>20,DatenKennzahl!D353,IF(DatenKennzahl!D353>=100,\"negativ\",DatenKennzahl!D353))","v":1.2089614265744799}]
[{"$f":"IF(DatenKennzahl!A354=\"\",\"\",DatenKennzahl!A354)","v":"H 52.29"},{"$f":"IF(DatenKennzahl!B354=\"\",\"\",DatenKennzahl!B354)","v":"Erbringung von sonstigen Dienstleistungen für den Verkehr a.n.g."},{"$f":"IF(Zeile<>20,DatenKennzahl!C354,IF(DatenKennzahl!C354>=100,\"negativ\",DatenKennzahl!C354))","v":5.2706289671090598},{"$f":"IF(Zeile<>20,DatenKennzahl!D354,IF(DatenKennzahl!D354>=100,\"negativ\",DatenKennzahl!D354))","v":1.3691056910569099}]
[{"$f":"IF(DatenKennzahl!A355=\"\",\"\",DatenKennzahl!A355)","v":"H 53"},{"$f":"IF(DatenKennzahl!B355=\"\",\"\",DatenKennzahl!B355)","v":"Post-, Kurier- und Expressdienste"},{"$f":"IF(Zeile<>20,DatenKennzahl!C355,IF(DatenKennzahl!C355>=100,\"negativ\",DatenKennzahl!C355))","v":4.8715254561085102},{"$f":"IF(Zeile<>20,DatenKennzahl!D355,IF(DatenKennzahl!D355>=100,\"negativ\",DatenKennzahl!D355))","v":0.59821428571428603}]
[{"$f":"IF(DatenKennzahl!A356=\"\",\"\",DatenKennzahl!A356)","v":"H 53.2"},{"$f":"IF(DatenKennzahl!B356=\"\",\"\",DatenKennzahl!B356)","v":"Sonstige Post-, Kurier- und Expressdienste"},{"$f":"IF(Zeile<>20,DatenKennzahl!C356,IF(DatenKennzahl!C356>=100,\"negativ\",DatenKennzahl!C356))","v":4.8715254561085102},{"$f":"IF(Zeile<>20,DatenKennzahl!D356,IF(DatenKennzahl!D356>=100,\"negativ\",DatenKennzahl!D356))","v":1.13347457627119}]
[{"$f":"IF(DatenKennzahl!A357=\"\",\"\",DatenKennzahl!A357)","v":"I"},{"$f":"IF(DatenKennzahl!B357=\"\",\"\",DatenKennzahl!B357)","v":"Beherbergung und Gastronomie"},{"$f":"IF(Zeile<>20,DatenKennzahl!C357,IF(DatenKennzahl!C357>=100,\"negativ\",DatenKennzahl!C357))","v":12.610712125207501},{"$f":"IF(Zeile<>20,DatenKennzahl!D357,IF(DatenKennzahl!D357>=100,\"negativ\",DatenKennzahl!D357))","v":3.9912758996728499}]
[{"$f":"IF(DatenKennzahl!A358=\"\",\"\",DatenKennzahl!A358)","v":"I 55.1"},{"$f":"IF(DatenKennzahl!B358=\"\",\"\",DatenKennzahl!B358)","v":"Hotels, Gasthöfe und Pensionen"},{"$f":"IF(Zeile<>20,DatenKennzahl!C358,IF(DatenKennzahl!C358>=100,\"negativ\",DatenKennzahl!C358))","v":13.5828123852438},{"$f":"IF(Zeile<>20,DatenKennzahl!D358,IF(DatenKennzahl!D358>=100,\"negativ\",DatenKennzahl!D358))","v":5.6828186780643204}]
[{"$f":"IF(DatenKennzahl!A359=\"\",\"\",DatenKennzahl!A359)","v":"I 55.10-1"},{"$f":"IF(DatenKennzahl!B359=\"\",\"\",DatenKennzahl!B359)","v":"Hotels "},{"$f":"IF(Zeile<>20,DatenKennzahl!C359,IF(DatenKennzahl!C359>=100,\"negativ\",DatenKennzahl!C359))","v":12.4444444444444},{"$f":"IF(Zeile<>20,DatenKennzahl!D359,IF(DatenKennzahl!D359>=100,\"negativ\",DatenKennzahl!D359))","v":5.6521739130434803}]
[{"$f":"IF(DatenKennzahl!A360=\"\",\"\",DatenKennzahl!A360)","v":"I 55.10-2"},{"$f":"IF(DatenKennzahl!B360=\"\",\"\",DatenKennzahl!B360)","v":"Gasthöfe"},{"$f":"IF(Zeile<>20,DatenKennzahl!C360,IF(DatenKennzahl!C360>=100,\"negativ\",DatenKennzahl!C360))","v":17.576086956521699},{"$f":"IF(Zeile<>20,DatenKennzahl!D360,IF(DatenKennzahl!D360>=100,\"negativ\",DatenKennzahl!D360))","v":6.1379310344827598}]
[{"$f":"IF(DatenKennzahl!A361=\"\",\"\",DatenKennzahl!A361)","v":"I 55.10-3"},{"$f":"IF(DatenKennzahl!B361=\"\",\"\",DatenKennzahl!B361)","v":"Pensionen"},{"$f":"IF(Zeile<>20,DatenKennzahl!C361,IF(DatenKennzahl!C361>=100,\"negativ\",DatenKennzahl!C361))","v":17.464566929133898},{"$f":"IF(Zeile<>20,DatenKennzahl!D361,IF(DatenKennzahl!D361>=100,\"negativ\",DatenKennzahl!D361))","v":5.7725647587779196}]
[{"$f":"IF(DatenKennzahl!A362=\"\",\"\",DatenKennzahl!A362)","v":"I 55.2"},{"$f":"IF(DatenKennzahl!B362=\"\",\"\",DatenKennzahl!B362)","v":"Ferienunterkünfte und ähnliche Beherbergungsstätten"},{"$f":"IF(Zeile<>20,DatenKennzahl!C362,IF(DatenKennzahl!C362>=100,\"negativ\",DatenKennzahl!C362))","v":11.863073291887099},{"$f":"IF(Zeile<>20,DatenKennzahl!D362,IF(DatenKennzahl!D362>=100,\"negativ\",DatenKennzahl!D362))","v":3.8962962962962999}]
[{"$f":"IF(DatenKennzahl!A363=\"\",\"\",DatenKennzahl!A363)","v":"I 55.20-1"},{"$f":"IF(DatenKennzahl!B363=\"\",\"\",DatenKennzahl!B363)","v":"Jugendherbergen"},{"$f":"IF(Zeile<>20,DatenKennzahl!C363,IF(DatenKennzahl!C363>=100,\"negativ\",DatenKennzahl!C363))","v":10.0886075949367},{"$f":"IF(Zeile<>20,DatenKennzahl!D363,IF(DatenKennzahl!D363>=100,\"negativ\",DatenKennzahl!D363))","v":2.4736842105263199}]
[{"$f":"IF(DatenKennzahl!A364=\"\",\"\",DatenKennzahl!A364)","v":"I 55.20-3"},{"$f":"IF(DatenKennzahl!B364=\"\",\"\",DatenKennzahl!B364)","v":"Ferienhäuser und Ferienwohnungen"},{"$f":"IF(Zeile<>20,DatenKennzahl!C364,IF(DatenKennzahl!C364>=100,\"negativ\",DatenKennzahl!C364))","v":11.4694535639671},{"$f":"IF(Zeile<>20,DatenKennzahl!D364,IF(DatenKennzahl!D364>=100,\"negativ\",DatenKennzahl!D364))","v":7.7317120526281702}]
[{"$f":"IF(DatenKennzahl!A365=\"\",\"\",DatenKennzahl!A365)","v":"I 55.3"},{"$f":"IF(DatenKennzahl!B365=\"\",\"\",DatenKennzahl!B365)","v":"Campingplätze"},{"$f":"IF(Zeile<>20,DatenKennzahl!C365,IF(DatenKennzahl!C365>=100,\"negativ\",DatenKennzahl!C365))","v":6.8849588103165997},{"$f":"IF(Zeile<>20,DatenKennzahl!D365,IF(DatenKennzahl!D365>=100,\"negativ\",DatenKennzahl!D365))","v":4.2324136772811096}]
[{"$f":"IF(DatenKennzahl!A366=\"\",\"\",DatenKennzahl!A366)","v":"I 55.9"},{"$f":"IF(DatenKennzahl!B366=\"\",\"\",DatenKennzahl!B366)","v":"Sonstige Beherbergungsstätten"},{"$f":"IF(Zeile<>20,DatenKennzahl!C366,IF(DatenKennzahl!C366>=100,\"negativ\",DatenKennzahl!C366))","v":11.6824524186561},{"$f":"IF(Zeile<>20,DatenKennzahl!D366,IF(DatenKennzahl!D366>=100,\"negativ\",DatenKennzahl!D366))","v":5.0893057103121802}]
[{"$f":"IF(DatenKennzahl!A367=\"\",\"\",DatenKennzahl!A367)","v":"I 56"},{"$f":"IF(DatenKennzahl!B367=\"\",\"\",DatenKennzahl!B367)","v":"Gastronomie"},{"$f":"IF(Zeile<>20,DatenKennzahl!C367,IF(DatenKennzahl!C367>=100,\"negativ\",DatenKennzahl!C367))","v":10.5451814172783},{"$f":"IF(Zeile<>20,DatenKennzahl!D367,IF(DatenKennzahl!D367>=100,\"negativ\",DatenKennzahl!D367))","v":2.0535714285714302}]
[{"$f":"IF(DatenKennzahl!A368=\"\",\"\",DatenKennzahl!A368)","v":"I 56.1"},{"$f":"IF(DatenKennzahl!B368=\"\",\"\",DatenKennzahl!B368)","v":"Restaurants, Gaststätten, Imbissstuben, Cafés, Eissalons u.Ä."},{"$f":"IF(Zeile<>20,DatenKennzahl!C368,IF(DatenKennzahl!C368>=100,\"negativ\",DatenKennzahl!C368))","v":10.9953871594766},{"$f":"IF(Zeile<>20,DatenKennzahl!D368,IF(DatenKennzahl!D368>=100,\"negativ\",DatenKennzahl!D368))","v":2.1052631578947398}]
[{"$f":"IF(DatenKennzahl!A369=\"\",\"\",DatenKennzahl!A369)","v":"I 56.10-1"},{"$f":"IF(DatenKennzahl!B369=\"\",\"\",DatenKennzahl!B369)","v":"Restaurants und Gaststätten"},{"$f":"IF(Zeile<>20,DatenKennzahl!C369,IF(DatenKennzahl!C369>=100,\"negativ\",DatenKennzahl!C369))","v":10.105060550164399},{"$f":"IF(Zeile<>20,DatenKennzahl!D369,IF(DatenKennzahl!D369>=100,\"negativ\",DatenKennzahl!D369))","v":1.8350515463917501}]
[{"$f":"IF(DatenKennzahl!A370=\"\",\"\",DatenKennzahl!A370)","v":"I 56.10-2"},{"$f":"IF(DatenKennzahl!B370=\"\",\"\",DatenKennzahl!B370)","v":"Buffets und Imbissstuben"},{"$f":"IF(Zeile<>20,DatenKennzahl!C370,IF(DatenKennzahl!C370>=100,\"negativ\",DatenKennzahl!C370))","v":12.3561094096526},{"$f":"IF(Zeile<>20,DatenKennzahl!D370,IF(DatenKennzahl!D370>=100,\"negativ\",DatenKennzahl!D370))","v":2.1206896551724101}]
[{"$f":"IF(DatenKennzahl!A371=\"\",\"\",DatenKennzahl!A371)","v":"I 56.10-3"},{"$f":"IF(DatenKennzahl!B371=\"\",\"\",DatenKennzahl!B371)","v":"Cafehäuser"},{"$f":"IF(Zeile<>20,DatenKennzahl!C371,IF(DatenKennzahl!C371>=100,\"negativ\",DatenKennzahl!C371))","v":22.6666666666667},{"$f":"IF(Zeile<>20,DatenKennzahl!D371,IF(DatenKennzahl!D371>=100,\"negativ\",DatenKennzahl!D371))","v":3.0840336134453801}]
[{"$f":"IF(DatenKennzahl!A372=\"\",\"\",DatenKennzahl!A372)","v":"I 56.10-4"},{"$f":"IF(DatenKennzahl!B372=\"\",\"\",DatenKennzahl!B372)","v":"Eissalons"},{"$f":"IF(Zeile<>20,DatenKennzahl!C372,IF(DatenKennzahl!C372>=100,\"negativ\",DatenKennzahl!C372))","v":8.6999999999999993},{"$f":"IF(Zeile<>20,DatenKennzahl!D372,IF(DatenKennzahl!D372>=100,\"negativ\",DatenKennzahl!D372))","v":0.52380952380952395}]
[{"$f":"IF(DatenKennzahl!A373=\"\",\"\",DatenKennzahl!A373)","v":"I 56.2"},{"$f":"IF(DatenKennzahl!B373=\"\",\"\",DatenKennzahl!B373)","v":"Caterer und Erbringung sonstiger Verpflegungsdienstleistungen"},{"$f":"IF(Zeile<>20,DatenKennzahl!C373,IF(DatenKennzahl!C373>=100,\"negativ\",DatenKennzahl!C373))","v":6.3266666666666698},{"$f":"IF(Zeile<>20,DatenKennzahl!D373,IF(DatenKennzahl!D373>=100,\"negativ\",DatenKennzahl!D373))","v":1.14115213867072}]
[{"$f":"IF(DatenKennzahl!A374=\"\",\"\",DatenKennzahl!A374)","v":"I 56.21"},{"$f":"IF(DatenKennzahl!B374=\"\",\"\",DatenKennzahl!B374)","v":"Event-Caterer"},{"$f":"IF(Zeile<>20,DatenKennzahl!C374,IF(DatenKennzahl!C374>=100,\"negativ\",DatenKennzahl!C374))","v":4.8360655737704903},{"$f":"IF(Zeile<>20,DatenKennzahl!D374,IF(DatenKennzahl!D374>=100,\"negativ\",DatenKennzahl!D374))","v":0.75280898876404501}]
[{"$f":"IF(DatenKennzahl!A375=\"\",\"\",DatenKennzahl!A375)","v":"I 56.29"},{"$f":"IF(DatenKennzahl!B375=\"\",\"\",DatenKennzahl!B375)","v":"Erbringung sonstiger Verpflegungsdienstleistungen"},{"$f":"IF(Zeile<>20,DatenKennzahl!C375,IF(DatenKennzahl!C375>=100,\"negativ\",DatenKennzahl!C375))","v":7.8830548926014297},{"$f":"IF(Zeile<>20,DatenKennzahl!D375,IF(DatenKennzahl!D375>=100,\"negativ\",DatenKennzahl!D375))","v":2.5075187969924801}]
[{"$f":"IF(DatenKennzahl!A376=\"\",\"\",DatenKennzahl!A376)","v":"I 56.3"},{"$f":"IF(DatenKennzahl!B376=\"\",\"\",DatenKennzahl!B376)","v":"Ausschank von Getränken"},{"$f":"IF(Zeile<>20,DatenKennzahl!C376,IF(DatenKennzahl!C376>=100,\"negativ\",DatenKennzahl!C376))","v":8.1764705882352899},{"$f":"IF(Zeile<>20,DatenKennzahl!D376,IF(DatenKennzahl!D376>=100,\"negativ\",DatenKennzahl!D376))","v":1.6666666666666701}]
[{"$f":"IF(DatenKennzahl!A377=\"\",\"\",DatenKennzahl!A377)","v":"I 56.30-1"},{"$f":"IF(DatenKennzahl!B377=\"\",\"\",DatenKennzahl!B377)","v":"Bars und Diskotheken"},{"$f":"IF(Zeile<>20,DatenKennzahl!C377,IF(DatenKennzahl!C377>=100,\"negativ\",DatenKennzahl!C377))","v":6.8461538461538503},{"$f":"IF(Zeile<>20,DatenKennzahl!D377,IF(DatenKennzahl!D377>=100,\"negativ\",DatenKennzahl!D377))","v":1.34782608695652}]
[{"$f":"IF(DatenKennzahl!A378=\"\",\"\",DatenKennzahl!A378)","v":"I 56.30-9"},{"$f":"IF(DatenKennzahl!B378=\"\",\"\",DatenKennzahl!B378)","v":"Sonstiger Ausschank von Getränken"},{"$f":"IF(Zeile<>20,DatenKennzahl!C378,IF(DatenKennzahl!C378>=100,\"negativ\",DatenKennzahl!C378))","v":10.931302068993601},{"$f":"IF(Zeile<>20,DatenKennzahl!D378,IF(DatenKennzahl!D378>=100,\"negativ\",DatenKennzahl!D378))","v":2.5}]
[{"$f":"IF(DatenKennzahl!A379=\"\",\"\",DatenKennzahl!A379)","v":"J"},{"$f":"IF(DatenKennzahl!B379=\"\",\"\",DatenKennzahl!B379)","v":"Information und Kommunikation"},{"$f":"IF(Zeile<>20,DatenKennzahl!C379,IF(DatenKennzahl!C379>=100,\"negativ\",DatenKennzahl!C379))","v":2.6805555555555598},{"$f":"IF(Zeile<>20,DatenKennzahl!D379,IF(DatenKennzahl!D379>=100,\"negativ\",DatenKennzahl!D379))","v":0.42062493379300198}]
[{"$f":"IF(DatenKennzahl!A380=\"\",\"\",DatenKennzahl!A380)","v":"J 58"},{"$f":"IF(DatenKennzahl!B380=\"\",\"\",DatenKennzahl!B380)","v":"Verlagswesen"},{"$f":"IF(Zeile<>20,DatenKennzahl!C380,IF(DatenKennzahl!C380>=100,\"negativ\",DatenKennzahl!C380))","v":4.0981032717343604},{"$f":"IF(Zeile<>20,DatenKennzahl!D380,IF(DatenKennzahl!D380>=100,\"negativ\",DatenKennzahl!D380))","v":0.88888888888888895}]
[{"$f":"IF(DatenKennzahl!A381=\"\",\"\",DatenKennzahl!A381)","v":"J 58.1"},{"$f":"IF(DatenKennzahl!B381=\"\",\"\",DatenKennzahl!B381)","v":"Verlegen von Büchern und Zeitschriften; sonstiges Verlagswesen (ohne Software)"},{"$f":"IF(Zeile<>20,DatenKennzahl!C381,IF(DatenKennzahl!C381>=100,\"negativ\",DatenKennzahl!C381))","v":4.0981032717343604},{"$f":"IF(Zeile<>20,DatenKennzahl!D381,IF(DatenKennzahl!D381>=100,\"negativ\",DatenKennzahl!D381))","v":0.97}]
[{"$f":"IF(DatenKennzahl!A382=\"\",\"\",DatenKennzahl!A382)","v":"J 58.11"},{"$f":"IF(DatenKennzahl!B382=\"\",\"\",DatenKennzahl!B382)","v":"Verlegen von Büchern"},{"$f":"IF(Zeile<>20,DatenKennzahl!C382,IF(DatenKennzahl!C382>=100,\"negativ\",DatenKennzahl!C382))","v":5.9537037037036997},{"$f":"IF(Zeile<>20,DatenKennzahl!D382,IF(DatenKennzahl!D382>=100,\"negativ\",DatenKennzahl!D382))","v":1.04426221060483}]
[{"$f":"IF(DatenKennzahl!A383=\"\",\"\",DatenKennzahl!A383)","v":"J 58.13"},{"$f":"IF(DatenKennzahl!B383=\"\",\"\",DatenKennzahl!B383)","v":"Verlegen von Zeitungen"},{"$f":"IF(Zeile<>20,DatenKennzahl!C383,IF(DatenKennzahl!C383>=100,\"negativ\",DatenKennzahl!C383))","v":2.4664003766917202},{"$f":"IF(Zeile<>20,DatenKennzahl!D383,IF(DatenKennzahl!D383>=100,\"negativ\",DatenKennzahl!D383))","v":8.9229559748427695E-2}]
[{"$f":"IF(DatenKennzahl!A384=\"\",\"\",DatenKennzahl!A384)","v":"J 58.14"},{"$f":"IF(DatenKennzahl!B384=\"\",\"\",DatenKennzahl!B384)","v":"Verlegen von Zeitschriften"},{"$f":"IF(Zeile<>20,DatenKennzahl!C384,IF(DatenKennzahl!C384>=100,\"negativ\",DatenKennzahl!C384))","v":3.7692307692307701},{"$f":"IF(Zeile<>20,DatenKennzahl!D384,IF(DatenKennzahl!D384>=100,\"negativ\",DatenKennzahl!D384))","v":1.26}]
[{"$f":"IF(DatenKennzahl!A385=\"\",\"\",DatenKennzahl!A385)","v":"J 58.19"},{"$f":"IF(DatenKennzahl!B385=\"\",\"\",DatenKennzahl!B385)","v":"Sonstiges Verlagswesen (ohne Software)"},{"$f":"IF(Zeile<>20,DatenKennzahl!C385,IF(DatenKennzahl!C385>=100,\"negativ\",DatenKennzahl!C385))","v":4.7438307873090499},{"$f":"IF(Zeile<>20,DatenKennzahl!D385,IF(DatenKennzahl!D385>=100,\"negativ\",DatenKennzahl!D385))","v":0.43083900226757399}]
[{"$f":"IF(DatenKennzahl!A386=\"\",\"\",DatenKennzahl!A386)","v":"J 58.2"},{"$f":"IF(DatenKennzahl!B386=\"\",\"\",DatenKennzahl!B386)","v":"Verlegen von Software"},{"$f":"IF(Zeile<>20,DatenKennzahl!C386,IF(DatenKennzahl!C386>=100,\"negativ\",DatenKennzahl!C386))","v":3.7972009506205402},{"$f":"IF(Zeile<>20,DatenKennzahl!D386,IF(DatenKennzahl!D386>=100,\"negativ\",DatenKennzahl!D386))","v":0.36521739130434799}]
[{"$f":"IF(DatenKennzahl!A387=\"\",\"\",DatenKennzahl!A387)","v":"J 58.29"},{"$f":"IF(DatenKennzahl!B387=\"\",\"\",DatenKennzahl!B387)","v":"Verlegen von sonstiger Software"},{"$f":"IF(Zeile<>20,DatenKennzahl!C387,IF(DatenKennzahl!C387>=100,\"negativ\",DatenKennzahl!C387))","v":3.7972009506205402},{"$f":"IF(Zeile<>20,DatenKennzahl!D387,IF(DatenKennzahl!D387>=100,\"negativ\",DatenKennzahl!D387))","v":0.63551401869158897}]
[{"$f":"IF(DatenKennzahl!A388=\"\",\"\",DatenKennzahl!A388)","v":"J 59"},{"$f":"IF(DatenKennzahl!B388=\"\",\"\",DatenKennzahl!B388)","v":"Herstellung, Verleih und Vertrieb von Filmen und Fernsehprogrammen; Kinos; Tonstudios und Verlegen von Musik"},{"$f":"IF(Zeile<>20,DatenKennzahl!C388,IF(DatenKennzahl!C388>=100,\"negativ\",DatenKennzahl!C388))","v":3.8514285714285701},{"$f":"IF(Zeile<>20,DatenKennzahl!D388,IF(DatenKennzahl!D388>=100,\"negativ\",DatenKennzahl!D388))","v":0.95155486793695698}]
[{"$f":"IF(DatenKennzahl!A389=\"\",\"\",DatenKennzahl!A389)","v":"J 59.1"},{"$f":"IF(DatenKennzahl!B389=\"\",\"\",DatenKennzahl!B389)","v":"Herstellung von Filmen und Fernsehprogrammen, deren Verleih und Vertrieb; Kinos"},{"$f":"IF(Zeile<>20,DatenKennzahl!C389,IF(DatenKennzahl!C389>=100,\"negativ\",DatenKennzahl!C389))","v":4.4628471018854601},{"$f":"IF(Zeile<>20,DatenKennzahl!D389,IF(DatenKennzahl!D389>=100,\"negativ\",DatenKennzahl!D389))","v":0.85370741482965895}]
[{"$f":"IF(DatenKennzahl!A390=\"\",\"\",DatenKennzahl!A390)","v":"J 59.11"},{"$f":"IF(DatenKennzahl!B390=\"\",\"\",DatenKennzahl!B390)","v":"Herstellung von Filmen, Videofilmen und Fernsehprogrammen"},{"$f":"IF(Zeile<>20,DatenKennzahl!C390,IF(DatenKennzahl!C390>=100,\"negativ\",DatenKennzahl!C390))","v":4.4504504504504503},{"$f":"IF(Zeile<>20,DatenKennzahl!D390,IF(DatenKennzahl!D390>=100,\"negativ\",DatenKennzahl!D390))","v":0.59706959706959695}]
[{"$f":"IF(DatenKennzahl!A391=\"\",\"\",DatenKennzahl!A391)","v":"J 59.14"},{"$f":"IF(DatenKennzahl!B391=\"\",\"\",DatenKennzahl!B391)","v":"Kinos"},{"$f":"IF(Zeile<>20,DatenKennzahl!C391,IF(DatenKennzahl!C391>=100,\"negativ\",DatenKennzahl!C391))","v":3.5221987315010601},{"$f":"IF(Zeile<>20,DatenKennzahl!D391,IF(DatenKennzahl!D391>=100,\"negativ\",DatenKennzahl!D391))","v":1.94621026894866}]
[{"$f":"IF(DatenKennzahl!A392=\"\",\"\",DatenKennzahl!A392)","v":"J 59.2"},{"$f":"IF(DatenKennzahl!B392=\"\",\"\",DatenKennzahl!B392)","v":"Tonstudios; Herstellung von Hörfunkbeiträgen; Verlegen von bespielten Tonträgern und Musikalien"},{"$f":"IF(Zeile<>20,DatenKennzahl!C392,IF(DatenKennzahl!C392>=100,\"negativ\",DatenKennzahl!C392))","v":1.0314842578710599},{"$f":"IF(Zeile<>20,DatenKennzahl!D392,IF(DatenKennzahl!D392>=100,\"negativ\",DatenKennzahl!D392))","v":0.89795918367346905}]
[{"$f":"IF(DatenKennzahl!A393=\"\",\"\",DatenKennzahl!A393)","v":"J 60"},{"$f":"IF(DatenKennzahl!B393=\"\",\"\",DatenKennzahl!B393)","v":"Rundfunkveranstalter"},{"$f":"IF(Zeile<>20,DatenKennzahl!C393,IF(DatenKennzahl!C393>=100,\"negativ\",DatenKennzahl!C393))","v":3.2307692307692299},{"$f":"IF(Zeile<>20,DatenKennzahl!D393,IF(DatenKennzahl!D393>=100,\"negativ\",DatenKennzahl!D393))","v":0.69333333333333302}]
[{"$f":"IF(DatenKennzahl!A394=\"\",\"\",DatenKennzahl!A394)","v":"J 61"},{"$f":"IF(DatenKennzahl!B394=\"\",\"\",DatenKennzahl!B394)","v":"Telekommunikation"},{"$f":"IF(Zeile<>20,DatenKennzahl!C394,IF(DatenKennzahl!C394>=100,\"negativ\",DatenKennzahl!C394))","v":2.77049180327869},{"$f":"IF(Zeile<>20,DatenKennzahl!D394,IF(DatenKennzahl!D394>=100,\"negativ\",DatenKennzahl!D394))","v":0.75641025641025605}]
[{"$f":"IF(DatenKennzahl!A395=\"\",\"\",DatenKennzahl!A395)","v":"J 61.1"},{"$f":"IF(DatenKennzahl!B395=\"\",\"\",DatenKennzahl!B395)","v":"Leitungsgebundene Telekommunikation"},{"$f":"IF(Zeile<>20,DatenKennzahl!C395,IF(DatenKennzahl!C395>=100,\"negativ\",DatenKennzahl!C395))","v":1.78015403532168},{"$f":"IF(Zeile<>20,DatenKennzahl!D395,IF(DatenKennzahl!D395>=100,\"negativ\",DatenKennzahl!D395))","v":0.179021866842133}]
[{"$f":"IF(DatenKennzahl!A396=\"\",\"\",DatenKennzahl!A396)","v":"J 61.9"},{"$f":"IF(DatenKennzahl!B396=\"\",\"\",DatenKennzahl!B396)","v":"Sonstige Telekommunikation"},{"$f":"IF(Zeile<>20,DatenKennzahl!C396,IF(DatenKennzahl!C396>=100,\"negativ\",DatenKennzahl!C396))","v":3.34},{"$f":"IF(Zeile<>20,DatenKennzahl!D396,IF(DatenKennzahl!D396>=100,\"negativ\",DatenKennzahl!D396))","v":1.45876887340302}]
[{"$f":"IF(DatenKennzahl!A397=\"\",\"\",DatenKennzahl!A397)","v":"J 62"},{"$f":"IF(DatenKennzahl!B397=\"\",\"\",DatenKennzahl!B397)","v":"Erbringung von Dienstleistungen der Informationstechnologie"},{"$f":"IF(Zeile<>20,DatenKennzahl!C397,IF(DatenKennzahl!C397>=100,\"negativ\",DatenKennzahl!C397))","v":2.45786516853933},{"$f":"IF(Zeile<>20,DatenKennzahl!D397,IF(DatenKennzahl!D397>=100,\"negativ\",DatenKennzahl!D397))","v":0.31884057971014501}]
[{"$f":"IF(DatenKennzahl!A398=\"\",\"\",DatenKennzahl!A398)","v":"J 62.01"},{"$f":"IF(DatenKennzahl!B398=\"\",\"\",DatenKennzahl!B398)","v":"Programmierungstätigkeiten"},{"$f":"IF(Zeile<>20,DatenKennzahl!C398,IF(DatenKennzahl!C398>=100,\"negativ\",DatenKennzahl!C398))","v":2.2122486865915101},{"$f":"IF(Zeile<>20,DatenKennzahl!D398,IF(DatenKennzahl!D398>=100,\"negativ\",DatenKennzahl!D398))","v":0.41304347826087001}]
[{"$f":"IF(DatenKennzahl!A399=\"\",\"\",DatenKennzahl!A399)","v":"J 62.02"},{"$f":"IF(DatenKennzahl!B399=\"\",\"\",DatenKennzahl!B399)","v":"Erbringung von Beratungsleistungen auf dem Gebiet der Informationstechnologie"},{"$f":"IF(Zeile<>20,DatenKennzahl!C399,IF(DatenKennzahl!C399>=100,\"negativ\",DatenKennzahl!C399))","v":2.2371878157932699},{"$f":"IF(Zeile<>20,DatenKennzahl!D399,IF(DatenKennzahl!D399>=100,\"negativ\",DatenKennzahl!D399))","v":0.24861878453038699}]
[{"$f":"IF(DatenKennzahl!A400=\"\",\"\",DatenKennzahl!A400)","v":"J 62.03"},{"$f":"IF(DatenKennzahl!B400=\"\",\"\",DatenKennzahl!B400)","v":"Betrieb von Datenverarbeitungsanlagen für Dritte"},{"$f":"IF(Zeile<>20,DatenKennzahl!C400,IF(DatenKennzahl!C400>=100,\"negativ\",DatenKennzahl!C400))","v":2.9348484848484899},{"$f":"IF(Zeile<>20,DatenKennzahl!D400,IF(DatenKennzahl!D400>=100,\"negativ\",DatenKennzahl!D400))","v":0.22522522522522501}]
[{"$f":"IF(DatenKennzahl!A401=\"\",\"\",DatenKennzahl!A401)","v":"J 62.09"},{"$f":"IF(DatenKennzahl!B401=\"\",\"\",DatenKennzahl!B401)","v":"Erbringung von sonstigen Dienstleistungen der Informationstechnologie"},{"$f":"IF(Zeile<>20,DatenKennzahl!C401,IF(DatenKennzahl!C401>=100,\"negativ\",DatenKennzahl!C401))","v":2.0909090909090899},{"$f":"IF(Zeile<>20,DatenKennzahl!D401,IF(DatenKennzahl!D401>=100,\"negativ\",DatenKennzahl!D401))","v":0.28846153846153799}]
[{"$f":"IF(DatenKennzahl!A402=\"\",\"\",DatenKennzahl!A402)","v":"J 63"},{"$f":"IF(DatenKennzahl!B402=\"\",\"\",DatenKennzahl!B402)","v":"Informationsdienstleistungen"},{"$f":"IF(Zeile<>20,DatenKennzahl!C402,IF(DatenKennzahl!C402>=100,\"negativ\",DatenKennzahl!C402))","v":1.7083333333333299},{"$f":"IF(Zeile<>20,DatenKennzahl!D402,IF(DatenKennzahl!D402>=100,\"negativ\",DatenKennzahl!D402))","v":0.22012578616352199}]
[{"$f":"IF(DatenKennzahl!A403=\"\",\"\",DatenKennzahl!A403)","v":"J 63.1"},{"$f":"IF(DatenKennzahl!B403=\"\",\"\",DatenKennzahl!B403)","v":"Datenverarbeitung, Hosting und damit verbundene Tätigkeiten; Webportale"},{"$f":"IF(Zeile<>20,DatenKennzahl!C403,IF(DatenKennzahl!C403>=100,\"negativ\",DatenKennzahl!C403))","v":1.9597675287582299},{"$f":"IF(Zeile<>20,DatenKennzahl!D403,IF(DatenKennzahl!D403>=100,\"negativ\",DatenKennzahl!D403))","v":0.20125786163522}]
[{"$f":"IF(DatenKennzahl!A404=\"\",\"\",DatenKennzahl!A404)","v":"J 63.11"},{"$f":"IF(DatenKennzahl!B404=\"\",\"\",DatenKennzahl!B404)","v":"Datenverarbeitung, Hosting und damit verbundene Tätigkeiten"},{"$f":"IF(Zeile<>20,DatenKennzahl!C404,IF(DatenKennzahl!C404>=100,\"negativ\",DatenKennzahl!C404))","v":1.7048392232240901},{"$f":"IF(Zeile<>20,DatenKennzahl!D404,IF(DatenKennzahl!D404>=100,\"negativ\",DatenKennzahl!D404))","v":0.19744587105435299}]
[{"$f":"IF(DatenKennzahl!A405=\"\",\"\",DatenKennzahl!A405)","v":"J 63.9"},{"$f":"IF(DatenKennzahl!B405=\"\",\"\",DatenKennzahl!B405)","v":"Erbringung von sonstigen Informationsdienstleistungen"},{"$f":"IF(Zeile<>20,DatenKennzahl!C405,IF(DatenKennzahl!C405>=100,\"negativ\",DatenKennzahl!C405))","v":1.0714285714285701},{"$f":"IF(Zeile<>20,DatenKennzahl!D405,IF(DatenKennzahl!D405>=100,\"negativ\",DatenKennzahl!D405))","v":0.16582623241375299}]
[{"$f":"IF(DatenKennzahl!A406=\"\",\"\",DatenKennzahl!A406)","v":"M"},{"$f":"IF(DatenKennzahl!B406=\"\",\"\",DatenKennzahl!B406)","v":"Erbringung von Freiberuflichen, Wissenschaftlichen und Technischen Dienstleistungen"},{"$f":"IF(Zeile<>20,DatenKennzahl!C406,IF(DatenKennzahl!C406>=100,\"negativ\",DatenKennzahl!C406))","v":2.39130434782609},{"$f":"IF(Zeile<>20,DatenKennzahl!D406,IF(DatenKennzahl!D406>=100,\"negativ\",DatenKennzahl!D406))","v":0.41263940520446102}]
[{"$f":"IF(DatenKennzahl!A407=\"\",\"\",DatenKennzahl!A407)","v":"M 69"},{"$f":"IF(DatenKennzahl!B407=\"\",\"\",DatenKennzahl!B407)","v":"Rechts- und Steuerberatung, Wirtschaftsprüfung"},{"$f":"IF(Zeile<>20,DatenKennzahl!C407,IF(DatenKennzahl!C407>=100,\"negativ\",DatenKennzahl!C407))","v":1.84210526315789},{"$f":"IF(Zeile<>20,DatenKennzahl!D407,IF(DatenKennzahl!D407>=100,\"negativ\",DatenKennzahl!D407))","v":0.50680073141099302}]
[{"$f":"IF(DatenKennzahl!A408=\"\",\"\",DatenKennzahl!A408)","v":"M 69.1"},{"$f":"IF(DatenKennzahl!B408=\"\",\"\",DatenKennzahl!B408)","v":"Rechtsberatung"},{"$f":"IF(Zeile<>20,DatenKennzahl!C408,IF(DatenKennzahl!C408>=100,\"negativ\",DatenKennzahl!C408))","v":1.5897435897435901},{"$f":"IF(Zeile<>20,DatenKennzahl!D408,IF(DatenKennzahl!D408>=100,\"negativ\",DatenKennzahl!D408))","v":0.28761723221989699}]
[{"$f":"IF(DatenKennzahl!A409=\"\",\"\",DatenKennzahl!A409)","v":"M 69.2"},{"$f":"IF(DatenKennzahl!B409=\"\",\"\",DatenKennzahl!B409)","v":"Wirtschaftsprüfung und Steuerberatung; Buchführung"},{"$f":"IF(Zeile<>20,DatenKennzahl!C409,IF(DatenKennzahl!C409>=100,\"negativ\",DatenKennzahl!C409))","v":1.8971193415637899},{"$f":"IF(Zeile<>20,DatenKennzahl!D409,IF(DatenKennzahl!D409>=100,\"negativ\",DatenKennzahl!D409))","v":0.57802197802197797}]
[{"$f":"IF(DatenKennzahl!A410=\"\",\"\",DatenKennzahl!A410)","v":"M 70"},{"$f":"IF(DatenKennzahl!B410=\"\",\"\",DatenKennzahl!B410)","v":"Verwaltung und Führung von Unternehmen und Betrieben; Unternehmensberatung"},{"$f":"IF(Zeile<>20,DatenKennzahl!C410,IF(DatenKennzahl!C410>=100,\"negativ\",DatenKennzahl!C410))","v":1.6666666666666701},{"$f":"IF(Zeile<>20,DatenKennzahl!D410,IF(DatenKennzahl!D410>=100,\"negativ\",DatenKennzahl!D410))","v":0.28193633877470498}]
[{"$f":"IF(DatenKennzahl!A411=\"\",\"\",DatenKennzahl!A411)","v":"M 70.2"},{"$f":"IF(DatenKennzahl!B411=\"\",\"\",DatenKennzahl!B411)","v":"Public-Relations- und Unternehmensberatung"},{"$f":"IF(Zeile<>20,DatenKennzahl!C411,IF(DatenKennzahl!C411>=100,\"negativ\",DatenKennzahl!C411))","v":1.68041237113402},{"$f":"IF(Zeile<>20,DatenKennzahl!D411,IF(DatenKennzahl!D411>=100,\"negativ\",DatenKennzahl!D411))","v":0.27904040404040398}]
[{"$f":"IF(DatenKennzahl!A412=\"\",\"\",DatenKennzahl!A412)","v":"M 70.21"},{"$f":"IF(DatenKennzahl!B412=\"\",\"\",DatenKennzahl!B412)","v":"Public-Relations-Beratung"},{"$f":"IF(Zeile<>20,DatenKennzahl!C412,IF(DatenKennzahl!C412>=100,\"negativ\",DatenKennzahl!C412))","v":1.6219512195121999},{"$f":"IF(Zeile<>20,DatenKennzahl!D412,IF(DatenKennzahl!D412>=100,\"negativ\",DatenKennzahl!D412))","v":0.50462962962962998}]
[{"$f":"IF(DatenKennzahl!A413=\"\",\"\",DatenKennzahl!A413)","v":"M 70.22"},{"$f":"IF(DatenKennzahl!B413=\"\",\"\",DatenKennzahl!B413)","v":"Unternehmensberatung"},{"$f":"IF(Zeile<>20,DatenKennzahl!C413,IF(DatenKennzahl!C413>=100,\"negativ\",DatenKennzahl!C413))","v":1.63380281690141},{"$f":"IF(Zeile<>20,DatenKennzahl!D413,IF(DatenKennzahl!D413>=100,\"negativ\",DatenKennzahl!D413))","v":0.18965517241379301}]
[{"$f":"IF(DatenKennzahl!A414=\"\",\"\",DatenKennzahl!A414)","v":"M 71"},{"$f":"IF(DatenKennzahl!B414=\"\",\"\",DatenKennzahl!B414)","v":"Architektur- und Ingenieurbüros; technische, physikalische und chemische Untersuchung"},{"$f":"IF(Zeile<>20,DatenKennzahl!C414,IF(DatenKennzahl!C414>=100,\"negativ\",DatenKennzahl!C414))","v":2.90136054421769},{"$f":"IF(Zeile<>20,DatenKennzahl!D414,IF(DatenKennzahl!D414>=100,\"negativ\",DatenKennzahl!D414))","v":0.33421750663130001}]
[{"$f":"IF(DatenKennzahl!A415=\"\",\"\",DatenKennzahl!A415)","v":"M 71.1"},{"$f":"IF(DatenKennzahl!B415=\"\",\"\",DatenKennzahl!B415)","v":"Architektur- und Ingenieurbüros"},{"$f":"IF(Zeile<>20,DatenKennzahl!C415,IF(DatenKennzahl!C415>=100,\"negativ\",DatenKennzahl!C415))","v":2.9555555555555602},{"$f":"IF(Zeile<>20,DatenKennzahl!D415,IF(DatenKennzahl!D415>=100,\"negativ\",DatenKennzahl!D415))","v":0.33204633204633199}]
[{"$f":"IF(DatenKennzahl!A416=\"\",\"\",DatenKennzahl!A416)","v":"M 71.11"},{"$f":"IF(DatenKennzahl!B416=\"\",\"\",DatenKennzahl!B416)","v":"Architekturbüros"},{"$f":"IF(Zeile<>20,DatenKennzahl!C416,IF(DatenKennzahl!C416>=100,\"negativ\",DatenKennzahl!C416))","v":2.2959183673469399},{"$f":"IF(Zeile<>20,DatenKennzahl!D416,IF(DatenKennzahl!D416>=100,\"negativ\",DatenKennzahl!D416))","v":0.25531914893617003}]
[{"$f":"IF(DatenKennzahl!A417=\"\",\"\",DatenKennzahl!A417)","v":"M 71.12"},{"$f":"IF(DatenKennzahl!B417=\"\",\"\",DatenKennzahl!B417)","v":"Ingenieurbüros"},{"$f":"IF(Zeile<>20,DatenKennzahl!C417,IF(DatenKennzahl!C417>=100,\"negativ\",DatenKennzahl!C417))","v":3.1764705882352899},{"$f":"IF(Zeile<>20,DatenKennzahl!D417,IF(DatenKennzahl!D417>=100,\"negativ\",DatenKennzahl!D417))","v":0.33852140077821002}]
[{"$f":"IF(DatenKennzahl!A418=\"\",\"\",DatenKennzahl!A418)","v":"M 71.2"},{"$f":"IF(DatenKennzahl!B418=\"\",\"\",DatenKennzahl!B418)","v":"Technische, physikalische und chemische Untersuchung"},{"$f":"IF(Zeile<>20,DatenKennzahl!C418,IF(DatenKennzahl!C418>=100,\"negativ\",DatenKennzahl!C418))","v":2.4700931486122299},{"$f":"IF(Zeile<>20,DatenKennzahl!D418,IF(DatenKennzahl!D418>=100,\"negativ\",DatenKennzahl!D418))","v":0.20936794582392801}]
[{"$f":"IF(DatenKennzahl!A419=\"\",\"\",DatenKennzahl!A419)","v":"M 72"},{"$f":"IF(DatenKennzahl!B419=\"\",\"\",DatenKennzahl!B419)","v":"Forschung und Entwicklung"},{"$f":"IF(Zeile<>20,DatenKennzahl!C419,IF(DatenKennzahl!C419>=100,\"negativ\",DatenKennzahl!C419))","v":4.8571428571428603},{"$f":"IF(Zeile<>20,DatenKennzahl!D419,IF(DatenKennzahl!D419>=100,\"negativ\",DatenKennzahl!D419))","v":0.887193289342594}]
[{"$f":"IF(DatenKennzahl!A420=\"\",\"\",DatenKennzahl!A420)","v":"M 72.1"},{"$f":"IF(DatenKennzahl!B420=\"\",\"\",DatenKennzahl!B420)","v":"Forschung und Entwicklung im Bereich Natur-, Ingenieur-, Agrarwissenschaften und Medizin"},{"$f":"IF(Zeile<>20,DatenKennzahl!C420,IF(DatenKennzahl!C420>=100,\"negativ\",DatenKennzahl!C420))","v":4.7312500000000002},{"$f":"IF(Zeile<>20,DatenKennzahl!D420,IF(DatenKennzahl!D420>=100,\"negativ\",DatenKennzahl!D420))","v":0.887193289342594}]
[{"$f":"IF(DatenKennzahl!A421=\"\",\"\",DatenKennzahl!A421)","v":"M 72.19"},{"$f":"IF(DatenKennzahl!B421=\"\",\"\",DatenKennzahl!B421)","v":"Sonstige Forschung und Entwicklung im Bereich Natur-, Ingenieur-, Agrarwissenschaften und Medizin"},{"$f":"IF(Zeile<>20,DatenKennzahl!C421,IF(DatenKennzahl!C421>=100,\"negativ\",DatenKennzahl!C421))","v":4.0176610135547302},{"$f":"IF(Zeile<>20,DatenKennzahl!D421,IF(DatenKennzahl!D421>=100,\"negativ\",DatenKennzahl!D421))","v":0.83333333333333304}]
[{"$f":"IF(DatenKennzahl!A422=\"\",\"\",DatenKennzahl!A422)","v":"M 73"},{"$f":"IF(DatenKennzahl!B422=\"\",\"\",DatenKennzahl!B422)","v":"Werbung und Marktforschung"},{"$f":"IF(Zeile<>20,DatenKennzahl!C422,IF(DatenKennzahl!C422>=100,\"negativ\",DatenKennzahl!C422))","v":3.1333333333333302},{"$f":"IF(Zeile<>20,DatenKennzahl!D422,IF(DatenKennzahl!D422>=100,\"negativ\",DatenKennzahl!D422))","v":0.45242560392654901}]
[{"$f":"IF(DatenKennzahl!A423=\"\",\"\",DatenKennzahl!A423)","v":"M 73.1"},{"$f":"IF(DatenKennzahl!B423=\"\",\"\",DatenKennzahl!B423)","v":"Werbung"},{"$f":"IF(Zeile<>20,DatenKennzahl!C423,IF(DatenKennzahl!C423>=100,\"negativ\",DatenKennzahl!C423))","v":3.1687763713080201},{"$f":"IF(Zeile<>20,DatenKennzahl!D423,IF(DatenKennzahl!D423>=100,\"negativ\",DatenKennzahl!D423))","v":0.46428571428571402}]
[{"$f":"IF(DatenKennzahl!A424=\"\",\"\",DatenKennzahl!A424)","v":"M 73.11"},{"$f":"IF(DatenKennzahl!B424=\"\",\"\",DatenKennzahl!B424)","v":"Werbeagenturen"},{"$f":"IF(Zeile<>20,DatenKennzahl!C424,IF(DatenKennzahl!C424>=100,\"negativ\",DatenKennzahl!C424))","v":3.07939483197215},{"$f":"IF(Zeile<>20,DatenKennzahl!D424,IF(DatenKennzahl!D424>=100,\"negativ\",DatenKennzahl!D424))","v":0.45952380952381}]
[{"$f":"IF(DatenKennzahl!A425=\"\",\"\",DatenKennzahl!A425)","v":"M 73.11-1"},{"$f":"IF(DatenKennzahl!B425=\"\",\"\",DatenKennzahl!B425)","v":"Werbegestaltung"},{"$f":"IF(Zeile<>20,DatenKennzahl!C425,IF(DatenKennzahl!C425>=100,\"negativ\",DatenKennzahl!C425))","v":2.9820709390794602},{"$f":"IF(Zeile<>20,DatenKennzahl!D425,IF(DatenKennzahl!D425>=100,\"negativ\",DatenKennzahl!D425))","v":0.43243243243243201}]
[{"$f":"IF(DatenKennzahl!A426=\"\",\"\",DatenKennzahl!A426)","v":"M 73.11-2"},{"$f":"IF(DatenKennzahl!B426=\"\",\"\",DatenKennzahl!B426)","v":"Werbemittelverbreitung "},{"$f":"IF(Zeile<>20,DatenKennzahl!C426,IF(DatenKennzahl!C426>=100,\"negativ\",DatenKennzahl!C426))","v":3.2526999859740999},{"$f":"IF(Zeile<>20,DatenKennzahl!D426,IF(DatenKennzahl!D426>=100,\"negativ\",DatenKennzahl!D426))","v":0.45952380952381}]
[{"$f":"IF(DatenKennzahl!A427=\"\",\"\",DatenKennzahl!A427)","v":"M 73.2"},{"$f":"IF(DatenKennzahl!B427=\"\",\"\",DatenKennzahl!B427)","v":"Markt- und Meinungsforschung"},{"$f":"IF(Zeile<>20,DatenKennzahl!C427,IF(DatenKennzahl!C427>=100,\"negativ\",DatenKennzahl!C427))","v":2.3315760911698602},{"$f":"IF(Zeile<>20,DatenKennzahl!D427,IF(DatenKennzahl!D427>=100,\"negativ\",DatenKennzahl!D427))","v":0}]
[{"$f":"IF(DatenKennzahl!A428=\"\",\"\",DatenKennzahl!A428)","v":"M 74"},{"$f":"IF(DatenKennzahl!B428=\"\",\"\",DatenKennzahl!B428)","v":"Sonstige freiberufliche, wissenschaftliche und technische Tätigkeiten"},{"$f":"IF(Zeile<>20,DatenKennzahl!C428,IF(DatenKennzahl!C428>=100,\"negativ\",DatenKennzahl!C428))","v":4.8374351952626702},{"$f":"IF(Zeile<>20,DatenKennzahl!D428,IF(DatenKennzahl!D428>=100,\"negativ\",DatenKennzahl!D428))","v":0.58750000000000002}]
[{"$f":"IF(DatenKennzahl!A429=\"\",\"\",DatenKennzahl!A429)","v":"M 74.1"},{"$f":"IF(DatenKennzahl!B429=\"\",\"\",DatenKennzahl!B429)","v":"Ateliers für Textil-, Schmuck-, Grafik- u.ä. Design"},{"$f":"IF(Zeile<>20,DatenKennzahl!C429,IF(DatenKennzahl!C429>=100,\"negativ\",DatenKennzahl!C429))","v":11.158730158730201},{"$f":"IF(Zeile<>20,DatenKennzahl!D429,IF(DatenKennzahl!D429>=100,\"negativ\",DatenKennzahl!D429))","v":0.83177570093457898}]
[{"$f":"IF(DatenKennzahl!A430=\"\",\"\",DatenKennzahl!A430)","v":"M 74.2"},{"$f":"IF(DatenKennzahl!B430=\"\",\"\",DatenKennzahl!B430)","v":"Fotografie und Fotolabors"},{"$f":"IF(Zeile<>20,DatenKennzahl!C430,IF(DatenKennzahl!C430>=100,\"negativ\",DatenKennzahl!C430))","v":5.6310574476149204},{"$f":"IF(Zeile<>20,DatenKennzahl!D430,IF(DatenKennzahl!D430>=100,\"negativ\",DatenKennzahl!D430))","v":0.43835616438356201}]
[{"$f":"IF(DatenKennzahl!A431=\"\",\"\",DatenKennzahl!A431)","v":"M 74.9"},{"$f":"IF(DatenKennzahl!B431=\"\",\"\",DatenKennzahl!B431)","v":"Sonstige freiberufliche, wissenschaftliche und technische Tätigkeiten a.n.g."},{"$f":"IF(Zeile<>20,DatenKennzahl!C431,IF(DatenKennzahl!C431>=100,\"negativ\",DatenKennzahl!C431))","v":3.7299035369774902},{"$f":"IF(Zeile<>20,DatenKennzahl!D431,IF(DatenKennzahl!D431>=100,\"negativ\",DatenKennzahl!D431))","v":1.2376237623762401}]
[{"$f":"IF(DatenKennzahl!A432=\"\",\"\",DatenKennzahl!A432)","v":"N"},{"$f":"IF(DatenKennzahl!B432=\"\",\"\",DatenKennzahl!B432)","v":"Erbringung von Sonstigen Wirtschaftlichen Dienstleistungen"},{"$f":"IF(Zeile<>20,DatenKennzahl!C432,IF(DatenKennzahl!C432>=100,\"negativ\",DatenKennzahl!C432))","v":3.9652777777777799},{"$f":"IF(Zeile<>20,DatenKennzahl!D432,IF(DatenKennzahl!D432>=100,\"negativ\",DatenKennzahl!D432))","v":0.885140257771039}]
[{"$f":"IF(DatenKennzahl!A433=\"\",\"\",DatenKennzahl!A433)","v":"N 77"},{"$f":"IF(DatenKennzahl!B433=\"\",\"\",DatenKennzahl!B433)","v":"Vermietung von beweglichen Sachen"},{"$f":"IF(Zeile<>20,DatenKennzahl!C433,IF(DatenKennzahl!C433>=100,\"negativ\",DatenKennzahl!C433))","v":4.4610202117420599},{"$f":"IF(Zeile<>20,DatenKennzahl!D433,IF(DatenKennzahl!D433>=100,\"negativ\",DatenKennzahl!D433))","v":1.40284360189573}]
[{"$f":"IF(DatenKennzahl!A434=\"\",\"\",DatenKennzahl!A434)","v":"N 77.1"},{"$f":"IF(DatenKennzahl!B434=\"\",\"\",DatenKennzahl!B434)","v":"Vermietung von Kraftwagen"},{"$f":"IF(Zeile<>20,DatenKennzahl!C434,IF(DatenKennzahl!C434>=100,\"negativ\",DatenKennzahl!C434))","v":4.3684210526315796},{"$f":"IF(Zeile<>20,DatenKennzahl!D434,IF(DatenKennzahl!D434>=100,\"negativ\",DatenKennzahl!D434))","v":1.5}]
[{"$f":"IF(DatenKennzahl!A435=\"\",\"\",DatenKennzahl!A435)","v":"N 77.11"},{"$f":"IF(DatenKennzahl!B435=\"\",\"\",DatenKennzahl!B435)","v":"Vermietung von Kraftwagen mit einem Gesamtgewicht von 3,5 t oder weniger"},{"$f":"IF(Zeile<>20,DatenKennzahl!C435,IF(DatenKennzahl!C435>=100,\"negativ\",DatenKennzahl!C435))","v":4.2108843537415002},{"$f":"IF(Zeile<>20,DatenKennzahl!D435,IF(DatenKennzahl!D435>=100,\"negativ\",DatenKennzahl!D435))","v":1.8067226890756301}]
[{"$f":"IF(DatenKennzahl!A436=\"\",\"\",DatenKennzahl!A436)","v":"N 77.11-2"},{"$f":"IF(DatenKennzahl!B436=\"\",\"\",DatenKennzahl!B436)","v":"Vermietung von Kraftwagen mit einem Gesamtgewicht von 3,5 t oder weniger"},{"$f":"IF(Zeile<>20,DatenKennzahl!C436,IF(DatenKennzahl!C436>=100,\"negativ\",DatenKennzahl!C436))","v":3.9},{"$f":"IF(Zeile<>20,DatenKennzahl!D436,IF(DatenKennzahl!D436>=100,\"negativ\",DatenKennzahl!D436))","v":2.7116883116883099}]
[{"$f":"IF(DatenKennzahl!A437=\"\",\"\",DatenKennzahl!A437)","v":"N 77.2"},{"$f":"IF(DatenKennzahl!B437=\"\",\"\",DatenKennzahl!B437)","v":"Vermietung von Gebrauchsgütern"},{"$f":"IF(Zeile<>20,DatenKennzahl!C437,IF(DatenKennzahl!C437>=100,\"negativ\",DatenKennzahl!C437))","v":5.4599955006718597},{"$f":"IF(Zeile<>20,DatenKennzahl!D437,IF(DatenKennzahl!D437>=100,\"negativ\",DatenKennzahl!D437))","v":1.1130561633843901}]
[{"$f":"IF(DatenKennzahl!A438=\"\",\"\",DatenKennzahl!A438)","v":"N 77.21"},{"$f":"IF(DatenKennzahl!B438=\"\",\"\",DatenKennzahl!B438)","v":"Vermietung von Sport- und Freizeitgeräten"},{"$f":"IF(Zeile<>20,DatenKennzahl!C438,IF(DatenKennzahl!C438>=100,\"negativ\",DatenKennzahl!C438))","v":5.7773165434529101},{"$f":"IF(Zeile<>20,DatenKennzahl!D438,IF(DatenKennzahl!D438>=100,\"negativ\",DatenKennzahl!D438))","v":0.61172161172161199}]
[{"$f":"IF(DatenKennzahl!A439=\"\",\"\",DatenKennzahl!A439)","v":"N 77.29"},{"$f":"IF(DatenKennzahl!B439=\"\",\"\",DatenKennzahl!B439)","v":"Vermietung von sonstigen Gebrauchsgütern "},{"$f":"IF(Zeile<>20,DatenKennzahl!C439,IF(DatenKennzahl!C439>=100,\"negativ\",DatenKennzahl!C439))","v":3.78974358974359},{"$f":"IF(Zeile<>20,DatenKennzahl!D439,IF(DatenKennzahl!D439>=100,\"negativ\",DatenKennzahl!D439))","v":1.2341358223104699}]
[{"$f":"IF(DatenKennzahl!A440=\"\",\"\",DatenKennzahl!A440)","v":"N 77.3"},{"$f":"IF(DatenKennzahl!B440=\"\",\"\",DatenKennzahl!B440)","v":"Vermietung von  Maschinen, Geräten und sonstigen beweglichen Sachen"},{"$f":"IF(Zeile<>20,DatenKennzahl!C440,IF(DatenKennzahl!C440>=100,\"negativ\",DatenKennzahl!C440))","v":4.2917693048024104},{"$f":"IF(Zeile<>20,DatenKennzahl!D440,IF(DatenKennzahl!D440>=100,\"negativ\",DatenKennzahl!D440))","v":1.08160343593414}]
[{"$f":"IF(DatenKennzahl!A441=\"\",\"\",DatenKennzahl!A441)","v":"N 77.31"},{"$f":"IF(DatenKennzahl!B441=\"\",\"\",DatenKennzahl!B441)","v":"Vermietung von landwirtschaftlichen Maschinen und Geräten"},{"$f":"IF(Zeile<>20,DatenKennzahl!C441,IF(DatenKennzahl!C441>=100,\"negativ\",DatenKennzahl!C441))","v":6.3398735782246503},{"$f":"IF(Zeile<>20,DatenKennzahl!D441,IF(DatenKennzahl!D441>=100,\"negativ\",DatenKennzahl!D441))","v":4.5174853721594799}]
[{"$f":"IF(DatenKennzahl!A442=\"\",\"\",DatenKennzahl!A442)","v":"N 77.32"},{"$f":"IF(DatenKennzahl!B442=\"\",\"\",DatenKennzahl!B442)","v":"Vermietung von Baumaschinen und -geräten"},{"$f":"IF(Zeile<>20,DatenKennzahl!C442,IF(DatenKennzahl!C442>=100,\"negativ\",DatenKennzahl!C442))","v":4.0712530712530697},{"$f":"IF(Zeile<>20,DatenKennzahl!D442,IF(DatenKennzahl!D442>=100,\"negativ\",DatenKennzahl!D442))","v":0.89769820971866998}]
[{"$f":"IF(DatenKennzahl!A443=\"\",\"\",DatenKennzahl!A443)","v":"N 77.39"},{"$f":"IF(DatenKennzahl!B443=\"\",\"\",DatenKennzahl!B443)","v":"Vermietung von sonstigen Maschinen, Geräten und beweglichen Sachen a.n.g."},{"$f":"IF(Zeile<>20,DatenKennzahl!C443,IF(DatenKennzahl!C443>=100,\"negativ\",DatenKennzahl!C443))","v":3.5380446722812202},{"$f":"IF(Zeile<>20,DatenKennzahl!D443,IF(DatenKennzahl!D443>=100,\"negativ\",DatenKennzahl!D443))","v":1.52}]
[{"$f":"IF(DatenKennzahl!A444=\"\",\"\",DatenKennzahl!A444)","v":"N 78"},{"$f":"IF(DatenKennzahl!B444=\"\",\"\",DatenKennzahl!B444)","v":"Vermittlung und Überlassung von Arbeitskräften"},{"$f":"IF(Zeile<>20,DatenKennzahl!C444,IF(DatenKennzahl!C444>=100,\"negativ\",DatenKennzahl!C444))","v":3.8863167056185901},{"$f":"IF(Zeile<>20,DatenKennzahl!D444,IF(DatenKennzahl!D444>=100,\"negativ\",DatenKennzahl!D444))","v":0.91489361702127703}]
[{"$f":"IF(DatenKennzahl!A445=\"\",\"\",DatenKennzahl!A445)","v":"N 78.1"},{"$f":"IF(DatenKennzahl!B445=\"\",\"\",DatenKennzahl!B445)","v":"Vermittlung von Arbeitskräften"},{"$f":"IF(Zeile<>20,DatenKennzahl!C445,IF(DatenKennzahl!C445>=100,\"negativ\",DatenKennzahl!C445))","v":2.05633802816901},{"$f":"IF(Zeile<>20,DatenKennzahl!D445,IF(DatenKennzahl!D445>=100,\"negativ\",DatenKennzahl!D445))","v":0.34645669291338599}]
[{"$f":"IF(DatenKennzahl!A446=\"\",\"\",DatenKennzahl!A446)","v":"N 78.2"},{"$f":"IF(DatenKennzahl!B446=\"\",\"\",DatenKennzahl!B446)","v":"Befristete Überlassung von Arbeitskräften"},{"$f":"IF(Zeile<>20,DatenKennzahl!C446,IF(DatenKennzahl!C446>=100,\"negativ\",DatenKennzahl!C446))","v":3.8611111111111098},{"$f":"IF(Zeile<>20,DatenKennzahl!D446,IF(DatenKennzahl!D446>=100,\"negativ\",DatenKennzahl!D446))","v":1.3073212645746}]
[{"$f":"IF(DatenKennzahl!A447=\"\",\"\",DatenKennzahl!A447)","v":"N 78.3"},{"$f":"IF(DatenKennzahl!B447=\"\",\"\",DatenKennzahl!B447)","v":"Sonstige Überlassung von Arbeitskräften "},{"$f":"IF(Zeile<>20,DatenKennzahl!C447,IF(DatenKennzahl!C447>=100,\"negativ\",DatenKennzahl!C447))","v":6.3383458646616502},{"$f":"IF(Zeile<>20,DatenKennzahl!D447,IF(DatenKennzahl!D447>=100,\"negativ\",DatenKennzahl!D447))","v":1.5401459854014601}]
[{"$f":"IF(DatenKennzahl!A448=\"\",\"\",DatenKennzahl!A448)","v":"N 79"},{"$f":"IF(DatenKennzahl!B448=\"\",\"\",DatenKennzahl!B448)","v":"Reisebüros, Reiseveranstalter und Erbringung sonstiger Reservierungsdienstleistungen"},{"$f":"IF(Zeile<>20,DatenKennzahl!C448,IF(DatenKennzahl!C448>=100,\"negativ\",DatenKennzahl!C448))","v":6.1084337349397604},{"$f":"IF(Zeile<>20,DatenKennzahl!D448,IF(DatenKennzahl!D448>=100,\"negativ\",DatenKennzahl!D448))","v":1.6266465470100899}]
[{"$f":"IF(DatenKennzahl!A449=\"\",\"\",DatenKennzahl!A449)","v":"N 79.1"},{"$f":"IF(DatenKennzahl!B449=\"\",\"\",DatenKennzahl!B449)","v":"Reisebüros und Reiseveranstalter"},{"$f":"IF(Zeile<>20,DatenKennzahl!C449,IF(DatenKennzahl!C449>=100,\"negativ\",DatenKennzahl!C449))","v":6.2945736434108497},{"$f":"IF(Zeile<>20,DatenKennzahl!D449,IF(DatenKennzahl!D449>=100,\"negativ\",DatenKennzahl!D449))","v":1.6990291262135899}]
[{"$f":"IF(DatenKennzahl!A450=\"\",\"\",DatenKennzahl!A450)","v":"N 79.11"},{"$f":"IF(DatenKennzahl!B450=\"\",\"\",DatenKennzahl!B450)","v":"Reisebüros"},{"$f":"IF(Zeile<>20,DatenKennzahl!C450,IF(DatenKennzahl!C450>=100,\"negativ\",DatenKennzahl!C450))","v":6.1424944462075501},{"$f":"IF(Zeile<>20,DatenKennzahl!D450,IF(DatenKennzahl!D450>=100,\"negativ\",DatenKennzahl!D450))","v":1.81882519462137}]
[{"$f":"IF(DatenKennzahl!A451=\"\",\"\",DatenKennzahl!A451)","v":"N 79.12"},{"$f":"IF(DatenKennzahl!B451=\"\",\"\",DatenKennzahl!B451)","v":"Reiseveranstalter"},{"$f":"IF(Zeile<>20,DatenKennzahl!C451,IF(DatenKennzahl!C451>=100,\"negativ\",DatenKennzahl!C451))","v":8.4029850746268693},{"$f":"IF(Zeile<>20,DatenKennzahl!D451,IF(DatenKennzahl!D451>=100,\"negativ\",DatenKennzahl!D451))","v":1.302734375}]
[{"$f":"IF(DatenKennzahl!A452=\"\",\"\",DatenKennzahl!A452)","v":"N 79.9"},{"$f":"IF(DatenKennzahl!B452=\"\",\"\",DatenKennzahl!B452)","v":"Erbringung sonstiger Reservierungsdienstleistungen"},{"$f":"IF(Zeile<>20,DatenKennzahl!C452,IF(DatenKennzahl!C452>=100,\"negativ\",DatenKennzahl!C452))","v":4.25},{"$f":"IF(Zeile<>20,DatenKennzahl!D452,IF(DatenKennzahl!D452>=100,\"negativ\",DatenKennzahl!D452))","v":6.7669172932330796E-2}]
[{"$f":"IF(DatenKennzahl!A453=\"\",\"\",DatenKennzahl!A453)","v":"N 79.90-2"},{"$f":"IF(DatenKennzahl!B453=\"\",\"\",DatenKennzahl!B453)","v":"Tourismusbüros"},{"$f":"IF(Zeile<>20,DatenKennzahl!C453,IF(DatenKennzahl!C453>=100,\"negativ\",DatenKennzahl!C453))","v":4.2740740740740701},{"$f":"IF(Zeile<>20,DatenKennzahl!D453,IF(DatenKennzahl!D453>=100,\"negativ\",DatenKennzahl!D453))","v":3.2786885245901599E-2}]
[{"$f":"IF(DatenKennzahl!A454=\"\",\"\",DatenKennzahl!A454)","v":"N 80.1"},{"$f":"IF(DatenKennzahl!B454=\"\",\"\",DatenKennzahl!B454)","v":"Private Wach- und Sicherheitsdienste"},{"$f":"IF(Zeile<>20,DatenKennzahl!C454,IF(DatenKennzahl!C454>=100,\"negativ\",DatenKennzahl!C454))","v":2.3535353535353498},{"$f":"IF(Zeile<>20,DatenKennzahl!D454,IF(DatenKennzahl!D454>=100,\"negativ\",DatenKennzahl!D454))","v":6.1891508344242598E-2}]
[{"$f":"IF(DatenKennzahl!A455=\"\",\"\",DatenKennzahl!A455)","v":"N 81"},{"$f":"IF(DatenKennzahl!B455=\"\",\"\",DatenKennzahl!B455)","v":"Gebäudebetreuung; Garten- und Landschaftsbau"},{"$f":"IF(Zeile<>20,DatenKennzahl!C455,IF(DatenKennzahl!C455>=100,\"negativ\",DatenKennzahl!C455))","v":3.1956521739130399},{"$f":"IF(Zeile<>20,DatenKennzahl!D455,IF(DatenKennzahl!D455>=100,\"negativ\",DatenKennzahl!D455))","v":0.59805470584194398}]
[{"$f":"IF(DatenKennzahl!A456=\"\",\"\",DatenKennzahl!A456)","v":"N 81.1"},{"$f":"IF(DatenKennzahl!B456=\"\",\"\",DatenKennzahl!B456)","v":"Hausmeisterdienste"},{"$f":"IF(Zeile<>20,DatenKennzahl!C456,IF(DatenKennzahl!C456>=100,\"negativ\",DatenKennzahl!C456))","v":2.9927925056225502},{"$f":"IF(Zeile<>20,DatenKennzahl!D456,IF(DatenKennzahl!D456>=100,\"negativ\",DatenKennzahl!D456))","v":0.50787401574803104}]
[{"$f":"IF(DatenKennzahl!A457=\"\",\"\",DatenKennzahl!A457)","v":"N 81.10-1"},{"$f":"IF(DatenKennzahl!B457=\"\",\"\",DatenKennzahl!B457)","v":"Hauswartung"},{"$f":"IF(Zeile<>20,DatenKennzahl!C457,IF(DatenKennzahl!C457>=100,\"negativ\",DatenKennzahl!C457))","v":2.40086206896552},{"$f":"IF(Zeile<>20,DatenKennzahl!D457,IF(DatenKennzahl!D457>=100,\"negativ\",DatenKennzahl!D457))","v":0.41191066997518599}]
[{"$f":"IF(DatenKennzahl!A458=\"\",\"\",DatenKennzahl!A458)","v":"N 81.10-2"},{"$f":"IF(DatenKennzahl!B458=\"\",\"\",DatenKennzahl!B458)","v":"Facility Management (ohne Hauswartung)"},{"$f":"IF(Zeile<>20,DatenKennzahl!C458,IF(DatenKennzahl!C458>=100,\"negativ\",DatenKennzahl!C458))","v":6.0185140612514099},{"$f":"IF(Zeile<>20,DatenKennzahl!D458,IF(DatenKennzahl!D458>=100,\"negativ\",DatenKennzahl!D458))","v":1.2204099874858501}]
[{"$f":"IF(DatenKennzahl!A459=\"\",\"\",DatenKennzahl!A459)","v":"N 81.2"},{"$f":"IF(DatenKennzahl!B459=\"\",\"\",DatenKennzahl!B459)","v":"Reinigung von Gebäuden, Straßen und Verkehrsmitteln"},{"$f":"IF(Zeile<>20,DatenKennzahl!C459,IF(DatenKennzahl!C459>=100,\"negativ\",DatenKennzahl!C459))","v":2.38978802774486},{"$f":"IF(Zeile<>20,DatenKennzahl!D459,IF(DatenKennzahl!D459>=100,\"negativ\",DatenKennzahl!D459))","v":0.56459309387471801}]
[{"$f":"IF(DatenKennzahl!A460=\"\",\"\",DatenKennzahl!A460)","v":"N 81.21"},{"$f":"IF(DatenKennzahl!B460=\"\",\"\",DatenKennzahl!B460)","v":"Allgemeine Gebäudereinigung"},{"$f":"IF(Zeile<>20,DatenKennzahl!C460,IF(DatenKennzahl!C460>=100,\"negativ\",DatenKennzahl!C460))","v":2.12903225806452},{"$f":"IF(Zeile<>20,DatenKennzahl!D460,IF(DatenKennzahl!D460>=100,\"negativ\",DatenKennzahl!D460))","v":0.75694444444444398}]
[{"$f":"IF(DatenKennzahl!A461=\"\",\"\",DatenKennzahl!A461)","v":"N 81.22"},{"$f":"IF(DatenKennzahl!B461=\"\",\"\",DatenKennzahl!B461)","v":"Spezielle Reinigung von Gebäuden und Reinigung von Maschinen"},{"$f":"IF(Zeile<>20,DatenKennzahl!C461,IF(DatenKennzahl!C461>=100,\"negativ\",DatenKennzahl!C461))","v":2.70469633636587},{"$f":"IF(Zeile<>20,DatenKennzahl!D461,IF(DatenKennzahl!D461>=100,\"negativ\",DatenKennzahl!D461))","v":0.442105263157895}]
[{"$f":"IF(DatenKennzahl!A462=\"\",\"\",DatenKennzahl!A462)","v":"N 81.22-1"},{"$f":"IF(DatenKennzahl!B462=\"\",\"\",DatenKennzahl!B462)","v":"Rauchfangkehrerinnen und -kehrer"},{"$f":"IF(Zeile<>20,DatenKennzahl!C462,IF(DatenKennzahl!C462>=100,\"negativ\",DatenKennzahl!C462))","v":2.57227238565032},{"$f":"IF(Zeile<>20,DatenKennzahl!D462,IF(DatenKennzahl!D462>=100,\"negativ\",DatenKennzahl!D462))","v":0.33044391599643602}]
[{"$f":"IF(DatenKennzahl!A463=\"\",\"\",DatenKennzahl!A463)","v":"N 81.29"},{"$f":"IF(DatenKennzahl!B463=\"\",\"\",DatenKennzahl!B463)","v":"Reinigung a.n.g."},{"$f":"IF(Zeile<>20,DatenKennzahl!C463,IF(DatenKennzahl!C463>=100,\"negativ\",DatenKennzahl!C463))","v":2.6028987993298802},{"$f":"IF(Zeile<>20,DatenKennzahl!D463,IF(DatenKennzahl!D463>=100,\"negativ\",DatenKennzahl!D463))","v":0.41025641025641002}]
[{"$f":"IF(DatenKennzahl!A464=\"\",\"\",DatenKennzahl!A464)","v":"N 81.29-9"},{"$f":"IF(DatenKennzahl!B464=\"\",\"\",DatenKennzahl!B464)","v":"Sonstige Reinigung a.n.g."},{"$f":"IF(Zeile<>20,DatenKennzahl!C464,IF(DatenKennzahl!C464>=100,\"negativ\",DatenKennzahl!C464))","v":1.36299403524895},{"$f":"IF(Zeile<>20,DatenKennzahl!D464,IF(DatenKennzahl!D464>=100,\"negativ\",DatenKennzahl!D464))","v":0}]
[{"$f":"IF(DatenKennzahl!A465=\"\",\"\",DatenKennzahl!A465)","v":"N 81.3"},{"$f":"IF(DatenKennzahl!B465=\"\",\"\",DatenKennzahl!B465)","v":"Garten- und Landschaftsbau sowie Erbringung von sonstigen gärtnerischen Dienstleistungen"},{"$f":"IF(Zeile<>20,DatenKennzahl!C465,IF(DatenKennzahl!C465>=100,\"negativ\",DatenKennzahl!C465))","v":6.9116342404423401},{"$f":"IF(Zeile<>20,DatenKennzahl!D465,IF(DatenKennzahl!D465>=100,\"negativ\",DatenKennzahl!D465))","v":0.88885675637856199}]
[{"$f":"IF(DatenKennzahl!A466=\"\",\"\",DatenKennzahl!A466)","v":"N 82"},{"$f":"IF(DatenKennzahl!B466=\"\",\"\",DatenKennzahl!B466)","v":"Erbringung von wirtschaftlichen Dienstleistungen für Unternehmen und Privatpersonen a.n.g."},{"$f":"IF(Zeile<>20,DatenKennzahl!C466,IF(DatenKennzahl!C466>=100,\"negativ\",DatenKennzahl!C466))","v":3.4207920792079198},{"$f":"IF(Zeile<>20,DatenKennzahl!D466,IF(DatenKennzahl!D466>=100,\"negativ\",DatenKennzahl!D466))","v":0.71428571428571397}]
[{"$f":"IF(DatenKennzahl!A467=\"\",\"\",DatenKennzahl!A467)","v":"N 82.1"},{"$f":"IF(DatenKennzahl!B467=\"\",\"\",DatenKennzahl!B467)","v":"Sekretariats- und Schreibdienste, Copy-Shops"},{"$f":"IF(Zeile<>20,DatenKennzahl!C467,IF(DatenKennzahl!C467>=100,\"negativ\",DatenKennzahl!C467))","v":4.2799582935347704},{"$f":"IF(Zeile<>20,DatenKennzahl!D467,IF(DatenKennzahl!D467>=100,\"negativ\",DatenKennzahl!D467))","v":0.90291262135922301}]
[{"$f":"IF(DatenKennzahl!A468=\"\",\"\",DatenKennzahl!A468)","v":"N 82.2"},{"$f":"IF(DatenKennzahl!B468=\"\",\"\",DatenKennzahl!B468)","v":"Call Centers"},{"$f":"IF(Zeile<>20,DatenKennzahl!C468,IF(DatenKennzahl!C468>=100,\"negativ\",DatenKennzahl!C468))","v":2.7416666666666698},{"$f":"IF(Zeile<>20,DatenKennzahl!D468,IF(DatenKennzahl!D468>=100,\"negativ\",DatenKennzahl!D468))","v":1.15789473684211}]
[{"$f":"IF(DatenKennzahl!A469=\"\",\"\",DatenKennzahl!A469)","v":"N 82.3"},{"$f":"IF(DatenKennzahl!B469=\"\",\"\",DatenKennzahl!B469)","v":"Messe-, Ausstellungs- und Kongressveranstalter"},{"$f":"IF(Zeile<>20,DatenKennzahl!C469,IF(DatenKennzahl!C469>=100,\"negativ\",DatenKennzahl!C469))","v":4.6957698276891202},{"$f":"IF(Zeile<>20,DatenKennzahl!D469,IF(DatenKennzahl!D469>=100,\"negativ\",DatenKennzahl!D469))","v":0.111753194317583}]
[{"$f":"IF(DatenKennzahl!A470=\"\",\"\",DatenKennzahl!A470)","v":"N 82.9"},{"$f":"IF(DatenKennzahl!B470=\"\",\"\",DatenKennzahl!B470)","v":"Erbringung sonstiger wirtschaftlicher Dienstleistungen für Unternehmen und Privatpersonen"},{"$f":"IF(Zeile<>20,DatenKennzahl!C470,IF(DatenKennzahl!C470>=100,\"negativ\",DatenKennzahl!C470))","v":3.4150943396226401},{"$f":"IF(Zeile<>20,DatenKennzahl!D470,IF(DatenKennzahl!D470>=100,\"negativ\",DatenKennzahl!D470))","v":0.71817958345584199}]
[{"$f":"IF(DatenKennzahl!A471=\"\",\"\",DatenKennzahl!A471)","v":"N 82.99"},{"$f":"IF(DatenKennzahl!B471=\"\",\"\",DatenKennzahl!B471)","v":"Erbringung sonstiger wirtschaftlicher Dienstleistungen für Unternehmen und Privatpersonen a.n.g."},{"$f":"IF(Zeile<>20,DatenKennzahl!C471,IF(DatenKennzahl!C471>=100,\"negativ\",DatenKennzahl!C471))","v":3.2352941176470602},{"$f":"IF(Zeile<>20,DatenKennzahl!D471,IF(DatenKennzahl!D471>=100,\"negativ\",DatenKennzahl!D471))","v":0.71817958345584199}]
[{"$f":"IF(DatenKennzahl!A472=\"\",\"\",DatenKennzahl!A472)","v":"O"},{"$f":"IF(DatenKennzahl!B472=\"\",\"\",DatenKennzahl!B472)","v":"Öffentliche Verwaltung, Verteidigung, Sozialversicherung"},{"$f":"IF(Zeile<>20,DatenKennzahl!C472,IF(DatenKennzahl!C472>=100,\"negativ\",DatenKennzahl!C472))","v":8.7723577235772403},{"$f":"IF(Zeile<>20,DatenKennzahl!D472,IF(DatenKennzahl!D472>=100,\"negativ\",DatenKennzahl!D472))","v":2.0923076923076902}]
[{"$f":"IF(DatenKennzahl!A473=\"\",\"\",DatenKennzahl!A473)","v":"O 84"},{"$f":"IF(DatenKennzahl!B473=\"\",\"\",DatenKennzahl!B473)","v":"Öffentliche Verwaltung, Verteidigung, Sozialversicherung"},{"$f":"IF(Zeile<>20,DatenKennzahl!C473,IF(DatenKennzahl!C473>=100,\"negativ\",DatenKennzahl!C473))","v":8.7723577235772403},{"$f":"IF(Zeile<>20,DatenKennzahl!D473,IF(DatenKennzahl!D473>=100,\"negativ\",DatenKennzahl!D473))","v":2.0923076923076902}]
[{"$f":"IF(DatenKennzahl!A474=\"\",\"\",DatenKennzahl!A474)","v":"O 84.1"},{"$f":"IF(DatenKennzahl!B474=\"\",\"\",DatenKennzahl!B474)","v":"Öffentliche Verwaltung"},{"$f":"IF(Zeile<>20,DatenKennzahl!C474,IF(DatenKennzahl!C474>=100,\"negativ\",DatenKennzahl!C474))","v":8.8666666666666707},{"$f":"IF(Zeile<>20,DatenKennzahl!D474,IF(DatenKennzahl!D474>=100,\"negativ\",DatenKennzahl!D474))","v":2.3787477954144598}]
[{"$f":"IF(DatenKennzahl!A475=\"\",\"\",DatenKennzahl!A475)","v":"P"},{"$f":"IF(DatenKennzahl!B475=\"\",\"\",DatenKennzahl!B475)","v":"Erziehung und Unterricht"},{"$f":"IF(Zeile<>20,DatenKennzahl!C475,IF(DatenKennzahl!C475>=100,\"negativ\",DatenKennzahl!C475))","v":5.3703644856843198},{"$f":"IF(Zeile<>20,DatenKennzahl!D475,IF(DatenKennzahl!D475>=100,\"negativ\",DatenKennzahl!D475))","v":0.89981273408239704}]
[{"$f":"IF(DatenKennzahl!A476=\"\",\"\",DatenKennzahl!A476)","v":"P 85.5"},{"$f":"IF(DatenKennzahl!B476=\"\",\"\",DatenKennzahl!B476)","v":"Sonstiger Unterricht"},{"$f":"IF(Zeile<>20,DatenKennzahl!C476,IF(DatenKennzahl!C476>=100,\"negativ\",DatenKennzahl!C476))","v":5.4615384615384599},{"$f":"IF(Zeile<>20,DatenKennzahl!D476,IF(DatenKennzahl!D476>=100,\"negativ\",DatenKennzahl!D476))","v":0.86113827208151505}]
[{"$f":"IF(DatenKennzahl!A477=\"\",\"\",DatenKennzahl!A477)","v":"P 85.51"},{"$f":"IF(DatenKennzahl!B477=\"\",\"\",DatenKennzahl!B477)","v":"Sport- und Freizeitunterricht"},{"$f":"IF(Zeile<>20,DatenKennzahl!C477,IF(DatenKennzahl!C477>=100,\"negativ\",DatenKennzahl!C477))","v":5.7922077922077904},{"$f":"IF(Zeile<>20,DatenKennzahl!D477,IF(DatenKennzahl!D477>=100,\"negativ\",DatenKennzahl!D477))","v":0.65637163386840103}]
[{"$f":"IF(DatenKennzahl!A478=\"\",\"\",DatenKennzahl!A478)","v":"P 85.53"},{"$f":"IF(DatenKennzahl!B478=\"\",\"\",DatenKennzahl!B478)","v":"Fahr- und Flugschulen"},{"$f":"IF(Zeile<>20,DatenKennzahl!C478,IF(DatenKennzahl!C478>=100,\"negativ\",DatenKennzahl!C478))","v":7.8372093023255802},{"$f":"IF(Zeile<>20,DatenKennzahl!D478,IF(DatenKennzahl!D478>=100,\"negativ\",DatenKennzahl!D478))","v":1.0476190476190499}]
[{"$f":"IF(DatenKennzahl!A479=\"\",\"\",DatenKennzahl!A479)","v":"P 85.59"},{"$f":"IF(DatenKennzahl!B479=\"\",\"\",DatenKennzahl!B479)","v":"Sonstiger Unterricht a.n.g."},{"$f":"IF(Zeile<>20,DatenKennzahl!C479,IF(DatenKennzahl!C479>=100,\"negativ\",DatenKennzahl!C479))","v":3.9753086419753099},{"$f":"IF(Zeile<>20,DatenKennzahl!D479,IF(DatenKennzahl!D479>=100,\"negativ\",DatenKennzahl!D479))","v":0.4033203125}]
[{"$f":"IF(DatenKennzahl!A480=\"\",\"\",DatenKennzahl!A480)","v":"Q"},{"$f":"IF(DatenKennzahl!B480=\"\",\"\",DatenKennzahl!B480)","v":"Gesundheits- und Sozialwesen"},{"$f":"IF(Zeile<>20,DatenKennzahl!C480,IF(DatenKennzahl!C480>=100,\"negativ\",DatenKennzahl!C480))","v":4.82242837876497},{"$f":"IF(Zeile<>20,DatenKennzahl!D480,IF(DatenKennzahl!D480>=100,\"negativ\",DatenKennzahl!D480))","v":0.853341684240569}]
[{"$f":"IF(DatenKennzahl!A481=\"\",\"\",DatenKennzahl!A481)","v":"Q 86"},{"$f":"IF(DatenKennzahl!B481=\"\",\"\",DatenKennzahl!B481)","v":"Gesundheitswesen"},{"$f":"IF(Zeile<>20,DatenKennzahl!C481,IF(DatenKennzahl!C481>=100,\"negativ\",DatenKennzahl!C481))","v":2.5003353147174199},{"$f":"IF(Zeile<>20,DatenKennzahl!D481,IF(DatenKennzahl!D481>=100,\"negativ\",DatenKennzahl!D481))","v":0.58429118773946398}]
[{"$f":"IF(DatenKennzahl!A482=\"\",\"\",DatenKennzahl!A482)","v":"Q 86.1"},{"$f":"IF(DatenKennzahl!B482=\"\",\"\",DatenKennzahl!B482)","v":"Krankenhäuser"},{"$f":"IF(Zeile<>20,DatenKennzahl!C482,IF(DatenKennzahl!C482>=100,\"negativ\",DatenKennzahl!C482))","v":3.27533193570929},{"$f":"IF(Zeile<>20,DatenKennzahl!D482,IF(DatenKennzahl!D482>=100,\"negativ\",DatenKennzahl!D482))","v":1.13970956434652}]
[{"$f":"IF(DatenKennzahl!A483=\"\",\"\",DatenKennzahl!A483)","v":"Q 86.2"},{"$f":"IF(DatenKennzahl!B483=\"\",\"\",DatenKennzahl!B483)","v":"Arzt- und Zahnarztpraxen"},{"$f":"IF(Zeile<>20,DatenKennzahl!C483,IF(DatenKennzahl!C483>=100,\"negativ\",DatenKennzahl!C483))","v":1.6145251396647999},{"$f":"IF(Zeile<>20,DatenKennzahl!D483,IF(DatenKennzahl!D483>=100,\"negativ\",DatenKennzahl!D483))","v":0.49401376368148198}]
[{"$f":"IF(DatenKennzahl!A484=\"\",\"\",DatenKennzahl!A484)","v":"Q 86.22"},{"$f":"IF(DatenKennzahl!B484=\"\",\"\",DatenKennzahl!B484)","v":"Facharztpraxen"},{"$f":"IF(Zeile<>20,DatenKennzahl!C484,IF(DatenKennzahl!C484>=100,\"negativ\",DatenKennzahl!C484))","v":1.5583864118896},{"$f":"IF(Zeile<>20,DatenKennzahl!D484,IF(DatenKennzahl!D484>=100,\"negativ\",DatenKennzahl!D484))","v":0.33743492664458102}]
[{"$f":"IF(DatenKennzahl!A485=\"\",\"\",DatenKennzahl!A485)","v":"Q 86.23"},{"$f":"IF(DatenKennzahl!B485=\"\",\"\",DatenKennzahl!B485)","v":"Zahnarztpraxen"},{"$f":"IF(Zeile<>20,DatenKennzahl!C485,IF(DatenKennzahl!C485>=100,\"negativ\",DatenKennzahl!C485))","v":1.4789058031873299},{"$f":"IF(Zeile<>20,DatenKennzahl!D485,IF(DatenKennzahl!D485>=100,\"negativ\",DatenKennzahl!D485))","v":0.28909599182157403}]
[{"$f":"IF(DatenKennzahl!A486=\"\",\"\",DatenKennzahl!A486)","v":"Q 86.9"},{"$f":"IF(DatenKennzahl!B486=\"\",\"\",DatenKennzahl!B486)","v":"Gesundheitswesen a.n.g."},{"$f":"IF(Zeile<>20,DatenKennzahl!C486,IF(DatenKennzahl!C486>=100,\"negativ\",DatenKennzahl!C486))","v":3.36391437308869},{"$f":"IF(Zeile<>20,DatenKennzahl!D486,IF(DatenKennzahl!D486>=100,\"negativ\",DatenKennzahl!D486))","v":0.36986301369863001}]
[{"$f":"IF(DatenKennzahl!A487=\"\",\"\",DatenKennzahl!A487)","v":"Q 86.90-1"},{"$f":"IF(DatenKennzahl!B487=\"\",\"\",DatenKennzahl!B487)","v":"Krankentransporte und Rettungsdienste"},{"$f":"IF(Zeile<>20,DatenKennzahl!C487,IF(DatenKennzahl!C487>=100,\"negativ\",DatenKennzahl!C487))","v":1.42307692307692},{"$f":"IF(Zeile<>20,DatenKennzahl!D487,IF(DatenKennzahl!D487>=100,\"negativ\",DatenKennzahl!D487))","v":1}]
[{"$f":"IF(DatenKennzahl!A488=\"\",\"\",DatenKennzahl!A488)","v":"Q 86.90-9"},{"$f":"IF(DatenKennzahl!B488=\"\",\"\",DatenKennzahl!B488)","v":"Sonstiges Gesundheitswesen a.n.g."},{"$f":"IF(Zeile<>20,DatenKennzahl!C488,IF(DatenKennzahl!C488>=100,\"negativ\",DatenKennzahl!C488))","v":3.3333333333333299},{"$f":"IF(Zeile<>20,DatenKennzahl!D488,IF(DatenKennzahl!D488>=100,\"negativ\",DatenKennzahl!D488))","v":0.30666666666666698}]
[{"$f":"IF(DatenKennzahl!A489=\"\",\"\",DatenKennzahl!A489)","v":"Q 87"},{"$f":"IF(DatenKennzahl!B489=\"\",\"\",DatenKennzahl!B489)","v":"Heime (ohne Erholungs- und Ferienheime)"},{"$f":"IF(Zeile<>20,DatenKennzahl!C489,IF(DatenKennzahl!C489>=100,\"negativ\",DatenKennzahl!C489))","v":15.088888888888899},{"$f":"IF(Zeile<>20,DatenKennzahl!D489,IF(DatenKennzahl!D489>=100,\"negativ\",DatenKennzahl!D489))","v":6.0871794871794904}]
[{"$f":"IF(DatenKennzahl!A490=\"\",\"\",DatenKennzahl!A490)","v":"Q 87.1"},{"$f":"IF(DatenKennzahl!B490=\"\",\"\",DatenKennzahl!B490)","v":"Pflegeheime"},{"$f":"IF(Zeile<>20,DatenKennzahl!C490,IF(DatenKennzahl!C490>=100,\"negativ\",DatenKennzahl!C490))","v":17.660377358490599},{"$f":"IF(Zeile<>20,DatenKennzahl!D490,IF(DatenKennzahl!D490>=100,\"negativ\",DatenKennzahl!D490))","v":6.1185567010309301}]
[{"$f":"IF(DatenKennzahl!A491=\"\",\"\",DatenKennzahl!A491)","v":"Q 87.3"},{"$f":"IF(DatenKennzahl!B491=\"\",\"\",DatenKennzahl!B491)","v":"Altenheime; Alten- und Behindertenwohnheime"},{"$f":"IF(Zeile<>20,DatenKennzahl!C491,IF(DatenKennzahl!C491>=100,\"negativ\",DatenKennzahl!C491))","v":17.537777777777801},{"$f":"IF(Zeile<>20,DatenKennzahl!D491,IF(DatenKennzahl!D491>=100,\"negativ\",DatenKennzahl!D491))","v":6.9049295774647899}]
[{"$f":"IF(DatenKennzahl!A492=\"\",\"\",DatenKennzahl!A492)","v":"Q 87.9"},{"$f":"IF(DatenKennzahl!B492=\"\",\"\",DatenKennzahl!B492)","v":"Sonstige Heime (ohne Erholungs- und Ferienheime)"},{"$f":"IF(Zeile<>20,DatenKennzahl!C492,IF(DatenKennzahl!C492>=100,\"negativ\",DatenKennzahl!C492))","v":8.3134019151944099},{"$f":"IF(Zeile<>20,DatenKennzahl!D492,IF(DatenKennzahl!D492>=100,\"negativ\",DatenKennzahl!D492))","v":1.05395683453237}]
[{"$f":"IF(DatenKennzahl!A493=\"\",\"\",DatenKennzahl!A493)","v":"Q 88"},{"$f":"IF(DatenKennzahl!B493=\"\",\"\",DatenKennzahl!B493)","v":"Sozialwesen (ohne Heime)"},{"$f":"IF(Zeile<>20,DatenKennzahl!C493,IF(DatenKennzahl!C493>=100,\"negativ\",DatenKennzahl!C493))","v":5.4904109589041097},{"$f":"IF(Zeile<>20,DatenKennzahl!D493,IF(DatenKennzahl!D493>=100,\"negativ\",DatenKennzahl!D493))","v":1.6590909090909101}]
[{"$f":"IF(DatenKennzahl!A494=\"\",\"\",DatenKennzahl!A494)","v":"Q 88.9"},{"$f":"IF(DatenKennzahl!B494=\"\",\"\",DatenKennzahl!B494)","v":"Sonstiges Sozialwesen (ohne Heime)"},{"$f":"IF(Zeile<>20,DatenKennzahl!C494,IF(DatenKennzahl!C494>=100,\"negativ\",DatenKennzahl!C494))","v":5.5847953216374302},{"$f":"IF(Zeile<>20,DatenKennzahl!D494,IF(DatenKennzahl!D494>=100,\"negativ\",DatenKennzahl!D494))","v":1.8786968021158901}]
[{"$f":"IF(DatenKennzahl!A495=\"\",\"\",DatenKennzahl!A495)","v":"Q 88.99"},{"$f":"IF(DatenKennzahl!B495=\"\",\"\",DatenKennzahl!B495)","v":"Sonstiges Sozialwesen a.n.g."},{"$f":"IF(Zeile<>20,DatenKennzahl!C495,IF(DatenKennzahl!C495>=100,\"negativ\",DatenKennzahl!C495))","v":5.5847953216374302},{"$f":"IF(Zeile<>20,DatenKennzahl!D495,IF(DatenKennzahl!D495>=100,\"negativ\",DatenKennzahl!D495))","v":1.6590909090909101}]
[{"$f":"IF(DatenKennzahl!A496=\"\",\"\",DatenKennzahl!A496)","v":"R"},{"$f":"IF(DatenKennzahl!B496=\"\",\"\",DatenKennzahl!B496)","v":"Kunst, Unterhaltung und Erholung"},{"$f":"IF(Zeile<>20,DatenKennzahl!C496,IF(DatenKennzahl!C496>=100,\"negativ\",DatenKennzahl!C496))","v":5.29895287958115},{"$f":"IF(Zeile<>20,DatenKennzahl!D496,IF(DatenKennzahl!D496>=100,\"negativ\",DatenKennzahl!D496))","v":0.96551724137931005}]
[{"$f":"IF(DatenKennzahl!A497=\"\",\"\",DatenKennzahl!A497)","v":"R 90"},{"$f":"IF(DatenKennzahl!B497=\"\",\"\",DatenKennzahl!B497)","v":"Kreative, künstlerische und unterhaltende Tätigkeiten"},{"$f":"IF(Zeile<>20,DatenKennzahl!C497,IF(DatenKennzahl!C497>=100,\"negativ\",DatenKennzahl!C497))","v":4.6470588235294104},{"$f":"IF(Zeile<>20,DatenKennzahl!D497,IF(DatenKennzahl!D497>=100,\"negativ\",DatenKennzahl!D497))","v":0.16350289316866701}]
[{"$f":"IF(DatenKennzahl!A498=\"\",\"\",DatenKennzahl!A498)","v":"R 90.02"},{"$f":"IF(DatenKennzahl!B498=\"\",\"\",DatenKennzahl!B498)","v":"Erbringung von Dienstleistungen für die darstellende Kunst"},{"$f":"IF(Zeile<>20,DatenKennzahl!C498,IF(DatenKennzahl!C498>=100,\"negativ\",DatenKennzahl!C498))","v":3.72058823529412},{"$f":"IF(Zeile<>20,DatenKennzahl!D498,IF(DatenKennzahl!D498>=100,\"negativ\",DatenKennzahl!D498))","v":0.931034482758621}]
[{"$f":"IF(DatenKennzahl!A499=\"\",\"\",DatenKennzahl!A499)","v":"R 90.03"},{"$f":"IF(DatenKennzahl!B499=\"\",\"\",DatenKennzahl!B499)","v":"Künstlerisches und schriftstellerisches Schaffen"},{"$f":"IF(Zeile<>20,DatenKennzahl!C499,IF(DatenKennzahl!C499>=100,\"negativ\",DatenKennzahl!C499))","v":5.8571428571428603},{"$f":"IF(Zeile<>20,DatenKennzahl!D499,IF(DatenKennzahl!D499>=100,\"negativ\",DatenKennzahl!D499))","v":2.5641025641025599E-2}]
[{"$f":"IF(DatenKennzahl!A500=\"\",\"\",DatenKennzahl!A500)","v":"R 90.04"},{"$f":"IF(DatenKennzahl!B500=\"\",\"\",DatenKennzahl!B500)","v":"Betrieb von Kultur- und Unterhaltungseinrichtungen"},{"$f":"IF(Zeile<>20,DatenKennzahl!C500,IF(DatenKennzahl!C500>=100,\"negativ\",DatenKennzahl!C500))","v":5.8991555597567498},{"$f":"IF(Zeile<>20,DatenKennzahl!D500,IF(DatenKennzahl!D500>=100,\"negativ\",DatenKennzahl!D500))","v":0}]
[{"$f":"IF(DatenKennzahl!A501=\"\",\"\",DatenKennzahl!A501)","v":"R 91"},{"$f":"IF(DatenKennzahl!B501=\"\",\"\",DatenKennzahl!B501)","v":"Bibliotheken, Archive, Museen, botanische und zoologische Gärten"},{"$f":"IF(Zeile<>20,DatenKennzahl!C501,IF(DatenKennzahl!C501>=100,\"negativ\",DatenKennzahl!C501))","v":3.5301204819277099},{"$f":"IF(Zeile<>20,DatenKennzahl!D501,IF(DatenKennzahl!D501>=100,\"negativ\",DatenKennzahl!D501))","v":1.4396622493256701}]
[{"$f":"IF(DatenKennzahl!A502=\"\",\"\",DatenKennzahl!A502)","v":"R 92"},{"$f":"IF(DatenKennzahl!B502=\"\",\"\",DatenKennzahl!B502)","v":"Spiel-, Wett- und Lotteriewesen"},{"$f":"IF(Zeile<>20,DatenKennzahl!C502,IF(DatenKennzahl!C502>=100,\"negativ\",DatenKennzahl!C502))","v":1.0635088419093199},{"$f":"IF(Zeile<>20,DatenKennzahl!D502,IF(DatenKennzahl!D502>=100,\"negativ\",DatenKennzahl!D502))","v":0}]
[{"$f":"IF(DatenKennzahl!A503=\"\",\"\",DatenKennzahl!A503)","v":"R 92.00-1"},{"$f":"IF(DatenKennzahl!B503=\"\",\"\",DatenKennzahl!B503)","v":"Wett-, Toto- und Lotteriewesen"},{"$f":"IF(Zeile<>20,DatenKennzahl!C503,IF(DatenKennzahl!C503>=100,\"negativ\",DatenKennzahl!C503))","v":1.0644065979234101},{"$f":"IF(Zeile<>20,DatenKennzahl!D503,IF(DatenKennzahl!D503>=100,\"negativ\",DatenKennzahl!D503))","v":8.3916083916083906E-2}]
[{"$f":"IF(DatenKennzahl!A504=\"\",\"\",DatenKennzahl!A504)","v":"R 92.00-3"},{"$f":"IF(DatenKennzahl!B504=\"\",\"\",DatenKennzahl!B504)","v":"Betrieb von Glücksspielautomaten"},{"$f":"IF(Zeile<>20,DatenKennzahl!C504,IF(DatenKennzahl!C504>=100,\"negativ\",DatenKennzahl!C504))","v":0.55376578145407096},{"$f":"IF(Zeile<>20,DatenKennzahl!D504,IF(DatenKennzahl!D504>=100,\"negativ\",DatenKennzahl!D504))","v":0}]
[{"$f":"IF(DatenKennzahl!A505=\"\",\"\",DatenKennzahl!A505)","v":"R 93"},{"$f":"IF(DatenKennzahl!B505=\"\",\"\",DatenKennzahl!B505)","v":"Erbringung von Dienstleistungen des Sports, der Unterhaltung und der Erholung"},{"$f":"IF(Zeile<>20,DatenKennzahl!C505,IF(DatenKennzahl!C505>=100,\"negativ\",DatenKennzahl!C505))","v":6.0496183206106897},{"$f":"IF(Zeile<>20,DatenKennzahl!D505,IF(DatenKennzahl!D505>=100,\"negativ\",DatenKennzahl!D505))","v":1.14935064935065}]
[{"$f":"IF(DatenKennzahl!A506=\"\",\"\",DatenKennzahl!A506)","v":"R 93.1"},{"$f":"IF(DatenKennzahl!B506=\"\",\"\",DatenKennzahl!B506)","v":"Erbringung von Dienstleistungen des Sports "},{"$f":"IF(Zeile<>20,DatenKennzahl!C506,IF(DatenKennzahl!C506>=100,\"negativ\",DatenKennzahl!C506))","v":7.1790041708004804},{"$f":"IF(Zeile<>20,DatenKennzahl!D506,IF(DatenKennzahl!D506>=100,\"negativ\",DatenKennzahl!D506))","v":1.33948339483395}]
[{"$f":"IF(DatenKennzahl!A507=\"\",\"\",DatenKennzahl!A507)","v":"R 93.11"},{"$f":"IF(DatenKennzahl!B507=\"\",\"\",DatenKennzahl!B507)","v":"Betrieb von Sportanlagen"},{"$f":"IF(Zeile<>20,DatenKennzahl!C507,IF(DatenKennzahl!C507>=100,\"negativ\",DatenKennzahl!C507))","v":10.529702970297},{"$f":"IF(Zeile<>20,DatenKennzahl!D507,IF(DatenKennzahl!D507>=100,\"negativ\",DatenKennzahl!D507))","v":3.9039999999999999}]
[{"$f":"IF(DatenKennzahl!A508=\"\",\"\",DatenKennzahl!A508)","v":"R 93.11-9"},{"$f":"IF(DatenKennzahl!B508=\"\",\"\",DatenKennzahl!B508)","v":"Betrieb von sonstigen Sportanlagen"},{"$f":"IF(Zeile<>20,DatenKennzahl!C508,IF(DatenKennzahl!C508>=100,\"negativ\",DatenKennzahl!C508))","v":10.863128491620101},{"$f":"IF(Zeile<>20,DatenKennzahl!D508,IF(DatenKennzahl!D508>=100,\"negativ\",DatenKennzahl!D508))","v":4.2347826086956504}]
[{"$f":"IF(DatenKennzahl!A509=\"\",\"\",DatenKennzahl!A509)","v":"R 93.13"},{"$f":"IF(DatenKennzahl!B509=\"\",\"\",DatenKennzahl!B509)","v":"Fitnesszentren"},{"$f":"IF(Zeile<>20,DatenKennzahl!C509,IF(DatenKennzahl!C509>=100,\"negativ\",DatenKennzahl!C509))","v":4.2352941176470598},{"$f":"IF(Zeile<>20,DatenKennzahl!D509,IF(DatenKennzahl!D509>=100,\"negativ\",DatenKennzahl!D509))","v":0.90322580645161299}]
[{"$f":"IF(DatenKennzahl!A510=\"\",\"\",DatenKennzahl!A510)","v":"R 93.19"},{"$f":"IF(DatenKennzahl!B510=\"\",\"\",DatenKennzahl!B510)","v":"Erbringung von sonstigen Dienstleistungen des Sports"},{"$f":"IF(Zeile<>20,DatenKennzahl!C510,IF(DatenKennzahl!C510>=100,\"negativ\",DatenKennzahl!C510))","v":5.7716049382716097},{"$f":"IF(Zeile<>20,DatenKennzahl!D510,IF(DatenKennzahl!D510>=100,\"negativ\",DatenKennzahl!D510))","v":1.0567805953693501}]
[{"$f":"IF(DatenKennzahl!A511=\"\",\"\",DatenKennzahl!A511)","v":"R 93.2"},{"$f":"IF(DatenKennzahl!B511=\"\",\"\",DatenKennzahl!B511)","v":"Erbringung von Dienstleistungen der Unterhaltung und der Erholung"},{"$f":"IF(Zeile<>20,DatenKennzahl!C511,IF(DatenKennzahl!C511>=100,\"negativ\",DatenKennzahl!C511))","v":4.7058242913392796},{"$f":"IF(Zeile<>20,DatenKennzahl!D511,IF(DatenKennzahl!D511>=100,\"negativ\",DatenKennzahl!D511))","v":0.51149425287356298}]
[{"$f":"IF(DatenKennzahl!A512=\"\",\"\",DatenKennzahl!A512)","v":"R 93.21"},{"$f":"IF(DatenKennzahl!B512=\"\",\"\",DatenKennzahl!B512)","v":"Vergnügungs- und Themenparks"},{"$f":"IF(Zeile<>20,DatenKennzahl!C512,IF(DatenKennzahl!C512>=100,\"negativ\",DatenKennzahl!C512))","v":4.7058242913392796},{"$f":"IF(Zeile<>20,DatenKennzahl!D512,IF(DatenKennzahl!D512>=100,\"negativ\",DatenKennzahl!D512))","v":0}]
[{"$f":"IF(DatenKennzahl!A513=\"\",\"\",DatenKennzahl!A513)","v":"R 93.29"},{"$f":"IF(DatenKennzahl!B513=\"\",\"\",DatenKennzahl!B513)","v":"Erbringung von Dienstleistungen der Unterhaltung und der Erholung a.n.g."},{"$f":"IF(Zeile<>20,DatenKennzahl!C513,IF(DatenKennzahl!C513>=100,\"negativ\",DatenKennzahl!C513))","v":4.5840936401264001},{"$f":"IF(Zeile<>20,DatenKennzahl!D513,IF(DatenKennzahl!D513>=100,\"negativ\",DatenKennzahl!D513))","v":0.66666666666666696}]
[{"$f":"IF(DatenKennzahl!A514=\"\",\"\",DatenKennzahl!A514)","v":"S"},{"$f":"IF(DatenKennzahl!B514=\"\",\"\",DatenKennzahl!B514)","v":"Erbringung von Sonstigen Dienstleistungen"},{"$f":"IF(Zeile<>20,DatenKennzahl!C514,IF(DatenKennzahl!C514>=100,\"negativ\",DatenKennzahl!C514))","v":6.4191104468381202},{"$f":"IF(Zeile<>20,DatenKennzahl!D514,IF(DatenKennzahl!D514>=100,\"negativ\",DatenKennzahl!D514))","v":1.25}]
[{"$f":"IF(DatenKennzahl!A515=\"\",\"\",DatenKennzahl!A515)","v":"S 94"},{"$f":"IF(DatenKennzahl!B515=\"\",\"\",DatenKennzahl!B515)","v":"Interessenvertretungen sowie kirchliche und sonstige religiöse Vereinigungen (ohne Sozialwesen und Sport)"},{"$f":"IF(Zeile<>20,DatenKennzahl!C515,IF(DatenKennzahl!C515>=100,\"negativ\",DatenKennzahl!C515))","v":5.0526315789473699},{"$f":"IF(Zeile<>20,DatenKennzahl!D515,IF(DatenKennzahl!D515>=100,\"negativ\",DatenKennzahl!D515))","v":1.25}]
[{"$f":"IF(DatenKennzahl!A516=\"\",\"\",DatenKennzahl!A516)","v":"S 94.9"},{"$f":"IF(DatenKennzahl!B516=\"\",\"\",DatenKennzahl!B516)","v":"Kirchliche Vereinigungen; politische Parteien sowie sonstige Interessenvertretungen und Vereinigungen a.n.g."},{"$f":"IF(Zeile<>20,DatenKennzahl!C516,IF(DatenKennzahl!C516>=100,\"negativ\",DatenKennzahl!C516))","v":5.0526315789473699},{"$f":"IF(Zeile<>20,DatenKennzahl!D516,IF(DatenKennzahl!D516>=100,\"negativ\",DatenKennzahl!D516))","v":1.25}]
[{"$f":"IF(DatenKennzahl!A517=\"\",\"\",DatenKennzahl!A517)","v":"S 94.99"},{"$f":"IF(DatenKennzahl!B517=\"\",\"\",DatenKennzahl!B517)","v":"Sonstige Interessenvertretungen und Vereinigungen a.n.g."},{"$f":"IF(Zeile<>20,DatenKennzahl!C517,IF(DatenKennzahl!C517>=100,\"negativ\",DatenKennzahl!C517))","v":4.75},{"$f":"IF(Zeile<>20,DatenKennzahl!D517,IF(DatenKennzahl!D517>=100,\"negativ\",DatenKennzahl!D517))","v":1.25}]
[{"$f":"IF(DatenKennzahl!A518=\"\",\"\",DatenKennzahl!A518)","v":"S 95.2"},{"$f":"IF(DatenKennzahl!B518=\"\",\"\",DatenKennzahl!B518)","v":"Reparatur von Gebrauchsgütern"},{"$f":"IF(Zeile<>20,DatenKennzahl!C518,IF(DatenKennzahl!C518>=100,\"negativ\",DatenKennzahl!C518))","v":7.4210526315789496},{"$f":"IF(Zeile<>20,DatenKennzahl!D518,IF(DatenKennzahl!D518>=100,\"negativ\",DatenKennzahl!D518))","v":1.0426742532005699}]
[{"$f":"IF(DatenKennzahl!A519=\"\",\"\",DatenKennzahl!A519)","v":"S 95.29"},{"$f":"IF(DatenKennzahl!B519=\"\",\"\",DatenKennzahl!B519)","v":"Reparatur von sonstigen Gebrauchsgütern "},{"$f":"IF(Zeile<>20,DatenKennzahl!C519,IF(DatenKennzahl!C519>=100,\"negativ\",DatenKennzahl!C519))","v":4.6829102158395903},{"$f":"IF(Zeile<>20,DatenKennzahl!D519,IF(DatenKennzahl!D519>=100,\"negativ\",DatenKennzahl!D519))","v":0.75322550599745697}]
[{"$f":"IF(DatenKennzahl!A520=\"\",\"\",DatenKennzahl!A520)","v":"S 96"},{"$f":"IF(DatenKennzahl!B520=\"\",\"\",DatenKennzahl!B520)","v":"Erbringung von sonstigen überwiegend persönlichen Dienstleistungen"},{"$f":"IF(Zeile<>20,DatenKennzahl!C520,IF(DatenKennzahl!C520>=100,\"negativ\",DatenKennzahl!C520))","v":6.7244897959183696},{"$f":"IF(Zeile<>20,DatenKennzahl!D520,IF(DatenKennzahl!D520>=100,\"negativ\",DatenKennzahl!D520))","v":1.25925925925926}]
[{"$f":"IF(DatenKennzahl!A521=\"\",\"\",DatenKennzahl!A521)","v":"S 96.01"},{"$f":"IF(DatenKennzahl!B521=\"\",\"\",DatenKennzahl!B521)","v":"Wäscherei und chemische Reinigung"},{"$f":"IF(Zeile<>20,DatenKennzahl!C521,IF(DatenKennzahl!C521>=100,\"negativ\",DatenKennzahl!C521))","v":5.2264957264957301},{"$f":"IF(Zeile<>20,DatenKennzahl!D521,IF(DatenKennzahl!D521>=100,\"negativ\",DatenKennzahl!D521))","v":2.9047619047619002}]
[{"$f":"IF(DatenKennzahl!A522=\"\",\"\",DatenKennzahl!A522)","v":"S 96.01-1"},{"$f":"IF(DatenKennzahl!B522=\"\",\"\",DatenKennzahl!B522)","v":"Wäschereien"},{"$f":"IF(Zeile<>20,DatenKennzahl!C522,IF(DatenKennzahl!C522>=100,\"negativ\",DatenKennzahl!C522))","v":4.9226594301221196},{"$f":"IF(Zeile<>20,DatenKennzahl!D522,IF(DatenKennzahl!D522>=100,\"negativ\",DatenKennzahl!D522))","v":3.0915032679738599}]
[{"$f":"IF(DatenKennzahl!A523=\"\",\"\",DatenKennzahl!A523)","v":"S 96.01-2"},{"$f":"IF(DatenKennzahl!B523=\"\",\"\",DatenKennzahl!B523)","v":"Chemische Reinigung und Bekleidungsfärberei"},{"$f":"IF(Zeile<>20,DatenKennzahl!C523,IF(DatenKennzahl!C523>=100,\"negativ\",DatenKennzahl!C523))","v":7.2833333333333297},{"$f":"IF(Zeile<>20,DatenKennzahl!D523,IF(DatenKennzahl!D523>=100,\"negativ\",DatenKennzahl!D523))","v":1.7692307692307701}]
[{"$f":"IF(DatenKennzahl!A524=\"\",\"\",DatenKennzahl!A524)","v":"S 96.02"},{"$f":"IF(DatenKennzahl!B524=\"\",\"\",DatenKennzahl!B524)","v":"Frisör- und Kosmetiksalons"},{"$f":"IF(Zeile<>20,DatenKennzahl!C524,IF(DatenKennzahl!C524>=100,\"negativ\",DatenKennzahl!C524))","v":"negativ"},{"$f":"IF(Zeile<>20,DatenKennzahl!D524,IF(DatenKennzahl!D524>=100,\"negativ\",DatenKennzahl!D524))","v":1.8371166496803499}]
[{"$f":"IF(DatenKennzahl!A525=\"\",\"\",DatenKennzahl!A525)","v":"S 96.02-1"},{"$f":"IF(DatenKennzahl!B525=\"\",\"\",DatenKennzahl!B525)","v":"Frisörsalons"},{"$f":"IF(Zeile<>20,DatenKennzahl!C525,IF(DatenKennzahl!C525>=100,\"negativ\",DatenKennzahl!C525))","v":"negativ"},{"$f":"IF(Zeile<>20,DatenKennzahl!D525,IF(DatenKennzahl!D525>=100,\"negativ\",DatenKennzahl!D525))","v":1.78814486642291}]
[{"$f":"IF(DatenKennzahl!A526=\"\",\"\",DatenKennzahl!A526)","v":"S 96.02-2"},{"$f":"IF(DatenKennzahl!B526=\"\",\"\",DatenKennzahl!B526)","v":"Kosmetiksalons"},{"$f":"IF(Zeile<>20,DatenKennzahl!C526,IF(DatenKennzahl!C526>=100,\"negativ\",DatenKennzahl!C526))","v":12.265306122448999},{"$f":"IF(Zeile<>20,DatenKennzahl!D526,IF(DatenKennzahl!D526>=100,\"negativ\",DatenKennzahl!D526))","v":1.84615384615385}]
[{"$f":"IF(DatenKennzahl!A527=\"\",\"\",DatenKennzahl!A527)","v":"S 96.03"},{"$f":"IF(DatenKennzahl!B527=\"\",\"\",DatenKennzahl!B527)","v":"Bestattungswesen"},{"$f":"IF(Zeile<>20,DatenKennzahl!C527,IF(DatenKennzahl!C527>=100,\"negativ\",DatenKennzahl!C527))","v":2.3262910798122101},{"$f":"IF(Zeile<>20,DatenKennzahl!D527,IF(DatenKennzahl!D527>=100,\"negativ\",DatenKennzahl!D527))","v":1.03954802259887}]
[{"$f":"IF(DatenKennzahl!A528=\"\",\"\",DatenKennzahl!A528)","v":"S 96.04"},{"$f":"IF(DatenKennzahl!B528=\"\",\"\",DatenKennzahl!B528)","v":"Saunas, Solarien, Bäder u.Ä."},{"$f":"IF(Zeile<>20,DatenKennzahl!C528,IF(DatenKennzahl!C528>=100,\"negativ\",DatenKennzahl!C528))","v":8.5859959211420804},{"$f":"IF(Zeile<>20,DatenKennzahl!D528,IF(DatenKennzahl!D528>=100,\"negativ\",DatenKennzahl!D528))","v":2.3654518222665999}]
[{"$f":"IF(DatenKennzahl!A529=\"\",\"\",DatenKennzahl!A529)","v":"S 96.04-2"},{"$f":"IF(DatenKennzahl!B529=\"\",\"\",DatenKennzahl!B529)","v":"Heil-, Kur- und Thermalbäder "},{"$f":"IF(Zeile<>20,DatenKennzahl!C529,IF(DatenKennzahl!C529>=100,\"negativ\",DatenKennzahl!C529))","v":7.1150442477876101},{"$f":"IF(Zeile<>20,DatenKennzahl!D529,IF(DatenKennzahl!D529>=100,\"negativ\",DatenKennzahl!D529))","v":2.3654518222665999}]
[{"$f":"IF(DatenKennzahl!A530=\"\",\"\",DatenKennzahl!A530)","v":"S 96.04-9"},{"$f":"IF(DatenKennzahl!B530=\"\",\"\",DatenKennzahl!B530)","v":"Solarien, Saunas, Bäder a.n.g"},{"$f":"IF(Zeile<>20,DatenKennzahl!C530,IF(DatenKennzahl!C530>=100,\"negativ\",DatenKennzahl!C530))","v":22.370642566292599},{"$f":"IF(Zeile<>20,DatenKennzahl!D530,IF(DatenKennzahl!D530>=100,\"negativ\",DatenKennzahl!D530))","v":2.1941747572815502}]
[{"$f":"IF(DatenKennzahl!A531=\"\",\"\",DatenKennzahl!A531)","v":"S 96.09"},{"$f":"IF(DatenKennzahl!B531=\"\",\"\",DatenKennzahl!B531)","v":"Erbringung von sonstigen Dienstleistungen a.n.g."},{"$f":"IF(Zeile<>20,DatenKennzahl!C531,IF(DatenKennzahl!C531>=100,\"negativ\",DatenKennzahl!C531))","v":4.4000000000000004},{"$f":"IF(Zeile<>20,DatenKennzahl!D531,IF(DatenKennzahl!D531>=100,\"negativ\",DatenKennzahl!D531))","v":0.73877551020408205}]
[]
["© KMU Forschung Austria, Wien 2015, Stand Juli 2015"]
[]
["Die Branchenkennzahlen basieren auf den betriebswirtschaftlich korrigierten Jahresabschlüssen (Bilanzstichtage zwischen 1. Juli 2013 und 30. Juni 2014) von rd. 83.400 österreichischen KMU. "]
[]
["Nähere Erläuterungen zu den einzelnen Kennzahlen, Definitionen, Interpretationshilfen, Maßnahmenempfehlungen etc. enthält die Kennzahlenbroschüre: Bilanzkennzahlen – Handbuch für Praktiker, KMU Forschung Austria, Wien 2011"]

{"sheet":"Daten","index":7,"n_rows":600,"n_cols":44,"rows_kept":600,"cut":false,"hidden":true,"merged":[]}
["OENACE","Text","ANZAHL","K01M","K02M","K03M","K04M","K05M","K06M","K07M","K08M","K09M","K10M","K11M","K12M","K13M","K14M","K15M","K16M","K17M","K18M","K19M","K20M","K01O","K02O","K03O","K04O","K05O","K06O","K07O","K08O","K09O","K10O","K11O","K12O","K13O","K14O","K15O","K16O","K17O","K18O","K19O","K20O",526]
["C","Herstellung von Waren",10550,39.291217257318998,60.324675324675297,24.457543094427301,0.44785668586052502,71.171171171171196,45.067698259187601,54.932032066922297,31.946902654867301,19.343839975753902,-1.07788453331255,1.29145564450253,5.2089642640823701,9.7322011757021496,12.7263045793397,1.67141482194418,4.2957746478873204,127.974856534886,7.3882272297977103,1.66236699566413,3.1153846153846199,31.782945736434101,67.906976744186096,42.2130085514382,0.37993920972644402,52.981468449448698,39.315960912052098,60.580912863070502,27.731725697061002,18.188762659281899,-0.88843579766536995,10.9134746101559,15.5662749706228,7.9800737653877496,14.5794392523364,1.55776655776656,19.596401515151499,182.960893854749,1.5200461933832901,2.11328298533985,3.5686416184971099,9999]
["C 10","Herstellung von Nahrungs- und Futtermitteln",1449,61.4227086183311,38.095238095238102,12.1082621082621,0,83.233532934131702,43.137254901960802,56.749311294765803,33.759772565742701,20.528455284552798,-1.02022894242269,0.254735753973382,3.6498063607557798,3.2862746438277299,6.7486859145273099,2.0846774193548399,2.79117849758787,95.070422535211307,8.8523871788528794,1.61,2.9532293986637002,58.809293320425901,40.895522388059703,29.3216072395883,0.77583818232197299,67.615204926735998,35.929435328557098,63.636363636363598,30.434033280507101,20.572597137014299,-0.93186925434116397,6.3357629427792901,11.693548387096801,3.1168831168831201,8.5535329810139,1.81405405405405,14.8571428571429,112.589928057554,2.7649769585253501,1.91279069767442,3.27536231884058,10000]
["C 10.1","Schlachten und Fleischverarbeitung",374,56.9444444444444,42.870201096892103,8.7635054021608596,0,86.264789569692496,57.208448117539,42.698706099815197,25.452302631578899,16.1805555555556,-0.78173293323330795,0.18860117587059599,2.7481264637002298,3.1007751937984498,5.8956916099773196,2.8678500986193298,2.6331998768093601,92.286716010907696,10.1129753914989,1.6441322756652399,3.9289176090468501,50.257879656160497,49.386503067484703,15.243902439024399,0,77.765042979942706,52.053140096618399,47.871046228710497,22.717984496124,16.787439613526601,-0.73679245283018902,4.1668874172185397,8.1805359661495096,3.0640668523676902,7.0142535633908496,2.6150000000000002,14.6235220908525,117.16417910447799,3.08750995753969,1.9306059036768499,4.3464870234372004,10100]
["C 10.11","Schlachten (ohne Schlachten von Geflügel)",31,50.900360144057601,49.099639855942399,15.5644739138021,0.92274006881451398,81.616381023019301,85.493372606774699,14.506627393225299,9.1493422874549992,7.9214717188358001,-0.41513783269962001,0.50944954128440401,1.54021739130435,1.66358595194085,9.6668087570064305,5.3079449483891104,4.0194346289752696,87.449650201399194,11.7740776001088,2.04752218934911,10.9297473914725,51.004016064257002,37.681159420289902,14.2553191489362,1.5779092702169599,79.518072289156606,70.504871567759096,21.9064276344556,10.540301151461501,9.5492742551566092,-1.07015483182061,2.1111317254174402,3.4980323567993001,2.1499508894466901,7.1164510166358603,3.6304347826086998,9.1543146201150591,95.360110803324105,4.4647302904564299,2.18372703412073,8.8529032258064504,10110]
["C 10.13","Fleischverarbeitung",323,58.794788273615602,40.502082369273502,8.5106382978723403,0,86.974358974359006,55.467377870292097,44.532622129707903,26.459371884347,16.574585635359099,-0.82746710526315803,0.104189435336976,3.03412698412698,3.49075975359343,5.4461181923522597,2.6470588235294099,2.4174053182917001,93.339371433746905,10.2299465240642,1.63371808746069,3.7793792096462702,50.257879656160497,48.3527131782946,14.9210903873745,0,77.765042979942706,51.020408163265301,48.265460030165897,22.717984496124,16.882183908045999,-0.73679245283018902,4.3695667729135499,8.5912006578947402,3.0172413793103399,6.7724867724867703,2.5619166148102099,14.7391009713124,115.17647058823501,2.6272401433691801,1.92771084337349,4.1992818487324097,10130]
["C 10.3","Obst- und Gemüseverarbeitung",49,52.6753864447087,45.223099242551697,19.138504640168101,0,71.428571428571402,53.905079551164697,41.836734693877602,21.072586671489798,22.6988185293737,-1.75322217214962,0.48499999999999999,4.8718684260852898,17.183017785427399,14.764769494052301,1.1440877055599099,2.7645659928656401,101.34273570324601,7.6299599546926098,1.9414474891578399,4.5564681724845997,55.772495755517802,41.020408163265301,34.757660185705298,0,60.869565217391298,47.7366255144033,51.688693098384697,17.75,19.333032897701699,-1.75322217214962,11.0748971193416,18.25,9.4658553076403003,24.611989265803601,0.83673469387755095,10.0594227504244,140.789473684211,1.93367346938776,2.8617886178861802,5.5570420622168104,10300]
["C 10.5","Milchverarbeitung",59,46.066884982696301,53.540048264485499,26.126126126126099,0,72.390109890109898,71.331316187594595,28.668683812405401,13.874690849134399,18.746518105849599,-1.00937274693583,0.26868643539083698,3.7829127613554401,7.8778135048231501,11.552795031055901,1.9666666666666699,2.2914084292271002,113.029315960912,8.3136252775187298,2.1459433509361499,7.2073677956030897,68.703703703703695,30.740740740740701,36.3344051446945,0,61.9632843781228,59.616010413276904,40.383989586723096,14.819427148194301,19.717102443206201,-0.88058340929808598,5.4195378151260503,10.624366036299,7.7731092436974798,8.8235294117647101,1.37389210019268,13.105031566864399,125.71428571428601,3.7194435396710199,2.5945652173912999,6.74789915966387,10500]
["C 10.51","Milchverarbeitung (ohne Herstellung von Speiseeis)",49,41.607565011820299,54.040404040403999,28.163583436173301,0.16806722689075601,62.901686286987001,73.415335312691496,26.220357347011401,13.0159336697909,14.3252012979209,-0.92915214866434404,0.26868643539083698,3.1178825673443802,8.1987577639751592,11.552795031055901,2.03153425912339,2.2914084292271002,116.818477553676,10.272732470601699,2.06122448979592,7.6405682775944603,58.809293320425901,38.810462179379797,38.0367156218772,0,55.007119126720497,63.110934193657997,32.657409553238097,13.3585445929969,16.049382716049401,-0.85769980506822596,5.4195378151260503,9.2007797270955205,7.1265863976570101,8.8235294117647101,1.4468085106383,13.8263665594855,128.84097035040401,3.5550847457627102,2.76145844702878,7.2051582649472499,10510]
["C 10.6","Mahl- und Schälmühlen, Herstellung von Stärke und Stärkeerzeugnissen",65,53.291139240506297,45.948012232415898,32.0239111870196,0.85066280158038099,64.971751412429398,72.367677528724798,27.298501417577999,11.115322657064301,15.892895702872,-0.94769802688018301,0.55850262497146796,3.7131044243016502,11.176088369070801,11.0204081632653,1.4370546318289801,2.2631786586511402,116.09907120743,8.1620016963528403,2.3079096045197698,8.5940594059405893,57.694140990893601,38.254269134201301,41.335994364874402,1.56424253096202,56.023676880222801,72.367677528724798,27.626500493524698,7.0428401663695803,17.2686152856724,-0.425519678907326,5.8317813267813303,10.287380258225699,9.0768636539204302,9.1175942011621594,1.5919955744440599,8.3366925047297098,106.8759936407,3.8694344163658201,3.0174825174825202,13.07204385278,10600]
["C 10.61","Mahl- und Schälmühlen",63,54.051987767584102,45.948012232415898,33.839479392624703,1.17148050898808,64.971751412429398,72.367677528724798,27.632322471275199,11.635944700460801,16.5399239543726,-0.94769802688018301,0.61178244592346098,3.9216074433336598,13.8775510204082,11.288202985477,1.4370546318289801,2.5017034945974901,116.09907120743,8.1620016963528403,2.3393162393162399,8.5940594059405893,57.694140990893601,38.254269134201301,41.335994364874402,1.56424253096202,56.023676880222801,72.367677528724798,27.626500493524698,7.0428401663695803,17.2686152856724,-0.425519678907326,5.8317813267813303,10.287380258225699,9.0768636539204302,9.1175942011621594,1.5919955744440599,8.3366925047297098,106.8759936407,3.8694344163658201,3.0174825174825202,13.07204385278,10610]
["C 10.7","Herstellung von Back- und Teigwaren",713,71.748878923766796,27.837176349349502,5.6497175141242897,0,89.096916299559496,28.242074927953901,71.577819448165002,47.4332660342168,22.9380291407508,-1.1929523369320001,8.2380985767370098E-3,4.4477390659748002,2.4834437086092702,4.8837209302325597,2.0337398420120798,2.5901278409090902,87.943262411347504,8.80439121756487,1.47648074212964,2.1038615872322399,65.925925925925895,33.966107449005598,26.174496644295299,1.2387387387387401,70.063694267515899,27.170582226762001,72.829417773238006,42.4581475128645,22.232824427480899,-1.0112462006078999,6.2827503015681501,12.6139817629179,2.3122359496487102,6.2618595825426899,1.80521917107283,14.9700598802395,99.981641032973897,2.5483589594486,1.70379601318067,2.3376935902504399,10700]
["C 10.71","Herstellung von Backwaren (ohne Dauerbackwaren)",668,72.173435784851804,27.629931120851602,4.3715846994535497,6.9060773480663001E-2,90.028490028489998,28.068043742405798,71.891447368421098,47.642117117117103,22.919179734619998,-1.2041666666666699,-1.1381622236844399E-2,4.5661517896681101,2.47592847317744,4.7671840354767197,2.0559440559440598,2.60170293282876,87.153415751448705,8.8809717435361204,1.4739583333333299,2.0981237091621701,66.3326653306613,33.6673346693387,24.307613036197299,1.32450331125828,73.2638888888889,26.552901023890801,73.447098976109203,42.816901408450697,22.3650385604113,-1.01328244274809,6.1902217741935504,12.6060720346973,2.24478888295029,6.12557427258806,1.89406779661017,14.6825396825397,99.338668336300799,2.7073027501020199,1.6970338983050799,2.3275109170305699,10710]
["C 10.71-1","Herstellung von Schwarz- und Weißbackwaren",438,73.283038501560895,26.552795031055901,3.4220532319391599,0,91.004672897196301,28.471669418211,71.511839708560998,48.330914368650198,22.6824457593688,-1.19235583370586,-0.27989031078610599,4.1353383458646604,2.4096385542168699,5.0295857988165702,2.1358860782662799,1.9060439560439599,85.820895522388099,9.7149431164514901,1.4598930481283401,2.0664451827242498,67.7777777777778,31.927023945268001,24.210526315789501,0.970873786407767,74.314407106991098,27.868852459016399,72.110267627722905,42.816901408450697,22.3650385604113,-1.0718681236713501,5.80661764705882,11.971830985915499,2.12765957446809,6.4553990610328604,1.91363636363636,13.927291839335799,98.964961398150507,2.9636363636363598,1.6970338983050799,2.3217040372719202,10711]
["C 10.71-2","Herstellung von Zuckerbäcker- und Konditorwaren",113,66.6666666666667,31.499312242090799,6.0137457044673504,0,87.772925764192095,28.242074927953901,71.419676214196798,46.009389671361497,23.926100013056502,-1.21425773599687,0.31157709520368598,5.0279329608938603,3.16939890710383,5.7877813504823203,2.0337398420120798,3.02806770098731,86.1111111111111,8.4133333333333304,1.51219512195122,2.1556779216137398,56.438085841144499,42.281879194630903,16.560613476913002,0,80.476190476190496,27.878289473684202,71.891447368421098,43.969465648855,22.182080924855502,-0.93912155260469898,6.875,11.369893111639,3.6170212765957399,4.14201183431953,1.9791666666666701,18.085447761194001,81.381118881118894,2.60704022117402,1.65876862950269,2.2686830019996198,10712]
["C 10.8","Herstellung von sonstigen Nahrungsmitteln",121,33.6430700933563,64.712451144611904,23.722031223581102,0.96153846153846201,69.560838033843694,50.912951167728203,48.723189568187102,20.584126470270899,21.575569816331001,-0.74592136758748295,1.6254810882548101,5.2754960175266197,10.219494925654899,14.1610087293889,1.79223744292237,5.4603942652329804,124.675324675325,6.2702702702702702,2.1200716845878098,4.7098333325022397,19.264448336252201,76.1019039839491,37.871033776868003,0.28818443804034599,61.313868613138702,35.929435328557098,60.507481483465199,15.9606291614397,22.5490196078431,-0.74592136758748295,13.0419607843137,17.7307848718991,9.7727272727272698,17.1023965141612,1.56567425569177,23.919308357348701,284.29680759275197,1.4461538461538499,2.8328267477203601,5.67741935483871,10800]
["C 10.89","Herstellung von sonstigen Nahrungsmitteln a.n.g.",65,33.6430700933563,65.116279069767401,28.034504004929101,0.63387423935091303,65.103675777568299,53.288473966809498,46.436900751490001,18.437165905335799,20.700329068828001,-0.68352941176470605,0.76366091942127401,3.3221194280908302,9.8528408537179608,13.7667614790735,1.8778628195885401,3.1914893617021298,120.521054539804,7.45340501792115,2.0884350492871402,4.8080403492035497,27.203697589963699,69.339407744874705,41.602493582691601,0,50.712894827045503,40.275105809926899,57.358691788126599,20.0529570324993,23.153684740046099,-0.74592136758748295,7.7067888539205498,10.345293359315299,8.6097135925404302,17.319601896700501,1.5548908166317701,20.829978456248799,264.46776611694202,1.4461538461538499,2.3026954537858799,4.66733636931869,10890]
["C 11","Getränkeherstellung",183,47.656333798133602,52.343666201866398,25.9774109470026,0,72.364457831325296,39.882021031033602,60.117978968966398,21.186055776892399,33.761163714567303,-1.4691437364228801,1.4202479338842999,8.9310378311636498,14.4215530903328,17.196448829847601,1.1000000000000001,3.58900492137799,124.29906542056101,6.875,2.3539809347381402,4.6835664335664298,42.915291415641697,56.290956749672297,35.772357723577201,0,59.177859177859197,36.0793287566743,63.358778625954201,16.1634009009009,28.319889375432101,-1.60095668349721,9.5927942353883093,17.5846969347776,17.890772128060298,16.996938939906599,0.96747752511898499,12.3024830699774,146.85822751669099,3.5836298932384301,3.3956043956044,5.2890173410404602,11000]
["C 11.01","Herstellung von Spirituosen",43,20.917067647891301,77.6722090261283,19.827586206896601,0,80.172413793103402,47.734138972809703,52.265861027190297,18.307804878048799,27.4178791063365,-1.4691437364228801,3.14707639391745,5.81242603550296,28.294121018978,13.1787330316742,1.2109756097561,4.6834549305718998,146.01328903654499,10.345070422535199,2.5662007156310702,5.29185504011049,31.386659285912,68.613340714087997,49.761677788369902,0,50.238322211630098,33.790849673202601,66.209150326797399,14.2639206712433,28.996993714129498,-1.00305110602593,16.2977477477477,24.638989169675099,28.294121018978,13.1787330316742,1.1311554027037201,19.833729216152001,221.86948853615499,2.7009174311926598,4.3089430894308904,6.1868167852241003,11010]
["C 11.02","Herstellung von Traubenwein",47,34.914285714285697,65.085714285714303,27.778949780561302,0,72.099691221879098,44.6895866156501,55.3104133843499,21.0808809920415,27.848101265822802,-2.5605829744948698,0.87415589829095497,10.693069306930701,43.095110155830199,21.5976331360947,0.638540732182307,2.9411764705882399,156.54020998221199,7.5057736720554296,2.4309764309764299,4.5873393920401098,38.5113268608414,56.290956749672297,27.064220183486199,0,72.099691221879098,39.295695919508098,60.117978968966398,14.033457249070601,26.100542123698101,-3.0425493716337502,14.7188,22.265408106607399,26.208178438661701,25.218947684824599,0.67920443782979301,11.5571239523599,134.45378151260499,4.5961538461538503,3.4503311258278102,4.8626373626373596,11020]
["C 11.05","Herstellung von Bier",55,67.388003037205806,32.427184466019398,35.772357723577201,3.1877510040160599,55.975866692204598,27.1790808240887,72.8209191759113,27.9857034927646,45.988986230023002,-1.3513976869878499,1.33864537048157,11.7659095559648,8.1118092476236505,20.413354531001598,1.05261165783497,3.0051438535309498,100,5.6417910447761201,2.37844651765699,3.5732530370678002,54.504052489386297,41.301708988727299,43.367498133483103,2.0175912352441898,52.4666792927679,27.823388732790001,70.527229333911905,21.564362816175301,45.0539713227002,-1.31536186863407,5.7143607507277503,16.1748633879781,8.1118092476236505,21.445639187574699,1.05261165783497,6.8873668188736703,129.39429702668701,2.5318326732149701,2.20800696257615,3.1754385964912299,11050]
["C 11.07","Herstellung von Erfrischungsgetränken; Gewinnung natürlicher Mineralwässer ",30,49.491199358672098,49.651381797364301,20.5857640139239,0,75.201056295762797,47.5879471574885,47.449967204722498,20.441011732798799,27.549402874782501,-1.06482899255867,1.0973105330764299,6.2378397500147402,8.2208823810890994,12.4404648504477,1.8511988716502099,3.58900492137799,93.993993993993996,5.8506616257088799,1.92804534762658,4.8450864824699096,49.491199358672098,49.651381797364301,38.225806451612897,2.7949841365765198,46.728971962616797,42.448979591836697,55.216718149613001,14.4989951191502,34.4274349889699,-1.3480938416422299,7.0065306122448998,9.8069328652918006,6.7573497147871899,13.697439668427,1.59869494290375,14.0293637846656,116.422466422466,3.1146959753641799,2.0759075907590798,3.5766423357664201,11070]
["C 13","Herstellung von Textilien",197,27.612812719195698,71.419499522576302,25.4199328107503,0.25431669120599698,68.293605751040502,46.326836581709102,53.2173913043478,31.567796610169498,20.204245464797701,-1.10765864332604,1.2601426660722199,4.4868947134606803,17.119184193753998,14.8771929824561,1.5815618846463799,4.03965670316662,164.75880840768201,9.4357162494384195,1.77611940298507,3.1324296141814401,18.604651162790699,77.849462365591407,35.927367055771697,0,53.596287703016202,33.962264150943398,63.0339805825243,22.3434343434343,23.489553924336501,-1.1810101010101,11.0325205158265,15.754923413566701,6.4670658682634699,14.8771929824561,1.4336752741422001,21.765913757700201,204.6875,1.5609623672333599,2.5830344430526502,4.39524124256444,13000]
["C 13.9","Herstellung von sonstigen Textilwaren",129,22.549432057215,75.077712386510797,27.6666666666667,0.25431669120599698,68.293605751040502,48.023867573463399,50.8130081300813,27.7413959085439,19.286657859973602,-1.0206065641877899,2.2225030084235899,5.1105896510228597,15.5335748119253,15.881861242686,1.7292576419214001,5.6111111111111098,182.814302191465,7.6606317145552003,1.9086815185947299,3.4426229508196702,16.345226615236299,81.395348837209298,34.936669645287303,0,55.084745762711897,33.2298136645963,66.646191908239302,20.098730606488001,24.709784742588401,-1.3047445255474499,12.5929341317365,17.647058823529399,6.25,14.265857973212,1.4336752741422001,24.770160231153099,204.6875,1.44444444444444,2.8407079646017701,4.74336283185841,13900]
["C 13.92","Herstellung von konfektionierten Textilwaren (ohne Bekleidung)",40,24.725274725274701,75.077712386510797,31.7069017708491,1.4724442574673999,56.0876205948218,46.722436150948099,51.976132426536601,26.5622944349428,19.578080782094201,-0.79442877291960501,1.5572452626219999,5.1255728494613999,21.0023866348449,14.8093532757531,1.8165529010238901,4.64091794630649,196.942800788955,4.2819383259911898,1.7855065911823,3.6917808219178099,18.604651162790699,75.077712386510797,43.9123794051782,0,54.995813156470497,42.383638928067697,55.527318932655703,19.949174078780199,18.124118476727801,-0.81894409937888202,10.0386634844869,12.071156289707799,7.5001746255125399,13.5274449707439,1.8555555555555601,23.528488372093001,202.32313606546401,1.41121930228547,2.5830344430526502,4.9754385964912302,13920]
["C 13.99","Herstellung von sonstigen Textilwaren a.n.g.",59,18.575617137993,81.424382862006993,21.832061068702298,0,71.875,47.082494969818903,52.917505030181097,30.664317841079502,19.286657859973602,-1.10765864332604,3.5175879396984899,6.0402684563758404,8.6328234962935202,18.614718614718601,1.7328403793602301,8.1380208333333304,196.55963302752301,7.6606317145552003,2.0354609929078,3.26111934132234,12.8571428571429,87.142857142857096,52.988235294117601,0,38.839759462327599,30.8139534883721,69.186046511627893,26.1682242990654,27.737226277372301,-1.2081926135744601,16.189013035381802,20.427887773294501,6.25,17.757009345794401,1.1725855901890601,29.234338747099802,412.97169811320799,0.92692072721144303,2.8687196110210702,3.8214285714285698,13990]
["C 13.99-1","Herstellung von Stickereien",39,21.9357249626308,78.0642750373692,27.842227378190302,0.12970168612192001,71.244394618834093,44.827586206896598,55.172413793103402,30.664317841079502,24.299065420560702,-1.25391849529781,4.7735849056603801,6.5326633165829104,6.0097833682739301,18.614718614718601,1.81582360570687,10.9149277688604,148.130841121495,5.8571428571428603,2.3120805369127502,3.26111934132234,4.2536115569823396,87.142857142857096,52.988235294117601,0,31.464174454828701,5.6074766355140202,91.477272727272705,32.352941176470601,27.737226277372301,-1.35929436051422,15.5178387650086,20.427887773294501,0.34305317324185203,17.757009345794401,1,38.970588235294102,214.28571428571399,0.92692072721144303,2.7804878048780499,2.9778188539741199,13991]
["C 14","Herstellung von Bekleidung",136,14.1361256544503,83.783783783783804,22.451855331141399,0.64676616915422902,74.285714285714306,50.979682694161397,48.920863309352498,27.600914634146299,20.054163845632999,-1.40233891158255,0.120715586163223,2.7645172782329901,22.185402801370099,10.6171039844509,1.6551724137931001,2.08955223880597,233.84375,16.005678183508898,1.65217391304348,3.5486238532110099,12.4050632911392,87.570621468926603,47.220487195502798,0.52356020942408399,44.53125,48.037790697674403,50.107944732297099,20.413223140495901,16.645077720207301,-0.88849734042553197,8.2017857142857107,10.4166666666667,17.816558441558399,9.2198581560283692,1.7731958762886599,19.301680672268901,454.11764705882399,1.42722841225627,2.0529073850641999,4.5380057985629696,14000]
["C 14.1","Herstellung von Bekleidung (ohne Pelzbekleidung)",108,16.6666666666667,82.129277566539898,22.472966619652102,1.0802469135802499,74.285714285714306,52.050739957716701,47.384382107657302,26.285861979839801,18.6024250159541,-1.1594827586206899,0.32548345509239401,2.7146419665122901,22.134387351778699,9.9642299212169796,1.6666666666666701,2.08955223880597,230.30303030303,16.005678183508898,1.6238544214511199,3.6529095530370701,14.1361256544503,85.863874345549704,47.220487195502798,0.52356020942408399,47.033104309806397,51.5463917525773,48.4536082474227,17.923497267759601,16.468253968254,-0.81832196108162703,9.3874999999999993,11.5447154471545,16.203703703703699,9.1923701298701292,2.0142857142857098,21.904489995119601,243.58353510895901,1.3136531365313699,2.3073273161941401,5.0485762144053599,14100]
["C 14.13","Herstellung von sonstiger Oberbekleidung",47,19.668592912344199,80.331407087655805,25.714285714285701,1.5999292848934901,74.285714285714306,50.259515570934298,49.740484429065702,26.411512650052,19.8898071625344,-1.4119130744567201,8.9588153632577494E-2,2.7645172782329901,23.116834639791001,6.3039723661485301,1.7509448223733901,1.953125,243.58353510895901,18.198453608247402,1.6238544214511199,3.6074848823025598,15.400843881856501,82.635852592129893,25.714285714285701,1.6540317022742901,47.033104309806397,51.267605633802802,48.4536082474227,18.163783314934602,16.425120772946901,-0.84826171330645295,9.4669030732860495,11.180124223602499,14.830789648307899,5.5096418732782402,2.0142857142857098,21.904761904761902,313.71746745539298,1.3136531365313699,2.5668016194332002,5.0485762144053599,14130]
["C 15","Herstellung von Leder, Lederwaren und Schuhen",53,35.583863600278498,61.702127659574501,31.176044433711699,1.06126386878919,66.197183098591594,45.871559633027502,54.038997214484702,32.652890911230102,18.823529411764699,-1.3484333034914999,1.3422568028626101,5.0224025974025999,19.815668202765,9.8655845802688305,1.4525739106211499,3.8497652582159598,137.109375,9.1384615384615397,1.6306563391765201,2.9446064139941699,10.9838008692217,75.483870967741893,39.191245318352102,0.77350257834192804,46.905989686632303,42.5051334702259,44.203165255796797,14.722119985277899,18.196944899072601,-0.97551437199904401,10.725604069520999,14.062643678160899,15.45518701482,11.3911711460799,1.69414977804934,15.4987246610283,172.76840806252599,1.1471209173324499,2.2031884361579599,3.5535714285714302,15000]
["C 15.2","Herstellung von Schuhen",30,33.315158124318401,64.625433761992198,33.571583279185603,1.4641158034833199,66.197183098591594,40.738696851847799,54.0632054176072,34.115947263861301,19.1869918699187,-1.18749271864858,2.4910835214447,6.3328171508581903,19.815668202765,13.280547057765,1.4509780246317301,5.28255528255528,148.51326011251001,8.6923175252460698,1.70343347639485,2.9309798536753902,11.113061797752801,67.076429716728995,39.191245318352102,1.4641158034833199,57.740072202166097,35.05722763883,59.261303148152201,16.4655528276881,21.025858414582501,-1.1060344827586199,6.8662863452337097,10.854253205707099,14.4301968575041,14.7589252852411,1.26082308925708,9.3243777163176595,188.14935064935099,1.40816326530612,1.9269454737956599,2.95614035087719,15200]
["C 16","Herstellung von Holz-, Flecht-, Korb- und Korkwaren (ohne Möbel)",975,47.814742335290298,51.882057716436599,20.6410256410256,0,76.25,53.488372093023301,46.511627906976699,26.173768472906399,19.163763066202101,-1.41998999249437,-0.13870992366411999,4.0848806366047699,13.7085539147395,11.7621143952646,1.43190661478599,1.8582046883933701,114.256825075834,13.245598232656,1.7103696940980699,3.8049792531120299,45.065458207452203,54.632426988922496,33.3333333333333,0,62.486077077300102,49.960988456845101,49.936467598475197,24.543080939947799,16.385135135135101,-0.99679343773303497,6.3836619136185204,11.3721302722904,9.0263691683570002,13.4396022228722,1.4914634146341501,12.0437174083863,142.857142857143,2.7563559322033901,2.0732758620689702,4.0478927203065096,16000]
["C 16.1","Säge-, Hobel- und Holzimprägnierwerke",392,50.235879127884701,49.672489082969399,25.562825644337501,0,73.3104993688749,61.653116531165303,38.245614035087698,18.778591596585098,20.959595959596001,-1.69576631540026,-1.8474006116207999,3.6421853111867102,20.729834249092601,11.2823365785814,1.1715039577836399,0.40330423940149601,115.816326530612,15.4634146341463,2.04621848739496,5.2714246295310296,49.608907243083898,50.233281493001599,34.6743295019157,0.184729064039409,62.709284627092799,61.306532663316602,37.907375643224697,13.7184115523466,17.300613496932499,-1.2124999999999999,4.2180904522613103,9.6,12.056151940545,12.1601208459214,1.38499452354874,7.5584058634906102,138.79310344827601,3.6124999999999998,2.7129629629629601,7.0176322418136001,16100]
["C 16.2","Herstellung von sonstigen Holz-, Kork-, Flecht- und Korbwaren (ohne Möbel)",563,45.1158106747231,54.4921875,17.916650279886198,0,79.595015576324002,48.648648648648603,51.351351351351397,32.124513618677,18.118118118118101,-1.2129702264218201,0.54263565891472898,4.2682926829268304,10.9714285714286,12,1.62745098039216,3.0298220032229199,112.53196930946299,11.431372549019599,1.5744308231173401,3.1057268722467,39.622641509433997,59.890109890109898,34.836702954898897,0,59.105046263898601,44.280118087884603,55.126791620727701,26.680438582552,16.217228464419499,-0.99120018167366897,8.06932659230689,12.493970091654599,7.9125455491931298,12.386831275720199,1.5942772723738401,15.8738397502601,140.196743554953,2.2486347574686798,1.9306714507521301,3.6996499416569399,16200]
["C 16.23","Herstellung von sonstigen Konstruktionsteilen, Fertigbauteilen, Ausbauelementen und Fertigteilbauten aus Holz",308,42.882592466915497,56.403391343150403,17.455974977685699,0.24686278543509599,80.2816901408451,50.1103057043807,49.888369087928801,31.358335959659598,16.743827160493801,-1.1175859649122799,0.80955249569707399,4.1469418670706304,10.9142082768685,12.870159453303,1.6756352765321401,3.3316753786853499,112.17866323907499,11.422839506172799,1.5353469454405699,3.1480206540447502,31.792501284026699,63.083218236007497,34.836702954898897,0.22796352583586599,57.756883814640702,47.619047619047599,50.8960573476703,26.579835986492999,15.5342465753425,-0.934120199894792,7.8617173524150301,11.9974574924519,6.9777712350949503,14.025438294946699,1.73192436040044,15.6061620897522,143,2.2311111111111099,1.9141899287739499,3.7525562372188102,16230]
["C 16.23-1","Fertighaus- und Hallenerzeugung",60,21.1901977831346,76.245011278847798,14.362519201228899,0,84.490532010820601,59.772345104126202,40.047426813087498,25.428784489187201,14.5649263721553,-0.80178492728074002,0.50505050505050497,3.1683704556225001,12.9541468303683,11.9237396332079,1.91268656716418,2.1642984849910598,110.831234256927,13.0531430696541,1.54318578617644,3.9124493927125501,20.011702750146299,79.988297249853701,22.475905175739001,0,77.524094824260999,59.952573186912502,40.047426813087498,23.497405992759099,10.934937124111499,-0.64350845495864295,4.1968600319318803,6.5564424173318097,12.4906785980611,14.1564662054284,2.2055921052631602,10.337552742615999,164.60395516470999,4.0723278202912896,1.8454810495626801,4.2557889169049501,16231]
["C 16.23-9","Herstellung von sonstigen Konstruktionsteilen und Ausbauelementen aus Holz a.n.g.",214,46.050870147255701,53.0935893483583,17.661614599443201,1.2195121951219501,78.652886671418401,48.697621744054402,51.130610867364197,33.239436619718298,17.440543601359,-1.2213672593500899,0.51853817884850995,4.3762150549788403,10.7296137339056,13.286713286713301,1.58376511226252,2.8455284552845499,109.565217391304,11.953125,1.5173450796378001,2.9927480916030502,36.063923995556898,63.083218236007497,34.836702954898897,0.37993920972644402,56.243441762854097,47.619047619047599,51.0626702997275,26.579835986492999,15.5342465753425,-0.94339622641509402,8.2355188435725406,12.493970091654599,6.9726390114739596,13.682463581043701,1.73192436040044,16.1474164133739,150.340025906736,2.2589285714285698,1.91365596420327,3.7525562372188102,16239]
["C 16.24","Herstellung von Verpackungsmitteln, Lagerbehältern und Ladungsträgern aus Holz",37,34.890965732087203,62.378599708977703,14.806902218570301,0,79.032844003368595,53.265839320705403,46.451997614788297,24.801587301587301,17.098765432098801,-0.87565674255691806,1.14587924195681,3.8776965591014401,7.8188141913255897,13.4861172322609,2.5527950310559002,5.9490909090909101,116.048317515099,7.4791666666666696,1.8673546438459601,3.7375224895049,24.837717799795001,53.989678443826897,53.881278538812801,0,27.432712215320901,43.650793650793702,46.708463949843299,15.450121654501199,15.0793650793651,-1.2938448979591799,10.770194647201899,14.5174371451744,3.9186507936507899,13.0094043887147,1.5508241758241801,18.658197697498998,157.99828913601399,0.67318435754189898,2.3535147718209499,4.032,16240]
["C 16.29","Herstellung von Holzwaren a.n.g., Kork-, Flecht- und Korbwaren (ohne Möbel)",165,53.203342618384397,45.6,15.889570730826501,0,81.910274963820598,42.229299363057301,57.677359534195702,36.718717277486903,20.5497382198953,-1.64375905609605,-1.85161268395473,3.3742792170876301,9.9337748344370898,10.526121843591399,1.44198895027624,0.33552147239263802,106.494398695624,16.121940495383299,1.5266272189349099,2.7087028824833701,54.906542056074798,43.75,32.719215129101997,0,57.446204982925998,42.412638761367198,56.745182012847998,32.198581560283699,17.558886509636,-1.15821656050955,6.9187175043327596,12.303211424336901,7.1193368911093504,8.7096774193548399,1.36741659021017,12.0071684587814,135.87570621468899,2.2620891263115799,1.7969018932874401,3.0607287449392699,16290]
["C 17","Herstellung von Papier, Pappe und Waren daraus",124,37.732851711248102,61.236773640082397,29.230769230769202,2.72011453113815,62.409605700241499,55.132722574582999,44.742754864998702,23.2901476348298,19.1145833333333,-0.8,0.96600441501103795,5.0760286225402496,10.6457242582897,12.769953051643199,1.72013651877133,4.0955631399317403,129.80382293762599,5.5027027027026998,1.80691642651297,4.2759075140027498,37.384744341995003,62.615255658004997,44.617712091237102,2.72011453113815,46.339468302658503,53.400545534005502,46.599454465994498,19.040090991092502,16.129729547081102,-0.62002472187886304,6.3170662196144196,10.450626321783,6.4137426845276799,14.799588900308301,1.5918200408998,12.4322783005418,151.491868357024,1.7068965517241399,2.3659090909090899,5.25207574096064,17000]
["C 17.2","Herstellung von Waren aus Papier, Karton und Pappe",97,36.183206106870202,61.7814726840855,30.397836452921499,2.5933609958506199,59.561128526645803,54.518274137842198,45.195387572069201,23.7385321100917,17.586206896551701,-0.73523983525841496,1.8031735026314799,5.6389978678038402,9.4538897475528092,12.2685185185185,1.5928877988963801,4.8530614208070801,130.285234899329,5.2550177095631598,1.7777553898851499,4.0919811320754702,37.384744341995003,51.4728986645719,42.445253865029699,2.4693482469348198,52.580553179355597,50.321782178217802,46.599454465994498,18.785419886656399,16.992733370598099,-0.62002472187886304,7.0402547701055198,10.4509099266368,6.6285025610123496,10.5418063033322,1.5602110022607401,12.4322783005418,146.47212543553999,1.6663422230874101,2.3659090909090899,5.3232773397326003,17200]
["C 17.21","Herstellung von Wellpapier und -pappe sowie von Verpackungsmitteln aus Papier, Karton und Pappe",61,37.384744341995003,60.7843137254902,20.505484024797301,2.5933609958506199,65.250779937605003,55.257245135001298,43.889714002818103,24.4380403458213,17.3344509639564,-0.64203984527638602,1.3400138504155099,5.4479166666666696,8.3214455539705199,13.5180055401662,1.39404625063889,3.80514526068669,115.766271240782,5.3970588235294104,1.7777553898851499,3.89405204460967,37.384744341995003,62.615255658004997,52.665589660743102,3.83708272859216,44.079601990049802,59.339770940938699,40.660229059061301,21.933527958679498,16.7568027009799,-0.60404750284691699,6.3170662196144196,10.4509099266368,3.5599505562422702,12.008318385533601,1.4314854811615101,11.0151187904968,168.60986547085199,3.2490660024906601,2.3659090909090899,4.55923006040749,17210]
["C 18","Herstellung von Druckerzeugnissen; Vervielfältigung von bespielten Ton-, Bild- und Datenträgern",475,44.305772230889197,55.045871559632999,16.5860400829302,1.09338061465721,77.438507209499605,37.248908296943199,62.751091703056801,34.6137554585153,24.326205867727499,-1.0281528662420401,0.78273697426239797,6.0037523452157604,4.3478260869565197,13.860103626942999,1.74476663048535,3.57826086956522,110,6.9103616160822998,1.7033295369338,2.8558711318355199,32.964754664823801,64.772727272727295,29.503916449086201,1.2281884220774399,63.976377952755897,33.503509891512401,66.496490108487507,30.938586326767101,22.3611111111111,-1.0040847201210299,10.3946581196581,15.974025974026,3.16455696202532,17.7984274481773,1.8060109289617501,21.317269217887901,152.29793977813,1.6742494132242001,2.0972222222222201,3.19277108433735,18000]
["C 18.1","Herstellung von Druckerzeugnissen",451,44.345238095238102,54.817040834364498,16.5631469979296,1.09338061465721,78.813559322033896,37.126447970407902,62.873552029592098,35.015585572213098,24.264705882352899,-1.0522283272283299,0.82750576302443501,6.0869565217391299,4.4799463747067403,13.811522319725301,1.73200612557427,3.5961272475795298,109.177464788732,6.9024844847715201,1.7008196721311499,2.82661290322581,32.9192546583851,64.547292743203798,29.457364341085299,1.21703853955375,62.903790087463598,31.390134529148,67.1264367816092,30.698287220026401,22.9954614220877,-1.02794759825328,10.7816666666667,16.102499999999999,2.9933481152993302,17.6393533292337,1.77272727272727,21.317269217887901,149.586776859504,1.57051617631662,2.1283783783783798,3.2252747252747298,18100]
["C 18.12","Drucken a.n.g.",301,44.160756501182,54.817040834364498,15.5821315511783,1.05304212168487,79.357798165137595,37.0466321243523,62.873552029592098,34.564498346196302,24.702380952380999,-1.1274434485702101,0.58533755274261601,5.9544395722286199,5.0596802041888704,13.868312757201601,1.7209737827715399,3.2258064516128999,104.733727810651,6.9024844847715201,1.7063253012048201,2.8408304498269898,37.377690802348297,62.622309197651703,28.6798179059181,1.21703853955375,66.791393826005603,33.516483516483497,66.483516483516496,30.1428020069471,23.940677966101699,-1.2345679012345701,10.3946581196581,15.6544620272314,3.3950617283950599,17.866224876525902,1.6163120567375899,19.867549668874201,134.32392273402701,1.84745762711864,2.17125877903836,3.29335494327391,18120]
["C 18.13","Druck- und Medienvorstufe",59,45.553539019963701,50.632911392405099,18.867924528301899,1.2281884220774399,73.558368495077403,37.320082248115099,62.679917751884901,35.620397489539698,23.216934070378901,-0.92888074616922101,1.69319093439221,8.6666666666666696,3.6375661375661399,15.2803594672354,1.7582989138748699,5.3278688524590203,127.142857142857,5.5408163265306101,1.6870078740157499,2.7244094488188999,48.2419127988748,50.632911392405099,44.664466446644703,4.6948356807511704,45.966228893058201,26.25,73.75,31.4324202963628,22.3611111111111,-0.90044903457566206,13.228156719447799,20.545454545454501,1.68049122051061,26.452119309262201,1.6197183098591501,21.292775665399201,159.792027729636,1.0823529411764701,2.1283783783783798,3.1814285714285702,18130]
["C 20.1","Herstellung von chemischen Grundstoffen, Düngemitteln und Stickstoffverbindungen, Kunststoffen in Primärformen und synthetischem Kautschuk in Primärformen",52,36.8917260948731,62.686116976061903,21.4774993110106,0.82140964493905699,75.553618102744394,50.631617378605299,48.0107889413351,20.011550678602401,23.148148148148099,-0.96401985111662503,0.62679681671226095,4.35413642960813,12.3456790123457,14.8126115407496,1.4767179266460699,4.27635968037628,111.315417256011,9.9289099526066291,2.0888617027061902,4.3855421686747,30.078125,67.424991757336002,23.321829286577302,0,44.371453721302402,41.623309053069697,48.0107889413351,13.524915371815601,18.858560794044699,-0.75280000000000002,9.3909148123173694,15.0100521348008,9.1116173120728892,10.5257857160141,1.7784221722660301,22.265625,123.300036401931,0.78789808917197501,2.9953893570326802,5.3733333333333304,20100]
["C 20.4","Herstellung von Seifen, Wasch-, Reinigungs- und Körperpflegemitteln sowie von Duftstoffen",41,32.503733200597303,63.5416666666667,27.6557597489915,0,64.25,44.590533433508597,54.4088669950739,24.8550124275062,23.918575063613201,-1.2473282442748099,4.45135467980296,6.8373627768259402,14.0321852910212,11.170866625691501,1.6722488038277501,10.2272727272727,189.89600422476099,3.46511627906977,2.2061068702290099,3.8311725727456101,38.817638791286001,60.662673169826903,35.75,0,61.521275515385398,28.899082568807302,71.100917431192698,24.585218702865799,24.736048265459999,-1.2281771694991701,17.4028726124229,21.003158369679699,12.6016260162602,13.498122165138,1.41996233521657,25.043160353407099,189.66373710355401,1.29804332634521,2.7239988475943502,3.9047619047619002,20400]
["C 20.5","Herstellung von sonstigen chemischen Erzeugnissen",55,34.513941220798799,64.179854307962799,41.521526049913298,0.89778155612832999,50.606789628441597,50.148179508890799,49.851820491109201,25.971877584780799,22.153050474092499,-1.1803027696542201,4.1341000926606997,8.8300764063738804,10.6429624905329,15.096359743040701,1.52093476144109,7.0446735395189002,161.61812297734599,4.4117647058823497,2.0573476702509002,3.7528749401054098,20.634920634920601,68.307522123893804,61.299744432274601,0.79661016949152497,28.3076784182729,33.650190114068401,56.603773584905703,17.110266159695801,23.171987641606599,-1.3477031802120101,12.1910274815422,19.0671497584541,5.5170793642181497,22.843244211182501,0.95446942525587197,13.3420802462223,271.72774869109901,0.61610878661087898,2.4963833634719701,4.7444961896697704,20500]
["C 20.59","Herstellung von sonstigen chemischen Erzeugnissen a.n.g.",41,31.003039513677798,64.179854307962799,38.481689387864201,1.8150554069545299,49.078783994873199,50.148179508890799,48.522895125553902,25.971877584780799,21.536319590116801,-1.03344470419266,2.1750170364200798,6.7785600336253298,10.6429624905329,15.015974440894601,1.5743362831858401,6.0464081008788702,161.61812297734599,4.4117647058823497,1.90364474235442,3.72063201282345,19.402985074626901,76.119402985074601,61.299744432274601,3.0831038685505399,28.3076784182729,33.100233100233098,56.603773584905703,21.077053495739101,22.960372960373,-1.03344470419266,13.1501972739773,17.355166918387098,5.5170793642181497,17.637407711238701,1.52093476144109,26.469402985074598,345.20710059171603,0.388176240936977,2.4454981956994999,3.6617077355787102,20590]
["C 21","Herstellung von pharmazeutischen Erzeugnissen",55,34.074074074074097,65.925925925925895,38.944066910611603,0,59.307359307359299,46.214089385895598,53.785910614104402,26.277013752455801,24.6829528767855,-0.93240062761506304,3.7144631043256999,7.0971161065229902,14.739884393063599,18.310294572274,1.4390243902438999,8.3333333333333304,171.93083573486999,4.1058823529411796,2.1590909090909101,3.7942836934749802,26.281821441376799,71.951219512195095,61.541955262859098,0,37.784268725224301,25.306203081785899,70.032870708546398,26.930359772775098,24.595469255663399,-1.7314578540054399,16.961939827477401,22.996002524721199,18.220338983050802,27.393225331369699,0.99144764288694198,18.564872757613699,319.73684210526301,1.6421052631578901,2.6220527045769799,3.5930232558139501,21000]
["C 21.2","Herstellung von pharmazeutischen Spezialitäten und sonstigen pharmazeutischen Erzeugnissen",39,25.78125,74.21875,43.692129629629598,0,54.155776267642402,46.214089385895598,53.785910614104402,26.653306613226501,24.265592976437901,-0.85741505239758697,4.1969957081545104,7.1354855589633299,13.176610035559101,17.112664796430099,1.77735849056604,9.2647058823529402,183.642224012893,3.53132250580046,2.0407142857142899,3.7278431372548999,26.281821441376799,71.951219512195095,61.541955262859098,0,37.776387150604897,25.015779507679401,74.693796918214105,28.486764124851799,24.005891016200302,-1.74203660845782,16.961939827477401,22.996002524721199,13.176610035559101,27.393225331369699,0.99144764288694198,18.564872757613699,319.73684210526301,1.65507776761208,2.57019607843137,3.47058823529412,21200]
["C 22","Herstellung von Gummi- und Kunststoffwaren",479,37.676482452601903,62.323517547398097,29.6909492273731,1.8251681075888599,64.487276392038297,47.679640718562901,52.320359281437099,28.8842975206612,19.047619047619001,-0.94962566844919805,2.5611259695105599,6.4012170504081203,11.058393028808901,13.680435648824499,1.68934911242604,5.9110378912685304,137.076796036334,4.9785714285714304,1.79182225123268,3.4620886981401999,36.592178770949701,62.8358606012237,45.917700849118198,1.58680282796544,47.097412985426303,38.403041825095102,60.032899367946797,24.2333132892363,19.003931847968499,-0.95760266370699199,13.361056842497,18.023382020032901,8.0528020414172108,16.021724372029901,1.52641717116125,21.467257508616399,166.49964209019299,1.17370806890299,2.3214928057553998,4.1241457858769897,22000]
["C 22.1","Herstellung von Gummiwaren",31,31.3479623824451,68.069861173309405,33.5136554621849,1.54405086285195,62.993697478991599,37.471783295711099,62.528216704288901,31.8955732122588,21.507472384665402,-1.08813928182807,4.4592145015105702,7.4241633315933004,11.343115124153501,20.9110696517413,1.4562171628721501,7.2910071942446004,188.506493506494,5.2897196261682202,1.7391941506970101,3.1352313167259802,31.3479623824451,43.263342082239703,32.917705735660803,4.7166340689381503,21.190893169877398,34.5303439079604,65.207631874298499,24.2333132892363,17.4698795180723,-0.45447985568250099,13.361056842497,18.023382020032901,10.690472465766501,25.132947646911099,0.80465502909393205,10.935491549630999,164.86764327936299,0.37931034482758602,2.0709306664291001,2.8352641792258799,22100]
["C 22.2","Herstellung von Kunststoffwaren",441,37.1641393987763,62.196786306415298,28.9835164835165,1.78571428571429,64.586748752585805,48.150262617035899,51.654922058509499,28.390941597139498,18.688461290945401,-0.92289950576606306,2.4491531783954201,6.1855670103092804,11.027503347506199,13.394018205461601,1.7258986473821001,5.8667842964270003,136.19213333943901,4.9696969696969697,1.7924618320610699,3.5098171970209902,36.592178770949701,62.8358606012237,47.244094488188999,1.43805309734513,47.097412985426303,40.532016087312101,59.448952154509897,23.8957277335264,18.688461290945401,-1.00266550775025,13.2526466724093,17.968337730870701,8.04362644853442,16.021724372029901,1.5358361774744,22.2462203023758,167.13155536193199,1.1848341232227499,2.3277265664175899,4.1241457858769897,22200]
["C 22.21","Herstellung von Platten, Folien, Schläuchen und Profilen aus Kunststoffen",43,39.767949298028199,58.841331603977501,26.336292915582,4.2784724569111203,67.015706806282694,57.6708130521002,42.3291869478998,22.419365930816301,18.633226610551901,-1.0802099466529,8.7594302134324606E-2,3.35384348730393,10.7211177389671,16.6943396226415,1.66966426858513,2.7049180327868898,124.07710492816901,9.6933100422071004,1.818359375,4.4604294478527597,30.815347721822501,69.184652278177495,33.9845899834893,5.3956834532374103,51.606893339543497,49.647769204964803,50.352230795035197,19.739036811715199,17.128136429133001,-0.787755834829443,12.8815833612882,14.388296413809201,7.43047235996805,14.813334544463601,2.3605030274801999,34.160679294578699,180.64271303222401,1.9290150842945899,2.3398159172656299,5.0661033237776696,22210]
["C 22.22","Herstellung von Verpackungsmitteln aus Kunststoffen",35,39.932473910374497,59.995713595369097,28.567538126361701,1.9033674963396801,65.238744884038198,57.693039781739699,42.306960218260301,19.7511167836631,18.5679483105603,-0.74589233235372698,3.01238570241064,8.1861642553321996,13.8641975308642,15.5579399141631,1.72601384767557,8.7764668795497904,124.26380368098199,4.0802980774625004,2.2197352683553602,5.0630048465266597,24.079457364341099,54.290918071247802,41.158442255938397,1.3774381660969199,46.330182988135903,55.0575863795694,42.306960218260301,14.864103856071599,13.715003589375399,-1.35154989202967,13.2526466724093,17.4957172768225,9.5386595386595392,19.733839177213301,0.89965086158351204,16.3209236278323,94.4156752974108,1.20305882352941,2.2263772954924899,5.2624373956594299,22220]
["C 22.23","Herstellung von Baubedarfsartikeln aus Kunststoffen",114,31.657914478619698,67.946879150066394,29.6909492273731,1.60595841967655,64.487276392038297,54.093660761871703,45.897305069808397,27.489721333942398,16.9385194479297,-0.70972656249999999,2.8142295478602799,5.2757158006362701,8.7414316757044404,13.0522088353414,2.0642570281124502,6.8547363458330297,127.185278126307,4.1909547738693496,1.7160236357316601,3.5944055944055902,32.053120849933599,67.257508616445094,38.392857142857103,1.78571428571429,53.311074012242599,53.663793103448299,44.0260680666184,23.235223992062799,16.2403826159285,-0.68664323374340996,9.0554993678887499,11.903891832632899,5.3633217993079603,13.1645569620253,1.92125765164162,21.467257508616399,141.77215189873399,1.61984021304927,2.03787375415282,4.1848484848484802,22230]
["C 22.23-1","Herstellung von Türen, Fenstern, Rahmen, Rollläden und Jalousien aus Kunststoffen",77,31.188971855255598,68.273092369477894,28.134556574923501,0.76045627376425895,65.064102564102598,56.168831168831197,43.342776203965997,26.801405975395401,16.2403826159285,-0.68664323374340996,2.6662532078699699,5.1935235054178497,5.6782334384858002,10.3421394543092,2.3937621832358702,7.7746077032810303,140,3.5689310087053001,1.7160236357316601,3.6929565584141701,32.738639829216197,67.261360170783803,38.522537562604299,1.60595841967655,53.311074012242599,55.9739319333816,44.0260680666184,23.235223992062799,16.089965397923901,-0.50384105960264902,9.3950431034482804,12.136536030341301,3.5443037974683498,11.8055555555556,2.7619047619047601,29.306249999999999,141.77215189873399,1.7254901960784299,2.0743243243243201,4.3038104575260396,22231]
["C 22.29","Herstellung von sonstigen Kunststoffwaren",211,39.421032564633002,60.263969673772003,30.8862433862434,1.67865707434053,63.413081218664303,42.307692307692299,57.692307692307701,32.021238590542602,20.5020920502092,-1.0340594378218799,2.8713680806836601,8.1302736377257308,11.9650976196844,13.9347106269785,1.5366970888845799,6.0114503816793903,134.71264367816099,4.59375,1.77008928571429,3.1229272945592701,39.580209895052498,57.643312101910801,50.995195607412498,0.64655172413793105,39.207431141703999,36.023549613639197,62.031356509884098,24.972253052164302,19.084865076261199,-1.09831223628692,14.5211111111111,19.7183098591549,8.2993767976989492,14.9068612035257,1.2891036906854101,20.796156485929998,167.13155536193199,0.76761268104932601,2.43396226415094,3.8018867924528301,22290]
["C 22.29-1","Herstellung von technischen Kunststoffteilen",102,38.314488868166499,61.538461538461497,26.0114453021027,1.67865707434053,65.978960269635394,42.782219379597102,57.051103043842502,32.021238590542602,20.9045971329708,-1.0354251012145701,3.2276630974721301,8.4395609237789397,12.373034934296101,12.5278735049666,1.4906666666666699,6.6577441125380901,134.71264367816099,4.3522458628841596,1.8301234567901199,3.0956411341515002,42.672413793103402,55.987394957983199,42.857142857142897,0.329877474081056,52.148760330578497,35.980148883374703,62.031356509884098,22.993023255813998,21.864594894561598,-1.1061677631578899,16.755736040609101,23.928377645143801,8.04362644853442,11.653718091009999,1.3201447245564899,26.9430051813472,146.56096992305899,0.54016620498614998,2.5733333333333301,4.0044444444444398,22291]
["C 22.29-9","Herstellung von sonstigen Kunststoffwaren a.n.g.",92,40.892193308550198,59.0178088404855,32.917705735660803,1.6549968173138101,60.591667312288102,41.480254073460401,58.370370370370402,32.211538461538503,20.7757765961322,-1.0121001504182801,2.5611259695105599,7.9326923076923102,11.1396964239774,14.5005742370441,1.4750809061488701,5.6709713644020203,126.05957503489201,4.6016127483920499,1.7378344312449201,3.0809371671991501,35.601034521533798,64.398965478466195,61.532582761705903,0.64794816414686796,36.601815823605698,36.023549613639197,63.976450386360803,23.3113673805601,22.1182264274915,-1.00266550775025,13.423344313416401,18.596291330589001,8.2730795734937796,16.214141481567999,1.2426491772577399,18.555159971421901,195.431472081218,0.71034482758620698,2.41343963553531,4.2897526501766796,22299]
["C 23.1","Herstellung von Glas und Glaswaren",66,40.6666666666667,57.534223472161699,29.464958553127399,2.3967440458245401,66.920152091254707,46.807397890235102,52.623049019044203,26.890756302521002,19.514170040485801,-0.92787610619468996,3.0766851485989801,6.8745570517363603,9.0436226942914608,15.792464376256699,1.54273202429722,6.3126666666666704,137.02662477261501,4.6557777266093199,1.71428571428571,3.53252032520325,29.870129870129901,59.711191335740097,51.948834717385502,3.0004688232536298,36.272545090180401,34.482758620689701,57.767548906789401,22.556390977443598,15.8885803540437,-0.71480314960629898,11.3027234326367,14.993404255319099,6.9291338582677202,12.4346917450366,1.4626975622823499,20.6657290201594,188.461538461538,0.94104938271604899,2.1072789179873199,3.53252032520325,23100]
["C 23.6","Herstellung von Erzeugnissen aus Beton, Zement und Gips",214,50.0146756677429,49.847405900305198,29.6103896103896,1.8387553041018401,64.002235885969796,46.544674006614997,53.1678986272439,26.439742086752599,25.193918709277099,-0.94296123867638604,0.52421485540071699,5.7982128823802599,7.8083109919571001,11.931818181818199,1.5464044253226801,2.5144270403957099,109.937238493724,6.5535714285714297,1.9767306573589301,3.7738696498627302,44.4444444444444,55.202741290691002,36.872972298477698,1.8609206660137101,55.860465116279101,44.280996697688401,55.506282335550601,21.530249110320302,25.620465826651401,-0.72450212713484197,6.3122486288848298,10.1932811780948,4.6837924275250202,12.9777070063694,1.69952734638758,13.9438085327784,122.849139655862,2.23441860465116,2.5061559507523898,4.47632543366724,23600]
["C 23.61","Herstellung von Erzeugnissen aus Beton, Zement und Kalksandstein für den Bau",116,48.249046486857601,51.204819277108399,24.039399258825799,2.6118000751597101,67.411064145393198,45.281756869739702,54.3745472385515,31.156812339331601,26.392410239633602,-1.11020057820104,0.52871867780344795,5.7982128823802599,13.990941117262199,11.072056239015801,1.48215905424401,2.6792531408343199,117.678145243778,7.46717857781971,1.90280777537797,3.20324734369269,45.604395604395599,52.848451327433601,32.592804111935997,1.8201617921593001,55.860465116279101,42.462987886944802,57.346322214686502,26.4980005347131,22.262210796915198,-1.27371541501976,6.4974296205630404,10.0177304964539,10.751907010534,11.5721334381277,1.48215905424401,12.200832466181099,122.654258031617,2.8905547226386799,2.0764159134111,3.6545284780578902,23610]
["C 23.63","Herstellung von Frischbeton (Transportbeton)",70,53.8102741884652,45.283018867924497,36.872972298477698,1.1503067484662599,61.217190973933903,57.770936932670303,40.158221887361101,15.928095238095199,24.194608809993401,-0.61150729335494303,0.36968626918375702,5.5106167846309404,1.4567733151803901,15.2087266624712,1.8076242341729101,2.2414224893563701,107.22433460076,5.84182305630027,2.2161547212741799,6.27483751160631,32.824427480916,63.712047012732597,31.313131313131301,1.7748478701825601,61.775651249335503,54.442413162705698,42.229063067329697,12.979351032448401,25.546142444808499,-0.43081328751431802,5.4492936235204299,9.6146205800556199,1.2668998770918001,14.315108759553199,2.7495632642875001,14.3754162306155,112.166172106825,1.9932885906040301,2.9223776223776201,6.3021077283372398,23630]
["C 23.7","Be- und Verarbeitung von Naturwerksteinen und Natursteinen a.n.g.",279,39.907834101382498,59.523809523809497,25.134228187919501,0,72.432432432432407,36.25,63.75,37.988861076345401,21.727019498607198,-1.63742595584276,1.7279075828721,6.6725340136054401,18.4027777777778,10.165484633569699,1.2327044025157201,4.53488372093023,140.23668639053301,7.8188389761746704,1.6507450215847399,2.6071927848004202,31.786542923433899,67.755181853734797,35.314822057098198,0,62.7659574468085,35.6303470648309,63.8888888888889,30.046948356807501,19.677419354838701,-1.5862694300518101,11.5565566458519,16.763565891472901,15.041782729805,11.2540192926045,1.21476510067114,17.510548523206801,174.29378531073399,2.1781257360581301,2.05504587155963,3.2730923694779102,23700]
["C 23.9","Herstellung von Schleifkörpern und Schleifmitteln auf Unterlage sowie sonstigen Erzeugnissen aus nicht metallischen Mineralien",41,38.829331046312198,58.2876533542156,42.520992894712599,0.111309087388622,48.802642553130497,62.209667294413102,32.298080560430897,16.142414520333201,12.844320643763499,-0.72390998593530198,3.4728248713934202,6.0454887049877,5.1710230463033904,10.653363373028601,1.83159379161941,9.3814853230992608,166.576381365114,2.99045346062052,2.1831683168316798,5.6140214532663899,41.7123466457844,53.251318101933201,45.719449669875701,0,36.4175089230962,57.807652533609101,37.889173046378097,22.792303471617601,12.585204520916401,-0.80798423911375805,9.9860569483132196,16.686316273057098,5.4791219154398298,12.3181297897102,1.40806314779979,16.175710955711001,140.977443609023,1.6478109082978001,2.6299817779021799,3.8824432358849998,23900]
["C 23.99","Herstellung von sonstigen Erzeugnissen aus nicht metallischen Mineralien a.n.g.",37,38.294782698890202,58.2895198037154,44.202277381532298,0,45.719844357976697,67.701919439569096,30.877102790916901,14.2571731686456,12.585204520916401,-0.68305378341235601,3.4672116340899501,5.7393771809288996,5.1247949638693102,10.653363373028601,1.9404315196998101,8.3909056505103994,166.576381365114,3.13024282560706,2.1904376012965998,6.1948601229412699,37.249653902579098,43.774319066147903,44.202277381532298,0,36.4175089230962,62.209667294413102,28.7836583101207,5.6184153512844297,11.085031696966499,-0.77219083490269902,8.2747681668151092,11.3113277623027,1.09873104302074,9.8459642637091793,1.5062937062937101,13.372589361581801,110.851518161991,1.6214042934105599,2.6299817779021799,4.8419452887538004,23990]
["C 24.4","Erzeugung und erste Bearbeitung von NE-Metallen",39,33.791314373558798,65.930053804765606,30.6539509536785,1.11139829413285,65.473414179104495,46.076902717987302,53.923097282012698,27.5,17.477203647416399,-0.73747563352826495,2.8628266633000901,7.8096901813697803,8.8294139820801991,13.506449230069901,1.7894813946674499,6.3412759415834001,134.322109921655,4.8333934367111402,1.8596395412343001,3.6363636363636398,18.730216152663498,75.647668393782396,49.072800921624697,0,42.1494667211714,40.4877200104387,57.422186751795699,22.742988859008801,17.1792152704136,-0.73747563352826495,9.2638240168750894,14.3822309855888,7.0074781959962298,15.243415802075001,1.28161581626965,16.316793893129802,234.905660377358,0.77643908969210196,2.4074074074074101,4.3657407407407396,24400]
["C 24.5","Gießereien",37,38.387245995528701,61.330286264132802,15.8193292207332,3.1700860357379201,66.224627875507394,45.058365758754903,53.551129679109401,31.920151481112999,20,-0.95191978478845696,-0.21824406945463401,2.4147772824936702,13.0697374778547,10.4940374787053,2.0590101103548499,0.92591037980762703,109.167089893347,10.094339622641501,1.56563482867075,3.0758650333118398,21.052631578947398,61.494916442987403,21.511627906976699,3.97022332506203,56.736104852625701,30.567685589519701,54.552875827432601,19.824965009089599,25.129802699896199,-0.78226857887874801,4.7817778487639497,8.8253562618680004,9.3031071012002204,6.8027210884353702,2.0696900076582398,14.143920595533499,143.86792452830201,2.5110282752469999,2.0233709324028202,3.8400692720715801,24500]
["C 25.1","Stahl- und Leichtmetallbau",661,28.032345013477102,71.559061549760798,25.219941348973599,0.10341261633919301,71.661129568106304,46.1312438785504,53.775875275062702,33.872340425531902,15.6447312115061,-0.96055966928633096,1.8712541254125401,4.9976646426903297,9.2607003891050592,15.973597359736001,1.7275541795665601,5.6040586952358602,149.70452539560699,6.97938144329897,1.5291359678499701,2.9432624113475199,27.622377622377599,71.951219512195095,44.297352342158902,0,52.4444444444444,40.601023017902797,58.933859822309998,30.775134305449001,15.4291224686596,-0.87751819226350103,11.3974263423582,15.4560810810811,5.8445945945945903,16.077158018140299,1.62006079027356,20.712694877505601,196.645962732919,1.4621212121212099,1.9220907297830401,3.2162284644599901,25100]
["C 25.11","Herstellung von Metallkonstruktionen",513,27.1356783919598,72.377622377622401,25.617946410025599,0,71.818917160615598,46.254826254826298,53.475215517241402,33.923024233384098,15.8298016612985,-0.95743446996056603,2.0282297720160898,5.3110773899848303,9.4197437829690998,16.316351977199901,1.7292730597062,5.8499655884377102,147.290640394089,6.6377570570954099,1.5343968095712901,2.9397237693112301,27.468404798250798,72,43.782116452614602,0,54.023190442726602,40.029688273132102,59.937646141854998,30.631332813717801,15.4873824839189,-0.87080188679245296,12.242405660377401,16.163444137536899,5.4298642533936698,16.2615255658005,1.70754052149401,21.678321678321701,198.24046920821101,1.4167217448777301,1.93951612903226,3.2490000000000001,25110]
["C 25.12","Herstellung von Ausbauelementen aus Metall",100,32.121212121212103,67.235598902773503,19.985412107950399,0,72.901951099036793,47.1163748712667,51.650038372985399,31.176808510638299,14.585635359116001,-1.0356198347107399,0.73578512396694196,3.9444444444444402,8.7820052644173305,16.077158018140299,1.73,3.6568833005007,148.344370860927,12.4,1.5074626865671601,3.1336734693877601,28.465083303793001,68.622700083289203,35.019797624285097,0,52.631578947368403,40.944881889763799,56.781447645818702,28.688131868131901,14.04090657822,-0.99446064139941703,9.7594803758982902,14.161907206320899,4.8849893289068103,16.263736263736298,1.44742630884294,15.452930728241601,186.39798488664999,1.7265861027190299,1.9325842696629201,3.24937655860349,25120]
["C 25.12-1","Herstellung von Ausbauelementen aus Stahl ",42,36.172695449241502,62.4270711785298,16.099071207430299,0,78.710462287104605,43.218552354181298,56.564245810055901,35.751915708812298,15.748031496063,-1.2613967654132801,-5.5716492854383903E-2,2.7247956403269802,8.5164581109886495,16.112207499295199,1.6818397344713101,2.4556616643929101,147.202797202797,15.284826117668899,1.44474393530997,2.6548507462686599,40.836474795969302,59.163525204030698,40.860215053763397,0,59.139784946236603,40.079399128711501,59.920600871288499,30.458817025981201,16.077780412615599,-1.0627167630057801,9.9493157508574495,17.629629629629601,5.2569250440579998,23.594972729428498,1.6241610738254999,14.8062068965517,186.39798488664999,2.1807339752770898,1.7713248638838499,3.21428571428571,25121]
["C 25.12-2","Herstellung von Ausbauelementen aus Leichtmetall",45,18.774202257278102,79.199549041713595,22.740112994350302,0.32467532467532501,65.8333333333333,53.9552342555262,45.034190817323299,29.142053445850902,13.078618662747999,-0.98625071229237105,1.89805970149254,4.1709577754891898,8.3894878706199503,15.5033238366572,1.9042207792207799,4.6176046176046199,196.645962732919,8.28712871287129,1.4816602316602301,3.36677115987461,18.774202257278102,81.210455754627901,52.7896995708155,0.217552643890772,44.127708095781102,45.902170391966301,54.097829608033699,30.775134305449001,12.279635258358701,-0.77596866009671295,11.489568345323701,12.9310344827586,3.3359857991063202,18.534482758620701,1.5518814139110599,18.020746573786599,257.02917771883301,0.473999572009416,2.02231313088609,3.24937655860349,25122]
["C 25.2","Herstellung von Metalltanks und -behältern; Herstellung von Heizkörpern und -kesseln für Zentralheizungen",40,40.779771724857703,55.814349343243798,34.663704611613298,4.2819499341238503,58.384194908115603,53.765240258187902,45.068947460289799,24.4856481250104,16.0514981707035,-0.688443919018768,3.5848987108655601,7.1966898182355603,14.389233954451299,14.008810572687199,1.6610611771528001,7.7413743113946101,144.78330658105901,5.8256949661908299,1.85349025974026,4.0391459074733103,45.262189512419504,46.310935441370198,61.033214573037597,4.2819499341238503,26.881967589932199,45.462555066079297,53.760959852330402,23.534840793724001,19.647577092511,-0.83885556068297196,12.1183870967742,14.500683994528,10,20.645161290322601,1.38151593548742,15.830902185280999,147.85276073619599,0.67679558011049701,2.1886080724255002,4.0391459074733103,25200]
["C 25.5","Herstellung von Schmiede-, Press-, Zieh- und Stanzteilen, gewalzten Ringen und pulvermetallurgischen Erzeugnissen",121,44.535919269549602,53.987068965517203,20.742441637963999,1.4925373134328399,71.809704108820597,39.559164733178697,60.183443085606797,38.8891489598685,18.663303909205499,-1.27490632395477,0.60109415050308002,4.6762589928057601,11.686390532544401,12.0921305182342,1.5729166666666701,3.2534006450708199,111.666666666667,8.0728530728530696,1.53999171156237,2.5206602537889098,38.394094135343103,61.604190660177601,49.056511877664697,3.9215686274509798,46.346439169139501,36.421952957947298,61.745320326917998,32.098976109215002,18.972332015810299,-0.90325443786982296,10.307819668861001,15.853242320819099,8.8173189649640609,13.325245172378899,1.4905792044661501,19.330076762037699,184.59603289792,1.2266666666666699,1.9850905218317401,3.1038961038960999,25500]
["C 25.6","Oberflächenveredlung und Wärmebehandlung; Mechanik a.n.g.",341,51.643192488262898,47.252747252747298,29.9255088088284,0.41385948026948999,65.126512651265102,30.275229357798199,69.387755102040799,37.085137085137099,25.616438356164402,-1.1194029850746301,3.86962129739773,10.817307692307701,7.1952131637995498,13.373253493013999,1.4698162729658799,7.3593073593073601,123.54048964218499,4.3305306241329404,1.78627760252366,2.6321525885558601,42.723778143876999,54.038772213247199,47.663551401869199,0.75784915193071101,46.842295200288703,26.552930883639501,73.099415204678394,31.561773217091599,24.803942348452701,-1.0095238095238099,15.897259353798599,22.687861271676301,5.6712962962963003,15.802723423732701,1.28347578347578,23.8095238095238,161.486486486486,0.90697674418604601,2.1916508538899402,3.1311475409836098,25600]
["C 25.61","Oberflächenveredlung und Wärmebehandlung",121,54.922955092882802,43.771626297577903,31.300690898167598,1.4833759590792801,61.5245221950046,24.992336773270701,73.678532901833904,41.077085533262903,27.513455328309998,-0.98237105465742902,3.2329150579150601,8.5271421116329709,4.5965320158868499,12.8447043762659,1.52082235108065,4.7722934278701903,115.203619909502,5.2056555269922899,1.74764033780427,2.4174311926605498,45.961227786752801,53.501400560224099,48.320986695879398,2.42914979757085,41.427989800072901,20.801440792435798,79.070743197101706,37.085137085137099,24.079075294371801,-0.81360140495367295,13.544912164401699,21.086749285033399,4,12.1907777557886,1.52082235108065,20.9868562809739,165.905096660808,1.1884057971014499,1.99522292993631,2.39907810001597,25610]
["C 25.62","Mechanik a.n.g.",213,48.913043478260903,51.076555023923397,29.388942774005798,0,68.672712283594393,32.294141950346201,67.575277337559399,35.747115384615398,25.1020408163265,-1.21397058823529,4.2113556618819796,11.4146106736658,8.5921325051759805,13.654618473895599,1.4327286470143601,8.1196581196581192,128.71259934301199,3.9625425652667401,1.8290598290598299,2.7583432657926101,31.820671454242799,60.300751879699199,43.288241415192502,0,50.704225352112701,27.714285714285701,70.8693673190715,26.592282659228299,25.5784469096672,-1.1033660589060299,16.294927536231899,23.618784530386701,7.3552024602767796,17.575180458990001,1.28347578347578,27.9816513761468,141.388174807198,0.88602941176470595,2.6234203875315898,3.6544901065449,25620]
["C 25.7","Herstellung von Schneidwaren, Werkzeugen, Schlössern und Beschlägen aus unedlen Metallen",245,36.797678712740698,62.831241283124101,29.958246346555299,2.9629629629629601,65.2173913043478,34.951257054899898,64.8367952522255,38.468826985029402,19.731800766283499,-1.12532347504621,2.68605734112491,7.7107928031728497,9.9099099099099099,15.281069491184001,1.5250379362670701,6.2661060626610601,143.711551606288,4.2636363636363601,1.5882352941176501,2.59585936621647,36.797678712740698,59.593679458239301,36.970291858367403,0.30674846625766899,52.1747386647599,33.001658374792697,66.574776016540298,30.981887511916099,19.681502654144499,-1.0463378176382701,13.569465648854999,19.434872501723,8.4091894234937108,15.281069491184001,1.3857444809769801,20.607561948393901,156.76037483266401,1.24285714285714,2.1755991327972501,3.18882941587154,25700]
["C 25.72","Herstellung von Schlössern und Beschlägen aus unedlen Metallen",83,24.4,75.599999999999994,28.153644696638999,1.40158439975625,66.976378483814202,39.2426850258176,60.7573149741824,39.080459770114899,17.179902755267399,-1.0211538461538501,1.4510278113663799,4.17101147028154,8.2918739635157603,14.8507980569049,2.2589928057553998,6.0836501901140698,172.97709923664101,6.2395261032978704,1.48467966573816,2.5588235294117601,29.331046312178401,65.355805243445701,30.890052356020899,0,58.995599275174698,37.0702541106129,61.028192371476003,25.463148788927299,16.551724137931,-0.83974092065695105,10.656293222683299,14.634146341463399,8.4091894234937108,14.8507980569049,2.0930232558139501,26.530612244897998,261.08108108108098,1.3874892287020399,2.0964408725602799,3.18882941587154,25720]
["C 25.72-1","Herstellung von Schlössern aus unedlen Metallen",52,16.734693877550999,81.880733944954102,32.594868507105502,1.51679306608884,63.354037267080699,38.971807628523997,60.882956878850102,39.611360239162899,15.6028368794326,-0.82738589211618296,1.9060728744939299,4.7301765650080299,8.2918739635157603,14.112190812720799,2.23410852713178,8.1904999453611005,261.08108108108098,5.3034019157767398,1.47250859106529,2.50810810810811,23.255813953488399,66.8737060041408,31.273408239700402,0.191387559808612,55.8139534883721,37.407407407407398,59.747197571228398,22.4612537589637,15.361216730038,-0.83974092065695105,14.7376451077944,16.955817719176501,8.2918739635157603,14.112190812720799,2.0930232558139501,29.894179894179899,265,1.0859084654053901,2.0964408725602799,3.9272440666680302,25721]
["C 25.73","Herstellung von Werkzeugen",153,42.615723732549597,56.296296296296298,31.059451219512201,3.2752613240418098,64.576909900650904,33.844987682395299,65.819672131147499,38.400994200497102,22.012578616352201,-1.20477928974444,3.4145514347169699,9.1209927611168595,10.163934426229501,15.661154323811999,1.3870782208589001,6.67678300455235,135.70585922139199,3.8336636611488002,1.6188645771732699,2.5866141732283499,40.406320541760699,59.289763611081398,41.877526316365,0.487843305878984,48.2,26.663944467129401,72.682201289043107,31.214606604105501,22.844201846582699,-1.41124528301887,14.392558469170799,23.471481329503501,6.8228807718814597,14.969241696791499,1.08387096774194,19.607050452781401,153.55151515151499,1.0335243889929899,2.2135135135135098,3.0938166311300601,25730]
["C 25.73-9","Herstellung von sonstigen Werkzeugen",85,40.406320541760699,58.236000436633603,35.314417177914102,4.4841643148322401,52.195121951219498,34.690239209433997,64.870848708487102,33.761415525114202,22.012578616352201,-1.15852780234401,3.7086985839514499,9.2838196286472208,12.481751824817501,15.281069491184001,1.41242937853107,7.7396853665776204,150.62344139650901,3.1400363577431101,1.66104908363177,2.9382933709449901,35.250581518291398,62.831241283124101,41.995472186287202,0.30674846625766899,42.903575297941501,31.5068493150685,66.574776016540298,28.259231348907299,22.844201846582699,-1.0253328112764299,14.706803822567499,23.471481329503501,7.11462450592885,14.969241696791499,1.08014379361387,19.607050452781401,154.57731604919601,0.78333333333333299,2.2963824520592899,3.4536849222447601,25739]
["C 25.9","Herstellung von sonstigen Metallwaren",290,38.8888888888889,60.428336079077397,29.947500570646,1.19760479041916,66.527196652719695,40.953090096798199,58.670820353063299,34.289746001881497,18.535469107551499,-1.0994805194805199,2.3050787844682099,6.1802575107296098,10.878661087866099,13.505894413121499,1.56192633210156,5.2519893899204204,133.14763231197799,6.3733333333333304,1.61890631623569,2.8908149482215202,33.870967741935502,60.428336079077397,47.068764102440497,0,48.622589531680397,36.021998166819401,62.7488514548239,26.897844423617599,17.9138903126602,-0.829875518672199,11.5965163019205,17.774495322501199,6.7698259187620904,14.525511052019301,1.5643678160919501,20.934650455927098,172.18984179850099,1.26470588235294,2.0803295571575702,3.4388489208633102,25900]
["C 25.99","Herstellung von sonstigen Metallwaren a.n.g.",207,33.545873184555397,66.454126815444596,25.490196078431399,0.47082567961302002,69.857876306780497,41.627118644067799,58.372881355932201,35.130348102264101,18.5569985569986,-1.0162214759978601,2.2459421469260898,5.6388722255548904,9.6849474912485398,13.817514420555799,1.6711469534050201,5.7001239157372998,133.14763231197799,6.39416058394161,1.6182336182336201,2.8303108808290198,28.125174786061901,67.936799487366898,50.540797784892298,0,47.607052896725399,35.474006116208002,63.9671963095848,29.299363057324801,19.143476277372301,-0.78919540229885099,11.3588451394122,17.67143933685,6.1262959472196004,14.0425531914894,1.77957166392092,21.313850513637998,177.060753703888,1.2258064516128999,2.0681818181818201,3.3935064935064898,25990]
["C 26.1","Herstellung von elektronischen Bauelementen und Leiterplatten",106,17.910447761194,81.765628061924403,23.930556575822099,0.74525745257452602,69.430051813471493,50.324259749125403,49.641303325304897,28.3519553072626,14.1718641718642,-1.05415445793219,1.9455754412130299,6.76522577534951,13.902494589361,16.291161178509501,1.5887074453362899,4.81324320323679,223.17518248175199,6.65,1.6670311316479201,3.4919547079857001,17.910447761194,82.089552238805993,48.427846251186303,1.15792835584835,43.3172233585098,44.662576687116598,55.337423312883402,23.091773091773099,12.545454545454501,-0.894832402234637,17.100135158187602,20.1448657861099,15.8645276292335,14.909090909090899,1.5078569545293701,28.843710292249,372.07207207207199,0.47029702970296999,2.2479020547317798,4.3305466237942101,26100]
["C 26.11","Herstellung von elektronischen Bauelementen",97,18.234371938075601,79.428571428571402,23.930556575822099,0.90832114540835995,68.694155258627802,50.358696674695103,49.3006993006993,26.168660902325399,14.0596383159402,-1.0582010582010599,1.68539325842697,6.3180373977811302,13.902494589361,16.233090530697201,1.5887074453362899,4.81324320323679,215.38461538461499,6.65,1.7112825227689501,3.5528571428571398,17.910447761194,79.428571428571402,48.427846251186303,1.33468199536192,39.513858660702603,44.662576687116598,54.7668683581634,22.822085889570602,11.804087385482701,-0.894832402234637,20.194553072625698,22.418879056047199,14.233128834355799,14.4500806824887,1.4700265583824199,31.313131313131301,304.09090909090901,0.42276355845112501,2.3169014084507,4.3305466237942101,26110]
["C 26.3","Herstellung von Geräten und Einrichtungen der Telekommunikationstechnik",39,18.0929095354523,81.907090464547693,29.449838187702301,0,69.885177453027097,46.370023419203697,53.629976580796303,29.288524590163899,22.0196353436185,-0.60885280872244596,4.4454177687879302,7.2312120740625501,4.9056603773584904,22.383419689119201,1.4348677781275001,10.228711304599701,199.82971629522501,3.9108330074305799,1.7465486725663699,3.2664967295113501,44.683136412459703,51.282051282051299,41.407089151450101,0,53.6223616657159,31.529661204116799,65.142857142857096,22.3684210526316,18.1132075471698,-0.62689938398357303,17.4018867924528,29.0464832074444,0.19047619047618999,10.7579462102689,0.84372088400809997,23.505223797160099,177.19298245613999,0.92485160335637095,2.23658137745287,3.46062052505967,26300]
["C 26.5","Herstellung von Mess-, Kontroll-, Navigations- u. ä. Instrumenten und Vorrichtungen; Herstellung von Uhren",147,26.904379530361599,73.095620469638405,35.976789168278501,0.84375909223159695,58.581035934240298,42.217898832684803,57.782101167315197,33.3646263612467,17.654320987654302,-1.0028941355673999,3.1208593750000002,6.8941731016114502,16.377389468746301,19.7210300429185,1.4691497731550001,7.0238631247186003,197.033088058582,5.3669684736077397,1.68553459119497,2.9404848529883898,17.598852694120101,73.942352394235201,55.791962174940899,0.55910543130990398,37.484972349122401,31.874630396215299,66.6602594906295,27.0082226438963,15.3099471407977,-0.91021785823872403,18.390181037127999,23.998077847188899,11.191149987136599,15.631929046563201,1.4864217252396199,24.708051628764601,257.53424657534202,0.38744257274119398,2.2307692307692299,3.3958521190261499,26500]
["C 26.51","Herstellung von Mess-, Kontroll-, Navigations- u.ä. Instrumenten und -vorrichtungen",141,26.819923371647501,73.028391167192396,36.2406015037594,0.55910543130990398,58.3132530120482,42.152661105993602,57.765500306936801,33.203505355404097,17.315175097276299,-1.0028941355673999,3.3079436258808501,6.9506726457399104,16.1865250580816,19.7210300429185,1.4349179638199401,7.0238631247186003,197.033088058582,4.8803418803418799,1.6951147034351599,2.9697802197802199,26.057647605764799,73.942352394235201,59.735420160238498,0.95706618962432899,37.484972349122401,31.874630396215299,68.125369603784705,29.447689856611799,15.799356223176,-0.91021785823872403,19.859461797212902,26.6311584553928,11.191149987136599,16.036757077219502,1.4864217252396199,25.116279069767401,257.53424657534202,0.38744257274119398,2.2366522366522399,3.3958521190261499,26510]
["C 27","Herstellung von elektrischen Ausrüstungen",284,23.2553688265135,76.248929489009399,32.243102376512198,0.35994692468941197,63.043973570289403,50.298804780876502,49.6734992357244,28.183771851187501,15.852682145716599,-0.83177865612648205,4.2470511221945104,7.0135746606334797,12.981015905592599,16.705851040234201,1.7550966825230101,9.1086850252566407,212.30519480519499,4.3658536585365901,1.69284064665127,3.48539552180987,24.866310160427801,75.133689839572199,49.503594659363202,0,48.879837067209799,43.875748567489602,56.124251432510398,23.0968075481453,15.1033386327504,-0.88496240601503795,16.1314540059347,19.812539133949201,10.3938730853392,14.539392750806799,1.5452961672473899,26.412849494348599,246.363636363636,0.86549707602339199,2.3380062305295999,4.0902389993299098,27000]
["C 27.1","Herstellung von Elektromotoren, Generatoren, Transformatoren, Elektrizitätsverteilungs- und -schalteinrichtungen",122,24.866310160427801,74.024096385542194,32.4942084942085,1.2953367875647701,59.4101845813612,47.807060024587003,51.685393258426998,32.991277578245302,13.594632768361601,-0.83177865612648205,4.4282184655396604,7.5936377629553604,11.325938740205601,13.803108808290199,1.7227138643067801,8.8298328332618894,217.88617886178901,3.4807692307692299,1.56204379562044,3.0140154345786798,25.064599483204098,74.935400516795895,57.831325301204799,0.30811365970558002,42.168674698795201,42.487046632124397,57.512953367875603,25.677830940988802,13.4493670886076,-0.967741935483871,17.645208568207401,20.037453183520601,9.7560975609756095,13.692434210526301,1.5452961672473899,28.498074454428799,247.88732394366201,0.64473684210526305,2.2576437887534699,3.8944099378882,27100]
["C 27.11","Herstellung von Elektromotoren, Generatoren und Transformatoren",38,25.975903614457799,70.281124497991996,39.344262295081997,2.0053475935828899,49.615670154835698,40.061028770706201,56.571122421644802,32.132768361581903,15.1033386327504,-0.85909456201446599,10.156363636363601,12.789415656008799,13.366690493209401,13.639001741149199,1.61101243339254,14.859437751004,188.98847631242,2.0172413793103399,1.7020484171322201,3.0615183246073299,24.866310160427801,70.281124497991996,50.088183421516803,0,48.571428571428598,34.536782576946202,61.204301075268802,25.1128008752735,13.4493670886076,-1.23204994797086,20.723734177215199,23.870967741935502,10.3938730853392,13.290322580645199,1.2320512820512799,26.412849494348599,223.32079667183601,1.0967741935483899,2.6061220393801601,3.9810478952450299,27110]
["C 27.12","Herstellung von Elektrizitätsverteilungs- und  -schalteinrichtungen",80,23.839009287925698,74.935400516795895,30.6508875739645,1.2953367875647701,62.258801291643699,49.0856592877767,50.593354430379698,32.991277578245302,13.0559085133418,-0.76642924289536496,2.8393679148059099,5.2559257986946104,11.552982632771201,16.569901480740398,1.7367544451946899,6.0478199718705996,224.210526315789,5.7346938775510203,1.4793178519593599,3.0140154345786798,19.6762141967621,78.131212723658095,58.182601205856997,0.30811365970558002,36.363636363636402,47.283311772315699,52.192939975412997,25.9168704156479,11.461139896373099,-0.68324835351603996,13.302838915470501,15.5686824189027,8.0063821953115397,17.590822179732299,1.6407766990291299,21.999352960207101,315.65008025682198,0.43289606458123098,1.8518791683028,3.5481411263193499,27120]
["C 27.4","Herstellung von elektrischen Lampen und Leuchten",50,22.328244274809201,77.062163777644997,29.159519725557502,0,68.297271872060193,50.3265007642756,48.603491271820502,23.129964095310601,18.6143572621035,-0.99839743589743601,4.2470511221945104,6.5461346633416504,13.550687722873199,18.3657926232184,1.71132630840873,9.1086850252566407,223.59882005899701,4.9352380952381001,1.9975211857805999,4.1118644067796604,10.855263157894701,80.386134269416402,47.079037800687303,0,40.683195592286502,55.175292153589297,41.403274942878902,10.4046242774566,15.4945425903004,-0.99839743589743601,12.136518448439,14.0964995269631,8.6956521739130395,12.756264236902,1.78818737270876,26.170798898071599,332.23443223443201,0.545030020013342,2.9344262295082002,6.5464480874316902,27400]
["C 27.9","Herstellung von sonstigen elektrischen Ausrüstungen und Geräten a.n.g.",57,12.7966084254286,80.902699024722196,26.130128037627401,0,64.250637152502904,49.8654043148398,49.962106506238698,28.725920919229502,16.528925619834698,-0.810569105691057,3.8769381928738298,5.6308962264150901,12.8803418803419,19.8382925114154,1.66959144502331,6.9621766365418596,167.87296898079799,4.5904255319148897,1.66917293233083,3.1998170777304802,9.1954022988505706,88.437532887014399,45.1388888888889,0,47.676325861126301,34.935897435897402,58.2878191286676,21.306231643839599,18.436127831574101,-0.810569105691057,17.444089456869001,20.192307692307701,9.6920526912675609,19.8382925114154,1.99459459459459,35.948562346481701,348.925295806203,0.840425531914894,2.6524360098875701,4.5130187144019498,27900]
["C 28","Maschinenbau",1005,24.8233582709892,74.869109947644006,30.233050287014301,1.3401232913428001,65.442132639791893,48.053614715528298,51.9273127753304,29.370229007633601,16.653664823796799,-0.91102442466773803,2.9196892964686598,6.38198902223463,14.2264725795531,16.3251366120219,1.5449785816278001,6.4673913043478297,177.46258266620299,5.3394160583941597,1.7132506842698401,3.3791315618924198,21.912350597609599,77.765843179377001,47.251294480555302,1.61290322580645,46.826535707533203,43.598559266535702,56.401440733464298,24.899598393574301,15.591302810677,-0.76113989637305701,14.464484760522501,18.255578093306301,10.3632308427593,17.6408011914531,1.3599733155436999,22.319093286835201,234.88372093023301,1.18954248366013,2.19626095831739,3.9874074074074102,28000]
["C 28.1","Herstellung von nicht wirtschaftszweigspezifischen Maschinen",122,21.329552604265398,78.656377579688098,30.716860232278702,1.62932790224033,63.417862904893902,49.7774612782624,49.752826376649601,27.300585576018701,15.807967865641199,-0.91817045217753701,3.6143685173886499,6.6147859922179002,14.9518874907476,16.386642951480301,1.56984948259643,7.2820535626723002,204.56977739726,4.8624338624338597,1.75179856115108,3.5748502994011999,21.329552604265398,78.656377579688098,39.945652173912997,0.73640751203837496,55.243281859675498,50.744329148273401,49.255670851726599,23.214857684262999,14.8865829654685,-0.82385179467387104,12.908110670574001,18.4918347909258,13.870724715501799,23.049033149171301,1.3075982057904001,19.869610312638901,186.55096201811901,1.9282516359537001,2.16852841185041,4.30758617433992,28100]
["C 28.12","Herstellung von hydraulischen und pneumatischen Komponenten und Systemen",35,17.085427135678401,82.914572864321599,24.424686192468599,0,70.462824282095397,49.7774612782624,50.2225387217376,28.214616096207202,14.235950388700999,-1.2296646603611301,4.2051570680628299,7.4606741573033704,14.0059347181009,17.5097276264591,1.82519964507542,7.2013093289689003,260,6.0749811605124302,1.7137758743754501,3.5442622950819702,16.512345679012299,66.439230043823201,29.537175717904599,0,54.766355140186903,51.960321209258403,36.8788819875776,16.050826317430602,9.6897411911443694,-1.4761115031757199,9.4382834424696007,12.879322512350001,12.8089887640449,19.981325863678801,1.1619516195162001,16.841004184100399,233.40184994861301,1.8911564625850299,1.9382239382239399,4.1351351351351404,28120]
["C 28.2","Herstellung von sonstigen nicht wirtschaftszweigspezifischen Maschinen",391,20.234298336411999,79.325279234100705,30.135632310142199,1.3938304661996099,65.219033232628405,48.4519464864997,51.5480535135003,29.413173652694599,16.2491011074356,-0.79315394301170605,2.7734170591313498,5.6252080328414502,12.698412698412699,15.403678100952099,1.7730398899587301,6.9678744315681396,198.41896352965799,5.2268907563025202,1.6909448818897601,3.31372549019608,11.512027491408899,88.229345686405907,47.549668874172198,1.4809041309430999,47.4583055370247,44.313725490196099,55.352112676056301,26.372766401460801,14.4342105263158,-0.67879756955548498,13.5571,16.0460392687881,7.6486405736480396,15.708154506437801,1.58277612479003,23.971517009286,355.555555555556,1.10659898477157,2.1014492753623202,3.6945654454656101,28200]
["C 28.21","Herstellung von Öfen und Brennern",56,22.5,74.380677126341894,17.053166243390599,0,78.330893118594403,55.7368421052632,43.657894736842103,22.658610271903299,17.192926587195199,-0.79315394301170605,1.9135383898403799,3.77490387976232,14.2239930872258,12.6429081814934,1.77434836574266,5.1198826790588203,121.281078803203,11.975206611570201,1.69717772692601,4.3670002566076498,12.059558990679699,72.516403289899301,41.314131413141297,0,51.4103363532993,52.870090634441098,44.2631578947368,15.8815789473684,17.266187050359701,-0.67879756955548498,11.483134144979299,12.8094977384714,12.2574385510996,12.447442856050801,1.6467661691542299,17.6483762597984,189.07349017705599,1.3092580433355201,2.2774168895682099,5.7794392523364504,28210]
["C 28.22","Herstellung von Hebezeugen und Fördermitteln",88,18.588171163804901,80.777009047365596,32.036229453203603,2.41891148982958,63.157473380834197,48.617560151962898,50.895679662802898,30.232558139534898,14.4844809133072,-0.58113872263050204,4.8464178356713399,7.41476332340285,13.495727335232299,14.9208282582217,1.65721649484536,8.6886943424644603,222.792022792023,3.6253547776726598,1.7006938884440901,3.3022121014964201,14.865248497164499,83.396296988965801,39.336797822321202,4.1439476553980397,53.749072011878198,40.435458786936202,58.816742812312498,31.1885765161114,11.75,-0.42351470739307601,16.327221759224201,19.7153940001918,6.37140637140637,12.432012432012399,1.4426035502958601,28.4911491992133,352.892102335929,0.88418859283333595,1.82963862739144,3.1852272727272699,28220]
["C 28.25","Herstellung von kälte- und lufttechnischen Erzeugnissen, nicht für den Haushalt",120,14.130434782608701,85.820895522388099,32.551594746716702,1.2887977167320701,58.474697077690699,49.082202713487597,50.785928143712603,29.413173652694599,15.8215010141988,-0.68534883720930195,2.9787824707515398,5.4161263254252798,7.9516575365674598,16.497432077468901,2.0969696969696998,8.06962025316456,303.804347826087,4.5076923076923103,1.6931608133086899,3.3164556962025298,8.8461538461538503,91.150442477876098,55.299145299145302,1.61290322580645,36.290322580645203,44.780141843971599,54.059880239521,25.932504440497301,14.1630901287554,-0.68534883720930195,14.446085106383,16.130231455540699,6.0291060291060301,19.442927362097201,1.8401123753472299,27.787456445993001,603.94736842105306,0.62963618833992496,2.1297234610986799,3.6874003189792699,28250]
["C 28.29","Herstellung von sonstigen nicht wirtschaftszweigspezifischen Maschinen a.n.g.",109,27.0348837209302,72.093023255813904,30.0947499450482,1.37323943661972,62.068965517241402,42.978525672939703,56.365403304178798,29.337539432176701,17.1457387796268,-0.98701721890649696,2.7734170591313498,6.2027272727272704,12.714601417113601,15.128205128205099,1.5,6.2068965517241397,156.534954407295,4.58,1.67198177676538,3.2742155525238701,25.0556792873051,74.944320712694903,43.521438819730797,0.56976723693975395,48.552338530066798,37.436547789087797,62.563452210912203,25.6962358515399,15.843621399177,-0.87284313725490204,14.258919413919401,17.216117216117201,9.2846270928462697,15.088757396449701,1.5,23.076923076923102,198.41896352965799,1.10659898477157,2.2280130293159601,3.7586245925971702,28290]
["C 28.3","Herstellung von land- und forstwirtschaftlichen Maschinen",63,41.819990054699197,58.180009945300803,30.026990553306302,1.80929095354523,65.820674323823596,53.33607907743,46.66392092257,29.0221078010707,14.8289230041566,-0.95911467953353002,1.57405372573921,5.3131149438592402,21.280353200882999,11.1736484620009,1.55125198098257,4.0006291461191896,164.09994900560901,5.7237790232185803,1.6317689530685899,3.4456491129259401,48.1423439791768,47.953284571969697,52.534673853794402,0.87719298245613997,43.573683063534702,46.381842596856004,53.554502369668199,21.876771542570399,14.4806756530007,-0.87402423362555104,10.514599511870401,15.039393055150301,19.6549221062036,11.1736484620009,1.5495750708215299,15.814317821669,170.27857320875401,1.3523986066822899,2.0633401610204598,4.1920529801324502,28300]
["C 28.4","Herstellung von Werkzeugmaschinen",86,34.473248758963003,63.592571464790502,26.4602885558201,3.2795698924731198,63.589195788188597,40.612076095947103,58.926306890235303,33.821323688188301,18.4364060676779,-1.1471371504660499,1.91116912176021,5.46875,14.2264725795531,15.353795521213399,1.3352660550458699,4.7207097032878904,145.077720207254,5.8568872987477603,1.63863302052958,2.9032815198618298,41.322912143580801,58.445505861919202,45.053763440860202,1.30958617077004,43.005641123154,32.447992259312997,67.241379310344797,31.3092979127135,17.934204160619299,-1.1947562776957199,14.464484760522501,18.8806678369426,9.1039084842707307,14.2305407011289,1.2253827360993499,19.0635451505017,140.239652748059,1.2437275985663101,1.8981783578031499,3.0990566037735801,28400]
["C 28.41","Herstellung von Werkzeugmaschinen für die Metallbearbeitung",49,32.132132132132099,63.4170881914185,25.047092064987101,4.0812954395241201,59.635274904736001,37.677959688871098,61.2777777777778,35.501249380685003,17.934204160619299,-1.1268886043533901,1.93050193050193,5.1443424746275097,11.499164034924799,14.450010583503801,1.32241650476455,4.7207097032878904,144.13919413919399,4.5199652777777803,1.68688789578777,2.8099510603588902,41.371801850843802,45.302013422818803,45.053763440860202,1.6047071409467799,47.775346462436197,35.465019201870099,62.659123055162702,32.267884322678803,17.934204160619299,-1.1268886043533901,14.9153763050167,19.477098540145999,7.0642474717430099,14.2305407011289,1.3101350066552599,20.136908157444399,140.239652748059,1.15710526315789,1.8981783578031499,2.9032815198618298,28410]
["C 28.9","Herstellung von Maschinen für sonstige bestimmte Wirtschaftszweige",278,21.1618257261411,76.687224188244002,31.2605752961083,0.88546129677235097,63.588073663182399,47.2027639411642,52.4875621890547,28.428277282086501,17.697314890154601,-0.89230493487871898,3.68206556532652,7.0463048088914002,15.6232050545663,18.4830755601491,1.3649497487437201,6.4561734213006599,177.852004110997,4.8794117647058801,1.7708185053380801,3.43825842492814,26.315789473684202,69.981437284539894,44.802958806274702,2.7135891456434198,46.006767391279404,43.489029504304597,56.455142231947498,21.902855665078501,16.653664823796799,-0.80964467005076102,14.907062001543601,19.749603244577699,10.026348634031301,18.0064308681672,1.2183908045977001,20.8838158398164,189.78209658421699,1.3384030418250901,2.43196202531646,4.1012658227848098,28900]
["C 28.93","Herstellung von Maschinen für die Nahrungs- und Genussmittelerzeugung und die Tabakverarbeitung",40,16.461769115442301,82.405484004985496,20.311027332704999,0,68.7317202871577,55.174563591022398,43.639338880229801,23.425949528422102,17.467387846007,-0.87397132460423599,3.44844129554656,5.4028072659715596,15.7590759075908,21.357380161366901,1.45257452574526,4.9225387306346802,173.118279569892,7.1548130887131203,1.94632060168117,4.2160128962923196,12.8160418482999,77.055103884372201,25.161747762120001,0,68.7317202871577,47.810545129579999,43.285310007718003,17.026899016979399,14.085412914844399,-0.88548051587851895,14.7915268340036,15.5904296372524,12.3456790123457,20.357786714741401,1.1028806584362101,17.615176151761499,161.023622047244,2.2046204620462002,2.8006658343736999,5.05671077504726,28930]
["C 28.99","Herstellung von Maschinen für sonstige bestimmte Wirtschaftszweige a.n.g.",155,31.257861635220099,67.801473225370401,31.2605752961083,1.3630229419703099,63.7735849056604,46.383467278989698,53.616532721010302,29.211590296495999,16.369130870117601,-1.01266519823789,3.63663696969815,7.3385973060845302,14.685147568407199,16.7840735068913,1.3488587892781001,6.8567774936061401,158.325449385052,4.5025870989996504,1.73130649137223,3.4081387913152699,34.868421052631597,65.131578947368396,48.775209818282903,3.8178347422961498,42.418058921056002,41.301535519433003,58.698464480566997,25.078952257105701,16.369130870117601,-1.09863480226652,17.090689127105701,20.646610450344301,8.5701907133417308,20.0260078023407,1.2462087421944701,23.688247928812501,213.66120218579201,0.82033563672260601,2.3894769613947702,3.96100073583517,28990]
["C 28.99-9","Herstellung von sonstigen Maschinen für sonstige bestimmte Wirtschaftszweige a.n.g.",136,31.257861635220099,67.669172932330795,31.897993311036799,1.3771186440678,63.109581181870297,45.4481298517996,54.272077432464002,29.370462633452,16.369130870117601,-1.0435186979267601,3.0072183445288099,7.3385973060845302,14.811912225705299,16.7840735068913,1.3433734939758999,6.69015461510575,158.752515090543,5.0169491525423702,1.73130649137223,3.38878676470588,37.0669017118108,61.768802228412298,47.855885475645401,3.4605597964376602,43.993606138107403,37.805002552322598,61.708860759493703,21.902855665078501,15.591302810677,-1.1283333333333301,18.079742765273298,21.698113207547198,7.5966483465738097,18.3139534883721,1.21239554317549,23.688247928812501,166.80166884609901,0.69323671497584505,2.4778076664425002,3.96100073583517,28999]
["C 29.2","Herstellung von Karosserien, Aufbauten und Anhängern",82,40.3140207234188,58.800057004417802,28.586843577651699,2.2514868309260798,68.091035764050204,53.297362110311802,46.079295154184997,29.788852246445,14.209115281501299,-1.0313119645779201,1.5065033301617501,5.6378619354257697,9.47551893519252,10.9724770642202,1.75575790037493,6.0655074807925597,129.48533283771599,5.6470588235294104,1.6039892970080301,3.3092298666908699,28.879310344827601,60.408428082815099,40.341382181515399,3.8240246475409698,41.394230769230802,35.606936416185,57.937116564417202,26.8063291139241,13.7664165103189,-0.73352601156069397,12.2257836426044,16.239316239316199,5.0642201834862401,13.343558282208599,1.86422413793103,23.551861360718899,153.707865168539,0.89022923873749404,1.8378008159989301,3.2060407467417602,29200]
["C 29.3","Herstellung von Teilen und Zubehör für Kraftwagen ",55,35.043263288009904,64.956736711990104,27.6185680278337,0.91132417104488905,67.117263770457299,52.685109845402799,47.314890154597201,20.591621997220599,17.228296426789999,-0.70735498851799705,3.4228099173553699,7.7799388719088602,11.979766178212699,15.224028356097101,1.7114102973006999,7.2978303747534499,136.26373626373601,4.8110047846889996,2.0241518113858499,4.8563440030852298,26.766083979095299,68.724120583568705,42.270393610952702,2.5211238579377602,52.126367862498299,46.999834441001902,50.455580865603601,16.462877824513399,15.522338639105,-0.57249430523917999,12.110259765439601,16.3917147832463,6.6166269246797498,14.347573379831401,1.5137931034482801,25.8157587414989,211.016949152542,0.99647460368384499,2.9869423286180599,5.97037596913996,29300]
["C 29.32","Herstellung von sonstigen Teilen und sonstigem Zubehör für Kraftwagen ",39,38.9705082163456,61.0294917836544,23.705505402497799,1.84403577529896,71.520783739241907,53.170731707317103,46.829268292682897,19.121996100681301,17.3315704759715,-0.70735498851799705,3.14204072080505,7.3599460439236202,12.732401589947401,15.6590617685194,1.6361982895398799,6.5490130478420898,122.434803084712,7.1104370009148097,1.9724937639225499,5.2295795623782801,31.275879416431302,59.935897435897402,49.7428986843505,4.8760594347317303,45.381041880917799,46.999834441001902,45.936678986507502,16.749363945735801,16.228165229075501,-0.20167217489413899,12.029298628029199,15.5409299934985,6.6152645396277299,20.410905465736199,1.3258547008546999,16.881420075689299,133.76699829281199,0.99647460368384499,2.1143006818335901,3.6481073712907599,29320]
["C 30","Sonstiger Fahrzeugbau",48,15.789473684210501,82.911841172299702,25.999491245177399,0,71.630559206342497,49.379932356257001,49.732620320855602,23.214285714285701,17.966573816156,-0.91545551655730195,4.1665615141955801,5.79205640589569,18.8222923238696,13.585278498209201,1.33785822021116,6.3819461295802,244.54545454545499,5.54285714285714,1.9834957023142601,4.1909678316985204,12.3853211009174,86.203787406848804,39.449620927136998,0.75963488884786101,45.875465673230401,45.996009058538,51.831658417327802,23.860836927367199,14.383028415726001,-1.5009244842351099,15.850184896847001,20.445698715453499,15.345526081832,20.6462713326389,1.03787496212504,26.254638096477802,268.04979253111998,0.69606330762295898,2.68396226415094,4.0246913580246897,30000]
["C 31","Herstellung von Möbeln",989,45.428571428571402,54.089709762532998,18.648648648648599,0,76.395962621903195,44.510926118626401,55.445544554455402,36.970227920227899,17.793067409858899,-1.3033073929961101,-0.46977483572291001,3.57234042553192,8.9898053753475402,11.7125984251969,1.74776386404293,1.70185873989507,114.50381679389299,12.3021632455595,1.47389734948897,2.6991064226535699,37.784920355498699,62.0142783133224,30.188679245283002,1.5584415584415601,63.701546045260997,43.685655456417301,56.314344543582699,30.2642523364486,16.203703703703699,-1.0302593659942401,6.4229644076060497,11.1170497060396,6.5331928345627004,13.4315081161539,1.703081232493,14.052779590996501,145.22875516237801,2.4645881090249002,1.81683724242452,3.2465903634317801,31000]
["C 31.01","Herstellung von Büro- und Ladenmöbeln",60,41.111333007567801,58.765488756310198,25.330520178302699,1.7322834645669301,65.828269047127094,46.861255497800897,52.287282708142698,37.163046322952098,16.334458122314501,-0.71569528415961303,2.15464355788097,6.0568603213844296,7.4730286816945899,12.076713336592,1.8393803505911099,5.3547523427041499,140.98360655737699,5.9426542326719902,1.5223138928982101,2.6773444957516901,27.988408596957299,72.011591403042701,56.677131127746897,3.3088235294117601,35.5228205747404,47.712717291857302,52.287282708142698,32.535460992907801,13.9470013947001,-0.50049571879224897,9.9195236848992394,13.511749347258499,6.0897135069764303,9.3562574970012005,1.8393803505911099,16.5998291327423,221.32352941176501,0.42045454545454503,1.6122448979591799,3.03968253968254,31010]
["C 31.01-2","Herstellung von Ladenmöbeln",37,33.293136639419401,62.362204724409501,29.6103896103896,2.6203534430225499,54.411764705882398,47.712717291857302,48.643414181668298,33.3333333333333,14.6392920700247,-0.74563106796116496,1.8941565207270901,5.3934571175950499,7.7077443564961303,12.0651316015236,1.8766047519444899,4.4999578317204501,170.64841281781301,4.2542877101438297,1.51197143169769,2.7925925925925901,19.078694817658299,51.516565562295803,44.051435165680601,2.6203534430225499,27.962273732540499,47.712717291857302,48.524555198633301,23.5011990407674,10.6735611584891,-0.59513791619757295,5.9212035398230096,8.1309398099260797,4.0469973890339404,12.076713336592,1.82950978024632,11.4277471470701,181.01304397501801,0,1.6122448979591799,3.5956336022781201,31012]
["C 31.02","Herstellung von Küchenmöbeln",34,43.9484265401641,54.1666666666667,15.404364569961499,0,82.871536523929507,56.3829787234043,41.181859825927603,26.177877492274501,16.226351601461801,-0.81061164333087699,1.95851197982346,4.0868454661558102,7.8902229845626097,10.5433901054339,1.81503829194709,4.5337454920144298,122.154963680387,9.6784818465124491,1.8041543026706199,3.7756553923984701,38.913043478260903,45.374449339206997,16.739130434782599,0,72.2,48.710390567428099,40.655293569826,16.058394160583902,12.0560470727681,-1.3994082840236699,5.02765612327656,6.5693430656934302,6.5331928345627004,10.642170765779101,1.45434782608696,15.384615384615399,121.428571428571,4.7613636363636402,1.8041543026706199,3.9703264094955499,31020]
["C 31.09","Herstellung von sonstigen Möbeln",483,42.307692307692299,56.764495347172499,17.230769230769202,1.80468881767583,77.189409368635395,43.902439024390198,56.097560975609802,36.737673979712199,18.018494055482201,-1.2820512820512799,-0.421761658031088,3.6595067621320601,8.9361702127659601,13.2780082987552,1.71390374331551,2.0270270270270299,110.534793814433,12.865535462273099,1.4753445635528299,2.7068512730269698,32.742537313432798,65.789473684210506,29.844961240310099,2.0295202952029499,64.663805436337597,43.498273878020697,55.6697439470476,28.970163618864301,15.7111356119074,-1.0302593659942401,7.1672000000000002,11.4728682170543,5.1696284329563804,16.396396396396401,1.71826625386997,15.0976909413854,146.48850217526399,2.2242268041237101,1.8474658459269599,3.42622950819672,31090]
["C 32","Herstellung von sonstigen Waren ",498,24.2774566473988,75.2918287937743,27.121001390820599,0,66.036576550527698,34.246575342465803,65.558397271952302,36.873095040177297,22.562141491395799,-1.1584380610412901,1.6750400000000001,5.1136363636363598,11.7117117117117,11.100292112950299,1.7329545454545501,4.8780487804878003,172,6.0767445036187402,1.6491751107849499,2.6952380952380999,21.884498480243199,75.722543352601207,50.365591397849499,0,43.307086614173201,27.891156462584998,71.948051948051997,32.313575525812603,19.281045751634,-0.89560975609756099,13.8945921985816,17.399617590822199,8.1189251000571794,11.353711790393,1.72627737226277,26.847081367391599,228.40336134453801,0.97604790419161702,2.0613496932515298,3.0374331550802101,32000]
["C 32.1","Herstellung von Münzen, Schmuck und ähnlichen Erzeugnissen",69,12.006980802792301,85.245901639344297,19.714285714285701,0,78.472134531659194,45.118191161356599,50.304878048780502,29.2103034153129,24.299065420560702,-2.2073684210526299,-3.8381147950849699,-0.73230268510984498,50.877192982456101,6.3133165211291598,1.16620498614958,-0.84745762711864403,264.40677966101703,102.862479570395,1.6058428278361401,3.3030303030303001,13.9225181598063,79.384965831435096,24.2424242424242,0,54.054054054054099,41.954215522054703,56.639135959339299,22.164123376623401,20.0768491834774,-1.74923076923077,9.3653704461727401,12.6893164142448,20.6586826347305,5.4755043227665698,1.38356164383562,15.6231003039514,271.01449275362302,2.2904290429042899,2.5492747984060302,4.2404352159257499,32100]
["C 32.12","Herstellung von Schmuck, Gold- und Silberschmiedewaren (ohne Fantasieschmuck)",58,11.9694397283531,87.5,21.468926553672301,0,77.902843601895697,50.526315789473699,47.298000423510899,29.2103034153129,24.7422680412371,-2.2073684210526299,-3.8837591240875899,-0.967975109211477,54.136125654450296,5.2464098379166302,1.2058337254973599,-1.18845500848896,271.01449275362302,122.808812260536,1.6020408163265301,3.3030303030303001,12.5,84.745762711864401,45.945945945945901,1.6949152542372901,54.054054054054099,52.701999576489101,47.298000423510899,22.164123376623401,17.418282548476501,-1.6995129870129899,9.8101825168107606,13.3561056105611,40.097402597402599,2.21518987341772,1.4851063829787201,15.6231003039514,525.51319648093795,2.3056069320226,2.40997229916898,4.4255319148936199,32120]
["C 32.5","Herstellung von medizinischen und zahnmedizinischen Apparaten und Materialien",294,30.697674418604699,68.432355046528301,27.121001390820599,0,61.992619926199303,28.051948051948099,71.768928896906999,41.6666666666667,22.283609576427299,-1.0333333333333301,2.81475155279503,6.5643648763853397,8.2317073170731696,11.1789514412846,1.9923780487804901,7.3954983922829598,167.38461538461499,4.2962962962963003,1.6433121019108301,2.3944954128440399,25.238744884038201,74.183976261127597,54.422310756972102,0,41.274900398406402,26.350851221317502,72.972972972972997,35.606060606060602,18.409425625920498,-0.75757575757575801,14.1553034600113,18.076868637002299,6.8181818181818201,11.353711790393,1.9617834394904501,29.585798816568001,238.37837837837799,0.71856733524355298,1.9578466074935399,2.68897637795276,32500]
["C 32.50-1","Zahntechnische Laboratorien",132,37.888198757764002,61.363636363636402,20.588235294117599,0,69.230769230769198,18.007662835249,81.632653061224502,51.876019575856397,23.6111111111111,-0.92120481927710796,2.5601190476190498,7,4.9115913555992101,9.4101123595505598,2.2213740458015301,6.2672131147541004,146.54088050314499,4.5873630721812697,1.5436190723771099,1.92279712778613,37.888198757764002,59.615384615384599,50.7323568575233,0,36.4066193853428,18.788410886742799,80.278116293762096,43.099222199590599,17.472118959107799,-0.76245036868973304,14.100123915737299,18.076868637002299,3.9603960396039599,8.2677165354330704,1.92552438848638,30.081300813008099,182.56640929825301,0.266129032258065,1.8228346456692901,2.1955168119551698,32501]
["C 32.50-2","Herstellung von Sehbehelfen und deren Teile",46,29.0322580645161,65.354330708661394,31.0865775711795,0,65.060240963855406,37.300177619893397,62.615101289134401,32.313575525812603,24.846625766871199,-1.3452914798206299,1.4515570934256099,6.4417177914110404,14.0367860600194,8.9552238805970106,1.9155421126105201,6.37254901960784,144.18604651162801,4.0526315789473699,1.9534883720930201,3.0374331550802101,19.8463508322663,75.2918287937743,49.359795134442997,0,47.457627118644098,37.300177619893397,62.535211267605597,24.9471458773784,19.805194805194802,-0.65398051729929496,15.9357293868922,18.380952380952401,11.545293072824199,12.870850211591099,1.9923780487804901,34.295762711864398,274,0.96747967479674801,2.4766542015421198,3.9500178908448,32502]
["C 32.50-9","Herstellung von sonstigen medizinischen und zahnmedizinischen Apparaten und Materialien",104,23.507462686567202,75.885826771653498,33.929744591436098,1.4225941422594099,55.0656344665096,42.957020281096803,55.8139534883721,34.316770186335397,18.3155080213904,-1.0700475435816199,3.3442136498516302,6.3264444444444399,11.417004048582999,13.963963963964,1.6802973977695199,7.7610273590173096,204.91437081161601,4.1152263374485596,1.64439400606805,2.9064178184699401,19.834710743801701,78.661616161616195,58.673137243297603,0.79575596816976102,38.6383731211317,39.4218134034166,59.746434231378799,29.452350150927099,18.3155080213904,-0.87087765957446805,13.903920543648701,16.876122082585301,8.1529378689907208,12.0752744380554,1.70580808080808,22.853535353535399,355.555555555556,0.62703639514731402,1.9185185185185201,3.1923438305095,32509]
["C 32.9","Herstellung von Erzeugnissen a.n.g.",58,19.020172910662801,79.787234042553195,23.6252545824847,0,73.7081361907413,42.124808575804003,57.378942692136803,29.963235294117599,20.9612817089453,-0.95839622641509403,1.35451415455241,4.7879368658399102,11.7117117117117,15.315315315315299,1.3564154786150699,4.0421558164354296,152.648471929224,4.9629629629629601,1.7719869706840401,3.2808641975308599,17.5324675324675,82.467532467532493,48.571428571428598,0,43.307086614173201,36.363636363636402,63.636363636363598,27.114967462039001,17.078189300411498,-0.90090090090090102,12.827558604917099,15.6660949113779,8.1189251000571794,18.391042919344802,1.60743321718931,22.296173044925101,145.97776324394999,1.11851851851852,2.1123260437375699,3.6880000000000002,32900]
["C 32.99","Herstellung von sonstigen Erzeugnissen a.n.g. ",52,20.212765957446798,78.764263846367896,22.570856704124498,0,74.949083503054993,42.621057307863197,56.5557729941292,29.963235294117599,20.5660377358491,-0.99502487562189101,1.2919110538188801,4.7879368658399102,11.3049800072701,15.315315315315299,1.3037182902814799,4.0421558164354296,150.81104778605899,5.8522920203735103,1.7595657749545199,3.2808641975308599,13.2404181184669,78.764263846367896,26.282586510808098,0,43.307086614173201,31.236442516269001,63.636363636363598,24.882629107981199,15.837621497998899,-0.92709537572254297,12.827558604917099,15.117581187010099,3.3783783783783798,15.315315315315299,1.5306008902077199,22.296173044925101,125,1.11851851851852,2.0710619029059201,3.2808641975308599,32990]
["C 33","Reparatur und Installation von Maschinen und Ausrüstungen",301,26.5206812652068,73.236009732360102,25.893635571054901,0,69.764174423602597,48.275862068965502,51.380781126271899,27.773279352226702,16.318785578747601,-0.74812967581047396,1.8744216666129601,3.9936941671045698,10.038053472795101,12.556634304207099,2.05374280230326,6.0126582278480996,158.064516129032,6.4521754294184301,1.6382252559727,3.5478087649402399,21.561793519216302,76.873661670235506,44.286680189317103,0,51.908396946564899,35.795454545454497,64.204545454545496,26.9877457965232,19.318181818181799,-0.65949044585987304,10.789497716894999,15.2823003477013,8.0023237237673399,13.6929460580913,1.6826417299824701,24.373438359589901,266.41509433962301,0.982926207725072,2.1696969696969699,3.7053854276663101,33000]
["C 33.1","Reparatur von Metallerzeugnissen, Maschinen und Ausrüstungen",189,32.463592233009699,66.326530612244895,24.137931034482801,0,67.391304347826093,51.076500229042601,48.783629078420098,26.693456032719801,15.5651636812847,-0.85874375446109896,0.86044932079414804,3.6348267117497901,10.4253544620517,11.061864036456701,2.1881795195836702,4.83634920634921,143.027888446215,7.3076923076923102,1.6319003275594901,3.6584507042253498,28.571428571428601,71.428571428571402,36.168777461013299,0,59.810874704491702,43.835616438356197,56.164383561643803,25.737588932664401,20.222572156907098,-0.74755031533706895,9.2831035767511203,13.714285714285699,8.7341772151898702,13.7098857200721,1.68367346938776,18.368479467258599,209.09090909090901,1.0655737704918,2.1509255918514598,3.8853678276401,33100]
["C 33.12","Reparatur von Maschinen",118,29.375,69.180018850141394,27.734375,0,66.990291262135898,59.085714285714303,40.101522842639604,23.129326950746599,12.9879347054649,-0.93627147282455603,0.766735751295337,3.0530060120240501,11.445783132530099,12.884043607532201,2.1343035343035299,4.0235561524950896,166.95652173913001,7.4186046511627897,1.57972544878564,4.0448595299451204,19.3436960276339,73.614282748598697,32.824427480916,0,63.087248322147701,50.9607993850884,48.956083513318902,25.4695373339441,16.756341275941601,-0.96,8.5959459459459495,12.806539509536799,11.7391304347826,16.170578133943899,1.5436241610738299,16.0216417910448,210.059171597633,1.65384615384615,2.1696969696969699,3.8984375,33120]
["C 33.2","Installation von Maschinen und Ausrüstungen a.n.g.",111,18.834080717488799,80.857142857142904,26.9889840881273,0,70.175207482545105,43.598615916954998,56.401384083045002,31.107954545454501,16.863389490434798,-0.60392491467576803,2.6549256505576202,4.4609665427509304,8.2170827214880102,14.5794392523364,1.8660714285714299,7.7603143418467599,212.01397990388801,5.6640964452148896,1.6382252559727,3.1554621848739499,19.7825268934421,78.438206480783705,49.322401397508699,0,47.933157431838197,30.318851389147898,68.838604532798598,28.186412128017999,18.2763744427935,-0.64321741438810698,15.5630588698046,20.1405172413793,4.7252182845403201,12.157374603766501,1.62455516014235,30.139257294429701,286.48015412999803,0.43852459016393402,2.34103473735391,3.3897637795275601,33200]
["D","Energieversorgung",913,83.397061783054895,16.428846895487901,25.102774922918801,0,73.618982375287999,46.620046620046601,53.211009174311897,4.71406491499227,44.4586392535629,-6.4846416382252601,-0.45382653061224498,21.2566844919786,6.7717454757734998,19.2660550458716,0.26314811373350699,1.8037746684612901,97.235462345090596,10.5446985446985,5.2464788732394396,10.8269230769231,81.952380952380906,17.980689080300099,34.538015683600399,0,64.048008728859799,24.5907558979297,74.033149171270694,4.2628292153135998,40.528705806033102,-4.2221402214022099,19.9468253968254,45,3.0286786384347399,21.138211382113798,0.29311738164186102,7.8995713410900201,102.043070127002,4.043100923371,6.7666666666666702,10.824372759856599,34999]
["D 35","Energieversorgung",913,83.397061783054895,16.428846895487901,25.102774922918801,0,73.618982375287999,46.620046620046601,53.211009174311897,4.71406491499227,44.4586392535629,-6.4846416382252601,-0.45382653061224498,21.2566844919786,6.7717454757734998,19.2660550458716,0.26314811373350699,1.8037746684612901,97.235462345090596,10.5446985446985,5.2464788732394396,10.8269230769231,81.952380952380906,17.980689080300099,34.538015683600399,0,64.048008728859799,24.5907558979297,74.033149171270694,4.2628292153135998,40.528705806033102,-4.2221402214022099,19.9468253968254,45,3.0286786384347399,21.138211382113798,0.29311738164186102,7.8995713410900201,102.043070127002,4.043100923371,6.7666666666666702,10.824372759856599,35000]
["D 35.1","Elektrizitätsversorgung",461,81.281302170283794,18.403426156951198,19.521912350597599,0,79.545454545454504,30,69.155072955547993,4.7973897484475296,45.299145299145302,-5.1380308880308903,1.31150133920853,21.6625716625717,4.7554347826086998,18.181818181818201,0.34069400630914798,2.4889867841409701,100.28409090909101,8.93241379310345,5.3681667710476901,9.9749999999999996,85.014929240770499,14.985070759229499,33.484760066436202,0,66.515239933563805,5.85585585585586,94.144144144144207,2.1616248746811699,48.007367070138898,-5.1539325842696604,24.9606837606838,58.471760797342199,2.74794556285056,22.702702702702702,0.20815450643776801,8.3943009118540992,104.381443298969,4.7681151988775401,6.7666666666666702,9.7899804177545704,35100]
["D 35.11","Elektrizitätserzeugung",362,82.211226954114395,17.637589294697701,17.8571428571429,0,81.9444444444444,24.5392121431153,75.409244102070303,3.6567573450228901,48.157894736842103,-5.8032474804031402,1.13610038610039,24.957746478873201,5.9523809523809499,17.735843176364298,0.32305708352532297,2.3400936037441502,100.406329174435,9.2876662415740601,6.0430107526881702,11.0575539568345,85.392108452664203,14.6078915473358,30.045754956787,0,69.954245043213007,4.7528517110266204,95.247148288973406,0.71099442151720105,48.4536082474227,-5.8862068965517196,29.8444978920529,62.546816479400697,2.0821609454136198,23.214285714285701,0.191682600382409,8.3943009118540992,104.030226700252,5.1158562367864704,7.8,10.5,35110]
["D 35.13","Elektrizitätsverteilung",33,76.045812815631706,19.9136464738977,45.183553597650501,0.32567396417586397,49.304650152107797,43.124634289057902,55.163043478260903,22.767827195277398,28.3577071776769,-1.4189693801344301,1.3442867811799899,12.5871803387579,1.86739156128117,17.073570375225302,0.61902896196186996,3.0260443142062599,96.957735631077298,4.8666666666666698,2.36188510491916,3.8747127826823098,68.006021306160306,19.9136464738977,50.699854044244802,1.44780289560579,36.534092957848102,38.318101833456303,57.290270704904799,19.886482288184201,26.004838109415701,-1.15987471930032,13.160195865070699,22.038372027019399,3.0286786384347399,15.731001063704101,0.58036127836961604,10.7572950440019,103.030819002214,1.2207792207792201,2.3723392642724601,4.6042084168336697,35130]
["D 35.2","Gasversorgung",31,46.644300655537499,53.312187325260901,19.321148825065301,0,80.238540692235702,84.625884104727604,15.3741158952724,5.8415841584158397,22.595855565206602,-0.40038042790228301,1.23801430268459,4.8335123523093504,0.67388661383036297,17.310950099764501,0.75988700564971801,5.3672316384180796,132.131901840491,5.9790874524714797,2.8630222778921,12.560439560439599,46.644300655537499,45.462105894340397,69.953640355674295,4.7504292705616902E-2,20.154767847419599,95.4165603470273,4.5826197096117998,10.0514485265789,20.285433623747199,92.238779979420102,165.19200021107599,171.15907231999199,0.67300331717274797,164.269943516437,0.15514110259442701,35.029193869061402,154.418954022983,0.14453692716150501,0.455916348523701,9.9488148136630503,35200]
["D 35.3","Wärme- und Kälteversorgung",382,86.871556473829202,12.877981588848,30.243644067796598,0,69.015280135823403,50.357653791130197,49.586776859504099,4.0650406504065,44.692737430167597,-8.7742685025817604,-6.2992125984251999,21.405750798722,10.5442176870748,19.623655913978499,0.204315807501284,0.74738415545590398,93.612964728312704,13.56,5.6549295774647899,12.66,85.279449672846994,14.081885856079399,29.7150117197572,0,66.475602015570104,49.297573435504503,50.561797752808999,4.9521665728756297,33.423180592991898,-4.7993589743589702,9.4453074433656994,35.135135135135101,6.1538461538461497,18.410596026490101,0.295757575757576,5.2830188679245298,89.444733947078902,5.6639999999999997,7.08810572687225,15.049382716049401,35300]
["E","Wasserversorgung; Abwasser- und Abfallentsorgung undbeseitigung von Umweltverschmutzungen",478,58.462830743385098,40.967498110355301,23.766976411722698,0,73.706049221804804,35.050176925751003,64.820450395617797,23.699198764359501,34.7679730704496,-1.19436931944137,3.1574093264248702,11.0314396028682,1.1441647597254001,15.9754224270353,1.3861892583120199,5.7544757033248102,108.31809872029299,4.5440649076157396,2.4755555555555602,4.1734693877550999,57.334487234963198,42.665512765036802,41.066838046272501,0,56.614785992217897,21.939113170085999,76.742477128265406,19.906916935592101,33.905088622069798,-1.0531329002871901,14.3189189189189,22.346273830156001,0.89820359281437101,16.409376786735301,1.2206572769953099,18.709677419354801,120.216855676356,1.7576530612244901,3.19927870807309,4.8664383561643803,35999]
["E 37","Abwasserentsorgung",76,59.290187891440503,40.389222442400403,23.5611510791367,0.29788501638367598,75.926449889151897,14.4965277777778,85.440511046047405,32.152998721417703,39.697322467985998,-1.4612495134293499,5.3975069252077601,16.5308300395257,0.759493670886076,18.378650553877101,1.23986486486486,8.3164300202839794,111.95652173913,3.5477487402329801,2.3139204545454501,3.0087660148347899,42.253521126760603,56.4727951351028,44.798978940650898,0,53.797064454371402,10.8141321044547,89.1858678955453,27.711149825783998,42.427035330261099,-1.2235169491525399,18.739763981528998,23.563748079877101,0.18433179723502299,19.016897081413202,1.47547547547548,30.120481927710799,156.34057971014499,1.3216000000000001,3.1282660332541599,3.6086557443009601,37000]
["E 38","Sammlung, Behandlung und Beseitigung von Abfällen; Rückgewinnung",362,57.9658258746949,41.558441558441601,23.766976411722698,8.5836909871244593E-2,72.767123760995204,39.561403508771903,60.269774175376902,22.290388548057301,32.207967589466598,-1.02494791666667,2.2352551358515602,9.9611084103062701,1.1441647597254001,15.476190476190499,1.4058192955589599,5.3811659192825099,105.30973451327399,4.6017316017315997,2.4742268041237101,4.3796108045309303,63.084603258013701,36.915396741986299,36.016949152542402,0.38560411311053999,58.978401965457799,34.575619139216201,65.424380860783799,19.249007576365301,32.879581151832497,-0.89540049140049105,13.2077026121902,21.770753241047199,0.89820359281437101,16.548797736916502,1.13212435233161,15.722407371103699,109.638016621117,2.0282485875706202,3.1609254878769999,5.1431074766355103,38000]
["E 38.1","Sammlung von Abfällen",103,56.541450777202101,43.353925866879202,29.964806435394699,0.98814229249011898,68.187744458930894,34.1614906832298,65.8385093167702,25.6737588652482,34.981684981685,-0.8767581758727,2.5950512975256501,9.92042440318302,0.62145576011807702,16.543690498077201,1.71237966559703,5.9602649006622501,109.638016621117,3.2215288611544501,2.4483870967741899,3.8950276243093902,57.334487234963198,41.558441558441601,38.705811863391297,0.85826954302946001,50.733752620545097,24.4701348747592,75.389625494301001,26.152799047132898,30.5499465494714,-0.8767581758727,11.231542461005199,19.329290617849001,0.44444444444444398,13.3911368015414,1.6457109283196201,22.252460973462998,116.494845360825,1.3107074718081599,2.5010570824524301,3.5710609959134301,38100]
["E 38.11","Sammlung nicht gefährlicher Abfälle",90,56.541450777202101,42.665512765036802,30.039787798408501,0.76380728554641597,67.104370850197796,32.832331329325299,67.049105094079806,26.152799047132898,36.742606878817099,-0.90964539007092204,2.3299288946347798,9.8540145985401502,0.62145576011807702,15.8436837322024,1.7077244258872699,5.2296019915056098,107.281839622642,3.2215288611544501,2.4656862745098,3.7579794214178701,57.334487234963198,42.665512765036802,48.5157699443414,0.76380728554641597,50.733752620545097,24.4701348747592,75.529865125240804,28.002882088666599,33.891602698301902,-0.83842754128867203,10.256461673983599,20.490271518082899,0.78271226816402895,17.469178878809,1.7077244258872699,20.227996538295098,128.22275090316299,1.3107074718081599,2.65458230884754,3.5710609959134301,38110]
["E 38.2","Abfallbehandlung und -beseitigung ",127,65.889830508474603,34.110169491525397,24.449244060475198,0,74.790198053037898,34.990219767575702,65.009780232424305,23.053475910619301,35.991458047006802,-1.21224968252418,2.8097062579821199,11.442611442611399,0.79488964005157003,16.314657898065001,1.07469894631209,5.3941908713693003,102.97121634169,5.1862653035913597,2.57668580470646,4.3015873015872996,71.828752642706107,28.136882129277598,41.066838046272501,0,53.3333333333333,17.917416083087002,81.446874554582493,18.994881584842599,36,-1.6,14.3532265049194,26.258593931277701,0.79488964005157003,18.031757423521999,0.78165199729180801,14.7714135337168,110.446596221639,1.57075471698113,3.5433151432469301,5.2224199288256203,38200]
["E 38.21","Behandlung und Beseitigung nicht gefährlicher Abfälle",76,71.750663129973503,28.1712473572939,25.1594387755102,0.39833619343225501,71.735528632080403,28.297567954220298,69.885212694125599,19.872055315265101,37.531909034066501,-1.4797015302896199,3.53549573973664,14.150333835882,0.71337887673054801,16.853327589920301,1.0121646912039901,5.5454672440285,101.413982717989,4.5348258706467703,2.76293622141998,5.0312239800166498,74.223619198231404,25.7763808017686,35.814601591434098,0.39833619343225501,58.978401965457799,21.939113170085999,78.060886829913997,17.725651411643799,36.462271924021998,-0.77909558283843205,18.7131298084654,26.331745344304899,0.79488964005157003,21.2121212121212,0.71488349557327202,15.125957977338601,91.812253058504297,2.0624731511551802,4.7935054121565397,5.2670176895593999,38210]
["E 38.21-9","Sonstige Behandlung und Beseitigung nicht gefährlicher Abfälle ",48,67.312295973884702,31.554261685266098,28.264471367919601,0.59263880224578902,65.951948596172699,26.984126984126998,68.028329328443107,19.875879189077398,39.213787761425301,-1.2987012987013,3.53549573973664,13.6447611506994,1.1173184357541901,18.0893682588598,1.0426004441752501,5.5454672440285,110.148514851485,4.09054593874834,2.76293622141998,5.0233795782413404,36.6666666666667,37.725060827250601,46.6666666666667,0,33.891213389121297,14.2516223628338,62.807569070793797,19.443498012492899,34.852790036878098,-0.77736036408771203,15.6621010789324,24.088586030664398,2.8169014084507,25.985275010827198,1.18333333333333,17.4400898527614,127.272727272727,1.1149260848831699,4.3149768281363903,5.03219211166261,38219]
["E 38.3","Rückgewinnung",115,56.196581196581199,43.518518518518498,22.6666666666667,0,75.2604166666667,50.938777301336501,49.061222698663499,17.548746518105901,28.076923076923102,-1.02494791666667,2.0768108523163602,8.8054607508532392,4.1025641025641004,12.716900404088401,1.4478060508916,4.8487969980133903,107.49697702539299,6.1973063973064004,2.45333333333333,5.4730933276681997,57.9658258746949,36.915396741986299,33.685923515052899,0,63.435003631082097,38.763852356517603,52.665245202558602,16.9590643274854,26.545842217484001,-0.95127908099237402,11.1648232748257,19.421394931599,1.7665797856936001,12.716900404088401,1.0569250317662,14.1041931385006,95.460509052742097,2.9921752738654099,3.3605442176870799,5.7683772538141502,38300]
["E 38.32","Rückgewinnung sortierter Werkstoffe",100,55.876267328781303,43.518518518518498,22.6666666666667,5.6619798056053598E-2,73.404255319148902,49.079048349961603,50.745501285346997,18.271203141095501,28.076923076923102,-0.91878724150017499,2.0252691715465101,8.7542087542087508,3.4578146611341598,12.716900404088401,1.45201238390093,4.5365197599834497,107.87451984635101,5.7155247181266304,2.4344511089701801,5.3607111051366898,61.923176076308302,30.8097312999274,33.685923515052899,0,63.435003631082097,38.763852356517603,52.665245202558602,17.210295338631202,26.545842217484001,-0.95127908099237402,11.1648232748257,19.421394931599,2.4765568646309202,10.868900493096399,1.0569250317662,14.1138196923311,95.460509052742097,2.9921752738654099,3.3605442176870799,5.7603878116343497,38320]
["E 38.32-9","Rückgewinnung sonstiger sortierter Werkstoffe",70,56.196581196581199,42.950147501647301,21.152285637003001,0,75.024422012373805,47.334754797441398,52.053860576103602,18.6542415807819,31.323268206039099,-0.917296222664016,2.6967007104795702,10.526315789473699,2.87187039764359,14.751491053677899,1.40703052728955,5.1859433640395798,105.409401847203,4.4400000000000004,2.375,5.1795774647887303,79.102316602316606,19.772556592640299,29.133043658183301,0,68.200172470870001,38.763852356517603,56.784032294236397,16.9590643274854,27.808140691284901,-1.4439349112426001,11.7927475057559,19.9086318826641,2.0183897734918101,9.5414201183432006,1.0569250317662,14.2530487804878,95.359721850762199,3.5,3.7572815533980601,5.7683772538141502,38329]
["F","Bau",10506,22.4802986312733,77.046979865771803,23.3601841196778,0,73.430962343096198,45.643094639526403,54.3459915611814,35.202492211837999,15.183246073298401,-0.82691421423398503,1.8508771929824599,4.6832782948063603,7.4778200253485396,15.202356557377,2.0240240240240199,5.5762081784386597,162.82051282051299,6.96428571428571,1.49336870026525,2.8341158059467899,19.225318847425601,80.254777070063696,43.785289099918899,0,53.121233398498397,40.574245939675201,59.425754060324799,30.610687022900802,14.9029982363316,-0.745882352941176,10.6698837209302,14.204545454545499,5.0129008477700001,16.7137718396711,1.83258928571429,22.337278106508901,250,1.2231082118916501,1.87431693989071,3.2408056042031501,40999]
["F 41","Hochbau",1644,16.380437625315999,83.232016210739602,19.658119658119698,0,77.588917690052298,52.034693756312002,47.945004403562002,31.889495388609902,12.3140789823682,-0.56423410577298405,1.8219281372624501,4.0951219512195101,8.03571428571429,15.0534895568008,2.0365853658536599,4.7801963294921004,167.56756756756801,8.6428571428571406,1.4362081254454699,3.1004184100418399,14.658523042754,84.959988568162302,33.492822966507198,0,64.739885555678498,45.218718209562603,54.781281790437397,26.281208935611001,13.2049518569464,-0.57992424242424201,10.088175494917101,12.937883712531599,3.5638761029439401,17.806404027069799,1.69886363636364,21.138211382113798,224.24242424242399,1.68207282913165,1.875,3.6276503459718201,41000]
["F 41.2","Bau von Gebäuden",1610,16.230717639168301,83.463035019455205,19.7556866048863,0,77.458722182340296,52.1191208461481,47.834597504281902,31.850831447407302,12.267155679953699,-0.56363112391930803,1.8125316455696201,4.0946314831665198,7.9756539920512397,15.0229081263564,2.03899192145367,4.7801963294921004,170,8.6169573119811407,1.4327919410411101,3.1011673151751,14.0800737150856,85.341476957246002,33.492822966507198,0,64.739885555678498,45.421624418003098,54.578375581996902,26.281208935611001,13.189448441247,-0.57992424242424201,10.109504343382699,12.8279883381924,3.4308352027573399,17.806404027069799,1.69886363636364,21.488528259653101,225.97402597402601,1.63814500326584,1.8705035971223001,3.6276503459718201,41200]
["F 41.20-1","Wohnungs- und Siedlungsbau",544,16.533333333333299,83.101391650099401,19.083327870216699,0,78.200389758752806,54.342154304882598,45.5045871559633,29.4600967133068,11.9047619047619,-0.57790373536517403,2.1198380889828399,4.2452830188679203,9.3871832358674503,14.3642611683849,1.8607034303082901,4.6428571428571397,176.71957671957699,9.5106382978723403,1.4615384615384599,3.3584121059677901,16.3551401869159,82.892284755870307,28.448275862069,0,67.843137254902004,46.268656716417901,53.565950920245399,21.851235741444899,12.989493791786099,-0.74770569620253202,10.8355862068966,14.204545454545499,4.7329670062163496,16.551806083650199,1.6132246376811601,17.132867132867101,208.65384615384599,2.0750000000000002,2.1829268292682902,4.23473684210526,41201]
["F 41.20-2","Adaptierungsarbeiten im Hochbau",169,14.6505376344086,85.215053763440906,23.371647509578501,0,73.989810166384203,40.531914893617,59.027689166773001,39.496547115170401,14.473405382496299,-0.68447220891716298,2.5238976256552599,4.8353909465020601,5.6749785038693004,17.020658285425501,2.0906567992599401,7.2815533980582501,217.02127659574501,5.5625,1.4398608349900599,2.4947735191637599,12.6005361930295,83.612610053961902,37.845968712394701,0,58.447488584474897,37.752525252525302,61.649273823131303,34.370314842578701,12.7527216174184,-0.57992424242424201,9.8199826143546893,13.3834073062479,2.56750774679062,20.594739299242999,1.65,23.300970873786401,323.73983739837399,1.3841414935906999,1.64420218037661,2.86148648648649,41202]
["F 41.20-9","Sonstiger Hochbau",746,17.525773195876301,82.118994591154902,20.9103199639477,0,76.271186440677994,51.134244803636598,48.828372387587102,32.559047433144599,12.6813784764208,-0.53759647188533599,1.46285415699025,3.9116262223831901,6.7484885850806302,15.0229081263564,2.1391650099403599,4.6012269938650299,156.36543070632999,8.0564473721011307,1.4285756753007399,3.0383201607849002,15.719615489705999,83.698296836983005,35.587957337653599,0,60.465116279069797,45.702306079664602,54.297693920335398,28.0328992460589,13.4509371554576,-0.57143223058190795,10.037756332931201,12.5321105522378,3.1456113647894499,16.761184625078801,1.8857142857142899,21.875,244.791666666667,1.27663551401869,1.8705035971223001,3.53074141048825,41209]
["F 42","Tiefbau",256,20.124481327800801,79.220779220779207,25.800582241630298,0.51427102082797604,71.664829106946002,40.956072351421199,58.552510996333503,34.123222748815202,21.724226999376999,-0.70671232876712298,2.2948677898025198,6.4148824850235604,5.0497437443472997,18.539325842696599,1.91135343162954,6.1866704723847601,151.93573874111101,5.8676558589158399,1.6833855799373001,2.90673575129534,21.559322033898301,77.787532923617206,43.859649122806999,0,52.079877782627698,27.068832173240502,69.783197831978299,30.515973339462199,22.843822843822799,-0.76895810955961297,13.234695777311201,19.891745602165098,2.8484046063383599,26.151761517615199,1.47237238836214,21.739130434782599,160.220125786164,1.0465116279069799,2.06276150627615,3.2717712397363798,42000]
["F 42.1","Bau von Straßen und Bahnverkehrsstrecken",88,21.559322033898301,77.485533929510794,31.7864553857763,0.980140606558218,64.904567183370204,45.353084415584398,52.555640078026897,34.123222748815202,17.155266015200901,-0.608716014890061,3.49800925092336,6.5896739130434803,3.3659066232356101,19.2780117120193,1.7862154188683399,5.9775840597758396,160.220125786164,6.1302325581395296,1.47359307359307,2.8926406926406898,32.143974960876399,62.478777589134097,53.617478510028697,1.5161957270847699,34.474123539232103,23.7785016286645,76.051779935275107,34.792452830188701,28.6666666666667,-1.15803762166683,18.0042798353909,24.308849557522102,1.8615119819939101,30.184581976112899,0.87034383954154704,21.529324424647399,158.56099480413801,0.72338090010976996,1.8568257491675899,2.7752451630002701,42100]
["F 42.11","Bau von Straßen",59,26.956359140855099,73.043640859144801,29.6008987266509,1.8266475644699101,67.830508474576305,47.444359921973103,52.555640078026897,32.623984964510399,21.142992554701699,-0.66447060603680597,2.2351852963673799,6.5896739130434803,3.6267325805573498,16.7146974063401,1.88198581560284,5.9233920772927702,160.220125786164,6.4255638129390702,1.60122921185828,3.06522946564571,37.521222410865903,62.478777589134097,35.025380710659903,1.9537699504678001,54.483925549915398,27.068832173240502,72.931167826759506,31.1493018259936,22.653721682847902,-0.74539829853054895,15.726463527239201,23.0997722771992,2.9656963236299001,18.567961165048501,1.42396313364055,24.033898305084701,173.360655737705,0.75233644859813098,2.0355227882037501,3.2103448275862099,42110]
["F 42.2","Leitungstiefbau und Kläranlagenbau",84,12.8089721689414,84.271186440677994,28.172043010752699,0.73402417962003497,69.006908462867003,37.6453128864704,60.260851844304099,34.289777997650098,21.875,-0.65037667925579101,2.9164288626172001,5.8396946564885504,5.7395681117064496,19.6821515892421,2.0078541374474099,8.0675422138836801,173.32826747720401,4.7669902912621396,1.66854283927455,2.90673575129534,11.3385146804836,84.271186440677994,33.434650455926999,0,55.713319810682897,24.427934621099599,67.340067340067307,30,25.081859855926702,-0.669373549883991,11.037859574678,17.490925589836699,2.1445221445221399,26.488706365503099,1.5029360967184799,19.230769230769202,251.39549145660601,1.0384615384615401,2.0495198644323098,3.2769723215966899,42200]
["F 42.21","Rohrleitungstiefbau, Brunnenbau und Kläranlagenbau",64,15.8924205378973,81.255714721121606,28.172043010752699,0.65445026178010501,68.413597733711001,36.6666666666667,63.174536256323798,34.106374870706098,22.1658449482549,-0.77657546000571998,2.9164288626172001,5.8396946564885504,6.1149612719119402,18.261179404952799,1.9803625377643499,8.1580519739177895,173.32826747720401,5.0579710144927503,1.7184977184977199,2.93200319233839,15.728813559322001,81.255714721121606,35.936647587049002,0,51.063829787233999,24.097938144329898,75.572065378900405,29.895561357702299,25.252525252525299,-0.77657546000571998,13.7468152866242,18.668407310705,3.2854209445585201,26.488706365503099,1.6147540983606601,21.739130434782599,251.39549145660601,0.80392156862745101,2.1399935543098199,3.3333333333333299,42210]
["F 42.9","Sonstiger Tiefbau",80,29.1193540247287,64.405286343612303,16.461916461916498,0,75.925925925925895,38.570364854802698,60.101294316263399,33.303126415949301,24.029262802476101,-0.89771309771309804,1.7319658813972401,6.7741715516902898,7.2429906542056104,14.9352267065272,1.97204968944099,4.8111743404035199,110.005885815185,5.8961589100692704,1.7872340425531901,2.9473857283788201,16.707616707616701,77.524429967426698,24.952919020715601,0,66.713747645951003,33.866995073891601,61.707724199214603,25.880758807588101,16.1578555472822,-0.95512265512265504,8.4335064935064903,16.338028169014098,1.12676056338028,13.237410071942399,1.5291902071563099,14.3580012650221,100,1.7702114267904101,2.1717546523878202,3.3157894736842102,42900]
["F 42.99","Sonstiger Tiefbau a.n.g.",55,23.822209758833399,75.546831183398794,24.952919020715601,0,73.916230767369399,41.649001450407198,58.350998549592802,32.890365448505001,22.670652715495802,-0.596245129295076,2.2948677898025198,7.37088607594937,8.5340711805555607,14.0012776831346,2.11280487804878,6.0013486176668902,131.49025803054201,5.0562500000000004,1.8359746434231401,3.0027210884353699,37.193973634651599,60.365853658536601,24.952919020715601,0,66.713747645951003,33.866995073891601,61.707724199214603,30.158730158730201,16.1578555472822,-0.548976377952756,8.4335064935064903,16.338028169014098,1.12676056338028,10.7758620689655,1.5291902071563099,14.3580012650221,100,1.4241598453637101,2.07210884353742,3.0027210884353699,42990]
["F 43","Vorbereitende Baustellenarbeiten, Bauinstallation und sonstiges Ausbaugewerbe",8606,24.067796610169498,75.392670157068096,23.920482320352001,0,72.383720930232599,44.644387317909199,55.354659248956899,35.8210932960951,15.5927376290495,-0.87994428969359295,1.8508771929824599,4.7677704514165598,7.4778200253485396,15.1476251604621,2.0262914275134198,5.7268650989064804,162.335216572505,6.75,1.5007506302321201,2.7874616259449501,19.709355131698501,79.853892055304499,45.454545454545503,0,51.4522821576764,40.362811791383201,59.634146341463399,31.065623118603298,14.903474903474899,-0.76171693735498802,10.662449392712601,14.264834843613,5.3050397877984103,16.409952606635098,1.8557123350022799,22.6337186897881,258.33333333333297,1.1422196249269501,1.8684897538657701,3.1977077363896802,43000]
["F 43.1","Abbrucharbeiten und vorbereitende Baustellenarbeiten ",462,56.372549019607803,43.439716312056703,15.068493150684899,0,82.998819362455706,19.258940112020699,80.689655172413794,33.629794330183401,42.843601895734601,-1.3791434793128501,1.0864615384615399,9.2033796016898002,1.3996889580093299,13.636363636363599,1.6571428571428599,4.5623836126629396,100,5.22272727272727,2.2988283702465901,2.94955489614243,46.503884572696997,52.867203219315897,31.9702602230483,0,67.096996140412898,17.559403946838501,82.167487684729096,28.763440860215098,35.481508604906601,-1.1083333333333301,12.732388539911099,21.428571428571399,0.79365079365079405,15.3808110781405,1.52054794520548,20.691864189621999,119.221277762545,1.85238095238095,2.6773267732677302,3.4715492957746501,43100]
["F 43.11","Abbrucharbeiten",148,55.372945638432398,43.439716312056703,15.799256505576199,0,82.881597717546398,20.472582972583002,79.310344827586206,33.272058823529399,42.081529581529601,-1.55151006711409,0.349257585539057,8.4345961401000693,1.2492192379762601,15.6040268456376,1.69465648854962,2.8752925442995698,100.248632521134,5.8374972213899801,2.27655357351055,2.9735537190082599,44.0771349862259,46.224961479198797,32.319026265214603,0,60.949333072751301,18.859649122806999,77.360774818401893,29.470104845565299,34.4298245614035,-1.24732407196538,9.4687085335924994,19.798657718120801,0.27510316368638199,17.114093959731498,1.58510638297872,18.367346938775501,129.495472186287,1.7030567685589499,2.6,3.2560658578856199,43110]
["F 43.12","Vorbereitende Baustellenarbeiten",239,59.890109890109898,40.109890109890102,15.0895140664962,0,82.861400894187796,18.3889772125066,81.611022787493397,34.613546798029603,44.459016393442603,-1.3888888888888899,0.97331670822942595,9.5990182048646293,1.3078470824949699,12.264150943396199,1.58551617873652,4.5623836126629396,98.043052837573399,4.8181818181818201,2.25277777777778,2.8865150063290401,49.572649572649603,46.109510086455302,30.547550432276701,0,69.333996023856898,17.156398104265399,82.598331346841505,28.763440860215098,36.484018264840202,-1.28093922651934,13.382345971564,21.428571428571399,1.05602291032755,12.301587301587301,1.4493712772998,21.259842519685002,113.218390804598,2.0225225225225198,2.53571428571429,3.4715492957746501,43120]
["F 43.2","Bauinstallation",3333,17.1830985915493,82.403184343643801,24.6861924686192,0,71.052952808769305,50.296405068798599,49.696528283564,33.367616770871599,13.2398753894081,-0.76418772563176895,2.1673973880597002,4.4530493707647603,10.585106382978701,16.108339272986498,2.08205128205128,6.4303254437869803,211.89241512019501,6.8271927710098801,1.46715741789354,2.9921942758022499,14.673387074217199,84.632516703786195,44.765702891326001,0,51.0416666666667,45.4075032341526,54.390243902439003,29.243937232524999,12.835472578763101,-0.657466481738326,10.715468675761899,13.5048231511254,7.1196036801132303,17.521367521367502,1.95131845841785,22.979797979798001,353.06122448979602,1.07968901846453,1.81544715447154,3.3911332053674901,43200]
["F 43.21","Elektroinstallation",1243,16.2209302325581,83.6704778657285,21.969696969697001,0,72.680412371133997,45.2223521358423,54.7776478641577,37.408755760368699,13.9337298215803,-0.79559748427673005,2.4892345679012302,4.6989720998531599,11.765652663769499,17.772215269086399,2.0355113636363602,6.3604240282685502,211.111111111111,7.10528690691548,1.4468362687540799,2.6715230399447099,14.2504626773597,85.714285714285694,43.417023882424999,0,53.285362610908301,40.443834933300103,59.556165066699897,32.9571106094808,13.705275924802899,-0.69399999999999995,11.3564668769716,14.1891891891892,8.68085106382979,19.7696737044146,1.8397435897435901,23.008190618019398,356.66666666666703,1.18957345971564,1.8060606060606099,3.0196078431372499,43210]
["F 43.22","Gas-, Wasser-, Heizungs- und Lüftungs- und Klimaanlageninstallation",1696,17.943391326928101,81.5699658703072,25.984251968503902,0.447427293064877,69.230769230769198,54.199475065616802,45.769230769230802,30.524344569288399,12.559923298178299,-0.75125359230997901,1.9859560067681901,4.1918528252299598,10.2932002495321,15.2198046181172,2.1127557683935598,6.3872255489022001,216.666666666667,6.9074074074074101,1.47803425167535,3.2728459530026099,16.513015254619301,82.866043613707205,46.825396825396801,0.73920942178788496,49.879032258064498,51.267562614538797,48.652849740932602,25.576796308503599,11.9834710743802,-0.62331606217616597,9.9006518904824006,12.522184973378,6.5976714100905598,16.4063717696936,2.0438371367135999,22.426470588235301,332.44147157190599,1.07968901846453,1.8180869808596301,3.8799414348462702,43220]
["F 43.29","Sonstige Bauinstallation",375,18.596408317580298,81.090056651689807,26.9318701417467,0,71.537000038379503,44.400682843453403,55.599317156546597,37.465571656596502,14.864167556954399,-0.71555944055944098,2.45174789985936,4.7705708661417301,8.4772210990643408,15.979708306911901,2.1257798852009002,6.9279681372334903,202.34267711446799,6.3076923076923102,1.48661805814047,2.6265822784810098,11.445783132530099,87.016129032258107,47.481289579735197,0,48.947368421052602,36.543223081960001,62.935701009011403,32.902033271718999,14.864167556954399,-0.71942446043165498,12.217993079584801,15.8037225042301,6.7973702747123701,16.7137718396711,1.6798825256975001,24.670275675772402,428.25150826664202,0.71910346281698001,1.84175904855212,2.9919126566922798,43290]
["F 43.3","Sonstiger Ausbau",2865,28.235294117647101,71.1111111111111,22.3801065719361,0,74.133333333333297,40.282001658833302,59.682151589242103,39.379698302954097,17.438692098092599,-0.97786372007366495,1.31705744431419,4.2695130086724502,6.2962962962963003,14.843278177529101,2.0942440774683,4.8275985663082404,145.54794520547901,7.7697594501718203,1.4819277108433699,2.5368248772504098,20.614035087719301,78.362573099415201,44.958968347010597,0,51.724137931034498,36.756316218418903,63.157894736842103,34.391877256317699,16.121495327102799,-0.79146100691016796,10.356469298245599,13.7271019677996,3.8234323281790101,16.4140765476496,1.91525423728814,22.413793103448299,231.325301204819,1.2790697674418601,1.8454106280193201,2.8902091254752902,43300]
["F 43.31","Anbringen von Stuckaturen, Gipserei und Verputzerei",222,16.929547844374301,82.258064516128997,21.532907954543798,0,76.960784313725497,43.495400788436299,56.419241796750597,38.235294117647101,13.6591478696742,-0.64562410329985698,1.96001377617252,4.9529445073612699,3.9870190078813201,16.3841807909605,2.7297297297297298,7.4074074074074101,192,6.4861111111111098,1.4316078056894701,2.5895265057492902,15.384615384615399,84.313725490196106,45.086505190311399,0,52.871972318339097,40.637860082304499,59.154929577464799,33.358837031369497,11.6878400307038,-0.63812636165577297,10.1050925925926,13.314264919941801,1.4344262295082,20.525187566988201,2.5025641025640999,32.065217391304401,281.81818181818198,1.1050228310502299,1.7424317445117501,2.94509803921569,43310]
["F 43.32","Bautischlerei und -schlosserei",723,34.656892689879903,65.206975248710705,20.587182241317599,0,76.571428571428598,43.015521064301602,56.984478935698398,36.927223719676498,16.972972972973,-1.0740641711229899,0.85432408096151602,4.1791044776119399,7.3170731707317103,14.528101802757201,1.88582677165354,3.7218413320274202,128.31858407079599,9.0155009246165605,1.4950993964228401,2.7080291970802901,26.106870229007601,73.076923076923094,46.877440258584897,0,51.724137931034498,39.402985074626898,60.162802889096,32.769556025370001,15.798676777258899,-0.84188790560472004,9.4709386281588408,13.8775510204082,4.21875,14.251968503937,1.9644218551461201,20.413223140495901,204.62226640159,1.25882352941176,1.8583333333333301,3.0239214484570698,43320]
["F 43.32-1","Bautischlerei",407,38.947368421052602,61.052631578947398,16.588785046729001,0,80.020080321285107,44.5205479452055,55.4794520547945,35.852377864245597,17.638036809816001,-1.10403071017274,0.19069382648788799,3.52112676056338,8.0679405520169905,13.9028475711893,1.87851077726976,2.3989693757361601,117.699115044248,11.3354587318456,1.4936479128856599,2.7892152754455601,26.799007444168701,72.070626003210293,32.4568965517241,0,62.72,43.6498150431566,56.2883435582822,30.769230769230798,16.064981949458499,-0.86910877819968702,9.1613756362079606,12.8497356127111,3.8359201773835898,16.0883280757098,2.1154526775506999,20.917135961383799,187.547169811321,1.8079768414281101,1.8820754716981101,3.18490566037736,43321]
["F 43.32-2","Bauschlosserei",293,30.3571428571429,68.846796657381603,25.7842331258468,0,70.172684458398706,40.990990990991001,58.978873239436602,38.867924528301899,16.201117318435799,-1.0667055620381201,1.8922604841459301,5.14660012476606,6.8544600938967104,15.254237288135601,1.8806451612903201,5.2698735928601597,144.44832402234599,6.7905138339920903,1.4975304699393199,2.5630573248407602,22.224589814617499,76.676228038723593,53.5665606542481,0,41.141141141141098,37.484276729559703,62.3741994510521,34.367346938775498,15.502793296089401,-0.86573498964803297,10.4703274307223,14.955582356833499,4.9193047796399796,12.882932166302,1.98701298701299,19.7505197505198,215.817694369973,0.86448598130841103,1.8107142857142899,2.8878676470588198,43322]
["F 43.33","Fußboden-, Fliesen- und Plattenlegerei, Tapeziererei",711,25.403817914831102,73.538461538461505,21.475953565505801,0,75.925425560659306,45.221112696148403,54.778887303851597,35.747217068645597,16.9590643274854,-0.97585099550417498,1.1580555555555601,3.7559001263759901,7.1188717259905996,14,2.29126213592233,4.6524443044949999,149.86449864498601,7.8353922214046898,1.5181347150259099,2.7974205602626201,19.9765670767428,79.729729729729698,39.760499826449099,0,55.967450271247699,42.606516290726802,57.125154894671603,31.442241968557799,15.761821366024501,-0.80273224043715896,8.6655080213903695,11.8716577540107,5,16.142557651991599,2.1632756866734502,20.9961805555556,231.325301204819,1.6551724137931001,1.8434338473627301,3.1693109898523901,43330]
["F 43.33-1","Fußbodenlegerei",189,20.8333333333333,77.627118644067806,24.5128205128205,0,72.209391839876801,47.887323943661997,51.982758620689701,31.641468682505401,16.282642089093699,-0.6886146640245,2.03087586641462,4.27587301587302,5.2562417871222102,15.928777670837301,2.35330261136713,6.7169811320754702,200,6.2435233160621797,1.56613756613757,3.15305067218201,16.6666666666667,83.3333333333333,42.948717948717899,0,48.475095785440601,41.559237591424598,58.440762408575402,32.185815014516798,17.228446787810299,-0.57273225719516396,9.1263715110683403,13.5402490555245,4,17.948717948717899,2.2838427947598299,24.502712477395999,300.71737953437997,1.2815533980582501,1.87644787644788,3.1069587628865998,43331]
["F 43.33-2","Fliesenlegerei",240,24.092409240924098,74.822695035460995,16.331994645247701,0,80.482815057283105,41.997439180537803,57.948139797068798,39.136690647481998,15.9420289855072,-1.05498783454988,1.11779879621668,4.0412725709372301,7.2580645161290303,14.9643705463183,2.1402714932126701,4.6125461254612503,154.83870967741899,8.8365243004418303,1.4712643678160899,2.55138091434734,29.881818359108401,69.7267759562842,35.514018691588802,0,60.059171597633103,39.143501126972197,60.303951367781202,33.826984126984101,14.509803921568601,-1.00029468053068,8.4342709104367106,12.077294685990299,4.1176470588235299,16.425120772946901,1.9889795209996499,19.1150997923563,169.51501154734399,1.71428571428571,1.73563218390805,2.9299075952220002,43332]
["F 43.33-3","Tapeziererei",146,30.952380952380999,67.719298245613999,19.3359375,0,72.727272727272705,44.971842316975099,54.707379134859998,34.652114597544298,18.053472975155099,-1.3065891472868201,0.67432428248552601,3.74753451676529,6.8289786223277904,13.0275229357798,2.2066115702479299,2.8017241379310298,111.267605633803,8.2686567164179099,1.52551020408163,2.7974205602626201,19.9882766705744,79.607843137254903,44.958968347010597,0.68292682926829296,43.024618991793702,43.440594059405903,56.209987195902698,27.6059929869302,15.9959758551308,-0.95884016973125896,9.5747759282970595,12.759667673716001,5.3012048192771104,15.014164305949,1.67676767676768,19.6078431372549,263.08724832214801,1.10896431878723,1.9285714285714299,3.5541319996060499,43333]
["F 43.33-4","Ofensetzerei",85,30.446927374301701,65.389369592088997,19.117647058823501,0,76.470588235294102,48.823529411764703,50.763807285546399,32.352941176470601,18.082191780821901,-0.89479512735326705,0.13524927907763101,3.2608695652173898,9.3242535358826597,9.5182138660399502,2.3877551020408201,2.8616858237547902,109.328782707622,11.539473684210501,1.5090111274235201,2.9647359617032301,18.965517241379299,66.8333333333333,26.045400238948599,0,60.481099656357401,47.572815533980602,52.043596730245199,29.898862199747199,16.180620884289699,-0.84780763790664804,5.8571106094808103,9.5607235142118903,6.6818960593946297,12.313060817547401,2.74922118380062,15.9687285223368,174.87437185929599,2.1409728682664499,1.6858407079646001,3.2876106194690302,43334]
["F 43.34","Malerei und Glaserei",869,31.25,67.934782608695699,23.8329238329238,0,71.017274472168907,28.135146103896101,71.844660194174807,48.414795244385701,19.088712461166701,-1.07925925925926,1.3158777900902301,4.6928327645051198,5.5931161647203398,15.626710454296701,1.96119402985075,5.0710594315245503,145.45454545454501,7.7209302325581399,1.44148936170213,2.0595975611749502,22.943980929678201,75.534234627125997,49.7550734779566,0,43.210640272192997,27.099938687921501,72.543617998163498,39.674272300469497,17.084745762711901,-0.86829477292202195,11.110372040586199,15,3.5521235521235499,18.5126582278481,1.63934426229508,20.606060606060598,232.142857142857,1.0276010023616799,1.7655172413793101,2.5180750235056402,43340]
["F 43.34-1","Malerei und Anstreicherei",663,29.411764705882401,69.689440993788807,22.424242424242401,0,72.008547008546998,25.042686397268099,74.957313602731901,51.732191514207898,19.251416333626999,-1.06347188264059,1.5030478589420699,4.7684078752702899,5.1428571428571397,15.815899581589999,1.9804878048780501,5.6626506024096397,154.854712969525,7.2876712328767104,1.4218009478672999,1.9330323551542501,20.751359367276301,78.3333333333333,49.7550734779566,0,44.437852269356299,24.0588598318291,75.725058004640402,41.366325981710602,16.992665036674801,-0.86557377049180295,11.286124876115,15.1515151515152,3.1984334203655398,18.090452261306499,1.65130023640662,22.6407407407407,242.26666666666699,0.96477063847505296,1.7572815533980599,2.41282051282051,43341]
["F 43.34-2","Glaserei",189,35.106382978723403,64.705882352941202,26.415094339622598,7.5018754688672196E-2,66.813509544787095,40.850059031877201,58.779537574432801,38.822403063666798,18.768631328533001,-1.1855633802816901,0.49384344766930499,4.54329586829191,6.5981148243358998,13.6729222520107,1.87626404331879,3.17598433761149,130.47001620745499,8.4499999999999993,1.49940408299266,2.5716528552805902,32.088414634146297,67.911585365853696,57.482993197278901,0.60606060606060597,42.416225749559104,42.424242424242401,57.575757575757599,28.0868385345997,17.237308146399101,-1.0486855941114599,9.74588607594937,14.966773162939299,4.1248606465997799,16.958041958041999,1.91875,18.722139673105499,231.147540983607,0.94446308516323096,1.87523277467412,3.5603864734299502,43342]
["F 43.39","Sonstiger Ausbau a.n.g.",278,20.272108843537399,78.145695364238406,25.152439024390201,0,70.6501315295002,44.892731348062803,54.993909866017098,34.231609613983998,16.7982451293935,-0.78651685393258397,1.9971938775510201,4.7855917667238401,5.1020408163265296,15.182829888712201,2.2621261675056599,6.3357972544878596,156.77506775067701,5.8363636363636404,1.55687866865835,2.8786137754001899,11.538461538461499,86.075949367088597,44.219535389213398,0,54.121863799283197,33.644859813084103,66.058214109521501,26.715037593984999,15.6597774244833,-0.62757821552723103,11.970175438596501,15.9485211267606,1.57232704402516,18.968692449355402,1.9477362503798199,29.092920353982301,278.39147286821702,1.2199546485260799,2.1280487804877999,3.1915680473372801,43390]
["F 43.9","Sonstige spezialisierte Bautätigkeiten",1878,29.4478527607362,70.338983050847503,27.7777777777778,0,69.483568075117404,45.374449339206997,54.618473895582298,35.711140466754699,15.6521739130435,-0.93561667531568904,2.0747222222222201,5.3434840704221198,6.9306930693069297,14.2559833506764,1.9102473498233199,5.9027777777777803,150,5.44455287893574,1.5115606936416199,2.7967434444518,24.882629107981199,74.876847290640399,48.9606147447723,0,48.596491228070199,40.540540540540498,59.325562031640303,31.0112359550562,15.6862745098039,-0.80777777777777804,10.662449392712601,15.179382055852599,5.0328227571116004,14.903846153846199,1.74144634525661,22.9299363057325,223.71134020618601,0.859375,1.89230769230769,3.1842976097901499,43900]
["F 43.91","Dachdeckerei und Zimmerei",1294,30.6640625,69.139966273187198,27.749419953596298,0,69.567538707955194,46.663528276186497,53.317516506056599,35.756551141166497,14.7097625329815,-0.99514263685427895,1.8921475875118301,5.1120045950603101,8.2279597718049793,14.2418930762489,1.8507028667090999,5.35315985130112,151.43884892086299,6.3458980044345896,1.47982643611165,2.7937956204379599,24.130434782608699,75.652173913043498,50.226244343891402,0,47.169811320754697,42.896471706479502,56.779077770130797,30.997715156131001,13.555787278415,-0.83447401774398,9.3285935483871008,13.295165394402,6.3372717508055896,14.260249554367199,1.72888888888889,19.976971790443301,227.80082987551901,0.98201438848920897,1.74842767295597,3.1977077363896802,43910]
["F 43.91-1","Dachdeckerei",401,26.029962546816499,73.559011893870107,32.653061224489797,0,62.252351673761098,45.723295230587297,54.1498429789143,36.234626300851502,14.677871148459401,-0.91683991683991695,2.3776721271658499,5.1460440237350804,7.3703366696997303,14.914425427872899,2.0143369175627202,6.5551839464882899,186.56126482213401,4.8878504672897201,1.4677419354838701,2.74592833876221,23.1974921630094,75.9894459102902,50.2651113467656,0,45.994599459946002,42.699115044247797,57.243858597962799,32.606635071089997,13.7550200803213,-0.85241599215109198,9.5170391061452495,13.4716732542819,5.3288925895087402,15.1670951156812,1.8406374501992,23.887375113533199,264.15525114155298,0.64214625703158801,1.7328807102700401,3.0560224089635901,43911]
["F 43.91-2","Zimmerei",473,37.408014455198298,62.307333021952402,23.049001814882001,0,75.789473684210506,49.651324965132503,50.118764845605703,33.900106269925601,14.5382288418225,-1.06807570977918,1.1548491379310299,4.8054919908466802,9.4339622641509404,12.714776632302399,1.78621908127208,3.9800051867219901,119.402985074627,8.5965406334761205,1.4922405431619801,2.9404388714733498,29.009864815491401,68.849206349206398,42.510121457489902,0,53.676470588235297,47.417840375586898,52.553191489361701,28.835297654840598,13.066410932630101,-0.83135391923990498,7.1596098265896,10.9862274382017,6.1902365374937096,12.530612244898,1.90178571428571,16.575591985428101,176.69172932330801,1.7037974683544299,1.70141474311243,3.39837434530794,43912]
["F 43.91-3","Bauspenglerei",370,29.661016949152501,69.505494505494497,30.408115121490901,0,64.285714285714306,42.6095072788453,57.303133643624399,37.829912023460402,15.1202749140893,-1.05835739708549,2.6396353166986599,5.3204353083434102,6.7467652495378898,15.336109856657799,1.7813333333333301,7.3067119796091804,176.54986522911099,5.0650459597328696,1.4741204901730101,2.6319396080339899,20.706260032102701,77.543186180422296,52.015355086372402,0,45.906902086677398,38.2180396652032,61.087866108786599,31.272401433691801,13.670411985018699,-0.82639593908629405,11.863959390862901,15.736040609137101,5.9352517985611497,15.934065934065901,1.5508309455587399,21.3649851632047,246.29629629629599,0.68065937772179996,1.79794520547945,3.1212121212121202,43913]
["F 43.99","Sonstige spezialisierte Bautätigkeiten a.n.g.",450,28.976034858387798,70.868029270754505,29.6482412060302,0,68.043101490869105,35.130434782608702,64.835164835164804,35.734448818897597,21.2886164202428,-0.82874493927125503,3.3944444444444399,7.6219619731067496,3.3936493275676298,14.668769716088301,2.0080645161290298,8.7800571156592095,144.39024390243901,3.5882352941176499,1.730014192332,2.7564753682072101,23.008849557522101,71.859296482412105,46.687211093990797,0,49.090909090909101,28.654970760233901,71.052631578947398,29.1311502489243,20.860927152317899,-0.79707419017763803,14.103171456887999,19.5833333333333,2.6242322724734799,16.025509749654901,1.6995305164319201,28.425047450897601,192.857142857143,0.643356643356643,2.28938906752412,3.3078479601604198,43990]
["F 43.99-1","Isolierer",89,13.012058246756,86.225026288117803,24.577572964669699,0,71.058351446246405,39.261114589856,58.528428093645502,35.664335664335702,16.364843337259799,-0.79003807106599,3.2708756345177701,5.57075127644055,4.4416243654822303,18.6448385629832,2.2027586206896599,9.0889639669960705,183.47107438016499,4.7174959871589097,1.58249158249158,2.7406701185231301,13.7749737118822,85.123966942148797,41.358760429082203,0,52.649930264993003,32.2222222222222,66.6666666666667,31.616438356164402,18.789308176100601,-0.61838724685095603,13.250192316848,17.078456870394501,2.6242322724734799,17.0357751277683,1.75289169295478,25.7623554153523,379.96219281663502,0.55367231638418102,1.8963061860258099,2.9874551971326202,43991]
["F 43.99-9","Sonstige spezialisierte Bautätigkeiten a.n.g. (ohne Isolierer)",308,31.3186813186813,68.253581818845802,31.818181818181799,0,66.361136571952301,31.4946619217082,68.290353390639893,36.278212805158901,23.022151898734201,-0.88456637433475704,4.0540540540540499,8.3969465648855,3.34106728538283,15.019762845849799,1.94137931034483,9.0606001176701305,143.53741496598599,3.0548780487804899,1.8083140877598201,2.7372881355932202,25.123152709359601,71.023965141612194,49.649122807017498,0,48.596491228070199,25.373134328358201,73.840733716243193,27.851711026616002,20.9080717488789,-0.87994428969359295,14.427860696517399,22.6235741444867,2.2641509433962299,18.0493273542601,1.63232830820771,29.508744332153501,182.822745463161,0.67200000000000004,2.40625,3.3671875,43999]
["G","Handel; Instandhaltung und Reparatur von Kraftfahrzeugen",19197,21.394719025050801,78.281868566904194,20.564149226569601,0,76.734480959833107,66.534315254508897,33.463035019455297,17.065217391304301,14.4259077526987,-0.76335877862595403,1.0708205083693301,2.9405153678981701,10.367553865652701,7.7178423236514497,2.4086799276672699,4.9710176991150403,152.750352609309,9.0681818181818201,1.8365881677197,5.7808022922636102,18.932038834951499,80.5555555555556,40.740740740740698,0,55.846585594013099,57.352388115833001,42.647611884166999,15.1982378854626,15.927051671732499,-0.70542857142857096,8.5635566090427293,11.3480037236243,8.6417864790455798,10.875160875160899,2.02817679558011,20.874754031330699,242.56055363321801,1.58205128205128,2.5379310344827601,6.2988235294117603,44999]
["G 45.1","Handel mit Kraftwagen",1458,28.794551112676899,71.118012422360295,18.789473684210499,0.25097251850922297,78.529754959159902,78.278115550931503,21.6929903497068,13.2597345905643,8.2407052510540399,-0.77166268350973,0.36283007458173799,1.7186397984886601,16.448674104251701,4.5846394984326002,2.5405405405405399,3.1804399243141002,129.87012987013,16.601532567049802,1.6150065235406399,7.4696969696969697,28.820960698690001,70.808080808080803,34.334511189634902,0.88198236035279298,61.626816758151598,75.419799970002302,24.539877300613501,12.3089126045573,8.0528846153846203,-0.65006903693476004,3.9293360281458201,5.9945504087193502,14.363484087102201,4.4601433994095299,2.3640312828794099,11.554621848739499,166.21880998080599,3.6264501160092801,1.91079599738523,7.9606905061874302,45100]
["G 45.11","Handel mit Kraftwagen mit einem Gesamtgewicht von 3,5 t oder weniger",1281,27.989821882951698,71.692518248175205,18.3588317107093,0.48355899419729198,78.537859007832907,78.237247207968593,21.721884449068501,13.3038918023737,8.1843838193791196,-0.74790955631399303,0.36283007458173799,1.65188470066519,16.370324954015899,4.6534631586319897,2.55904554319146,3.2,131.42857142857099,16.8571428571429,1.6076927949422499,7.4306122448979597,28.7046632124352,71.150000000000006,34.334511189634902,1.0230179028133,62.049268118529099,75.307748008689401,24.684785654244902,12.7304415182029,8.0554537681690501,-0.64437926493475395,3.9408871246116699,6.1309030654515304,14.1498492229181,4.5151359671626503,2.39074550128535,11.6514690982776,174.98635743519799,3.5824175824175799,1.8946917808219199,7.81696428571429,45110]
["G 45.11-1","Großhandel mit Kraftwagen mit einem Gesamtgewicht von 3,5 t oder weniger",36,9.2105263157894708,89.540337934884803,26.3431542461005,1.21349829565809,71.040000000000006,80.46875,18.446674807028199,8.4927735719201696,8.8948787061994601,-0.68871546961326002,0.60624382582696801,1.51887424614697,17.324451298235498,6.5048450542070402,2.3684788158440999,3.5748180955393898,354.80427046263299,13.061697722410001,2.2587412587412601,11.6367403314917,6.08,84.920634920634896,28.140948205305701,0.21224559709528101,40.286298568507199,66.6666666666667,25.454545454545499,5.2504958677685902,9.6354166666666696,-0.73178621659634302,9.47877604166667,12.1969414397613,20.9146968139774,5.65371024734982,1.68421052631579,13.6,583.51063829787199,0.55479452054794498,3.9463701259037101,9.5692307692307708,45111]
["G 45.11-2","Einzelhandel mit Kraftwagen mit einem Gesamtgewicht von 3,5 t oder weniger",1179,28.794551112676899,71.118012422360295,18.077327544324699,0.41288191577208899,78.981723237597905,78.278115550931503,21.721884449068501,13.358811040339701,8.1956497460928492,-0.77565789473684199,0.34673016775661097,1.66215348991068,16.362715298885501,4.6130301705290799,2.5275456919060102,3.1309297912713498,129.6,17.634615384615401,1.6047358834244101,7.4240631163708102,29.262926292629299,70.737073707370698,34.7222222222222,0.91463414634146301,62.049268118529099,75.416427340608806,24.583572659391201,12.6974483596598,8.0528846153846203,-0.65006903693476004,3.9212486697410398,6.0752502588885102,14.1498492229181,4.5078696165756797,2.3763837638376399,11.5131578947368,163.80688016540699,3.7896995708154502,1.8983050847457601,7.8428571428571399,45112]
["G 45.19","Handel mit Kraftwagen mit einem Gesamtgewicht von mehr als 3,5 t",40,29.332096474953602,69.085714285714303,21.289689576764399,0,75.527426160337598,78.591763142911404,21.3872832369942,10.233677685950401,10.6275303643725,-0.92723260643821404,0.86892351460056905,3.1771490227241199,18.3865898376113,9.6503110575958306,2.3886675520141698,4.0964777947932598,106.645056726094,12.8793103448276,1.84937888198758,9.7327731092437002,33.6606655755592,59.988485895221601,29.950900163666098,0.18355359765051399,65.638766519823804,70.780051150895105,21.4082368570886,5.3219106957424698,10.0778136268742,-0.72035605528226798,6.5235171936302798,11.4632757639021,14.9780752365567,10.0140712945591,2.21293574128517,15.412940557601299,130.39073806078099,2.2556053811659198,6.0645161290322598,14.261398176291801,45190]
["G 45.2","Instandhaltung und Reparatur von Kraftwagen",1032,46.575342465753401,53.135313531353098,18.912877548795102,0,77.685950413223097,49.775544258730697,50.2040816326531,28.390798611111101,16.5624746285622,-0.95036958817317796,0.70786182251340102,3.6532030075187998,8.3879423328964595,6.45614035087719,2.1992031872509998,3.98432348404152,109.26990417020301,9.6186440677966107,1.5646901587508599,3.5015873015872998,44.763019309537697,55.081430861274001,40.639013452914803,0,55.0578034682081,40.296087673471803,59.4923400420547,27.404921700223699,18.082368082368099,-0.84904386951631095,8.4664634146341502,12.6567844925884,4.7048759623609904,7.9245283018867898,1.91965678627145,20.5607476635514,137.5,1.50724637681159,2.01145280687324,3.5861643465854298,45200]
["G 45.3","Handel mit Kraftwagenteilen und -zubehör",307,25,75,22.740987771954899,0,72.839506172839506,69.160387513455305,30.839612486544699,17.9271708683473,12.209302325581399,-0.78088235294117603,0.57610441767068299,2.5862068965517202,14.456273555060401,6.9194312796208504,2.2968036529680398,3.40136054421769,165.55819477434699,12.255474452554701,1.73942093541203,5.5674348124464998,17.888563049853399,75.5474452554745,55.011476664116302,0,40.740740740740698,65.561907235234898,33.423180592991898,14.9847094801223,11.859838274932599,-0.733991088478676,8.0457561348282507,10.536779324055701,13.0611672278339,7.0987654320987703,2.2072591591377901,17.7777777777778,230.630630630631,1.46,2.2635632312860099,6.625,45300]
["G 45.31","Großhandel mit Kraftwagenteilen und -zubehör",100,15.076699137834501,84.696969696969703,37.4843554443054,1.4322284503666201,57.915057915057901,69.191919191919197,30.457813091184299,14.9847094801223,12.377450980392201,-0.66326086956521701,1.21584668929661,2.8070633547671102,16.5521073595689,9.7921519440960392,2.2124651533253701,4.6670948405052499,337.018633540373,9.3661971830985902,1.8826151560178299,6.50215517241379,8.4860173577627798,85.051546391752595,61.949196474857402,1.25361620057859,28.700156174770001,61.039755351681997,34.670883871011597,13.444824861732901,14.1847826086957,-0.58729446935725005,9.4107568807339508,11.5902140672783,16.194168539713999,7.6038159371492702,2.0651558073654401,19.835035349567899,537.5,0.483870967741936,2.4319294809010801,6.6734693877550999,45310]
["G 45.32","Einzelhandel mit Kraftwagenteilen und -zubehör",170,29.7169811320755,69.395348837209298,18.553248492967199,0,76.439860108902593,67.653758542141205,32.310177705977402,19.1405303030303,12.272291466922301,-0.89370860927152296,0.45778104026845601,2.3752969121140102,13.578185865331101,6.1633281972264999,2.2968036529680398,2.8863606179999102,129.806884970613,12.9530818767249,1.6775414264954001,5.1906519065190704,31.6666666666667,68.3333333333333,47.285067873303198,0,52.714932126696802,64.462118041021299,35.537881958978701,17.931034482758601,12.2222222222222,-0.89370860927152296,6.6651318543323601,9.7560975609756095,11.0694183864916,6.1633281972264999,2.0114864864864899,17.365269461077801,183.152827918171,1.85567010309278,2.1330049261083701,5.4166666666666696,45320]
["G 45.4","Handel mit Krafträdern, Kraftradteilen und -zubehör; Instandhaltung und Reparatur von Krafträdern",169,17.1875,79.852345796618195,14.4081924267683,0,85.040917591037598,75.483870967741893,24.2848447961047,12.981530343007901,10.8315098468271,-1.2586980306345701,-0.442541436464088,1.2345303867403301,26.355421686747,3.5283993115318402,2.2084130019120498,2.22822417285618,172.16332940714599,30.8116883116883,1.7127659574468099,7.4786386246712198,15.879017013232501,78.646034816247607,30.983463881636201,0,64.566929133858295,73.304157549234105,25.513698630137,10.004407227853701,10.8315098468271,-0.89255014326647597,3.5514412257376602,5.3170502583372503,25.8512610553264,3.3536585365853702,2.0750000000000002,9.6745027124774001,272.02380952380997,5.1333333333333302,2.2115384615384599,9.6210526315789497,45400]
["G 46","Großhandel (ohne Handel mit Kraftfahrzeugen)",6783,15.086505190311399,84.370257966616094,28.0868531921789,0,68.621700879765399,68.880079286422202,31.119920713577802,13.4708482424753,14.2932350618584,-0.65976586568083795,1.9683507455918401,3.83865899535295,9.5547021063004802,13.553215892715301,2.21094989618173,6.4440263405456299,224.517752306402,6.7140562248995996,2.14432989690722,7.1987951807228896,14.3589743589744,85.023400936037405,47.981510015408297,0,48.936170212766001,58.563074352548,41.427546628407498,12.489626556016599,15.8953722334004,-0.67778308647873897,11.049495548961399,13.796791443850299,7.9021372328458899,15.206132173192501,1.92947103274559,24.21875,332.48053297897599,1.12597894821502,2.9807692307692299,7.4819462978225602,46000]
["G 46.1","Handelsvermittlung",594,14.7798742138365,84.448160535117097,26.968293551834702,0,69.2708333333333,54.787234042553202,44.9936628643853,16.5322580645161,20.559295701709001,-0.82669039145907497,3.7617554858934201,6.09813324750563,4.0621266427718004,13.636363636363599,2.04210526315789,9.5238095238095202,178.247468075738,3.7589388696655099,2.3203342618384402,5.6024096385542199,15.597075548334701,82.102908277404893,53.301886792452798,0,39.175257731958801,10.928961748633901,88.928571428571402,15.9671428571429,28.630705394190901,-1.0280730179491799,28.236612021857901,31.280923584387001,0,20.915032679738601,1.36237623298053,41.818181818181799,227.350427350427,0.455384615384615,4.0583153347732202,5.28571428571429,46100]
["G 46.13","Handelsvermittlung von Holz, Baustoffen und Anstrichmitteln",49,17.8970917225951,81.420765027322403,0,0,95.911949685534594,66.185567010309299,28.549141965678601,13.138686131386899,15.8715596330275,-0.84072863148061705,-2.61752293577982,-0.46711340206185598,4.0553588670743501,10.629921259842501,2.42780748663102,-3.2,121.666666666667,30.649122807017498,2.1098489458217902,6.4939759036144604,17.8970917225951,81.879194630872504,59.196102314250901,0,38.702460850111898,59.393939393939398,39.7959183673469,9.5800524934383198,16.969696969697001,-0.45767258382643,14.5069911504425,15.7598499061914,1.1257035647279501,13.5398230088496,2.5279642058165499,30.909090909090899,288.88888888888903,0.34482758620689702,3.0387931034482798,8.18965517241379,46130]
["G 46.14","Handelsvermittlung von Maschinen, technischem Bedarf, Wasser- und Luftfahrzeugen",77,12.211643714865099,83.673469387755105,31.682002208318,0,58.934169278996897,57.877551020408198,40.512820512820497,16.519823788546301,17.550542045121599,-0.86327683615819195,4.82691968225949,8.7974789915966394,6.6666666666666696,16.442953020134201,1.5746102449888599,9.0178049755527496,192.01177473080801,3.78316519414029,2.3010752688172,5.8351648351648304,17.272727272727298,80.219780219780205,61.827721906427598,0,38.172278093572402,43.137254901960802,56.862745098039198,17.137476459510399,19.934640522875799,-1.1486111111111099,23.978110271091001,28.774928774928799,3.6231884057971002,20.915032679738601,1.26970954356846,26.967285587975201,327.27272727272702,1.48648648648649,2.6766304347826102,5.0832931339443599,46140]
["G 46.15","Handelsvermittlung von Möbeln, Einrichtungs- und Haushaltsgegenständen, Eisen- und Metallwaren",34,14.7577092511013,83.382789317507402,18.8392007611798,0,79.305423406279701,53.228346456692897,44.3223443223443,11.6138856476079,20.6936416184971,-0.58827496980139404,4.9340425531914898,8.1800164473684198,9.1,16.399999999999999,1.5994291151284501,8.3620082636942197,121.001926782274,3.2291666666666701,2.6323457013392799,7.7843933432917503,13.7688442211055,45.535714285714299,14.285714285714301,0,26.522187822497401,0,88.659793814433002,1.2048192771084301,36.549957301451698,-1.0234939759036099,29.666780529461999,33.219470538001701,0.90909090909090895,20.5807002561913,0.77570093457943901,37.874097007223902,118.032786885246,1.26086956521739,4.5,4.61560651954421,46150]
["G 46.16","Handelsvermittlung von Textilien, Bekleidung, Schuhen und Lederwaren",48,10.6164383561644,87.5,45.161290322580598,0,49.315068493150697,51.838235294117602,48.144163528778897,18.014705882352899,23.789878987898799,-0.995588235294118,5.62205882352941,9.3028860028859999,6.4757160647571599,11.9047619047619,1.6480599046970701,14.970343356314199,260.25641025640999,2.52727272727273,2.6357615894039701,5.1596638655462197,8.3170059914245993,88.698630136986296,59.485530546623799,0,31.9391634980989,10.869565217391299,88.868613138686101,23.9583333333333,27.429805615550801,-0.84705882352941197,29.023958333333301,30.569286174541698,0.37037037037037002,17.4834437086093,1.21584158415842,51.246181804121697,266.33319635544302,0.25290023201856099,3.6199834982271701,3.9787234042553199,46160]
["G 46.18","Handelsvermittlung von sonstigen Waren ",135,10.9797297297297,88.571428571428598,26.258992805755401,0,72.328767123287705,49.191176470588204,50.808823529411796,17.617237008871999,22.352941176470601,-0.764069660861595,4.0560515873015897,6.2271062271062299,3.7288135593220302,12.426470588235301,2.41803278688525,13.698630136986299,247.826086956522,2.90625,2.4054878048780499,5.3685897435897401,12.307692307692299,85.283018867924497,60.457516339869301,0,23.926380368098201,11.0714285714286,87.551867219917,15.9671428571429,30.949948927476999,-1.0884615384615399,29.339263803681,32.614942528735597,0,14.9606299212598,1.9901960784313699,54.440333024976901,302.43902439024401,0.34025974025973998,3.9176470588235301,5.6762589928057601,46180]
["G 46.19","Handelsvermittlung von Waren ohne ausgeprägten Schwerpunkt",173,14,84.199665913334002,29.148706896551701,0,68.041237113402104,50.295903584748601,46.871992300288703,15.0102251311,22.522493624801498,-0.86206896551724099,4.0823308270676701,7.0564027469198098,2.0491803278688501,13.636363636363599,1.95426829268293,10.7011070110701,128.45394736842101,3.2131147540983598,2.4229634406080902,5.5799226596766198,11.653116531165301,84.402924451665299,53.301886792452798,0,43.75,4.2553191489361701,95.744680851063805,13.655438659157699,31.983805668016199,-0.92127659574468101,32.626842105263201,38.129622745217901,0,25.1366120218579,1.34947049924357,40.109890109890102,173.333333333333,0.52941176470588203,4.8909963913989998,5.3035714285714297,46190]
["G 46.2","Großhandel mit landwirtschaftlichen Grundstoffen und lebenden Tieren",274,32.2533136966127,67.0557717250324,25.220417633410701,0,73.031496062992105,83.3611111111111,16.634268258816999,6.7981535879143902,8.4133947679349603,-0.59709624796084804,0.41328485137498,2.0563358778626002,5.78454754083607,8.8000223452370907,2.7564004510625999,3.4420289855072501,111.22150789012299,10.235294117647101,2.3738370202778198,14.0960636216364,22.907488986784099,71.306923361717907,36.2088115512773,0,61.718698260904098,74.658573596358096,23.650107991360699,7.59493670886076,11.162483487450499,-0.81430868167202597,5.0373868555686698,7.8805970149253701,6.0077519379844997,11.5774240231548,2.1026431718061702,12.3678646934461,137.01754385964901,3.0274481575966701,3.2162664278138302,11.751572327044,46200]
["G 46.21","Großhandel mit Getreide, Rohtabak, Saatgut und Futtermitteln",150,33.4056399132321,64.776070611310899,27.6534610361341,8.7429570623664299E-2,70.593368237347306,84.890969972504294,14.9952745000795,5.6649563167383201,7.2022160664819896,-0.57877148302841797,0.39417892089651702,2.0218883324058599,10.7727997680151,9.1996320147194108,2.3465569388759899,3.3671026156941699,117.029972752044,10.235294117647101,2.3738370202778198,16.1604697638844,28.693076638282101,71.285432612218898,34.228855721393003,0,62.582876909772303,77.376014427412102,20.8847977440258,5.8995327102803703,8.5500450856627594,-0.67164909666060302,3.4988493443938999,6.61199976901311,7.9670329670329698,9.7282326467024394,2.1492131338643898,10.1636642498606,138.75470043202,3.6481481481481501,3.2162664278138302,13.8997493734336,46210]
["G 46.22","Großhandel mit Blumen und Pflanzen",43,32.9442282749676,67.0557717250324,18.598382749326099,0,74.932614555256094,65.225505443234795,34.774494556765198,18.2425882352941,16.5573770491803,-1.09140518417462,1.55979202772964,3.17700453857791,4.2622950819672099,10.565723793677201,2.4566473988439301,5.9252506836827701,105.280528052805,8.4604982125973294,2.1324503311258298,4.9231028171088296,58.206106870229,41.793893129771,31.488549618320601,0,68.511450381679396,51.5403422982885,48.4596577017115,24.163743016759799,16.695957820738101,-1.7380327868852501,7.6688888888888904,14.830670391061499,7.5305623471882601,12.2141737831057,1.2971014492753601,12.352826086956499,137.01754385964901,1.7532467532467499,2.5708154506437801,4.1384316962252399,46220]
["G 46.23","Großhandel mit lebenden Tieren",65,31.736104151672201,67.802557240558997,19.423558897243101,0,78.770949720670401,87.979632660483702,11.231884057971,4.1610151187905,7.7076677316293898,-0.49689440993788803,3.1464449946940198E-2,1.33200870985302,1.05630959963399,6.3755494103504899,4.6112600536192998,2.02939118264521,102.13296398892,13.818181818181801,2.54415093092795,22.990048981696301,36.023622047244103,62.569832402234603,26.968503937007899,0,60.842627013630697,78.609062170705997,19.6649672250546,2.9102305798074801,10.020661157024801,-0.72960992907801403,3.3213842975206598,4.9360326086956503,0.65217391304347805,7.4636333235798196,3.3176470588235301,13.8095238095238,119.753086419753,2.5704225352112702,4.6260162601625998,32.902439024390198,46230]
["G 46.3","Großhandel mit Nahrungs- und Genussmitteln, Getränken und Tabakwaren",855,23.4862385321101,76.315789473684205,21.2121212121212,0,76.415094339622598,73.634945397815898,26.365054602184099,11.046511627907,13.515625,-0.57142857142857095,1.3494568324756999,3.3633228996295599,6.83473389355742,13.262599469495999,2.4732856899778799,5.6286895855036798,150.40702187991201,8.2867523235776499,2.3986013986014001,8.90025031272741,25.6410256410256,73.771186440677994,40.755813953488399,0,57.605633802816897,64.173925159549995,35.780483372705802,10.590196732244101,16.2887377173091,-0.68014285714285705,7.9005546955624402,11.455641688199799,8.5804416403785506,15.4795028751623,1.9,17.6998791227767,220.73170731707299,1.92592592592593,3.2486539117115498,9.0526315789473699,46300]
["G 46.31","Großhandel mit Obst, Gemüse und Kartoffeln",156,33.094583987441098,66.424242424242394,23.382118498821999,0,75.439210471057606,74.896779521056999,24.481327800829899,9.98997702977295,12.5987469354399,-0.51133347820046504,1.0306512619489701,3.3796988159558601,1.7341040462427699,13.4788529923583,2.8911877394636001,5.4844606946983498,103.306026916325,7.9129692832764498,2.340945755386,9.7303667993248304,32.300997126922397,67.680608365018998,35.026000212246601,0,62.412891986062697,69.258130081300806,30.741869918699201,9.8611111111111107,13.5824977210574,-0.39972106222520198,6.0091166342226501,8.6303906250000004,1.171875,15.178831055539399,2.3029126213592201,15.864937759336099,189.41605839416101,2.3796296296296302,3.0181026512779199,9.2575295265375601,46310]
["G 46.32","Großhandel mit Fleisch und Fleischwaren",74,22.382952247627902,76.436781609195407,22.891566265060199,0,75.776397515527904,81.300390117035107,17.088416605595601,8.5820895522388092,8.0943275971956705,-0.45075934579439297,0.71533742331288297,1.8815752036901301,2.4916147580258698,9.9664590321035007,3.1705521472392602,5.2325581395348797,203.863636363636,7.3870967741935498,2.25396825396825,11.3490632116428,25.360230547550401,74.614594039054495,52.1063394683027,0.26881720430107497,44.508272058823501,78.975950635070504,21.0240493649295,9.5620548567964807,8.4752321981424092,-0.37833421191354799,5.7315309983301299,7.1521942110177399,5.1339285714285703,13.839285714285699,2.4197747183980001,19.2147806004619,269.11764705882399,0.73978314639486498,2.4817749603803501,10.4186046511628,46320]
["G 46.34","Großhandel mit Getränken",235,22.708456534594902,77.232406859846293,18.722786647314901,0,78.775510204081598,66.705471478463295,33.294528521536698,14.155251141552499,17.8300784510098,-1.0035287081339701,1.4769351340514301,4.9261836227809201,17.091698317959899,15.2945481156239,1.6165095247257999,4.6678635547576297,165.89931697444999,10.0959346416176,2.54117647058824,6.8262108262108301,26.228813559321999,73.084230525649104,46.430379746835399,0,50.762527233115499,57.304546941445899,42.695453058554101,11.345358029081099,19.178082191780799,-1.1109272329033799,10.3573938038965,14.7014361300076,17.1867844291789,20.731001573246498,1.21189979123173,14.013452914798201,264.15094339622601,2.0072992700729899,3.3709090909090902,8.2494261667941906,46340]
["G 46.34-1","Großhandel mit Wein und Spirituosen",137,21.246819338422402,77.625570776255699,18.435321456235499,0,79.117959617428298,66.512166859791407,33.3333333333333,12.0909595119246,18.534482758620701,-1.3160011248593899,1.3527099694437199,4.1473892927957703,23.775216138328499,17.768888654964599,1.2546031746031701,3.5756853396901098,177.255844439589,13.4133333333333,2.70253164556962,7.9684210526315802,26.228813559321999,70.516324093889494,44,0,53.892215568862298,54.902587032896797,40.952380952380899,9.4670406732117804,19.8969072164948,-1.3751121076233199,9.0457746478873204,13.295944779982699,28.693112679484098,21.8015886428934,0.952191235059761,12.435844748858401,243.402468333245,2.72826086956522,3.17328203519159,8.2494261667941906,46341]
["G 46.34-9","Großhandel mit sonstigen Getränken",58,23.140686161639401,72.440944881889806,16.193181818181799,0.28585040495474001,79.293893129771007,67.625899280575496,32.1766561514196,14.7988649641128,16.2887377173091,-0.82321326472269896,2.0480791618160699,4.9301540526456504,9.9729089061970893,15.1451935914553,2.1021220159151199,6.61577608142494,134.394904458599,7.5674662668665702,1.9019262888319799,6.6563307493540096,23.140686161639401,71.8973060096707,39.154121863799297,1.1186665041344399,59.9283154121864,57.862793041855802,42.137206958144198,11.345358029081099,21.9336219336219,-0.99105613701236905,11.0521963614959,14.7014361300076,8.6228742914304792,23.101079489695799,1.7597282984112399,22.5189960856551,288.75621890547302,1.6923076923076901,3.71404823454098,8.8141775467705497,46349]
["G 46.38","Großhandel mit sonstigen Nahrungs- und Genussmitteln",157,15.015015015015001,83.948653867999496,19.8067632850242,0.166389351081531,74.028856825749202,74.469624612891096,25.476934558514898,9.8195959814194698,12.8689798032108,-0.39684228591041698,1.32121684867395,2.3976023976023999,6.0455192034139396,13.511671494292001,3.0135289199665598,6.8081494057725003,180.58375634517799,8.2790697674418592,2.3466362599771999,9.9770114942528707,13.6585365853659,86.341463414634106,36.870709382150999,0,59.259259259259302,67.512570802764998,32.487429197235002,9.4961240310077493,17.0331334423648,-0.43668992248062,7.4446680080482901,9.1462616579407801,8.3066324895866703,14.200743494423801,2.7023593466424698,19.685544681533798,295.769230769231,2.0588235294117601,3.7471111207449002,10.530612244898,46380]
["G 46.39","Großhandel mit Nahrungs- und Genussmitteln, Getränken und Tabakwaren, ohne ausgeprägten Schwerpunkt",115,27.751188319654801,72.248811680345199,21.3784501184535,0,75.804878048780495,76.315789473684205,23.684210526315798,11.046511627907,11.1981203030887,-0.47770627103239899,1.73069654120272,3.4110048461980602,6.5546646302660001,8.6233467430444399,2.9272300469483601,6.25,147.629305096644,6.4225661217705596,2.0929516512605302,8.6944111618823303,25.384615384615401,72.112676056338003,40,0,58.114408347517198,68.598959976114003,28.283410138248801,10.744158075601399,12.7866972477064,-0.60515361744301299,8.3234941901019592,10.0658483176522,6.3573883161511997,9.0321985423009501,2.2045454545454501,22.847543049138999,178.472222222222,1.4801377118644099,2.77983348751156,9.0526315789473699,46390]
["G 46.4","Großhandel mit Gebrauchs- und Verbrauchsgütern",1570,10.741573033707899,89.048562933597594,29.192546583850898,0.34558592522777298,67.804136658439603,64.224137931034505,35.735294117647101,14.8099001903883,17.4598363140346,-0.73091910207539201,2.2597484526812601,4.1116446578631498,13.285457809694799,15.669445806768,2.0502431118314401,6.2879781871792799,309.351145038168,7.1360000000000001,2.22033898305085,6.5675675675675702,10.789473684210501,88.937989540356,46.287128712871301,0,50.025012506253098,58.144712430426701,41.714098789663097,11.710490647872099,17.2649572649573,-0.64384707287933096,10.6765362297277,13.408864541832701,11.2317747611865,15.4525386313466,2.0274193548387101,24.073965627881599,421.11801242235998,1.31034482758621,3.1291702309666398,7.9587967260278898,46400]
["G 46.41","Großhandel mit Textilien",125,10.9452736318408,88.497681994737505,23.110947290822001,0,72.515527950310599,64.365671641790996,35.430688323297097,13.150371640937699,16.7028199566161,-0.90561580745803005,2.7822257806245001,4.8995739500913,14.029618082618899,14.377880184331801,1.9587771363525499,6.7385444743935299,266.01941747572801,6.8778947368421104,2.2722063037249298,7.3934426229508201,12.280701754386,87.719298245613999,39.732142857142897,0,55.892255892255903,60.052361732300596,39.947638267699404,10.221446492854801,16.723549488054601,-0.431366459627329,12.356589785832,14.1141966822473,9.6036836046702803,15.412681540568,2.2063492063492101,23.9970097184152,426.97649708537102,1.0900900900900901,3.90821771611526,9.4285714285714306,46410]
["G 46.42","Großhandel mit Bekleidung und Schuhen",153,11.204759543877,87.951807228915698,26.4554455445545,0,70.289855072463794,67.831785909339203,31.827712214700799,12.5647134161584,16.947115384615401,-1.0178392699440699,2.5880469583778001,4.0442683426697599,16.616314199395799,15.569123419101601,1.84615384615385,6.6334991708126001,250,7.58262196575898,2.3316062176165802,7.7106274007682503,10.980392156862701,87.735849056603797,39.929509772508801,0,57.997638179694803,63.297201915805402,36.694978985722997,9.8365465537342605,16.788394197098501,-0.72901292127347805,11.394282334384901,12.4053627760252,15.4595647937642,16.065573770491799,2.12080420701108,24.818840579710098,361.607370674832,1.35120303925707,3.3448275862068999,9.5972461273666099,46420]
["G 46.42-1","Großhandel mit Bekleidung",111,10.789473684210501,89.057750759878402,26.4554455445545,0,71.909047844623402,66.760482755330798,33.239517244669202,13.234182001512499,17.057162967366001,-0.85830202854996196,2.6466129282281798,4.2233271431138801,15.9420289855072,17.879746835443001,1.8480243161094201,6.4590101280336301,254.05275779376501,7.8945868945868902,2.2518050541516201,7.0690476190476197,10.526315789473699,89.210526315789494,31.477177396417002,0,59.897468760012799,60.564270528069898,36.702798084194598,10.5174353205849,19.727177334732399,-0.72901292127347805,11.394282334384901,12.4053627760252,12.5742574257426,18.760700959760999,2.03756813944891,24.818840579710098,361.607370674832,1.2129688493324899,3.3448275862068999,8.8514851485148505,46421]
["G 46.42-2","Großhandel mit Schuhen",30,12.8130554209081,85.185789144595901,39.887931587816396,0.47290021856347397,57.222880964565199,72.657094333796493,26.7094017094017,10.8183691492493,13.454057591907601,-0.97389220703343804,1.85334892946142,3.5223079503522299,16.644677894570201,13.425512934879601,2.0262451535938002,6.4304461942257198,252.38095238095201,6.1556886227544902,2.3168270219876201,8.8028846153846203,11.268484987615601,86.521049938216905,43.484419263456097,2.11443023248885,33.123028391167203,65.817117534372301,27.342905666203499,7.8143873781919497,13.185116566311599,-0.90361991573365597,7.0702260608129599,9.00394513772466,16.772355196352699,11.9888809182209,2.12080420701108,18.825194621373001,397.17624148003898,1.3691756272401401,3.3022128556375101,12.5250626566416,46422]
["G 46.43","Großhandel mit Foto- und optischen Erzeugnissen, elektrischen Haushaltsgeräten und Geräten der Unterhaltungselektronik",208,11.531958065607,88.082919545817603,29.4871794871795,0.79031612645058003,67.469879518072304,69.313304721029994,30.5820105820106,12.9655102040816,14.7119341563786,-0.60503183724180798,1.15995115995116,2.6599803771939401,12.3108384458078,16.8274182975934,2.2618025751072999,4.9891540130151801,255.555555555556,10.2751996007984,2.00124843945069,7.5185256189388401,8.1841432225063908,88.937989540356,45.104141878660201,0.59721709149119595,52.030675759971501,60.251284980011398,39.748715019988602,11.3821138211382,14.097968936678599,-0.64384707287933096,9.52140468227425,11.882763433356599,8.7026695503405502,17.388674342329001,2.0506776664702402,22.405452459598202,378.47938144329902,1.35,3.07476635514019,8.7109438752380104,46430]
["G 46.43-1","Großhandel mit Foto- und optischen Erzeugnissen",32,7.7101661779081097,91.9921875,22.992056487202099,1.3233643073586401,72.580645161290306,59.967320261437898,39.7466857895961,13.1242861592773,17.9110041172374,-0.81632653061224503,2.1950576648623601,4.1152263374485596,13.3333333333333,23.248916267396801,2.0800453514739199,8.0573951434878595,255.555555555556,5.9043303121852997,2.08520802602842,6.8664661574086399,5.5680963130173096,94.225647209640798,40.419161676646702,0,53.795379537953799,56.318139341709099,41.457586618876903,6.9295101553166099,17.1428571428571,-0.81632653061224503,17.118238214690901,18.532834407169499,10.612244897959201,17.204301075268798,2.1493971159557601,38.106477633611597,255.555555555556,1.13793103448276,5.9827586206896504,12.8571428571429,46431]
["G 46.43-2","Großhandel mit elektrischen Haushaltsgeräten ",111,13.4819125859594,86.486486486486498,30.230844793713199,0.98722986247544198,67.412935323383095,70.546382064706705,29.453617935293298,13.4839026509392,14.9206349206349,-0.580922098569157,0.98761590109773001,2.9552943740093398,12.998385070877401,15.714285714285699,2.31145653931774,4.1222788327929596,219.04761904761901,11.178343949044599,1.9148767223143199,7.3260869565217401,8.1841432225063908,90.572615331929697,46.540217773094497,0.59721709149119595,51.338703296888298,62.469733656174299,35.424586184817699,11.0774818401937,14.3040905582712,-0.59048366520054096,9.4886774500475699,11.165423205557,8.1065431383902702,15.4185022026432,2.0506776664702402,22.5352112676056,563.08275058275103,1.1728110599078301,3.07476635514019,8.78571428571429,46432]
["G 46.43-3","Großhandel mit Geräten der Unterhaltungselektronik",47,9.8360655737704903,90.163934426229503,25.885383129426899,0.74547390841320504,72.783323546682297,73.739295908658406,26.260704091341601,12.345689019896801,12.0388349514563,-0.57713328681088605,0.14067042151162801,1.52635719905586,10.6202281539012,16.8274182975934,2.2121212121212102,4.0635389730328804,296.07843137254901,9.7525773195876297,2.0271639975674001,8.0134300295460594,20.927237604636201,78.998778998779002,41.450323785076698,0.96260428213056404,45.047923322683701,66.075156576200399,32.051883106735403,10.760667903525,11.269750618694101,-0.48270871985157698,7.1005158437730298,7.6527698458023998,6.7796610169491496,17.553753965456501,2.09001808529257,14.995510326249599,335.46798029556697,1.58223062381853,2.00124843945069,5.62796833773087,46433]
["G 46.44","Großhandel mit keramischen Erzeugnissen, Glaswaren und Reinigungsmitteln",45,11.893203883495101,86.127637935418306,22.386223862238602,2.52293577981651,65.5601659751037,57.114540563499901,40.7744874715262,19.045074316252101,22.087745839636899,-0.80793882010196605,0.3828125,2.6041666666666701,10.477972126087399,17.1887995564181,2.0516193823750899,4.3973809523809502,317.80821917808203,8.9181737650419493,1.8829694323144099,4.6490630323679696,12.987012987012999,87.012987012986997,21.6380006836335,3.24232081911263,70.038138825324197,59.958773511981398,40.041226488018602,13.973743582497301,21.289662231320399,-1.2468693635660899,12.228894069992,13.715455475946801,7.1428571428571397,20.607375271149699,1.3245733788395899,14.436860068259399,214.70588235294099,3.9814836091269501,2.4205607476635498,5.2864590357221299,46440]
["G 46.45","Großhandel mit kosmetischen Erzeugnissen und Körperpflegemitteln",85,11.061614116285799,88.8888888888889,34.730538922155702,0.45085662759242601,61.384294441961003,49.745813095491002,47.745149449396997,16.962126068376101,25.4867256637168,-1.0828685258964099,3.3634475597092401,5.5427703181405503,14.8648648648649,14.7086688773093,1.8807500590526101,6.0298317994287496,329.59641255605402,5.78405398065631,2.54471544715447,5.4213836477987396,7.9420579420579402,90.515806988352793,46.268656716417901,1.2814781701683799,50.789733464955603,40.540540540540498,55.670103092783499,12.283105022831,25.4867256637168,-0.951415384615385,11.049495548961399,12.714460784313699,9.7736459175424404,15.8769230769231,1.8807500590526101,23.4242288779616,612.57861635220104,0.93726090283091001,3.0106809078771701,5.70175438596491,46450]
["G 46.46","Großhandel mit pharmazeutischen, medizinischen und orthopädischen Erzeugnissen",368,8.1336238198983306,91.503267973856197,33.919406418298898,0.36196911196911202,61.698228466707398,61.474888747615999,38.477366255143998,16.406060115045001,17.4598363140346,-0.58941176470588197,3.3980318650421699,5.7175397876883096,10.476190476190499,18.458751852461699,1.9684629968099701,8.3081985193309595,452.240143369176,4.9641367806505396,2.2188414277355202,6,8.0459770114942497,91.597708465945303,54.1616694650995,0.47758434755815699,40.718758953788203,52.949869273616002,47.041073957755998,14.4552723638181,17.056074766355099,-0.51990876507005501,13.1741553831997,15.9603742432581,9.5187515319879097,16.4801669385539,1.9790050205385701,31.070640176600399,477.931034482759,0.579633204633205,3.0120320855615001,6.6030405405405403,46460]
["G 46.46-1","Großhandel mit pharmazeutischen Erzeugnissen",128,5.9254734270006102,93.634741225460999,38.549400342661301,1.13728675873274,58.713242549832202,63.332773015072597,36.150348978677101,14.650737395678499,17.472822767802601,-0.447262798634812,4.2355974842767301,6.3098601254048097,9.5187515319879097,17.440265233794399,2.2995641646489098,11.059174262042299,500,3.5628140703517599,2.35316946959896,6.7764361507500901,4.3463944682252196,93.945654614866399,50.4076086956522,1.31578947368421,46.753246753246799,48.043964514287097,51.563981042654,14.949144832750999,19.916905802942399,-0.447262798634812,15.099541184181801,16.554655070172,9.5187515319879097,19.045673666149199,2.1038461538461499,34.687246141348503,480.18867924528303,0.90462070324561805,3.1291702309666398,6.6030405405405403,46461]
["G 46.46-2","Großhandel mit medizinischen und orthopädischen Artikeln, Laborbedarf",227,9.5238095238095202,90.061689769939804,33.454215775158701,0.42253521126760601,63.3333333333333,59.383599339570701,40.616400660429299,17.325227963525801,17.6693046017858,-0.65281032433350294,3.03504380475594,5.3862996879316496,11.246037953319901,19.470285969923101,1.86387231427894,6.3207315472637404,416.54949978755502,5.7727272727272698,2.1157024793388399,5.4082181069139503,9.4922737306843299,89.764705882352899,54.1616694650995,0,39.8056848738441,56.328631338162403,43.347826086956502,13.9365692849835,14.2561521252796,-0.62071371124578001,11.390998443195301,14.560270602706,8.9988814317673391,16.6204986149585,1.7647584973166399,24.4444444444444,421.11801242235998,0.55339805825242705,2.57933579335793,6.0222357860496496,46462]
["G 46.47","Großhandel mit Möbeln, Teppichen, Lampen und Leuchten",78,10.412147505423,87.550200803212803,24.687769164513401,0,72.402090206231705,65.556228548354497,34.4220851451107,15.5226739744355,16.847479259732001,-0.62574955908289198,1.05077519379845,2.8492008339124402,12.446351931330501,16.213017751479299,2.30755064456722,5.2095390242506001,314.91228070175401,8.4528383004697307,2.1688311688311699,6.1740815989858699,6.5900383141762404,92.225201072386099,30.684326710816801,0.88300220750551905,61.880794701986801,65.5779148548893,33.399313803114303,12.434741338395799,14.9487246910334,-0.37688795117315399,6.5690899671904699,8.5590323428871908,7.6707980320690101,14.371257485029901,2.44788558864773,20.7158351409978,444.149592416811,1.51237964236589,2.5437580437580398,7.9131378935939196,46470]
["G 46.48","Großhandel mit Uhren und Schmuck",58,7.7192982456140404,91.523809523809504,26.163723916532899,0.38633590890605901,63.317757009345797,58.116883116883102,41.789473684210499,17.4899386906065,25.714285714285701,-1.42127659574468,0.75687022900763401,2.4965955515206502,29.106628242074901,16.7795159156355,1.4489795918367301,3.8061796939200301,403.57142857142901,10.082758620689701,2.1221374045801502,5.38826815642458,14.935064935064901,83.893805309734503,51.088875809299601,0,48.499117127722201,32.374100719424497,67.625899280575496,11.1111111111111,25.714285714285701,-1.1949252378794699,9.9311013767208998,14.285714285714301,22.972360670593599,10.3157894736842,1.26333113890718,20.330380952380999,378.26086956521698,1.58993576017131,3.5697674418604701,9,46480]
["G 46.49","Großhandel mit sonstigen Gebrauchs- und Verbrauchsgütern",440,11.5,88.358608385370204,24.6996636232581,0.34538586076632499,70.147444767858005,66.0742352798936,33.8951310861423,14.0653775322284,17.275972427375699,-0.72778594531020302,2.0501350135013499,3.7342041743575201,13.2226980728051,13.051146384479701,2.1265940902021798,5.7975761546020301,276.25257378174302,8.0810810810810807,2.26636204708127,6.9494382022471903,12.5944584382872,86.794927853082598,43.673469387755098,0,52.546014920644097,61.295971978984198,38.125484120836603,11.2230215827338,18.692372170997501,-0.68214368672749603,9.0417827298050106,11.5702479338843,10.8665749656121,13.636363636363599,1.89853137516689,22.114537444933902,418.85397412199598,1.8567901234567901,3.33955223880597,8.5393518518518494,46490]
["G 46.49-1","Großhandel mit Schreibwaren und Bürobedarf",58,9.6333126165320095,87.796610169491501,19.245875883739199,1.56543813463708,77.589134125636704,65.238095238095198,34.006734006734,15.9522136331694,16.9711876317639,-0.66016521340064205,0.81255095596256499,2.5974025974026,10.9675036927622,9.4488188976377891,2.847533632287,3.7109375,133.155080213904,8.5806451612903203,1.8928571428571399,6.1873571972581898,5.2868036260155602,91.634069764092501,63.243761996161197,0,36.756238003838803,60.092807424594,39.907192575406,6.82534126706335,21.698113207547198,-0.67700000000000005,8.4499568864153005,10.794073841812301,9.5,7.4611481853197503,2.6825726141078801,25.489529625255599,598.85002065831202,0.96732026143790895,4.3258270026930301,14.6512820512821,46491]
["G 46.49-3","Großhandel mit Sportartikeln",85,8.3568833266047609,91.343283582089597,29.731197393429301,0.60606060606060597,66.127790608160097,67.552045944005698,31.356502242152501,11.724015608371801,16.607316283586901,-1.0422222222222199,2.2659471712990298,3.9758985021428299,21.72365262025,13.4206656864056,1.87371134020619,5.6737588652482298,370.73170731707302,8.9143835616438398,2.43686502177068,7.4909090909090903,10.9514370664024,85.130111524163596,27.061310782241002,0,54.6565266176287,58.985253686578403,38.704028021015802,8.2049229537722592,19.158354232763099,-1.0296010296010301,10.0380846325167,13.127413127413099,16.566005176876601,12.5,1.42335415665545,15.721649484536099,169.270833333333,1.94545454545455,3.625,10.9867276887872,46493]
["G 46.49-9","Großhandel mit sonstigen Gebrauchs- und Verbrauchsgütern a.n.g.",239,14.209115281501299,85.790884718498702,24.053331406272601,8.8473205257836196E-2,72.631241997439204,65.108514190317194,34.891485809682798,14.5595489781536,18.253400143163901,-0.71106465101318805,2.0501350135013499,3.9208252322663499,13.684943082964701,13.4369794558579,2.0516431924882599,5.6818181818181799,239.04761904761901,8.0810810810810807,2.2777777777777799,6.6637168141592902,15.8249158249158,83.701399688958006,36.8194842406877,0,60.100286532951301,61.874747879086101,37.6237623762376,12.388474477109799,15.1150736056396,-0.62619808306709301,8.7159738010176504,11.538461538461499,10.1769911504425,15.4525386313466,1.8318042813455699,21.084953940634598,309.351145038168,2.14854928074659,2.9733333333333301,7.6050420168067197,46499]
["G 46.5","Großhandel mit Geräten der Informations- und Kommunikationstechnik",242,8.0679405520169905,91.325301204819297,29.087048832271801,0.52969054920546399,67.047619047619094,69.098943203855598,30.880420499343,14.965312190287399,12.2704943185863,-0.49362813370473502,2.5122149837133501,4.1432062041856996,5.2830188679245298,15.8650558468201,2.3583780560524699,8.1478672628300295,353.65853658536599,5.4563883459195601,1.8883415435139601,6.6074766355140202,7.4074074074074101,92.452830188679201,57.148946751447603,0,39.777977470976403,50.3105590062112,45.201238390092897,12.649880095923301,14.551083591331301,-0.62563025210084,11.6963855421687,15.0701266315696,1.82106096595408,19.2615585688613,1.79944289693593,23.894912427022501,515.894595336463,0.59735882486248204,2.4105691056910601,7.1979166666666696,46500]
["G 46.51","Großhandel mit Datenverarbeitungsgeräten, peripheren Geräten und Software",152,6.8663257852447002,91.6,27.126255088794501,0.52969054920546399,69.148936170212806,66.206930401492102,33.727631179860502,14.4761294456905,13.3132530120482,-0.59923936296648395,2.3127169956750699,4.9636070830177799,4.1088418976243899,17.1078114912847,2.27490380504489,7.4441687344913197,384.21052631578902,5.5945945945945903,1.87606112054329,6.3558441558441601,6.4053378802410803,92.886683209263893,57.148946751447603,0,40.322580645161302,38.981780129528303,60.491606714628297,17.2115977791487,17.1069182389937,-0.74932659932659895,14.125427350427399,17.140298192929802,0.44247787610619499,23.415686792618999,1.556,25.771751918875001,712.63157894736798,0.55636154996823795,2.26829268292683,4.2439024390243896,46510]
["G 46.51-1","Großhandel mit Datenverarbeitungsgeräten und peripheren Einheiten",103,6.4129559095673399,93.255071766833296,26.858619414407201,0.81743869209809294,70.119613308827795,70.591468777484593,29.4085312225154,13.0322580645161,10.0697603882317,-0.55069433099166798,1.9881211077249199,3.18949343339587,5.2631578947368398,15.559960356788901,2.59336609336609,5.5421686746987904,442.56124527151098,6.2279411764705896,1.9025974025974,7.41071428571429,5.3872053872053902,93.743139407244797,59.223300970873801,0,40.730573141352501,56.555269922879198,42.971887550200798,12.649880095923301,16.452991452991501,-0.70621468926553699,11.7085714285714,14.990746452806899,3.3296454349085902,15.8650558468201,1.9952153110047799,23.894912427022501,557.89473684210498,0.61842105263157898,2.5887372013651899,7.3235294117647101,46511]
["G 46.51-2","Großhandel mit Standardsoftware",38,8.1120254348232592,86.896551724137893,24.254633360193399,0,69.208336068732905,42.594100294841702,57.402618393405497,23.5632183908046,20.282661731303101,-0.51116638728167396,5.8823529411764701,9.2394720301697006,0.26400704018773802,24.725772536404701,1.591,8.0650626906133507,258.47457627118598,3.7286432160804002,1.87110726643599,3.1962581137838901,8.1120254348232592,91.489361702127695,54.441743033476698,0,32.793021748841198,15.191740412979399,78.517637732857693,32.977038796516197,19.3215339233038,-0.82125748502994,24.551503941515801,26.5336680318844,0,27.544910179640699,1.2148148148148099,29.231974921630101,409.18326270517002,0,1.7463255580091399,1.9859191883855201,46512]
["G 46.52","Großhandel mit elektronischen Bauteilen und Telekommunikationsgeräten",87,9.7735399284862901,88.774489344049101,29.938271604938301,0.56091541395557598,63.678160919540197,70.341207349081401,29.658792650918599,15.1087673038893,11.035697935691401,-0.45926445681103301,2.8205128205128198,3.9114770972722601,7.4181516784086199,14.0323992994746,2.6093514328808398,9.3147312269183402,305,5.32804672669561,1.8958333333333299,6.6074766355140202,10.637590423979001,85.857267188859893,53.7735849056604,0,38.131970260223,63.952502120441103,34.1605101504705,13.0264784519849,8.2054759684665601,-0.44721160184574799,10.0825077399381,11.8697478991597,7.4181516784086199,12.680905826377,2.17295597484277,22.956808792226301,381.538461538462,0.305676855895197,2.3992718446601899,6.7792494481236201,46520]
["G 46.6","Großhandel mit sonstigen Maschinen, Ausrüstungen und Zubehör",1448,14.868629439911601,84.826714561298502,31.0357840161446,0.37174721189591098,64.728682170542598,67.625899280575496,32.302360313637998,15.799614643545301,13.022567517573099,-0.68630678077682705,2.3940000000000001,4.3987070980397398,12.326043737574601,14.258555133079801,2.0166666666666702,6.8459939967674899,248.23529411764699,5.9205202312138701,1.8760492594384,6.2604349612730203,15.117994100295,84.155455904334801,52.3725834797891,0,43.170731707317103,60.750853242320801,39.133155110630803,13.5922330097087,13.3683736296741,-0.67567567567567599,11.613148788927299,13.7170079947432,9.8465340493043705,14.6472805600431,1.86211778029445,23.770491803278698,370.37572254335299,0.87111570866624,2.6814859926918402,7.1631419939576997,46600]
["G 46.61","Großhandel mit landwirtschaftlichen Maschinen und Geräten",214,21.667996807661599,76.992753623188406,24.386309710204099,0,73.764007910349406,77.963525835866307,21.5228426395939,12.3927832002366,9.2198581560283692,-0.854430379746835,1.0316823899371099,2.68399137109316,19.683050909490198,11.162255466052899,1.9933523266856601,3.92228739002933,186.968632675306,10.6078799249531,1.75668449197861,8.0397553516819595,22.163120567375898,76.602564102564102,42.590822179732299,0.467367718244033,54.292049414000601,75.872168145404402,23.827392120075,12.4381894256371,8.8627955605597606,-0.67862849176987805,4.8652700733658802,7.5812969020588801,17.504393673110702,13.108206245461099,1.9818965191428199,12.4720038645646,222.222222222222,3.0277264325323499,2.1006966434452199,7.5868613138686101,46610]
["G 46.62","Großhandel mit Werkzeugmaschinen",76,11.5044247787611,88.176364243519899,24.463519313304701,1.0346449286722099,69.728729963008604,71.555262088581898,28.128872366790599,14.1385964912281,13.195691202872499,-0.66479128856624303,2.22977512869141,2.9258616414579701,11.407249466951001,13.6186770428016,2.25,7.2019867549668897,326.66666666666703,9.4112627986348105,1.9555555555555599,7.0343007915567304,14.210526315789499,85.789473684210506,53.831417624521102,2.3852417669525101,43.569783344186703,62.525879917184298,37.474120082815702,12.4797406807131,13.8557095078834,-0.93427047988366496,9.1150660933269592,10.3678929765886,16.808252427184499,19.544452608376201,1.5354406130268199,19.786535303776699,402.941176470588,1.6772908366533901,2.8730158730158699,8.0129870129870095,46620]
["G 46.63","Großhandel mit Bergwerks-, Bau- und Baustoffmaschinen",66,24.2407303894168,74.880525686977293,20.610687022900802,0.67085953878406701,71.236709569110204,71.483117874870501,28.218130753627701,12.345112436897701,14.6438519697573,-0.89558823529411802,1.0893951452447299,3.8201352964584201,16.2878304175712,14.8593598448109,1.65416899832121,3.86871657754011,167.18009478673,9.0314136125654407,2.0267295597484298,7.2115384615384599,25.1194743130227,68.136272545090193,41.1640211640212,0,36.762020693852698,54.593669803250599,40.662311331380899,7.8208556149732598,15.9166666666667,-1.04016649323621,9.2392881279567494,12.472389380531,11.9787045252884,9.6418732782369094,1.62739100465277,19.521912350597599,167.18009478673,1.2777777777777799,2.88405797101449,6.2984913793103496,46630]
["G 46.65","Großhandel mit Büromöbeln",36,13.461598117463501,86.022233251939895,21.941638608305301,0,76.651305683563706,69.1275167785235,30.233329058907898,16.528215311081901,12.627291242362499,-0.63224196153281498,1.4887049659201601,3.1320999675430099,4.6765396798546304,21.696428571428601,2.00682805710739,4.9614112458654898,173.24535656421,10.7272727272727,1.53128937421252,5.80206794682422,3.5652815343004698,71.724137931034505,28.048780487804901,0,50.944467016206502,64.610673665791793,32.8920570264766,7.7615298087738998,13.207454124041799,-0.45234215885946999,6.9500303951367801,9.0254711246200596,3.4028540065861699,10.942249240121599,1.95617529880478,17.1351919567138,173.24535656421,1.72727272727273,2.5600202974850101,7.7322834645669296,46650]
["G 46.66","Großhandel mit sonstigen Büromaschinen und -einrichtungen",36,12.441314553990599,85.941644562334204,31.981767106588201,0,61.8569400893238,55.8441558441558,43.463854462038398,21.167883211678799,16.835016835016798,-0.68105475927967696,2.10128290792463,5.1964458668463402,4.6753246753246804,18.911862551059102,2.4423076923076898,8.0429304713019096,194.444444444444,4.3056300268096503,1.8470588235294101,4.7211895910780699,25,50.372881355932201,38.745762711864401,0,23.543233082706799,40.852162685603602,53.982808022922598,25.0752181949291,21.328671328671302,-1.1620400258231101,10.966422535211301,15.436619718309901,3.3543942500958202,13.0140845070423,1.3059360730593601,20.523560209424101,100.250626566416,0.64137931034482798,1.8470588235294101,3.6735584425440302,46660]
["G 46.69","Großhandel mit sonstigen Maschinen und Ausrüstungen",964,13.049095607235101,86.355255070682205,33.852544132917998,0.54674428475853298,61.749910390942702,65.370914994235704,34.592043155765303,16.771373941545999,13.701067615658401,-0.62211838006230502,3.3545658892947499,5.3380782918149503,11.385199240986701,14.787740003523,2.0115594619789601,7.9596749924766801,289.82706002034598,4.625,1.9275362318840601,5.8307235376226698,13.9212998729035,85.016439643024896,53.4862385321101,0,42.590866728797799,59.893048128342201,39.764166393711101,13.365506249236599,12.484040289402801,-0.674545454545455,12.587462251216801,15.1571164510166,9.5959135273191603,14.7465081799226,1.8550646551724099,25.174337517433798,392.13025780189997,0.713248638838475,2.85630498533724,7.2207792207792201,46690]
["G 46.7","Sonstiger Großhandel",1466,17.279097400362001,82.293178519593596,29.947746570868699,0.49652432969215499,65.339366515837099,72.865103485012597,27.127659574468101,12.1097954790097,12.2584995541536,-0.57980095803657505,1.5787352445193901,3.3610533610533602,8.5921742638160605,11.834319526627199,2.4778183716075199,6.2334487675697696,229.289940828402,6.8022151898734204,2.1386457853523702,7.8777219430485799,17.250673854447399,82.293178519593596,48.564593301435401,0,47.416413373860202,64.600729502184905,35.399270497815102,11.6421235521236,13.0805995081435,-0.59589963280293801,9.2306666666666697,12.0535714285714,7.9814764369381601,12.375138734739201,2.0625,21.836925960637299,309.677419354839,1.2226148409894,2.82914572864322,7.7818181818181804,46700]
["G 46.71","Großhandel mit festen Brennstoffen und Mineralölerzeugnissen",104,14.818548387096801,83.668242997453603,18.3803042068241,0,78.838960414128394,86.530786220792805,12.4768946395564,3.8922797398562299,7.1459026178903402,-0.30017419435112602,0.356264394288346,0.99667774086378702,1.8993145720023099,8.2543978349120408,5.0115019883756498,3.59116022099448,175.86206896551701,11.75,2.3960784313725498,22.890909090909101,16.3317570025464,80.062513666958594,34.385964912280699,0,55.607843137254903,67.251973805006401,31.272727272727298,6.6854990583804099,9.8768864177918996,-0.52509727626459102,4.1560506050605097,6.3841807909604498,3.02223987291501,8.5365853658536608,2.5404719809362799,15.663865546218499,295.34883720930202,2.5901794145420198,2.8676056338028202,10.0268456375839,46710]
["G 46.71-2","Großhandel mit Mineralölerzeugnissen",79,16.997167138810202,83.002832861189802,19.7003110908366,0,76.824070093668396,85.312528349814002,14.687471650186,4.8313384113166498,8.7800369685767095,-0.30017419435112602,0.31703218286910401,0.77940043129352699,1.8993145720023099,8.0406654343807809,5.0778128286014699,3.6341741322308598,212.19676549865201,11.75,2.5090909090909101,19.031710914454301,20.221135445460298,79.160141012650499,34.385964912280699,0,51.985111662530997,63.246682857004402,35.710611516233499,11.831831831831799,11.2666417817594,-0.63734939759036102,4.1560506050605097,6.3841807909604498,4.5632333767926996,8.0627099664053805,2.29571984435798,13.347022587269,244.642857142857,2.1007346372645999,2.7179341890914301,8.1082202294113994,46712]
["G 46.72","Großhandel mit Erzen, Metallen und Metallhalbzeug",170,12.4666573073143,86.507936507936506,36.428966279712498,0,59.831163511648001,78.7735849056604,20.788979336255501,8.2125603864734291,9.1628213579433098,-0.49843545520974503,1.59601236787106,3.02170755504148,9.5819633630812593,9.3444909344490892,2.7203065134099602,6.9963811821471698,231.31672597864801,6.7140562248995996,2.29391304347826,11.142526136092499,18.3339333400775,81.666066659922507,54.39453125,0,42.533936651583701,68.534151957022303,31.465848042977701,10.018903591682401,12.132132132132099,-0.661583740559751,8.0292694965449201,10.476190476190499,9.5819633630812593,9.1416557758963606,2.21577315019938,22.802850356294499,234.375,1.0952380952381,2.5577828447696098,8.2756539603520896,46720]
["G 46.72-1","Großhandel mit Erzen, Eisen, Stahl und Halbzeug",118,13.902686526160799,86.028281586228104,34.1091825297624,0.14963659683625499,60.215664018161199,78.756507335541897,21.242609549622902,7.88649349098712,9.2452830188679194,-0.56194402256454801,1.1827391568508301,2.61382799325464,9.6547489777405904,11.963406052075999,2.5503676722443598,6.5266742338252,226.71957671957699,7.3634272605158699,2.2007575757575801,11.142526136092499,13.492063492063499,85.793255942509703,43.229946568243697,0,50.304035378662199,69.598874032371597,30.3086419753086,9.7583861130659209,9.5743242531403805,-0.58032786885245902,8.0292694965449201,10.847775116561801,9.5819633630812593,10.596352883193701,2.1724489795918398,21.3930348258706,349.805447470817,1.5584255842558401,2.24754901960784,8.1715686274509807,46721]
["G 46.72-2","Großhandel mit NE-Metallen und Halbzeug",34,7.5481491599508299,90.983606557377001,40.350877192982502,0.907258064516129,52.953512757776998,81.535648994515498,16.346153846153801,6.1299817184643501,7.5026476638910404,-0.346935403931935,2.07764711670931,4.1125541125541103,7.6784616735446498,8.40089364981805,3.1928542158565398,7.5951456310679601,448.75,3.7916666666666701,2.5577828447696098,15.9310344827586,11.0089858945563,82.749326145552601,51.7814726840855,0.31729914963827899,32.753118420744499,58.563074352548,32.166805897360597,10.5145413870246,12.132132132132099,-1.29618538076709,7.6002084657262401,9.4575975975975997,5.3085047248471398,8.8441685276383293,2.8432304038004799,22.802850356294499,234.375,4.6296296296296301E-2,2.5577828447696098,8.2756539603520896,46722]
["G 46.73","Großhandel mit Holz, Baustoffen, Anstrichmitteln und Sanitärkeramik",569,20.708748615725401,78.543307086614206,26.9166200335758,0.48993875765529299,70.234664470975702,72.724442138038398,27.1902297230119,12.7379590258987,13.6460554371002,-0.72341513292433501,0.87791545189504405,2.8940945256284301,8.9389534883720891,12.065579623899101,2.2527379949452402,4.5465457016621098,192.90780141843999,8.6390977443608996,2.0867924528301902,7.3260869565217401,20.524835988753502,78.543307086614206,40.041350792556898,0,57.090642227573802,66.25,33.473414946098998,10.478456700943299,14.4359255202629,-0.62833491012299003,7.8766736401673603,10.0318933024065,7.6825235309081696,13.135153819564501,1.9547169811320799,16.926947191307899,254.52364149611901,2,2.98063303602303,8.2580645161290303,46730]
["G 46.73-1","Großhandel mit Holz",231,27.811860940695301,72.188139059304703,24.428088440326899,0,75.301204819277103,75.571973307912302,24.428026692087698,9.9020654044750405,13.3211845102506,-0.98365298840321103,0.56197973093432396,3.0142823325179502,8.4914320685434497,12.406888024367399,2.05689900426743,3.9623164311443602,167.39130434782601,10.2253102936251,2.3892100192678201,9.5299479166666696,19.5828505214369,79.378531073446297,35.117773019272001,0,61.228813559321999,74.125973106864805,24.468085106383,9.5481049562682205,10.360664244940301,-1.0779036827195501,6.1147472642001004,8.6113837095191403,9.3328724507431708,12.170385395537499,1.78192771084337,13.7891077636153,277.71428571428601,2.79190751445087,3.1168831168831201,9.5433901054339003,46731]
["G 46.73-2","Großhandel mit Baustoffen und Sanitärkeramik",260,17.592592592592599,81.714285714285694,28.5337353938937,1.1510389356136399,67.887184562098,72.724442138038398,27.1902297230119,14.090782206340201,13.268101761252399,-0.63688155922039003,1.1004291845493599,2.6901669758812599,8.6002229645145896,12.270462633452,2.39052535681749,4.7974413646055396,218.48739495798301,8.5701608948462304,1.96373571783408,6.8577981651376101,20.299145299145302,75.349986275047996,40.090090090090101,0,54.354232899827302,65.517747811839797,33.985955724827399,10.7758620689655,14.4359255202629,-0.63267198619797305,8.6910364145658292,11.3308494208494,7.2027530473907504,12.0689818345645,2.09845269067507,17.113095238095202,254.52364149611901,1.5833333333333299,2.7532467532467502,7.7461464092963404,46732]
["G 46.73-3","Großhandel mit Flachglas, Anstrichmitteln, Tapeten und Bodenbelägen",54,23.052464228934799,76.785714285714306,39.875604699378002,3.7582903463522501,51.6666666666667,62.607099143206902,36.901763224181401,18.7002982107356,15.5691113267711,-0.54889082209656403,1.0243077968405001,3.2630667051689302,13.798569622282301,8.9387516444964206,2.3059462915601001,4.1062801932367101,228,4.47272727272727,1.6935763888888899,4.9302802460697199,13.866783202444999,85.530185551574803,52.259237473931897,1.30952380952381,45.559061012780099,61.556927297667997,38.122743682310499,11.595433531465201,11.4935822637106,-0.50592916543641797,13.4302527075812,15.595667870036101,11.231138545953399,8.6150239824272603,1.6721311475409799,24.047619047619001,317.02127659574501,0.717592592592593,2.1709352391472199,6.2575107296137302,46733]
["G 46.74","Großhandel mit Metall- und Kunststoffwaren für Bauzwecke sowie Installationsbedarf für Gas, Wasser und Heizung",297,15.8516020236088,82.945736434108497,34.121045030852002,2.2371364653243799,58.515731874144997,69.380154366673693,30.254930254930301,15.711252653927801,12.553582363747701,-0.57979157227004996,2.9185735545634302,4.48456922417488,10.864583815539699,12.761310452418099,2.30649717514124,8.5559622195985803,280.52235502434701,4.3667052409003304,1.9463728549142001,6.3039647577092497,11.791730474732001,88.009888751545105,51.639344262295097,4.0426733352155804,34.741784037558702,63.970588235294102,35.938543754175001,12.8939828080229,10.923303385614901,-0.43263036809816002,12.337866790871001,14.368430335097001,8.7693973294839402,12.375138734739201,2.01378254211332,27.1574638002662,496.79528973333998,0.59597358225149599,2.7215189873417698,7.6422163588390504,46740]
["G 46.75","Großhandel mit chemischen Erzeugnissen",129,8.3720930232558093,91.489361702127695,32.116999710396797,0.13436149082836801,64.202334630350194,72.352185089974299,26.487523992322501,13.601541355108001,12.6760563380282,-0.52336126908111302,2.5925155465572001,3.6821110770174901,8.5164003681357396,14.0439932318105,2.3395348837209302,7.4478940662937703,267.54098360655701,5.2992424242424203,2.27049180327869,7.2131147540983598,7.8769178023485003,91.062917063870401,51.814516129032299,0.119996571526528,36.177311725452803,57.590597453477002,42.300156739811897,16.341413311421501,17.494440326167499,-0.69613804437140503,10.623976109215,13.7119412653854,8.6003834565872399,19.0923317683881,1.53297978123964,20.025839793281701,710.46511627907,0.87067669172932305,2.65486725663717,5.8894472361809003,46750]
["G 46.76","Großhandel mit sonstigen Halbwaren",105,13.403310456197,86.348448687350796,37.905705500512497,0.62263129399025496,56.572977432089999,74.033613445378194,25.709072814728799,11.3802958015267,11.021966706710099,-0.47636097322809001,3.03956854435941,4.1448972483455204,7.6180601390888301,11.590296495956901,2.9527751791358199,10.4201680672269,328.125,3.8,2.3218884120171701,8.5975654739948393,9.2105263157894708,89.212827988338205,53.661697990926797,0,43.023255813953497,51.9264144394308,42.281879194630903,13.4613634295076,12.5095313803637,-0.52420667209113103,10.043079457544,12.30266178287,6.5087145969498899,10.875160875160899,2.4795321637426899,28.910891089108901,386.26073380171698,0.65970149253731303,3.0625,7.2637362637362601,46760]
["G 46.76-1","Großhandel mit Papier und Pappe",51,8.8399430064117794,91.112562336737099,32.520325203252,0.904768342971489,67.4443266171792,79.705493266248794,20.294506733751199,10.613519550649499,10.7076225641711,-0.504201680672269,1.3355311355311399,2.4285714285714302,3.9273773039218298,13.6057037011149,3.16769230769231,5.8115256124721597,427.659574468085,7.2723880597014903,2.2850810246514199,9.4219452390682505,7.4567352308304198,86.596689543802995,56.451612903225801,0,29.257142857142899,66.348195329087005,28.086874795666301,12,11.1383442265795,-0.62538275584206304,6.6733115468409601,7.1594664055807096,6.5087145969498899,12.636165577342,2.2178037949132001,23.778764634638701,343.85964912280701,0.33461538461538498,2.4887218045112798,7.4686064318529901,46761]
["G 46.76-9","Großhandel mit sonstigen Halbwaren a.n.g",49,15.995152983944299,82.280535641823306,40.311804008908702,0,50.227203877612801,67.100924809006798,30.254606315851401,11.5617433414044,11.329113924050599,-0.41358545154826498,4.4863725327583301,5.8213716108452997,8.4993359893758296,10.6772643347817,2.7729757430816502,14.5593869731801,271.16827438370802,1.82,2.63734204678439,7.0734520437070003,19.540229885057499,69.540229885057499,29.637096774193498,0,43.023255813953497,50.3125,48.0735855605692,13.767019667171001,12.571988469229201,-0.42857941834451901,15.130045223290001,16.893595562279401,3.74505370265687,14.8629148629149,1.4659531553404599,23.980716959844099,271.16827438370802,0.21056721056721101,2.8982345700173,5.9864199399415199,46769]
["G 46.77","Großhandel mit Altmaterialien und Reststoffen",70,39.309056956115803,60.061919504644003,41.795457599785003,0,55.073242843703802,68.915712067500706,30.893433799784699,9.4631637058712794,15.437933207309401,-0.74303675048355899,3.1337645536869299,6.9691829233813998,3.89121746758943,10.8644859813084,2.27957730300942,9.8053799429775594,153.10344827586201,2.66066066066066,2.8302752293578002,9.2306976744186002,35.952380952380899,60.875,61.3572509185217,0,28.874000432245499,61.772417409543799,37.220819917478501,10.8334173133125,12.807463952502101,-0.56888159524399295,10.404071246819299,12.1289228159457,3.6585365853658498,10.228761463267199,2.27957730300942,21.189448256983798,175.576179427688,0.52895852725204295,3.3756613756613798,8.8354166666666707,46770]
["G 46.9","Großhandel ohne ausgeprägten Schwerpunkt",287,10.715569150940899,89.130434782608702,26.027397260274,0,71.842650103519702,68.592924172149694,31.407075827850299,11.844331641286001,15.137437088656601,-0.69029293509477296,2.7506756756756801,4.5045045045045002,6.8817912413566003,14.715303553337501,2.4,8.5856903699678302,255.555555555556,5.7948004548940801,2.3234982043748,7.9316037735849099,9.9290780141843999,89.130434782608702,40.421631530705803,0,51.6666666666667,58.268513539581001,41.309823677581903,11.844331641286001,15.8953722334004,-0.75557006092254098,12.377386363636401,14.718019257221499,5.9251559251559298,18.518518518518501,1.85378590078329,26.1061797752809,353.17073170731697,1.3171641791044799,3.2955974842767302,8.1805555555555607,46900]
["G 47","Einzelhandel (ohne Handel mit Kraftfahrzeugen)",9200,22.707423580785999,76.923076923076906,14.4433497536946,0,83.0555555555556,62.372881355932201,37.625754527162997,19.578059071729999,16.039823008849599,-0.81051198677976799,0.74961439588689005,2.6517222525970499,9.4380459148179607,5.1505093281446701,2.6107226107226098,4.6416082245705201,131.22362869198301,9.8968253968254007,1.78623986359623,5.0699352837672604,22.4862888482633,77.102473498233195,33.9105339105339,0,64.161849710982693,55.581395348837198,44.416562107904603,16.8803451581975,16.732542819499301,-0.72631578947368403,7.71054815896942,10.4711005542359,8.9130434782608692,7.2886297376093303,2.1684981684981701,20.677966101694899,200,1.88575241521367,2.3829787234042601,5.7998854439825003,47000]
["G 47.1","Einzelhandel mit Waren verschiedener Art (in Verkaufsräumen)",971,25,74.766355140186903,15.229563269876801,0,81.531531531531499,71.889400921659004,28.110599078341,16.147635524798201,12.486583184257601,-0.636339285714286,0.38798919111292601,2.0115734720416101,7.6923076923076898,3.0784508440913601,3.2817558657461698,3.47826086956522,124,10.397681436553199,1.6767922235723001,6.1477960026881098,21.903199343724399,77.485380116959107,40.032813781788299,0,58.662207357859501,59.020618556701002,40.979381443298998,12.8230878186969,15.715539947322201,-0.71029493058718396,7.0105105890761603,9.9045346062052495,7.34575719196671,7.7677841373671299,2.1985233798195201,20.6410256410256,213.60659674254001,1.6860986547085199,2.6270722938017199,7.4114467060928897,47100]
["G 47.11","Einzelhandel mit Waren verschiedener Art, Hauptrichtung Nahrungs- und Genussmittel, Getränke und Tabakwaren",453,28.698752228164,70.984455958549205,10.924369747899201,0,86.624203821656096,76.568005637773098,23.419378974934499,15.460337972167,9.1481969569905406,-0.49382716049382702,-2.50589900896649E-2,1.20087336244541,6.5359477124182996,1.5037593984962401,4.8930209495475401,2.7131782945736398,111.12656467315701,13.464570284204701,1.5350939534354799,6.4456548370681697,32.894736842105303,65.644171779141104,29.927007299270102,0,65.490196078431396,73.627684964200498,26.058489742470499,12.9380055401662,10.0536193029491,-0.53251500272776897,3.43203413940256,5.4798338062424001,5.3978594695207098,2.48655913978495,3.2673796791443901,16.647169811320801,138.05970149253699,2.5293132744829898,1.9111294030825099,7.6830244728872001,47110]
["G 47.19","Sonstiger Einzelhandel mit Waren verschiedener Art",436,20,79.346680716543702,21.155943293347899,0,77.391304347826093,63.008130081300799,36.7176634214186,17.267470104633801,17.174882487646101,-0.81191409897292299,0.78093262457323098,2.8531266992930902,9.8039215686274499,5.8184639255236599,2.4121212121212099,4.0431249999999999,147.33840304182499,7.9761904761904798,1.90997229916898,5.5848471190029496,19.412381951731401,79.136690647481998,44.886396994070303,0,51.807228915662598,50.700579595971,48.6483390607102,11.3149847094801,18.670886075949401,-0.83503749147920903,10.654840893703501,13.3603238866397,8.4925690021231404,11.7741935483871,1.8712871287128701,29.459459459459499,242.857142857143,1.0516129032258099,3.1910769139005701,8.1436464088397802,47190]
["G 47.19-9","Sonstiger Einzelhandel mit Waren verschiedener Art (ohne Warenhäuser)",296,19.7267759562842,80,21.033210332103302,0,78.844056706652097,63.8888888888889,36.083685942642198,16.513631022326699,16.873449131513599,-0.82685297691373005,0.43248587570621499,2.3296979388854999,9.7618695459251601,5.8312655086848597,2.4375083813866198,3.0973451327433601,147.33840304182499,7.4010349288486399,1.8676046485537601,5.8155140019683298,18.604651162790699,80.6138933764136,48.064516129032299,0,48.802588996763802,50,49.523809523809497,11.1331444759207,19.771528998242498,-0.92201612903225805,12.987012987012999,16.032069249793899,7.2934973637961296,10.5171411969785,1.8681235870384301,34.117647058823501,271.92982456140402,0.84848484848484895,3.1910769139005701,6.6626016260162597,47199]
["G 47.2","Einzelhandel mit Nahrungs- und Genussmitteln, Getränken und Tabakwaren (in Verkaufsräumen)",1235,25.806451612903199,73.770491803278702,7.2322670375521598,0,91.298145506419402,80.339805825242706,19.660194174757301,11.6920375489057,7.76119402985075,-0.54814159292035403,0.77337450677646202,2.0605839416058398,5.5319148936170199,1.34994807892004,5.8816834133347804,6.8621334996880803,105.376344086022,8.1218786258386704,1.72973586082715,8.5268817204301097,27.676447264076099,71.955307262569804,28.7221570926143,0,69.677419354838705,79.783113865220798,20.069930069930098,8.99558969276511,6.5331928345627004,-0.50689265536723205,5.4159090909090901,6.5068493150684903,4.9965776865160896,1.3991769547325099,5.3502824858757103,31.746031746031701,131.36094674556199,1.5115276209444399,2.3008790251421298,10.990811856092501,47200]
["G 47.21","Einzelhandel mit Obst, Gemüse und Kartoffeln ",42,45.628742514970099,52.448979591836697,7.2322670375521598,0,91.298145506419402,67.672756155679096,32.114882506527401,14.4329896907216,14.141414141414099,-0.76779661016949197,-0.68051375795263103,2.03908241291419,1.79372197309417,8.4884586746090793,2.1596020761245698,0.59539905740554699,100,18.148820326678798,1.81608119849901,5.8776290630975101,47.551020408163303,52.448979591836697,27.6530612244898,0,72.346938775510196,66.941624365482198,33.058375634517802,7.5456711675933299,13.741064336775199,-0.88639144915188595,4.1944942567731296,10.606445064704401,0.95785440613026795,16.744501173566899,2.1027351567711801,15.2490740740741,128.955223880597,3.44019138755981,4.2842105263157899,13.252631578947399,47210]
["G 47.22","Einzelhandel mit Fleisch und Fleischwaren ",49,54.669260700389103,43.253968253968303,15.430861723446901,0,84.306569343065703,58.795180722891601,39.2156862745098,23.261729946641999,15.1230425055928,-0.91655052264808401,0.19210751374465501,3.07185957213385,2.7450980392156898,5.8047493403693897,3.14857744994731,2.68118977796397,94.609665427509299,9.1121070300484508,1.7106608244903301,4.1327800829875496,53.460317460317498,31.2,25.1636363636364,0,68.072727272727306,54.854586129753898,44.846050870147302,24.196787148594399,14.357429718875499,-0.56665343740353702,6.1876875659015296,8.9013297872340402,4.1841004184100399,5.4583501357717896,2.6360915116527699,17.222578576010299,115.086206896552,3.4713375796178298,1.85338865836791,3.84020618556701,47220]
["G 47.24","Einzelhandel mit Back- und Süßwaren ",50,48.0030721966206,47.058823529411796,8.1880212282031799,0,83.687002652519894,44.953746470810202,54.918032786885199,28.345854972357898,24.757684851841599,-0.62293697142522297,0.63324193758976399,3.7124255437041098,2.0527859237536701,3.48173515981735,3.8648044692737402,5.8454761097932897,63.559119513555103,7.5505050505050502,1.93670886075949,3.4537887818720798,28.0446927374302,26.938502673796801,20.238095238095202,0.25165942091702598,74.683544303797504,41.137440758293799,51.631009517611702,19.980172413793099,16.970338983050802,-0.66091954022988497,9.22724935732648,12.696335078534,1.44001928059288,3.3686440677966099,2.6708860759493702,20.353454990912301,71.428571428571402,1.5611741471363501,2.1204547826994702,3.9233270886059799,47240]
["G 47.25","Einzelhandel mit Getränken ",110,22.502937720329001,76.923076923076906,7.3170731707317103,0,91.251885369532403,65.821389195148797,34.0983606557377,16.596638655462201,17.826086956521699,-1.3043478260869601,-1.8288222384784201E-2,2.5320672996834901,15.266393442623,8.4957521239380291,1.8076923076923099,2.23266745005875,107.876712328767,22.126315789473701,2.0215189224425201,5.5644171779141098,17.6527777777778,73.685907771686601,33.356070941337002,0,62.628062360801799,55.735492577597803,38.9755011135857,11.7276166456494,16.755319148936199,-1.0250315258511999,7.0845211581291796,12.4156545209177,16.721672167216699,11.702127659574501,1.28388017118402,13.174404015056499,175.126903553299,2.7950120680468999,3.0232558139534902,8.3663366336633693,47250]
["G 47.26","Einzelhandel mit Tabakwaren ",759,22.624434389140301,76.653002502906901,3.7735849056603801,0,96,81.983805668016203,18.016194331983801,10.191563786008199,6.3609467455621296,-0.46403712296983801,1.1036144578313301,2.0168187744458899,5.32407407407407,0.80482897384305796,7.2292682926829297,11.4090517241379,110.81081081081101,5.5680272108843498,1.73598832387113,9.8120369061799693,24.390243902439,75.187969924811995,19.1082802547771,0,80.103552817169501,80.984653362755907,18.961038961039002,8.2886822958771198,5.3791887125220503,-0.42530120481927702,4.9440508628519497,5.6095777548918599,4.8268625393494196,0.66666666666666696,7.0367647058823497,38.570319634703203,125.88235294117599,1.2404126688122199,2.23222400767827,12.019829322950899,47260]
["G 47.29","Sonstiger Einzelhandel mit Nahrungs- und Genussmitteln",136,29.545454545454501,69.724770642201804,15.324525354074,0,82.630691399662695,71.147540983606604,28.654517254749901,15.755544094894301,12.8755364806867,-0.60776859504132197,-0.201904761904762,1.49837133550489,7.1891191709844602,2.8,3.7322720694645399,1.1595221363316901,105.810654007344,13.681818181818199,1.6829912305335,6.2809396184770598,33.492822966507198,65.909090909090907,42.564802182810404,0,52.272727272727302,64.192139737991297,35.344721641882799,13.0990415335463,17.239661185849499,-0.73900523560209397,7.5259825327510903,10.923204879401201,7.7961019490254904,6.6557691566000097,2.39691943127962,18.0296545398961,135.32338308457699,1.53521126760563,2.4952211407976002,7.4739583333333304,47290]
["G 47.3","Einzelhandel mit Motorenkraftstoffen (Tankstellen)",816,14.876033057851201,84.565355786384302,5.1601423487544498,0,93.917018284106902,56.374014677901599,43.6197916666667,22.2509034589572,20.084656374570201,-0.61733099611310105,0.73158310303987395,1.6759067357513,4.3293718166383703,3.7993337265193201,4.37777777777778,5.7521978021978004,99.556868537666205,9.1743119266054993,1.8826530612244901,4.4736652899494302,13.033598441811399,86.792452830188694,20.064205457463899,0,78.659611992945301,44.366886029645798,55.609232420826601,26.602229299363099,23.643074250977001,-0.54644808743169404,4.9107275624004201,6.5789473684210504,4.6738648128975004,4.0455120101137796,3.8066666666666702,22.429906542056099,160,1.5010526315789501,2.07424593967517,3.7411849279353602,47300]
["G 47.4","Einzelhandel mit Geräten der Informations- und Kommunikationstechnik (in Verkaufsräumen)",517,14.969450101833001,84.732946803110096,20.279720279720301,0,76.614310645724302,61.635220125786198,38.257701225571402,19.977227722772302,14.3476297968397,-0.55821371610845305,1.5649310526712401,3.3396996723379599,7.2777542006660401,11.214953271028,2.7643097643097598,6.6995073891625596,188.42487629244999,7.0186903874334803,1.7546666666666699,4.8883676592328698,14.012738853503199,85.046728971962594,38.274932614555297,0,55.533199195171001,49.481245011971303,50.146198830409404,16.465863453815299,17.037037037036999,-0.541277641277641,10.4765363128492,14.0242105263158,3.9513677811550201,14.342708956712499,2.1136890951276102,25.3939091411346,290.90909090909099,1.0609756097561001,2.5620405554174499,5.7441860465116301,47400]
["G 47.41","Einzelhandel mit Datenverarbeitungsgeräten, peripheren Geräten und Software ",283,15.1414309484193,84.765625,23.636363636363601,0,72.951739618406293,55.8441558441558,44.1558441558442,20.5980066445183,15.037593984962401,-0.54059856864020805,2.3612570839773301,4.0636042402826904,4.1678045719696399,12.188536604181101,2.8042553191489401,9.1034482758620694,207.08661417322801,4.3096134921442903,1.8040345821325601,4.6346348599077301,13.0952380952381,85.4483925549915,45.222929936305697,0,52.631578947368403,42.105263157894697,57.894736842105303,18.588469184890702,18.213296398891998,-0.54059856864020805,12.696951219512201,16.441141266834101,2.0886285777434002,19.572153441717699,1.9685039370078701,32.540512284370102,330.43478260869603,0.939183362005518,2.3414634146341502,4.9027777777777803,47410]
["G 47.42","Einzelhandel mit Telekommunikationsgeräten ",58,9.5359152860826306,89.523809523809504,23.343465045592701,0,75.147928994082804,73.373676248108893,25.977653631284898,13.895216400911201,12.310030395136801,-0.42062010836845298,1.1647954329210299,2.5255972696245701,7.6401725200246497,9.2174567343867597,3.4899135446685898,5.3538880726095899,270.83333333333297,7.0818181818181802,1.85901639344262,6.8888042650418901,8.6921529175050303,91.307847082495002,33.512377109941802,0,64.609053497942398,63.383578556695603,36.616421443304397,17.041420118343201,14.5833333333333,-0.57456877487837199,9.2112350633825102,10.3267075780926,15.5200810845053,10.892056419613301,2.9580246913580202,24.709256401220099,587.5,1.8235294117647101,2.2435344827586201,5.8680555555555598,47420]
["G 47.43","Einzelhandel mit Geräten der Unterhaltungselektronik",170,16.186252771618602,83.706271667191899,13.6690647482014,0,81.028938906752401,65.811965811965806,34.092208342155402,20.522388059701498,14.093357271095201,-0.67183462532299698,0.46898003052773202,1.9808743169398899,13.558201058201099,9.8039215686274499,2.5384615384615401,3.21899736147757,149.659863945578,14.3798463722742,1.5775659245760301,4.6893239054889904,14.285714285714301,85.030549898166996,37.658227848101298,0,60.164458656920999,58.482142857142897,41.517857142857103,13.1986352670247,14.6577380952381,-0.58019022630370598,7.7542243237605204,10.664691961687,8.95194987282588,13.3928571428571,2,15.785136350015,244.28571428571399,2.5344418052256499,2.9430725391575301,7.5765409056979198,47430]
["G 47.5","Einzelhandel mit sonstigen Haushaltsgeräten, Textilien, Heimwerker- und Einrichtungsbedarf (in Verkaufsräumen)",1832,21.183800623052999,78.397711015736803,18.4444444444444,0,78.478664192949907,60.869565217391298,39.126712328767098,21.441441441441398,16.558861578266502,-0.84745762711864403,0.854700854700855,3.0131826741996202,12.6200274348422,8.5446864800845805,2.2471609886439499,4.1038461538461499,157.333333333333,9.7307692307692299,1.76750146004206,4.6216216216216202,19.774011299434999,80,33.75,0,64.656964656964703,58.356164383561598,41.571871768355699,16.120673076923101,15.457413249211401,-0.694819047619048,7.9,10.801393728222999,9.6330275229357802,10.965040412893201,2.1390070921985802,19.773095623987,234.977578475336,2.2337662337662301,2.4658385093167698,6.0802047781570003,47500]
["G 47.51","Einzelhandel mit Textilien ",249,17.1158691837839,82.254697286012501,10.6666666666667,0,87.223823246877998,54.4554455445545,45.355191256830601,25.755764411027599,20.471569185389399,-1.39748822605965,-1.2616445519894299,1.6,20.600858369098699,2.6315789473684199,2.1059907834101401,1.6133574007220199,141.17647058823499,20.5828189562822,1.7301019196778,3.8292682926829298,21.071428571428601,77.272727272727295,30.934343434343401,0,66.7870036101083,52.601156069364201,47.297297297297298,18.374976744186,19.615912208504799,-0.79402834008097201,7.8789717957872201,11.061931818181799,13.937753721244899,3.31143991216672,1.97465564738292,18.904109589041099,183.07692307692301,2.0902777777777799,2.62732919254658,5.3822640062617202,47510]
["G 47.52","Einzelhandel mit Metallwaren, Anstrichmitteln, Bau- und Heimwerkerbedarf ",649,26.980198019802,72.501982553528904,22.6666666666667,0,73.043478260869605,64.864864864864899,35.035349567949702,19.915509957754999,14.2122186495177,-0.76503144654088095,1.11251694159531,3.01672888151528,9.75225172338018,9.0459534434929392,2.3198664608930999,4.6305471124620103,153.70370370370401,7.9875638757049101,1.7180616740088099,4.9636363636363603,25.954714430550901,73.174243982719602,36.1111111111111,0,60.514018691588802,60.332871012482698,39.389534883720899,15.5855339805825,15.04,-0.80758513931888498,7.5966203983101996,10.718835304822599,7.5704225352112697,10.869565217391299,2.2123629112662,19.239904988123499,183.07692307692301,1.9838709677419399,2.30578512396694,6.2388074261783704,47520]
["G 47.54","Einzelhandel mit elektrischen Haushaltsgeräten ",208,14.605067064083499,84.514512163529602,14.4067796610169,0.29122938024415401,80.741497291607899,64.123825317855193,35.396518375241797,20.879120879120901,14.3472022955524,-0.70936639118457301,1.44653647250953,3.7099494097807799,11.863640297138801,9.3805203523318692,2.5135993680470099,5.5290598290598298,154.54545454545499,7.5909090909090899,1.61345009411792,4.7739726027397298,13.157894736842101,86.147186147186105,20.916723875753402,0.77319587628866004,74.117826863054702,51.541425818882502,47.935103244837798,17.393209876543199,13.382899628252799,-0.56370370370370404,8.1268582755203198,10.033346124328499,10.3934160147833,12.4914675767918,2.3592233009708701,19.3341869398207,283.13253012048199,2.2337662337662301,2.5316156203049802,5.7200226101188703,47540]
["G 47.59","Einzelhandel mit Möbeln, Einrichtungsgegenständen und sonstigem Hausrat ",682,19.239040294354201,80.473372781065095,18.847006651884701,0,78.481012658227897,60.5917159763314,39.385847797062802,20.809898762654701,17.5324675324675,-0.81621004566209998,0.83262935586061204,3.2757051865332101,14.1591215565402,9.4555231906789192,2.1423611111111098,3.6760464408948401,171.67549427889901,10.4189406099518,1.85114503816794,4.7234042553191502,19.713261648745501,80.090497737556603,37.162837162837199,0,62.4521072796935,60.5917159763314,39.4082840236686,15.231301793768999,15.026094520150799,-0.61175975301712004,8.1928035982009,11.0059171597633,10.1018010963195,12.085308056872,2.0589353578862801,21.0136945635786,251.51515151515201,2.4170212765957402,2.4882226980728102,6.2752475247524799,47590]
["G 47.59-1","Einzelhandel mit Musikinstrumenten und Musikalien",60,17.3626373626374,80.519480519480496,22.703412073490799,0,69.938650306748499,64.617691154422801,34.3042071197411,18.561278863232701,15.8576051779935,-1.5527950310559,-0.68376749854772001,1.8725209851489699,38.378998192371199,5.68720379146919,1.7166666666666699,1.9638242894056801,295,16.7169811320755,1.8435777871979699,5.2871114215857498,18.8976377952756,81.1023622047244,28.6111111111111,0,68.3333333333333,64.275974911371705,35.724025088628302,15.3323823708334,13.8134295483627,-1.1768010403120901,5.7161262050832597,7.3013600572655699,38.386020851251303,8.1632653061224492,1.8073836276083499,12.2997711670481,309.09090909090901,4.5147058823529402,2.0745341614906798,5.7846790890269197,47591]
["G 47.59-2","Einzelhandel mit Wohnmöbeln",294,19.702602230483301,80,19.148936170212799,0,78.520286396181405,61.169427508723501,38.780321298947499,19.914727272727301,17.633136094674601,-0.74067164179104505,1.2420768829361599,3.83592417061611,11.9469026548673,10.0358422939068,2.1436619718309902,4.5047350908625496,149.39759036144599,8.9789569069673796,1.9153605015674,4.9518272425249199,20.134228187919501,79.084967320261399,40.763571286538102,0,55.517995625372798,61.897277575077197,37.940907008703597,13.7672638436482,15.031367628607301,-0.57421503330161705,9.0006955177743393,11.403508771929801,9.0823427080313106,12.703583061889301,1.9322548028311399,21.8075539568345,251.35717363205501,1.51055254286971,2.5782101167315199,6.7953307392996098,47592]
["G 47.59-9","Einzelhandel mit Einrichtungsgegenständen und Hausrat a.n.g. ",202,16.822429906542101,81.025641025640994,15.759717314487601,0,79.107981220657294,58.235657001850697,41.741357234314997,23.018108651911501,17.485265225933201,-0.87799607072691599,0.96379428964568303,3.2558139534883699,12.380952380952399,10.3875968992248,2.4515151515151499,3.9473684210526301,188.75367069589601,10.2982456140351,1.8251497005988,4.2643097643097603,14.634146341463399,85.365853658536594,33.3333333333333,0,64.8189209164819,60.196560196560199,39.803439803439801,16.120673076923101,14.893617021276601,-0.60364203954214402,7.69500520291363,10.6854542785851,9.5798319327731107,12.425644415069399,2.41721854304636,21.875,318.36186172071302,2.5645161290322598,2.5631970260223,6.2032149354328796,47599]
["G 47.6","Einzelhandel mit Verlagsprodukten, Sportausrüstungen und Spielwaren (in Verkaufsräumen)",768,21.5524360033031,78.125,12.358223062381899,0,85.556650246305395,62.962962962962997,36.990950226244301,19.9845982142857,18.085106382978701,-1.25229357798165,7.8454819590308804E-3,2.3144206404054399,21.656050955413999,3.5078903781617701,1.9491676956330899,2.7070644718792898,125.531914893617,15.4,1.88657965159795,4.9818298190093504,29.386437029063501,69.639309243308105,30.260380014074599,0,67.796610169491501,55.608820709491901,44.256120527306997,17.3378738525318,19.544984488107499,-1.0568093385213999,7.3255345209854701,12.2938530734633,17.561205273069699,4.9079754601227004,1.57,14.285714285714301,168.58846918489101,3.0779273503918101,2.5519286223157001,5.7219690063810402,47600]
["G 47.61","Einzelhandel mit Büchern ",72,13.223140495867799,85.448916408668694,10.924369747899201,0,85.777067518977205,70.089285714285694,29.810996563573902,20.214950472241402,12.3711340206186,-0.80254777070063699,-1.1385199240986701,-6.53737197646546E-2,11.7178158628936,3.1578947368421102,3.5011102269675298,-1.4590909090909101,100,64.8888888888889,1.5698282300224,4.9331033787437599,13.2930513595166,81.743050338091706,17.0974155069582,2.6368357970435499,73.529411764705898,66.185897435897402,32.5842696629214,17.418896833503599,12.5968202201386,-0.80254777070063699,2.7617865813711502,6.08886662299125,15.858132898491601,4.7477744807121702,2.4811133200795199,11.320754716981099,172.54901960784301,4.7234042553191502,1.8979591836734699,5.73617021276596,47610]
["G 47.62","Einzelhandel mit Zeitschriften, Zeitungen, Schreibwaren und Bürobedarf ",115,13.8613861386139,85.0951374207188,12.115384615384601,0,79.827400215749705,67.970660146699302,32.029339853300698,20.509291121816901,14.3587558585428,-0.74936170212765996,-0.24062500000000001,1.0234938357757599,14.5,3.72492836676218,2.8571428571428599,1.72657342657343,169.02439024390199,23,1.6575139649975501,4.77828492392808,8.6294416243654801,88.046958377801502,32.4427480916031,0.49751243781094501,44.881889763779498,66.126970600766896,31.6989737742303,15.1469961653174,13.672871784145601,-0.49305816135084402,5.1380715255771801,6.3758389261744997,7.9395085066162601,6.02295145527735,3.0387096774193498,19.811430750897699,350.892857142857,1.76685382229377,2.2362869198312199,5.9423631123919298,47620]
["G 47.64","Einzelhandel mit Fahrrädern, Sport- und Campingartikeln",487,28.218966846569,71.009771986970705,12.961719274681,0,86.223776223776198,60.572743543850699,39.427256456149301,20.038423442014,19.658119658119698,-1.4706855791962199,0.601393188854489,3.80499405469679,25.267175572519101,3.2400589101619999,1.63741339491917,3.6483490566037702,123.47826086956501,13.2941263683313,1.98888888888889,4.9556578400545703,37.964912280701803,60.551724137930997,29.4871794871795,0,69.747899159663902,51.856287425149702,47.716916403374299,17.888563049853399,21.052631578947398,-1.2820512820512799,8.5724128613888109,16.337099811676101,19.866071428571399,3.7924151696606798,1.2947976878612699,14.2104338661514,153.246753246753,3.0767386091127098,2.8214285714285698,5.5227272727272698,47640]
["G 47.65","Einzelhandel mit Spielwaren ",72,15.9722222222222,83.269961977186298,1.63934426229508,0,96.697713801862804,61.9957909505437,37.931034482758598,19.459034907597498,19.259259259259299,-1.40515222482436,-0.43528735632183901,0.87692743764172298,24.595924104005601,3.7037037037037002,2.2008547008547001,1.4791701947502101,142.362851020894,40.7368421052632,1.87107194831364,5.1273551423084296,19.841269841269799,76.393442622950801,35.481714885897098,0,54.752851711026601,59.827420901246398,39.889705882352899,16.923886355664699,17.8901210383872,-1.0864371047083601,3.6848946135831402,6.8382920110192797,18.655240606460101,3.1827515400410702,2.0204081632653099,11.5,142.362851020894,4,2.0034167361791599,5.1452536508726903,47650]
["G 47.7","Einzelhandel mit sonstigen Gütern (in Verkaufsräumen)",2826,25.130890052356001,74.379344587884802,16.919739696312401,0,80.360255665310902,56.78391959799,43.2,22.480224260958199,18.800648298217201,-1.12094763092269,0.96681249999999996,3.5111196911196898,15.5844155844156,5.6485355648535602,2.0784508440913601,4.5822085889570596,144.619422572178,10.4230769230769,1.79428571428571,4.4220183486238502,24.4274809160305,75.203252032520297,36.851520572450802,0,58.520365752285997,52.508361204013397,47.491638795986603,17.976141505553301,17.685589519650701,-0.92554128440367001,8.9855476884631393,11.981362306728,12.2299225438239,6.2643239113827303,1.94417643004824,21.217356010058001,210.198555956679,1.7441860465116299,2.3421676569684302,5.5018695617872897,47700]
["G 47.71","Einzelhandel mit Bekleidung",612,21.454777748930798,77.950713359273706,16.117216117216099,0,81.081081081081095,54.723127035830601,45.274212368728101,23.119777158774401,21.783136739662901,-1.25,8.5785953177257498E-2,2.6927784577723402,19.660894660894702,4.1509433962264204,2.08196721311475,2.72630208333333,154.50743494423801,12.9166666666667,1.90518518518519,4.3173277661795399,20.316027088036101,77.926741680632006,42.002600780234097,0,49.225159525979898,51.152073732718897,48.5632183908046,18.424343476448499,21.545893719806799,-1.0180602006688999,8.8888888888888893,11.5320166320166,18.184770712128099,5.1572693807632,1.8212457337884,19.3426724137931,258.59872611464999,1.52380952380952,2.5561414392059598,5.3026328848307802,47710]
["G 47.72","Einzelhandel mit Schuhen und Lederwaren ",251,23.5632183908046,75.6805807622505,14.331550802139001,0,83.0601092896175,54.017479560191703,45.982520439808297,26.3950396825397,19.565217391304301,-1.4293375394321799,1.63352272727273E-2,2.3064250411861602,25.882914412981201,2.29885057471264,1.8427419354838701,2.0833333333333299,173.80952380952399,14.125,1.73676084607071,3.7484488622846901,30.798479087452499,69.201520912547494,37.124183006536001,1.1173184357541901,57.385620915032703,51.097983819185799,48.902016180814201,21.1181271154569,17.925736235595402,-1.3718682001865099,7.6981550195835897,10.1769911504425,23.036093418259,2.6075619295958301,1.7571884984025601,15.659955257270701,209.74930362116999,3.4108152385556401,2.1842024726345799,4.7156348373557204,47720]
["G 47.72-1","Einzelhandel mit Schuhen",170,23.130677847659001,75.203252032520297,15.1898734177215,0,81.410256410256395,55.0473186119874,44.867111726917699,26.848484848484802,18.9947780678851,-1.4641784780292499,-0.65056593095642301,1.4341095890411,26.7295597484277,2.2959183673469399,1.79314616019818,1.6180473372781099,164.28571428571399,21.638330757341599,1.6537021808197501,3.71366030674058,35.3783231083845,64.415584415584405,41.6171736943665,0.34562211981566798,58.116883116883102,51.0763209393346,48.9236790606654,21.518987341772199,17.714285714285701,-1.29951515151515,6.8631764188297399,9.1052511954792408,21.703853955375301,2.6258205689277898,1.63647122847617,14.969135802469101,209.74930362116999,2.8880597014925402,2.14910489781006,4.4233362245702601,47721]
["G 47.72-2","Einzelhandel mit Leder- und Taschnerwaren",37,16.962524654832301,82.597535934291599,27.272727272727298,0,58.375621367419797,51.296296296296298,46.316964285714299,22.310756972111601,23.3108108108108,-0.95990965556183006,0.10614035087719299,2.6836158192090398,22.656691134951998,4.2060988433228204,2.00749639371708,0.68204419889502799,246.666666666667,8.6046511627907005,2.0690790247113902,4.2735618857597402,10.5062486761279,70.054446460980003,58.931607163666499,0,35.027624309392301,49.369085173501603,43.436632429834098,13.823888732262001,17.162471395880999,-0.62165971055341795,8.6802803286611905,11.295096153846201,12.277088189061701,2.2336532486363301,1.7953483845854401,22.9834254143646,246.666666666667,0.29370629370629397,2.2416201117318399,6.1722984275677497,47722]
["G 47.73","Apotheken",473,49.441786283891503,50.258684405025903,3.9509536784741099,0.57971014492753603,92.373923739237398,70.574162679425797,29.394949976179099,18.6179460870108,7.9429376541035603,-0.64369556985990195,2.1029958677686,4.4957120980091902,6.4245810055865897,6.3947078280044103,2.75256006960712,7.9620930940066899,109.803921568627,7.6629175483416896,1.5582761608239,5.3669470091094196,45.117510758027102,54.320987654321002,28.739232576350801,0,70.818890814558102,69.740177439797193,30.2333117303953,15.729359291574401,5.9707554833468697,-0.48313659359190603,7.5613296398892,9.4691896024464803,6.0747663551401896,6.2816188870151803,2.8917861799217701,24.8862788144896,125.84269662921299,1.8761282388831499,1.85170781905315,6.3492578341976103,47730]
["G 47.74","Einzelhandel mit medizinischen und orthopädischen Artikeln ",111,20.037453183520601,79.962546816479403,22.9268292682927,0,73.689061555386004,52.356594811837802,47.643405188162198,24.1663109756098,17.587939698492502,-0.76129722024233804,3.8100548446069502,6.4315352697095403,11.025641025641001,11.4299378287901,2.13622369047149,11.920751259734301,187.5,4.1183206106870198,1.96571428571429,4.10379766441031,22.181348180552799,76.281112737920907,55.887230514096203,0,39.679358717434901,41.431924882629097,57.792946530147901,14.262295081967199,17.587939698492502,-0.90439560439560396,19.846009389671401,23.644578313253,6.5884476534295997,10.4690117252931,1.72316384180791,33.414634146341498,220.51282051282101,0.53475935828876997,3.0132743362831902,5.5798319327731098,47740]
["G 47.75","Einzelhandel mit kosmetischen Erzeugnissen und Körperpflegemitteln ",117,22.4489795918367,76.320132013201302,20.8917197452229,0,74.336283185840699,57.176055773699801,42.586750788643499,21.620232896652102,20,-0.90028895768833905,0.42381562099872,1.6420361247947499,18.422184006878801,5.4577464788732399,2.28720672772066,3.0849720368031801,183.502538071066,11.523809523809501,1.82164461972391,4.38400286302228,19.231798519844901,71.561338289962805,33.9105339105339,0,60.396039603960403,38.090495162208299,54.234527687296399,15.992292870905599,26.212638714118501,-0.91483133537775296,10.8744368779466,13.8816134101624,10.3786816269285,8.6705202312138692,1.85664739884393,17.760617760617802,183.502538071066,1.6951219512195099,3.0194309507286601,5.0157480314960603,47750]
["G 47.76","Einzelhandel mit Blumen, Pflanzen, Sämereien, Düngemitteln, zoologischem Bedarf und lebenden Tieren",207,41.25,58.75,11.320754716981099,0,88.165680473372802,50.285062713796997,49.714937286203003,30.6396205357143,20.749279538904901,-1.0094212651413199,-1.2791987673343601,1.8176384839650099,8.6666666666666696,4.8543689320388301,2.7222222222222201,-5.5336515182956403E-2,102.93040293040301,23.312792337961199,1.65057275863091,3.2637479920300398,28.231644260599801,71.693695040231205,30.637254901960802,0,65.690376569037696,50.834806521312103,48.490787926303398,23.342175066313001,18.706467661691502,-0.66286870407837295,5.2254803675856296,7.9030888030888002,5.9006211180124204,7.0711896798853298,2.5077559462254402,16.961722488038301,170.212765957447,2.2961551614636799,2.0146877234028699,3.9755813953488399,47760]
["G 47.76-1","Einzelhandel mit Blumen, Pflanzen, Sämereien, Düngemitteln; Blumenbinderei",162,46.097301698595402,53.804347826087003,11.320754716981099,0,87.022900763358805,46.9978614082764,52.763819095477402,32.507974957779602,20.8955223880597,-1.1961520991694801,-1.2291734197730999,2.2831050228310499,7.0043103448275899,6.06877950101146,2.4063926940639302,0.14197814836112699,100,21.2839279267452,1.63109659592375,3.0757142857142901,22.2222222222222,70.696312524588905,29.7486033519553,0,65.690376569037696,45.987862440998001,51.469549174697299,25.869180907483798,18.856806128462001,-0.66286870407837295,5.2254803675856296,8.0257227962650397,5.3606633858563999,8.2105676684344893,2.0306349512112498,16.863905325443799,162.595419847328,2.2961551614636799,1.98053251910733,3.80023588142455,47761]
["G 47.76-2","Einzelhandel mit zoologischem Bedarf und lebenden Tieren",39,23.170731707317099,76.408450704225402,10.5480868665977,0,89.4519131334023,58.450702415206102,41.549297584793898,23.056986336671098,19.376693766937699,-0.87269469660774002,-2.3502673796791398,-1.3327710843373499,17.169152649952402,2.30347349177331,3.0661434977578499,-3.3196102800834502,115.351812366738,122.185052878885,1.71489381892619,4.3370802471680596,28.231644260599801,65.079365079365104,10.5480868665977,0,45.840576596284897,61.072902338376899,38.709677419354797,16.037931523304302,18.302499198873001,-0.81670103092783497,4.8143053645116902,7.5653370013755197,15.9891598915989,1.85614849187935,2.87920792079208,15.445544554455401,115.351812366738,2.2314753042398001,2.3983050847457599,6.1610169491525397,47762]
["G 47.77","Einzelhandel mit Uhren und Schmuck ",295,12.604000708089901,87.360594795539001,23.950447350309702,0,74.279835390946502,54.595206254500603,45.404793745499397,25.2577319587629,20.918367346938801,-1.8781914893617,-0.20531866116460301,2.65486725663717,53.416149068323001,2.7954256670902198,1.2888888888888901,2.4497053045186599,275.51020408163299,24.5654548291465,1.8343962591313601,3.9482007692811099,16.2878787878788,83.539535560188099,39.904306220095698,0,56.354438570598298,51.3888888888889,48.529411764705898,19.090909090909101,19.047619047619001,-1.46452991452991,8.1533088235294109,11.998765559098899,38.207094918504303,4.1002277904328004,1.39442231075697,14.814814814814801,348.38709677419399,2.62683042040624,2.5410958229506302,5.1623148950212396,47770]
["G 47.78","Sonstiger Einzelhandel in Verkaufsräumen (ohne Antiquitäten und Gebrauchtwaren)",660,25.105042016806699,74.115983026874105,21.3212241720321,0,75.321336760925405,50.026867275658198,49.959967974379502,22.965280135823399,20.320855614973301,-1.0318573185731901,1.6860045146726901,4.5944110854503499,13.6706135629709,6.3071028588270002,2.1647770219198801,6.2337662337662296,150,6.2653837547549802,1.9923338458540001,4.3129746902021804,20.447284345047901,77.7777777777778,35.395513577331798,0,59.847266881028901,42.503629500580701,56.439558708183597,20.246478873239401,20.470588235294102,-1.01652892561983,11.701807228915699,15.688396654049299,11.2676056338028,6.5876777251184802,2.0172084130019101,26.923076923076898,211.76470588235301,1.28943758573388,2.5825565912117199,4.5867145652243604,47780]
["G 47.78-1","Einzelhandel mit Fotoartikeln, optischen und feinmechanischen Artikeln",247,33.352946233437599,66.647053766562394,16.8905950095969,0,79.726651480637798,38.542816590443103,61.457183409556897,32.349323493234898,22.795954213477899,-1.1202352941176501,2.87490287490288,7.1394765539803702,16,4.2944785276073603,2.1453346448789499,8.7731322823851894,150,4.8050942762417996,1.83949858162258,3.0865124211107799,32.258064516128997,66.6666666666667,38.709677419354797,0,55.376344086021497,38.596491228070199,61.237785016286601,25.2708245243129,20.8655332302937,-1.0230179028133,12.9416541353383,17.309939759036101,12.0323559150657,4.2682926829268304,1.9617834394904501,28.476821192052999,200,1.05376688326858,2.3947368421052602,3.8093072177843501,47781]
["G 47.78-2","Einzelhandel mit Brennstoffen",61,29.357798165137599,69.2625459382988,12.9216398546964,0,81.815827726374593,85.308056872037895,14.077552986512501,4.8340548340548297,8.2609716029101108,-0.29060693641618501,0.38645903859174002,1.55038759689922,2.1413797298941502,6.9767441860465098,4.1732168850072799,3.55353075170843,107.341704597353,8.2569269521410593,2.4167819145294498,19.557894736842101,30.425055928411599,68.577981651376106,29.0137614678899,4.5662100456620998,64.420803782505899,76.906829382774006,23.093170617226001,9.69961018115111,9.87775061124694,-0.29339853300733498,3.28598265895954,4.9049518892278803,1.7849553761156001,11.898615348509701,2.73460410557185,13.170731707317101,129.24107142857099,2.7878787878787898,2.3002364066193901,10.309692671394799,47782]
["G 47.78-9","Sonstiger Einzelhandel a.n.g. in Verkaufsräumen (ohne Antiquitäten und Gebrauchtwaren)",335,19.7752808988764,79.527559055118104,26.1732163296452,0,71.698113207547195,58.463136033229503,41.536863966770497,19.291338582677199,18.720880982634501,-1.0526315789473699,1.8193133047210299,4.3661971830985902,14.192849404117,7.73558368495077,2.0539772727272698,6.1983471074380203,173.91304347826099,6.375,2.0806392836691101,5.0998486858082197,12.8878281622912,85.790884718498702,35.395513577331798,0,60.714285714285701,54.163540885221302,45.259938837920501,14.7117296222664,18.115942028985501,-0.99909999999999999,11.8406616862327,14.8484848484848,9.7560975609756095,10.469157254561299,1.97413793103448,25.490196078431399,239.56783674388601,1.4039528911972901,3.0471180678063998,5.9537135077900496,47789]
["G 47.79","Einzelhandel mit Antiquitäten und Gebrauchtwaren",75,8.4507042253521103,91.549295774647902,28.204193254330001,0,71.558796718322697,56.942277691107599,43.057722308892401,13.3239831697055,25.498891352549901,-1.7661991584852701,1.5190596137699399,4.0737148399612,40.303030303030297,6.9212410501193302,1.3020858830008599,3.5231132075471701,272.67441860465101,11.56,2.8527139377250599,7.1801801801801801,3.8852462494960398,96.114753750503994,44.0895877098054,0,46.296296296296298,55.583437892095397,44.416562107904603,5.5790363482671204,17.6913425345044,-1.7661991584852701,11.838288920056099,12.948517940717601,74.948132780083,5.6737042173935404,1.02325581395349,16.7309175019275,1010.39307667422,2.4959054658626698,4.2321428571428603,10.029999999999999,47790]
["G 47.8","Einzelhandel an Verkaufsständen und auf Märkten",49,33.862433862433903,60.883255288228597,-7.7268297105555401,0,100.132275132275,51.685393258426998,45.127112099589198,23.3766233766234,26.012529383315901,-1.05714285714286,-4.63402757796419,-2.3757097791798101,5.9750212886744301,3.3778543731150399,2.1656441717791401,-11.232929115183,72.996645546030607,116.228529411765,1.68888888888889,3.93602231520223,56.25,35.256410256410298,9.1052578345834192,0,87.802547770700599,51.464435146443499,43.336092480567899,14.8475120385233,17.154811715481198,-1.19654388461473,4.1945985049433299,9.2335996099397306,3.9138943248532301,3.6212914485165801,2.1652542372881398,7.4666666666666703,57.653061224489797,5.4039054170500496,2.2135135135135098,4.2777777777777803,47800]
["G 47.9","Einzelhandel, nicht in Verkaufsräumen, an Verkaufsständen oder auf Märkten",133,18.867924528301899,78.362775053418304,18.005989518342901,0,80.232558139534902,52.631578947368403,46.624638823220401,18.699186991869901,27.1528636176349,-0.96521739130434803,0.72326901248581199,3.7757294429708201,6.8535825545171303,11.829025844930401,2.0932203389830502,4.8809278350515504,139.53488372093,8.8139534883720891,2.3354037267080701,5.0509885535900096,27.642276422764201,69.620253164556999,45.597484276729602,0,53.445945945945901,35.874125874125902,59.909909909909899,12.7659574468085,30.851063829787201,-0.75187969924812004,10.8141361256544,16.544655929721799,3.2266526757607599,12.592592592592601,1.7361438418345601,22.106722106722099,167.535853976532,0.92783505154639201,3.4102564102564101,5.9197651663405102,47900]
["G 47.91","Versand- und Internet-Einzelhandel",64,13.7362637362637,84.623166413758199,16.218294762575301,0,80.908152734778099,54.214907664338298,45.465393794749403,18.556701030927801,27.193214948316999,-1.0489217084836799,-0.691941540647519,1.95131845841785,10.3487800884231,13.0558633247175,2.0932203389830502,2.4534859946841099,171.07583774250401,13.6283783783784,2.33223600911623,5.2416502946954804,18.834080717488799,73.913043478260903,44.785276073619599,0,54.402515723270398,49.221183800623102,50.464396284829697,8.6687306501547994,31.3388429752066,-0.77004048582995999,6.7606060606060598,9.3612334801762103,4.9429657794676798,11.439545873761199,2.09718670076726,16.770538243626099,197.058823529412,1.2777777777777799,3.7906976744185998,7.46511627906977,47910]
["G 47.99","Sonstiger Einzelhandel, nicht in Verkaufsräumen, an Verkaufsständen oder auf Märkten",65,25.783132530120501,71.428571428571402,18.812709030100301,0,79.267592401128894,46.551576054281497,51.2993646554891,20.0438670490974,25.339366515837099,-0.96296296296296302,2.0441891891891899,5.8252427184466002,5.6265984654731502,11.312217194570101,1.9936091490077399,7.4768602798921497,129.107981220657,6.42372881355932,2.3858518982434198,4.3529411764705896,27.642276422764201,68,45.707376058041099,0,47.598610064514801,35.714285714285701,64.125874125874105,14.493874809707201,30.510328068043702,-0.87704918032786905,13.9590017825312,20.016165211165699,3.5650623885917998,12.7027027027027,1.6463292658531701,26.369662921348301,158.78661087866101,0.614189544199642,3.0988235294117601,5.1839202837746097,47990]
["H","Verkehr und Lagerei",4181,51.372725215105902,48.160148113862498,17.600000000000001,0,79.079497907949801,18.1397266670972,81.834532374100704,30.940506329113902,42.900763358778597,-1.0151891252955101,1.24485942898849,7.6516562220232798,0.409067666609852,14.1492837396331,1.9836065573770501,4.83196894848271,100,5.3333333333333304,2.3344917463075601,3.2025314741955202,50.107526881720403,49.462365591397798,36.822369262401999,0,60.590750097162797,9.9830890642615593,89.935453024145303,28.902953586497901,41.293532338308502,-1.0055687203791499,10.1060743801653,19.932124352331599,0.27894002789400302,14.6875,1.4581151832460699,17.7456554878049,121.721450355812,1.6428571428571399,2.7250000000000001,3.3961097094490098,48999]
["H 49","Landverkehr und Transport in Rohrfernleitungen",3364,56.475903614457799,42.906574394463703,16.722011385199199,0,80.314203270278895,15.201984408221101,84.773988897700207,32.5372655874339,46.122448979591802,-1.16991260923845,1.0573476702508999,8.4586466165413494,0.54200542005420005,13.543490951547,1.88935456831517,4.4645965765004796,98.082191780821901,5.2691131498470902,2.3915662650602401,3.0646161453628999,53.782490951400703,45.925925925925903,35.446685878962498,0,62.8108108108108,9.0538336052202304,90.779437215563107,29.742907801418401,44.190115177139504,-1.1211783718058199,9.7909983633387903,20.112517580872002,0.403632694248234,13.746630727762801,1.4822888283378699,16.9159963270703,115.12077294686,1.7336952241955901,2.7702407002188201,3.33925925925926,49000]
["H 49.3","Sonstige Personenbeförderung im Landverkehr",983,76.146788990825698,23.655913978494599,23.444502344971301,4.4883303411131101E-2,73.780043699927205,9.1993185689948902,90.800681431005103,34.749034749034699,51.764926774314702,-2.189336492891,1.05562987736901,16.376451077943599,0.82369693552563195,10.163731850478801,0.95899772209567202,3.30486725663717,93.052547841074798,5.46511627906977,2.4397538209692899,2.8674698795180702,75.510204081632693,23.9316239316239,38.252569750367101,0.42553191489361702,59.854959156714202,5.2892561983471102,94.372294372294405,27.647058823529399,45.984058859595301,-1.9972314507198199,14.815945533214601,32.190760059612501,0.80246913580246904,11.469762694564899,0.6875,14.382799450259,101.92649434571899,2.23133543638275,3.1878616157804598,3.5885022692889601,49300]
["H 49.31","Personenbeförderung im Nahverkehr zu Lande  (ohne Taxi)",89,62.386980108499102,35.369578497251098,27.422303473491802,8.7260034904014003E-2,67.110125646710998,15.8642462509866,83.097261567516497,38.743389391979299,37.216624685138498,-0.92282776349614404,2.60971855760774,13.520841683366699,0.32110091743119301,10.888501742160299,1.26315789473684,6.2103896882147804,96.502498215560294,2.7431818181818199,1.9819218829365099,2.5398230088495599,48.694187026116303,50.498991216162104,36.5514144589133,4.4903457566232603E-2,50.463352990732901,19.662424545349701,77.534246575342493,29.986052998605299,36.1119296897824,-0.36637317851512902,13.3333105450478,19.196263979353599,0,10.385942893002801,1.0214662314838101,18.578960582475499,117.993079584775,1.0819462227912899,2.1795448159595399,2.5826580226904401,49310]
["H 49.31-2","Autobusliniennahverkehr",72,63.589743589743598,34.719710669077799,29.505192425168001,8.7260034904014003E-2,66.279069767441896,15.8642462509866,83.368756641870306,39.372822299651602,37.752293577981703,-0.78400918133129305,2.6955868544600898,13.2339449541284,0.54787372815027402,10.888501742160299,1.26315789473684,5.7958666666666696,96.859613472653905,2.6454849498327802,1.9576074311762199,2.52316602316602,48.6531986531987,51.305812973883697,46.4195450716091,4.4903457566232603E-2,50.420875420875397,19.662424545349701,77.534246575342493,38.719799184185803,33.698630136986303,-0.30464480874316902,14.153843345936,19.134816271353099,0.27894002789400302,10.385942893002801,1.43107319263583,18.578960582475499,125.806451612903,1.04656862745098,2.1649484536082499,2.52316602316602,49312]
["H 49.32","Betrieb von Taxis",248,60.588235294117602,38.461538461538503,6.2600321027287302,0,90.792838874680299,6.4415584415584402,93.544303797468402,43.474715025906697,46.007012076353703,-1.53927855711423,-4.9389179755671898E-2,9.5890410958904102,0,11.5170278637771,1.85617825793383,4.3209183673469402,92.857142857142904,5.5666169289829002,2.05833333333333,2.29574468085106,47.861635220125798,51.081081081081102,37.1891891891892,0,61.747430249632899,1.61691542288557,98.296836982968401,37.084870848708498,37.634408602150501,-1.47605042016807,13.0607483492296,20.430107526881699,0,14.2643923240938,1.4955223880596999,24.7706422018349,120.15503875969,1.2197802197802201,2.5204081632653099,2.68341708542714,49320]
["H 49.39","Sonstige Personenbeförderung im Landverkehr a.n.g.",588,84.586504658862097,15.010351966873699,28.571428571428601,0.54794520547945202,69.348659003831401,8.4540324397814803,91.508438818565395,30.334190231362498,56.069146937241598,-3.07362296353763,1.05562987736901,22.037701974865399,1.46072597309306,9.0712431496971409,0.49130434782608701,2.9183766529867801,92.4720738222438,5.6261682242990698,2.7271602392245802,3.2691453649702402,87.480795880616597,12.250712250712301,37.584951000638299,0.70839500951575396,60.066216732458898,5.2892561983471102,94.710743801652896,26.628308400460298,49.647983766747302,-2.5711726095440799,16.5903704297627,37.160493827160501,1.1980108499095801,10.385942893002801,0.46829121766229898,10.9012289485662,96.636011616650507,3.09015715467328,3.4839685276237402,3.74360440111055,49390]
["H 49.39-1","Seilbahn-, Sessel- und Schleppliftverkehr",387,90.889608802959799,8.8977284622631601,33.6641685233948,0.67617636161541295,64.743453268043396,5.9665871121718403,94.033412887828206,29.744410094915601,60.200943202788601,-4.2472373725397201,0.86229303342705399,27.833302956298802,1.85366588802652,7.0703472840605501,0.37396694214875997,2.4117377349839502,92.754682152059402,6.0212256877022998,3.13429595517669,3.3571428571428599,88.711041707332896,10.9525319801247,39.526295683178397,0.89207422444178197,56.819913639827298,4.6343810134701702,94.880546075085306,26.214519935411801,49.647983766747302,-2.9368898273506399,20.3273314667241,40.616581539920098,1.5423242467718801,6.91018013895245,0.423735753770559,9.6925639860669399,92.946058091286304,3.0966295762832599,3.65336135537054,3.7697478742723298,49391]
["H 49.39-9","Sonstige Personenbeförderung im Landverkehr a.n.g. (ohne Seilbahnwirtschaft)",175,66.963151207115601,32.655405671912597,11.7139730964794,0,87.349397590361406,16.300129366106098,83.699870633893894,35.065417491591496,46.469282023023297,-1.2392504930966499,1.53813346713497,10.837932764676401,0.51915503043322597,12.1268656716418,1.7036199095022599,5.5222887558216902,91.365461847389597,5.0833333333333304,2.27247191011236,2.8496583143507999,59.635613834431403,39.991023339317799,26.477024070021901,0,72.549019607843107,11.5479115479115,87.248322147650995,28.902953586497901,41.798501248959198,-1.5817757009345801,9.8612565445026199,21.493567618450001,0.21945866861741001,13.2596685082873,1.2789473684210499,17.7725118483412,124.024024024024,2.0086956521739099,2.7571896757516199,3.3617271572092302,49399]
["H 49.4","Güterbeförderung im Straßenverkehr, Umzugstransporte",2349,49.5632183908046,50.085470085470099,15.0353704612297,0,82.390745501285394,20.310077519379799,79.663281667557499,31.879250290263698,42.853871439467603,-0.95041972717733503,1.03567149634978,6.6991545893719797,0.42471209298424401,14.415530772408101,2.24079061825267,4.9307479224376696,100,5.1830985915493004,2.37409200968523,3.1266846361186,46.875,52.978723404255298,33.8252847023833,0,63.604240282685502,12.9554655870445,87.0445344129555,30.525720746184302,42.388228636106398,-0.86942598187311204,8.2453283884730499,16.030987398850399,0.24169184290030199,14.7187141216992,1.88935456831517,19.387755102040799,124.354005167959,1.5967741935483899,2.63532763532764,3.2450980392156898,49400]
["H 49.41","Güterbeförderung im Straßenverkehr ",2207,49.857549857549898,49.735449735449698,15.055624227441299,0,82.232346241457904,19.821162444113298,80.178837555886702,31.724683544303801,43.337484433374797,-0.95028409090909105,1.0921937818279299,6.74846625766871,0.42630512265008003,14.415530772408101,2.22773722627737,5.0359712230215798,100.235294117647,5.1830985915493004,2.3867507305130702,3.1413693885396299,46.994535519125698,52.380952380952401,34.198473282442698,0,63.055909082761197,12.437059415911399,87.442922374429202,30.263984915147699,43.1765612952968,-0.86942598187311204,7.9887337303850696,15.9535452322738,0.25212010084803999,14.567206192822001,1.8678947368421099,18.704646101999199,124.354005167959,1.6177814832300399,2.6417270045588599,3.2659834065397799,49410]
["H 51","Luftfahrt",56,17.1875,78.716577540106996,12.4181937172775,0,86.258792736790397,46.428571428571402,50.557244174265399,16.219008264462801,43.014558568184903,-1.15664556962025,0.28719816819317201,7.3023536511768299,1.04079933388843,16.4514462809917,1.82926829268293,3.1358885017421598,102.763793280592,11.281085366786201,2.9121140142517801,5.2553191489361701,21.283422459893099,57.142857142857103,29.0374764087355,0,68.482070638986201,27.906976744186,68.532466050439396,17.1428571428571,38.738738738738697,-1.15664556962025,8.3370253164556996,12.880170316301699,2.9039528432732298,15.4285714285714,1.59554140127389,17.390132111081201,117.567595738915,1.06024096385542,2.9351356425420101,3.2486623486341899,51000]
["H 51.1","Personenbeförderung in der Luftfahrt",44,16.4320597529446,73.461091753774696,12.4325208571896,0,86.254295532646097,43.4762773722628,56.464167486803298,16.608788566849199,48.915289256198299,-1.20955338387067,0.82851239669421495,7.5166681888757001,1.2014438901165301,19.064102564102601,1.59554140127389,3.1358885017421598,108.968609865471,8.3818181818181792,2.9093686354378798,4.8914660831509904,59.718414227491699,40.281585772508301,29.0374764087355,0,70.9625235912645,27.906976744186,72.093023255813904,22.182468694096599,41.837147480351398,-1.7404501216545001,10.8444214876033,16.566866267465102,3.4285714285714302,15.702479338843,1.29870322341608,11.248610596517199,117.567595738915,1.06024096385542,2.9351356425420101,3.2486623486341899,51100]
["H 52","Lagerei sowie Erbringung von sonstigen Dienstleistungen für den Verkehr",681,20.014234390154598,79.205157422102801,22.352941176470601,0,73.549257759784098,48.155427880254003,51.827782290820501,18.7675070028011,22.386319471434099,-0.43314500941619599,1.9904101140918899,4.2436742406784296,3.0175015087507501E-2,16.455209534794299,2.87118391660462,6.6733675265799004,146.020761245675,5.3955789456208603,2.0545454545454498,5.0938700930335097,31.1073059360731,68.75,47.5555555555556,0,47.327249022164303,12.419700214132799,83.568845381671807,23.144040224785599,30.432098765432102,-0.70286028602860295,12.699712276847601,20,0,17.626907505449999,1.4465326787358099,20.5128205128205,157.78285714285701,1.11785714285714,2.5788094346686599,3.6552567237163802,52000]
["H 52.1","Lagerei",48,50.684808073526803,47.4837310195228,28.501540080342501,0.76077768385460698,68.949771689497695,16.838374722949201,82.086761406133107,33.760193373318501,36.339622641509401,-0.84124906507105501,1.4504431909750199,8.1159420289855095,0.45178655290057701,19.895259189437599,1.21692030760352,3.7533512064343202,123.771652685478,6.6958261863922202,1.9671188077935999,2.9147809340394799,57.8130161876445,35.798561151079099,51.0752359722484,2.4255824859211499,42.848840960012197,16.501486620416301,78.398622085315296,37.5029954469207,31.473919199202999,-1.8488095238095199,10.3486686921666,19.492267289174201,0.39682539682539703,22.2213243577296,0.70194986072423404,9.2949640287769792,123.771652685478,1.8055210402722599,1.84919751145962,2.65208888534637,52100]
["H 52.2","Erbringung von sonstigen Dienstleistungen für den Verkehr",627,18.7600644122383,80.570652173913004,21.5602929599129,0,75.086643917640103,53.497536945812797,46.502463054187203,16.9728434504792,20.3553756185335,-0.409020979020979,2.0165931068683398,4.1449697979587601,1.7803097739006599E-2,16.284403669724799,3.0546594982078901,6.8292592946247597,150.47619047619,5.35,2.0631067961165099,5.5918367346938798,24.927536231884101,73.092369477911603,46.234743225608398,0,47.4689462597089,11.912243947858499,84.458398744112998,22.502685284640201,29.952203929899099,-0.69474497681607394,12.699712276847601,19.0289741581832,0,16.489361702127699,1.4911894273127799,20.9308885754584,176.363636363636,0.91582002902757598,2.5825242718446599,3.69320617445804,52200]
["H 52.21","Erbringung von sonstigen Dienstleistungen für den Landverkehr",79,60.895522388059703,39.104477611940297,33.514689880304701,0,65.941240478781296,4.8024842926265601,95.197515707373398,26.000376647834301,49.561403508771903,-1.6327009997342901,7.3055555555555598,18.3457155000768,5.8586919810352099E-2,17.243485768103799,1.0728278405162499,6.7226890756302504,102.057547153881,5.0242130750605298,2.7692833055875701,3.4358974358974401,71.493212669683302,26.892373462891999,53.168469860896401,0,45.1313755795981,0,99.814814814814795,4.3861186688991198,44.637681159420303,-1.5224576271186401,37.491304347826102,63.004484304932703,0,11.012849123616901,0.44456641053786999,25.850713501646499,100.951831554658,0.74742264453998697,5.9448529411764701,5.9558823529411802,52210]
["H 52.21-1","Parkhäuser und Parkgaragen",35,73.100266637375896,26.892373462891999,43.5697882112784,0,53.421260909786199,0,100,8.3463095608844604,57.147211176224403,-1.99595588235294,20.342084887731399,39.207507820646498,0,11.3324175824176,0.40967083439653001,8.1092396601188792,99.806230660919496,3.2535211267605599,5.5502008032128503,5.6439024390243899,71.493212669683302,24.727871648946302,53.543307086614199,0,22.919605077574001,0,100,0,37.422771403353899,-7.1184210526315796,43.221852237252897,63.004484304932703,0,10.238305383936501,0.184736639753941,20.9308885754584,100.951831554658,0.10319662491378701,22.799200739614101,22.799200739614101,52211]
["H 52.21-9","Erbringung von sonstigen Dienstleistungen für den Landverkehr a.n.g.",34,44.303797468354396,50.501299665800197,21.5602929599129,0,75.906183368869904,9.0909090909090899,87.580299785867197,34.651286173633402,38.102893890675197,-1.3365967365967399,1.75499058380414,9.75755208333333,0.40171397964649203,21.7798594847775,1.4911894273127799,4.4705882352941204,127.542643044057,5.8715204569110497,2.3858518982434198,2.7567567567567601,43.281938325991199,48.285714285714299,26.323703984340501,0,24.6376811594203,6.3515509601181703,87.580299785867197,32.079207920792101,33.255269320843098,-1.94645334497761,13.055247524752501,18.5499687916246,0,26.366559485530502,0.67803617571059405,16.519823788546301,145.227272727273,0.66666666666666696,2.57407407407407,2.6369047619047601,52219]
["H 52.23","Erbringung von sonstigen Dienstleistungen für die Luftfahrt",33,37.572702597906201,57.894736842105303,18.489238101977801,0,65.344787008707897,26.137975732854201,72.893165228931693,22.023346303501899,36.244171259008098,-0.980183339348767,1.20569620253165,5.0107991360691102,0.27752977556876801,18.281353682813499,1.5686274509803899,3.8804351839744098,101.50688490517,4.8453500522465998,2.2614840989399299,4.2555147058823497,3.9358600583090402,20.686739532163401,54.812153869181302,0,32.021076046506799,52.2368421052632,46.276595744680897,18.6170212765957,21.2765957446809,-1.0638297872340401,9.5517421060893604,22.6874657909141,0,12.517550809207,0.83196721311475397,12.684313725490201,86.694101508916305,1.2089614265744799,2.4654697289510699,4.453125,52230]
["H 52.29","Erbringung von sonstigen Dienstleistungen für den Verkehr a.n.g.",469,14.965986394557801,84.182569348809807,20.982221439887301,0.60222875471613702,75.117370892018798,69.236583522297806,29.813179551871201,14.029683562027399,13.713862120089001,-0.32500000000000001,1.6255972180223801,3.3459595959596,7.0762166535361702E-3,16.055045871559599,3.4971525373315901,6.9536423841059598,186.585365853659,5.2706289671090598,1.9186666666666701,6.8461538461538503,16.0135681743993,83.908045977011497,40.752089136490198,0.76415422021535295,53.125,34.7730061349693,59.204671857619601,27.0098730606488,20.930663700407901,-0.39866844207723001,8.9655172413793096,12.948676965514901,0,17.162946981352899,2.2631048908574001,22.6405760122875,303.86473429951701,1.3691056910569099,2.3125737209672801,3.6262483863322301,52290]
["H 53","Post-, Kurier- und Expressdienste",53,17.185840431430201,81.799944995991396,17.7133655394525,0,71.795943423462106,16.756756756756801,71.892873116267097,26.309164341042798,34.294871794871803,-0.58381697043706804,0.52361456541204798,4.6000349895031496,0,14.354722524204499,2.8084415584415598,3.78090968753824,112.278308321965,4.8715254561085102,2.0353982300885001,3.1238095238095198,5.2980132450331103,82.792207792207805,27.422148628000699,0,48.591549295774598,2.9535864978903001,68.092485549132903,19.609288610394401,21.380243572395099,-0.46543352601156102,7.9364361702127697,11.7919075144509,4.5868929533857003E-2,19.1907514450867,2.8084415584415598,35.123171146596597,201.51515151515201,0.59821428571428603,3.0051020408163298,4.41326530612245,53000]
["H 53.2","Sonstige Post-, Kurier- und Expressdienste",45,17.185840431430201,81.799944995991396,14.3540669856459,0,75.2407152682256,16.470588235294102,76.212686567164198,34.965138703456503,35.218783351120599,-0.58811126745566999,0.52361456541204798,4.6000349895031496,0,13.4647066759306,3.2304378202142501,4.5424880382775097,100,4.8715254561085102,1.92450744211123,2.6181196581196602,17.197452229299401,82.792207792207805,27.422148628000699,1.3055380080016801,61.755244378799397,30.7171853856563,69.282814614343707,22.658959537572301,36.531791907514503,-0.45987615389025899,8.8772525463567504,13.0843562287804,0.34682080924855502,23.4177215189873,3.1390728476821201,35.123171146596597,201.51515151515201,1.13347457627119,3.0051020408163298,4.41326530612245,53200]
["I","Beherbergung und Gastronomie",8559,82.236842105263193,17.529239766081901,6.2633832976445403,0,92.721834496510496,23.601789709172301,76.398210290827706,38.165680473372802,37.396121883656498,-2.64550264550265,-0.312352941176471,8.0325746799430995,2.0706455542021902,4.5393858477970603,0.97086614173228303,2.3139252533783798,91.463414634146304,12.610712125207501,1.98376335012315,2.6129032258064502,80.122324159021403,19.5411392405063,21.3592233009709,0,77.279752704791306,19.797786826192201,80.191693290734804,31.653302787323401,34.944237918215599,-2.5007996001999002,10.7809090909091,20.955385308697601,1.72684458398744,5.2287581699346397,0.75139442231075704,11.724915824915801,99.677523379554998,3.9912758996728499,2.4903251452689701,3.1372226127121201,54999]
["I 55.1","Hotels, Gasthöfe und Pensionen",4531,89.431818181818201,10.4420731707317,7.8660436137071699,0,91.358994501178302,19.0513219284603,80.948678071539703,37.440880503144697,41.017964071856298,-4.0200843881856496,-0.36666666666666697,10.661738205282701,2.11565585331453,4.9555633942167896,0.58303249097472898,2.3075949367088602,92.565055762081798,13.5828123852438,2.1393442622950798,2.6675015117271399,87.706759240351204,11.931818181818199,20.481122619445401,0,78.282493368700301,16.0287081339713,83.947137911377396,31.828275351591401,37.483221476510103,-3.6285910652920998,11.217944912738901,23.890063424947101,1.7673048600883701,5.1294945939150098,0.533998752339364,8.8939956331877692,98.361215431887999,5.6828186780643204,2.6009166591990498,3.1351909184726501,55100]
["I 55.10-1","Hotels ",2852,90.129379270242794,9.5808383233532908,9.6324951644100594,0,89.093223935493,17.538461538461501,82.455629909805097,36.672231496939297,41.858090862685003,-4.2211773641686001,0.52083333333333304,12.876136661090101,2.0572002007024599,5.8232519991798197,0.52093397745571701,2.7844810741255301,93.219577907498902,12.4444444444444,2.22512431631255,2.7232179207643101,88.403990024937698,10.9670481540997,20.481122619445401,0,78.215527230590993,15.2889784946237,84.696261682243005,31.721073320799899,37.3046875,-3.7117523609653702,12.353887399463799,25.579964004532801,1.7322834645669301,5.8901098901098896,0.499428708407468,8.9313410346559508,98.677926577825801,5.6521739130434803,2.66797541912275,3.1497975708502,55101]
["I 55.10-2","Gasthöfe",825,86.842105263157904,12.890625,-1.1485368052670599,0,100.15503875969,25.622366909230202,74.358974358974393,40.871346153846197,34.351775392237798,-3.0815297331372098,-2.5276758409785902,6.3144117647058797,2.4096385542168699,3.6082474226804102,0.99333333333333296,1.0397328362845599,87.835703001579802,17.576086956521699,1.7853331004638,2.4415741137015798,84.187877860485699,15.114309906858599,8.6169442433019494,0,91.293684855916595,22.8187919463087,77.172774869109901,34.020023419203703,32.191780821917803,-2.5586353944562901,6.9049595141700397,15.5971479500891,2.1857923497267802,3.9900249376558601,0.91616766467065902,9.51672862453532,94.510739856801905,6.1379310344827598,2.1951542600500802,2.9298892988929901,55102]
["I 55.10-3","Pensionen",319,89.274447949526802,10.725552050473199,7.8302715528560203,0,91.315136476426801,14.2136248948696,85.786375105130404,33.669649805447499,52.702702702702702,-4.7274616012465698,-3.9039080459770101,10.2956271576525,1.59362549800797,5,0.54373522458628798,0.76719367588932796,95.857680406739505,17.464566929133898,2.3659635652590998,2.9693877551020398,83.3333333333333,14.4492131616595,17.4139051332034,0,78.947368421052602,12.063492063492101,87.878787878787904,26.637203696263601,46.209912536443099,-3.9144164759725402,10.9996815286624,25.2171296296296,1.47058823529412,4.1401273885350296,0.57790368271954695,8.1871345029239802,100.697906281157,5.7725647587779196,3.24295508729324,3.7020035243073601,55103]
["I 55.2","Ferienunterkünfte und ähnliche Beherbergungsstätten",152,90.651085141903195,8.8888888888888893,10.2644299118567,0,88.695762496828195,16.129032258064498,83.624835019797601,31.320450885668301,47.7777777777778,-4.6629969418960204,1.3914256198347099,13.788119834710701,1.48849797023004,3.90625,0.48462664714494902,2.7677220756376402,95.462908672934503,11.863073291887099,2.45766590389016,3.1538461538461502,89.2222222222222,9.3489148580968298,29.267110002770799,0,68.563254926891304,13.0208333333333,86.845827439886804,25.139713774597499,40.655057894771502,-3.0961734693877601,15.047317502198799,29.550827423167799,1.0416666666666701,1.8840635660768701,0.54821547328751896,9.2964824120602998,98.275290589521902,3.8962962962962999,3.2195541343630301,3.8423913043478302,55200]
["I 55.20-1","Jugendherbergen",56,87.242105263157896,11.1850740671292,11.6866708780796,0,87.581227436823099,18.181818181818201,81.722196152041306,29.483282674771999,44.515306122448997,-2.63919678714859,3.1349999999999998,16.4073550212164,1.31610433117971,3.6311854752580999,0.55310110450297401,3.0334137453164298,89.6672504378284,10.0886075949367,2.6614747927166702,3.3807923042617198,90.651085141903195,7.64617691154423,33.882934872217596,0,58.263772954924903,15.8854166666667,80.428629195309298,24.170616113744099,37.127371273712697,-2.36147757255937,15.7813775510204,26.478149100257099,0.94451003541912604,1.1982817092471201,0.58495049504950503,14.0066500415628,91.237113402061894,2.4736842105263199,3.1057692307692299,3.7417721518987301,55201]
["I 55.20-3","Ferienhäuser und Ferienwohnungen",50,93.588676103247295,5.2982895285773903,15.4108673384849,0,82.251579551981607,9.3220338983050794,90.240123934934203,25.8333333333333,53.7886938992567,-7.3852295409181599,0.99860764754779696,14.950378787878799,0.46339202965708998,5.9154929577464799,0.27877507919746602,3.21057601510859,97.045072002992299,11.4694535639671,3.2195541343630301,3.6979166666666701,91.364303089684299,5.9533721898417999,13.2365456221837,0,71.9816819317236,2.76911023145006,95.8333333333333,14.177215189873399,52.844312149523098,-8.2708333333333304,15.304,39.5833333333333,6.3219078181962193E-2,15.4348628199463,0.266666666666667,5.5177626606198,95.462908672934503,7.7317120526281702,4.9561415142824004,5.3365689086357504,55203]
["I 55.3","Campingplätze",75,91.805324459234598,8.19467554076539,35.279720279720301,0,62.692660294199896,13.461538461538501,86.538461538461505,28.212290502793302,51.917404129793503,-4.8596774193548402,3.4469321851453198,17.442653061224501,1.22950819672131,2.72452068617558,0.46209386281588399,4.7448979591836702,91.928251121076201,6.8849588103165997,2.8759398496240598,3.5141843971631199,82.978723404255305,17.021276595744698,48.788927335640103,0,45.359143444657199,10.1010101010101,89.898989898989896,17.940199335548201,49.603509249567999,-4.5981191222570503,16.1257575757576,31.430186546071202,0.79140757490107405,2.2195560887822401,0.44168421052631601,11.873305954825501,95.786516853932596,4.2324136772811096,3.8942856415843701,4.5888888888888903,55300]
["I 55.9","Sonstige Beherbergungsstätten",121,89.697542533081304,9.7947693355839007,20.626566168781199,0,76.318217769575497,13.0740140464614,86.840202458423704,33.407504690431502,50.847457627118601,-3.6594263225611101,-1.2421798799577399,11.957100371747201,1.14942528735632,7.0399602676903701,0.51246952761216902,1.1403053435114501,92.077754107588405,11.6824524186561,2.4737097739774798,2.83618144403686,89.902912621359206,7.8743741465635004,25.827205882352899,0,72.5855883381263,5.7773109243697496,93.975903614457806,19.9737642585551,46.0992907801418,-5.00271002710027,15.3982891630938,32.214228617106301,0.81300813008130102,4.1825095057034201,0.34467776973207798,7.9475729103342303,97.983515730535103,5.0893057103121802,3.7037037037037002,3.8843381202088398,55900]
["I 56","Gastronomie",3632,63.7417218543046,35.563380281690101,2.8248587570621502,0,95.982532751091696,29.411764705882401,70.5824767498776,39.553361212824598,31.734317343173402,-1.2993311036789299,-0.37475064120832102,4.7566213428029203,2.0710059171597601,4.0384615384615401,2.1951282581712901,2.1630615640599,87.5,10.5451814172783,1.7492447129909401,2.5195743091312601,53.033088235294102,46.376811594202898,22.4489795918367,0,75.570428962579896,27.272727272727298,72.712006717044503,32.634730538922199,28.668171557562101,-1.03727272727273,9.8800313793521308,15.714612399545301,1.7741935483871001,5.7236510337871902,1.9024183283835401,21.9721275315821,106.147540983607,2.0535714285714302,2.1830900243308999,3.0267260579064601,56000]
["I 56.1","Restaurants, Gaststätten, Imbissstuben, Cafés, Eissalons u.Ä.",2986,65.743944636678194,33.596837944664003,1.5686274509803899,0,97.288135593220304,29.537366548042701,70.454545454545496,40.395328083989497,30.720361048429101,-1.3315115421007899,-0.45675403225806399,4.5132692307692297,2.03529308220384,3.7448180561952999,2.2344720496894399,2.0897590361445801,85.714285714285694,10.9953871594766,1.71478873239437,2.4721699107837498,55.5944055944056,43.661971830985898,19.987021414665801,0,78.251121076233204,27.840909090909101,72.159090909090907,33.733652231438597,27.950310559006201,-1.0673932788374201,9.3691102756892199,14.889705882352899,1.78571428571429,5.3435114503816799,1.95575221238938,21.455938697318,102.774529605613,2.1052631578947398,2.0972124226701601,2.9416058394160598,56100]
["I 56.10-1","Restaurants und Gaststätten",2088,65.972511453560998,33.557046979865802,2.8985507246376798,0,95.759717314487602,29.629629629629601,70.366598778004104,40.180874316939899,30.322580645161299,-1.31233595800525,-8.90046124088677E-2,5.0301810865191099,2.0213887051584098,3.9408866995073901,2.1789443423837298,2.8526855359928698,87.6046901172529,10.105060550164399,1.73043678858704,2.4830917874396099,56.338028169014102,43.3333333333333,22.4489795918367,0,75,27.800829875518701,72.159090909090907,33.668081123244903,27.710843373494001,-1.0695187165775399,9.8295774647887306,15.2930675394228,1.7667844522968199,5,1.9024183283835401,22.4609375,104.761904761905,1.8350515463917501,2.11220472440945,2.9433962264150901,56101]
["I 56.10-2","Buffets und Imbissstuben",172,59.259259259259302,38.317757009345797,4.8701298701298699,0,92.845786963433994,35.806426844762797,64.1233766233766,37.481259370314802,30.035335689045901,-1.0380622837370199,-0.95531914893616998,2.7150701647345898,1.4970059880239499,3.2450896669513201,3.0574712643678201,0.373791348600509,86.6666666666667,12.3561094096526,1.7084963523602901,2.64053075995175,53.5,44.954128440367001,22,0,74.857142857142904,36.380952380952401,63.619047619047599,29.910714285714299,26.923076923076898,-0.93931203931203899,8.65625,14.558792650918599,1.3213976278041599,5.6390977443608996,2.8901098901098901,22.2222222222222,88.235294117647101,2.1206896551724101,2.3178654292343399,3.2878602497695799,56102]
["I 56.10-3","Cafehäuser",466,65.737704918032804,33.3333333333333,-12.3539188272202,0,109.70663265306101,28.021978021978001,71.969696969696997,43.028671328671301,32.342342342342299,-1.47591801878736,-2.8876174210076901,2.8727770177838599,2.1857923497267802,2.5735294117647101,2.31372549019608,-1.5009803921568601,75,22.6666666666667,1.61868557537636,2.2970746633231802,50,48.803659394792398,15.078658355595101,0,81.214421252371906,25.589225589225599,73.988439306358401,34.369114877589503,29.767827529021599,-1.05606001976593,7.4366412213740496,12.8378378378378,1.8278750952018299,6.5979381443299001,2.1320754716981098,18.571428571428601,100.6,3.0840336134453801,2.02142857142857,2.79,56103]
["I 56.10-4","Eissalons",49,57.894736842105303,37.7458396369138,4.3076923076923102,0,90.769230769230802,27.697841726618702,72.012578616352201,37.538461538461497,34.375,-1.4925373134328399,-5.5762295081967199,2.98507462686567,2.0421186981493298,3.64700452684191,2.2363286654754999,-8.7478197294897893,104.728546409807,8.6999999999999993,1.8857142857142899,2.6571428571428601,54.827586206896598,37.7458396369138,60,0,28.159160472234401,26.029682343086598,73.321554770318002,34.451678740234499,25,-0.74473188124620004,12.4394366197183,19.740090090090099,1.3208493562949299,5.12367491166078,2.10514372163389,23.071104387291999,125.151883353584,0.52380952380952395,2.0903536475411899,2.85094015544172,56104]
["I 56.2","Caterer und Erbringung sonstiger Verpflegungsdienstleistungen",155,40.586163807792801,58.892128279883401,12.6948775055679,0,85.393258426966298,33.341196056376099,66.658803943623894,34.883720930232599,26.730672056594202,-0.81371428571428595,1.9372549019607801,5.9701492537313401,1.6868964739351899,10.9608358438562,2.5163204747774501,6.1653614457831303,100,6.3266666666666698,1.81575963383637,2.8666666666666698,41.107871720116599,58.892128279883401,41.415929203539797,0,56.735876713506997,29.4634146341463,70.536585365853696,29.266750948166901,27.180783817952001,-0.55863437872171495,13.1736028537455,18.394437420986101,1.2694922775475299,13.702623906705499,1.62962962962963,27.016860465116299,146.72897196261701,1.14115213867072,2.4446764091858002,3.4168466522678198,56200]
["I 56.21","Event-Caterer",70,40.170940170940199,59.413836192207199,5.1511758118701003,0,94.674556213017794,33.6834213400723,66.273619892630506,34.129277824594297,28.624801290147399,-0.81300813008130102,2.44893216080402,6.3604240282685502,1.3994169096209901,13.473053892215599,2.5790289256198302,7.3059360730593603,102.744282744283,4.8360655737704903,1.84736012963046,2.9298245614035099,40.170940170940199,57.692307692307701,41.415929203539797,0,58.100558659217903,27.803203661327199,70.379008746355694,29.330443301129701,29.277171086843499,-0.82663296480051995,13.669214768590701,18.136785162287499,0.98803952158086294,15.6644770085902,1.26738491674829,28.571428571428601,144.07294832826699,0.75280898876404501,2.6962993484587101,3.3323890705879302,56210]
["I 56.29","Erbringung sonstiger Verpflegungsdienstleistungen",65,41.648106904231597,56.942981066947603,12.866449511400701,0,83.170466883821902,32.442377774432501,66.658803943623894,36.593886462882097,25.4794520547945,-0.90512149532710295,-0.17103791174642599,4.1078305519897302,1.7688679245283001,8.5498889205661008,2.1459227467811202,3.2511210762331801,83.3333333333333,7.8830548926014297,1.6464386858664499,2.6314363143631399,38.596491228070199,61.290322580645203,25.862068965517199,0,65.890128179914001,24.6526399364827,74.197384066587404,24.878493317132399,26.280323450134802,-0.49220430107526902,10.6370065789474,12.5,1.0321556173084601,12.841854934601701,1.9146514935988601,18.300653594771202,113.162679618898,2.5075187969924801,2.2764119713933901,3.8577981651376101,56290]
["I 56.3","Ausschank von Getränken",387,56.380952380952401,43.488943488943498,7.8125,0,92.035398230088504,26.635514018691602,73.364485981308405,33.663295123595503,40.307101727447197,-1.33900293255132,-0.65027624309392296,6.6420664206642099,2.5641025641025599,5.4527574771480598,1.71428571428571,1.98786356978447,96.634615384615401,8.1764705882352899,2.1,2.9458483754512601,41.576354679803003,57.339901477832498,30.370370370370399,0,67.758749069247997,23.3333333333333,76.384364820846898,27.439227439227398,35.070140280561098,-1.1368046132971501,12.2678282500378,18.208092485549098,1.9494204425711299,5.4661937808513601,1.5454545454545501,24.9303585575916,135.26570048309199,1.6666666666666701,2.6587960085407998,3.5948051948051898,56300]
["I 56.30-1","Bars und Diskotheken",263,57.142857142857103,42.461538461538503,10.4166666666667,0,89.450549450549403,26.5017667844523,73.4982332155477,31.961259079903101,42.162712851113398,-1.2993039443155501,-5.2873563218390797E-2,7.8066914498141298,2.8648164726947201,5.2318572691473104,1.71428571428571,2.67090909090909,97.168905950096004,6.8461538461538503,2.22826086956522,3.1098265895953801,41.818181818181799,57.407407407407398,38.317757009345797,0,59.913793103448299,23.141237053752199,76.6666666666667,27.439227439227398,35.5555555555556,-1.0168627450980401,12.637248088950701,18.633540372670801,2.1459227467811202,5.9782608695652204,1.6807227376114899,25.1046025104603,150.23696682464501,1.34782608695652,2.8096446700507598,3.63513513513514,56301]
["I 56.30-9","Sonstiger Ausschank von Getränken",107,54.304635761589402,45.695364238410598,2.72108843537415,0,95.744680851063805,28.523489932885902,71.476510067114106,37.825073429996699,34.146341463414601,-1.3213973799126599,-0.65027624309392296,4.7619047619047601,1.83426138224697,6.1657032755298697,1.6755620928766499,0.94161958568738202,93.0555555555556,10.931302068993601,1.8161764705882399,2.6017799693867301,46.198178011763602,53.671391746459697,6.2992125984251999,0,93.7007874015748,25.626204238921002,74.373795761078995,33.3333333333333,26.5397536394177,-1.18514986376022,9.6838431372549003,13.294797687861299,1.32042253521127,4.0190735694822903,2.1294117647058801,35.099337748344396,100,2.5,2.1145194274028598,2.7304347826086999,56309]
["J","Information und Kommunikation",2555,16.7224080267559,82.352941176470594,31.393939393939402,0,64.381625441696102,28.661616161616202,71.338383838383805,32.638331996792303,24.654377880184299,-0.61728395061728403,5.8110619469026501,10.125,0.54794520547945202,20.308880308880301,1.8418785890073801,12.095456031382801,190.16393442623001,2.6805555555555598,1.8798063975582799,2.9230769230769198,14.4113336590132,85.106382978723403,54.088050314465399,0,42.789223454833603,15.6976744186047,84.302325581395394,22.441651705565501,23.061630218687899,-0.68655824726870296,26.966292134831502,33.3333333333333,0,23.294722796975599,1.42005420054201,41.739130434782602,301.66666666666703,0.42062493379300198,3.125,4.1764705882352899,57999]
["J 58","Verlagswesen",400,14.6673936750273,84.810620851229999,26.315789473684202,0,66.596708273500496,36.900936146430098,63.037974683544299,28.952681034210801,27.3490916194569,-0.64749999999999996,4.9069368667186302,8.1082919529283703,0.41131746229589899,19.9512393336042,1.7946656923638999,10.422219496588699,171.581194996649,4.0981032717343604,2.0091286307053902,3.39793457747956,12.651144522539299,86.278697277095603,38.559463986599702,0,55.023442732752798,27.906976744186,71.780128404035807,21.432050657574301,24.647122692725301,-0.52403816239759404,19.6827054794521,24.965435512542001,0.142247510668563,20.759493670886101,1.4702530862465799,31.865384615384599,229.62962962962999,0.88888888888888895,2.7574074074074102,4.17293233082707,58000]
["J 58.1","Verlegen von Büchern und Zeitschriften; sonstiges Verlagswesen (ohne Software)",326,14.6673936750273,84.8,25.531914893617,0,67.321288295365306,39.078438269433697,60.889484858643399,27.202072538860101,27.610619469026499,-0.66699834162520699,4.77536231884058,7.7218146163813799,0.46948356807511699,19.093522746490802,1.8200743494423799,10.5410853325956,171.02010165274001,4.0981032717343604,2.0452487390420302,3.5182777980884401,14.453125,83.389830508474603,38.5465505693235,0,55.2631578947368,31.794630240226098,67.167381974248897,21.856287425149699,24.647122692725301,-0.66699834162520699,18.209319696621499,21.532298447671501,0.22713806043847501,16.985428051001801,1.5280898876404501,30.434782608695699,208.558474628905,0.97,2.7283236994219702,4.1507692307692299,58100]
["J 58.11","Verlegen von Büchern",67,12.186788154897499,87.798154931269096,28.4103720405862,0,63.813229571984401,45.438562219183403,54.561437780816597,27.180600796236,27.495817066369199,-0.768065693430657,4.4396648044692704,6.7039106145251397,11.416490486257899,19.210977701543701,1.4089883638090701,7.7481273408239701,300.74427147234098,5.9537037037036997,2.0265957446808498,3.67619047619048,12.651144522539299,59.320663162151199,38.738374443995099,0,48.076923076923102,29.781542576905899,64.173381855991707,21.856287425149699,31.313131313131301,-0.73469387755102,14.019942091929099,18.181818181818201,5.5118110236220499,12.272108843537399,1.14961585119288,17.2362763165243,178.65771812080499,1.04426221060483,2.2577884154074899,3.6790945406125202,58110]
["J 58.13","Verlegen von Zeitungen",59,15.1854261548471,84.814573845152907,25.533141672687801,0.49265302237416903,68.105798492712907,32.860069223705601,67.139930776294406,32.150313152400798,29.1607396870555,-0.38258334851521197,3.8926931106471798,6.61209068010076,0,13.8231631382316,1.96022727272727,8.7230769230769205,124.152051989673,2.4664003766917202,2.0065359477124201,3.08701066723822,11.560693641618499,88.439306358381501,37.677725118483401,2.3277467411545598,55.305466237942099,34.279475982532801,65.720524017467298,24.10356860441,23.6591701147325,-0.28412052117263797,19.8528712871287,24.662636504976799,0.223941368078176,12.277227722772301,1.81323960995929,41.469194312796198,321.762208067941,8.9229559748427695E-2,2.7931034482758599,4.1487632657723603,58130]
["J 58.14","Verlegen von Zeitschriften",100,14.3264433357092,84.8,22.1046823173427,0,71.755102040816297,37.630662020905902,62.107208872458401,26.920882352941199,28.296429283862,-0.51153324287652602,5.28623956126137,8.0193236714975793,0,24.191528896723,2.13842975206612,13.059330460722601,191.48936170212801,3.7692307692307701,2.2333333333333298,3.5061978225991401,14.088820826952499,82.937285224505601,44.7368421052632,0,54.211332312404302,29.244177202730899,68.205369759773902,22.032374100719402,19.5201490798975,-0.63294942413620403,15.4291007727322,19.740437158469899,0,29.1270527225583,1.57380073800738,26.997840172786201,351.51515151515201,1.26,2.2382053654024099,3.2385816940221801,58140]
["J 58.19","Sonstiges Verlagswesen (ohne Software)",64,30.541012216404901,67.4846625766871,25,0,66.596708273500496,43.616516373991502,55.771617707902401,24.517906336088199,26.829268292682901,-0.95087163232963501,4.6255506607929497,9.0901651725743893,1.19866583281217,18.563478130952799,1.58892669347355,9.5238095238095202,142.50281848929001,4.7438307873090499,1.92165242165242,3.77483323737111,4.6979865771812097,92.105263157894697,35.9596924708204,0,54.410106023009199,43.616516373991502,54.797856794934198,13.792082111437001,20.479354532510701,-1.2048192771084301,19.399409448818901,22.396109053685301,0,19.896969972741999,0.97582037996545801,27.283510770521101,233.333333333333,0.43083900226757399,3.7953690119283001,6.5304347826087001,58190]
["J 58.2","Verlegen von Software",62,13.560500695410299,86.278697277095603,28.9763110005124,0,64.586709886547794,16.5702573334279,83.374083129584307,43.364681295715798,22.623374282882299,-0.52403816239759404,7.0329783119440101,11.1909175162187,0.67698259187620902,27.3772204806688,1.56725888324873,9.8581363004172502,172.383394774804,3.7972009506205402,1.6090225563909799,2.0362168595479999,10.537190082644599,89.010989010988993,37.5,0,44.993045897079298,4.5289855072463796,91.954022988505699,14.5658263305322,16.6666666666667,-0.356415478615071,31.1161033797217,32.604373757455299,0,28.4294234592445,1.33643250688705,40.9282700421941,405.64102564102598,0.36521739130434799,2.5380313199105098,4.3937360178970897,58200]
["J 58.29","Verlegen von sonstiger Software",41,10.989010989011,82.278481012658204,24.797406807131299,0,64.347826086956502,14.615449570596301,83.618581907090501,45.924453280318097,23.705797864183602,-0.54630088086712203,5.3433097851721598,11.374763463791201,0.18181818181818199,28.4294234592445,1.5572100322315801,8.1300610578242996,132,3.7972009506205402,1.64384463462804,1.9212606126768801,7.7283372365339602,89.010989010988993,24.797406807131299,0,50.635208711433798,4.2735042735042699,91.954022988505699,13.1195301200383,24.766844102593801,-0.39853709508881902,33.666248693834902,36.9905956112853,0,28.4294234592445,1.3818681318681301,43.406593406593402,224.24242424242399,0.63551401869158897,2.48905109489051,2.98540145985401,58290]
["J 59","Herstellung, Verleih und Vertrieb von Filmen und Fernsehprogrammen; Kinos; Tonstudios und Verlegen von Musik",287,26.487845766974001,73.512154233025996,25.253516519463499,0,71.627118644067806,35.845211568822897,64.154788431177195,25.168539325842701,31.829896907216501,-0.91864224137931005,3.9244226731980398,10.928961748633901,0.97449125824018301,17.8988326848249,1.4895238095238099,6.6570324444293796,143.16939890710401,3.8514285714285701,2.2910447761194002,3.83634651168133,25.038028597505299,74.303006250620101,39.5161290322581,0,57.377049180327901,31.8247126436782,68.122270742358097,14.303853576108599,29.8078870202107,-0.92478540772532203,22.636761487965,34.2223182372352,0.136740852508487,21.5230961298377,1.04724409448819,25.856443719412699,193.333333333333,0.95155486793695698,4.3362831858407098,6.6769230769230798,59000]
["J 59.1","Herstellung von Filmen und Fernsehprogrammen, deren Verleih und Vertrieb; Kinos",247,26.487845766974001,73.512154233025996,23.701159295835101,0,73.419442556084306,37.306872236708699,62.693127763291301,24.7422680412371,31.659444302829499,-0.86462882096069904,3.7810483870967699,10.3983632206042,1.06435643564356,17.635615498914198,1.49142857142857,6.1409179056237901,140.408163265306,4.4628471018854601,2.2609780844627001,3.9547169811320799,22.012578616352201,74.961971402494697,38.818263943547301,0,55.319148936170201,33.285907769990402,66.376582278480996,14.303853576108599,29.411764705882401,-0.80908257264165095,19.201724137930999,30.726204238921,1.03626943005181,18.965517241379299,1.04724409448819,23.423423423423401,205.75221238938099,0.85370741482965895,4.1996197718631203,6.8368794326241096,59100]
["J 59.11","Herstellung von Filmen, Videofilmen und Fernsehprogrammen",178,20.8485401459854,78.713968957871401,23.701159295835101,0,72.922707544556303,37.306872236708699,62.220820189274399,26.161356105021699,26.848249027237401,-0.71452269642587796,3.7810483870967699,8.6614173228346498,0.81982485559903095,19.000935453695,1.81526822558459,6.6502463054187197,153.84615384615401,4.4504504504504503,2.0887096774193599,3.7535545023696701,12.3398541986264,83.608423449060894,40.540540540540498,0,49.778434268833102,29.554655870445298,65.304914150384803,13.5554998747181,23.364485981308398,-0.69444444444444398,20.430663478780598,28.1279397930386,0,23.4439834024896,1.3633633633633599,32.203389830508499,271.42857142857099,0.59706959706959695,3.9375,6.8368794326241096,59110]
["J 59.14","Kinos",49,72.853185595567894,25.530179445350701,20.5855480884413,4.7281323877068598E-2,74.382716049382694,36.668999300209897,62.732520846696602,21.459882848543302,39.861460957178799,-1.6208108108108099,1.3562536023054801,15.18544436669,1.3487475915221601,10.550458715596299,0.62785588752196797,3.1370677928248001,99.360024625894894,3.5221987315010601,2.7773584905660398,4.4433221099887801,54.484188698807699,41.176898193581202,15.911301303248401,0.16313213703099499,83.349542890488195,33.285907769990402,66.376582278480996,15.4582763337893,34.56,-1.1375240538806899,17.7004421518055,30.726204238921,1.84678522571819,4.4540229885057503,0.53657438667567003,14.5847400405132,115.991237677985,1.94621026894866,4.0926829268292702,6.16585365853659,59140]
["J 59.2","Tonstudios; Herstellung von Hörfunkbeiträgen; Verlegen von bespielten Tonträgern und Musikalien",36,25.696993749379899,72.5,40.717628705148201,0,54.6079779917469,17.027027027027,74.774774774774798,25.765765765765799,34.402332361516002,-1.34339471577262,9.2654320987654302,17.6728182671254,0.321888412017167,20.325203252032502,1.3787128712871299,20,164.583333333333,1.0314842578710599,2.6126128819152798,3.4811379159858298,6.0975609756097597,53.978159126365099,39.5161290322581,0,54.6079779917469,12.3456790123457,83.6624775583483,12.1951219512195,28.186714542190298,-1.9143626570915599,32.8734978540773,43.347639484978501,0,20.987654320987701,0.98780487804878003,46.287128712871301,139.759036144578,0.89795918367346905,3.7280000000000002,6.4275862068965504,59200]
["J 60","Rundfunkveranstalter",34,18.139533605721802,78.211034524744306,22.827496757457801,0,70.400000000000006,18.691588785046701,80.788385383828,37.817416078285603,50.482315112540199,-0.69837476370778695,0.82672331487492801,4.9670855774984997,0,18.153846153846199,2.0478260869565199,4.2424242424242404,106.562894404712,3.2307692307692299,1.6984834162489499,2.54016620498615,31.9449831146595,40.740740740740698,43.209876543209901,0,40.676170385855997,9.5541401273885391,81.308411214953296,1.8181818181818199,48.1405940346813,-1.3195600245694701,12.362641509434001,29.936305732484101,0,12.758620689655199,1.0005690612765199,20.987654320987701,100,0.69333333333333302,23.6666666666667,24,60000]
["J 61","Telekommunikation",94,35.084745762711897,62.589928057553998,30.244685118331301,0,67.976989453499499,31.034482758620701,67.117117117117104,20.326339285714301,33.500184473261001,-0.72034883720930198,5.1665290437577003,15.3970826580227,1.91256830601093,15.237265999129299,1.5996240601503799,9.1289463683435503,118.518518518519,2.77049180327869,2.57286309088181,4.5195729537366596,37.5675675675676,59.697810669133503,39.515455304928999,0,53.3333333333333,24.627183638687701,74.203069657615103,15.662650602409601,28.3783783783784,-0.80265486725663704,19.9365612648221,28.625783348254298,0.53003533568904604,13.9745916515426,1.5625,29.283771532185,125.19083969465601,0.75641025641025605,3.9487179487179498,4.9603857724636304,61000]
["J 61.1","Leitungsgebundene Telekommunikation",31,61.395348837209298,35.930226233630798,43.809523809523803,0,55.487804878048799,17.699115044247801,82.300884955752196,19.270689655172401,46.113074204946997,-0.98896551724137904,6.5734265734265698,23.258045977011498,2.2187004754358202,14.2403814239825,1.5419580419580401,8.0547112462006094,99.005355776587606,1.78015403532168,2.7994011976047899,4.9344262295082002,57.692307692307701,35.930226233630798,47.513581278729603,0.79129678310826401,24.588665733729201,15.547703180212,83.706356311548802,11.2245583038869,42.614145031333898,-0.95714285714285696,20.8787610619469,28.881448763250901,1.30353817504655,9.8878394332939799,1.5419580419580401,24.825174825174798,99.005355776587606,0.179021866842133,4.1917191025089302,4.9603857724636304,61100]
["J 61.9","Sonstige Telekommunikation",47,22.144522144522099,77.855477855477901,23.587343257755901,0,74.681238615664796,33.010262257696702,66.989737742303305,25.531914893617,31.137145452871501,-0.54779097387173403,4.7388209121245799,11.336032388664,0.87609511889862302,18.5544962761956,1.64354838709677,8.1923320145284695,130.357142857143,3.34,2.5196078431372499,3.7841845140032899,21.311475409836099,65.925925925925895,32.592592592592602,0,60.484544695071001,26.284584980237199,70.906960375432107,14.208318622518201,28.281117696867099,-1.2458176337603599,19.100828937452899,27.733860342556,0,23.962743437764601,1.3762466001813201,29.283771532185,140,1.45876887340302,3.0873146622734802,4.4400000000000004,61900]
["J 62","Erbringung von Dienstleistungen der Informationstechnologie",1325,15.1796693537369,83.6158192090395,32.6334972281498,0,63.354510800508301,25.490196078431399,74.404761904761898,36.300174520069802,22.1109357138969,-0.60225806451612895,6.4347687812440997,10.458452722063001,0.56818181818181801,21.445221445221399,1.9018384213189401,13.768115942029,210.81081081081101,2.45786516853933,1.7451923076923099,2.6340718105423999,14.435695538057701,85.106382978723403,57.746478873239397,0,37.558685446009399,12.561763308799399,87.438236691200601,21.3815789473684,21.390168970814099,-0.68655824726870296,30.731707317073202,35.802469135802497,0,24.505928853754899,1.36379114642452,43.3155080213904,312.09150326797402,0.31884057971014501,3.3103695088127401,4.1935211505446004,62000]
["J 62.01","Programmierungstätigkeiten",401,14.0169332079022,84.399504746182402,33.025641025641001,0,62.790697674418603,18.067226890756299,81.699346405228795,45.324532453245297,22.769230769230798,-0.61523687580025599,6.9976000000000003,11.5555555555556,0.54054054054054101,22.422528573111801,1.7222222222222201,13.768115942029,247.24919093851099,2.2122486865915101,1.5819521178637199,2.1394799054373501,15.590484282073101,84,59.060402684563797,0,36.363636363636402,7.6923076923076898,92.003568577734001,23.672566371681398,22.958292734185399,-0.70287610619468999,34.173779637377997,37.662337662337698,0,29.1607396870555,1.28971962616822,44.243792325056397,335.71428571428601,0.41304347826087001,2.7085201793721998,3.3700158062688299,62010]
["J 62.02","Erbringung von Beratungsleistungen auf dem Gebiet der Informationstechnologie",249,11.834319526627199,87.242798353909507,34.159779614325103,0,59.663865546218503,28.268463760143,71.296829971181594,37.316796875000001,20.1581027667984,-0.56371681415929198,5.6556321839080503,8.9478632478632498,0.59101654846335705,22.200099552015899,1.95414847161572,12.841328413284099,288.82438316400601,2.2371878157932699,1.7115519015266001,2.6296296296296302,11.584327086882499,88.218390804597703,63.406940063091497,0,32.967032967032999,16.2790697674419,82.592313489073106,23.177570093457899,17.7777777777778,-0.75340909090909103,27.876666666666701,33.3333333333333,0,24.195470798569701,1.52557718424627,42.947581666244602,380.48780487804902,0.24861878453038699,3.0490797546012298,4.0158730158730203,62020]
["J 62.03","Betrieb von Datenverarbeitungsanlagen für Dritte",74,19.371545780867201,79.757391963608796,32.539682539682502,0,66.685781186533802,27.866184448462899,71.717171717171695,33.802816901408399,20.843230403800501,-0.56484787528287705,3.9818848167539298,7.4372228384114596,1.5776825828022101,18.767605633802798,2.5663999999999998,12.5,153.221288515406,2.9348484848484899,1.6422764227642299,2.8076923076923102,20.2426080363912,79.757391963608796,66.226279125630597,0,33.773720874369403,19.274537695590301,80.725462304409703,25.172790105492901,21.890547263681601,-0.79854815508647503,22.348068350668601,26.109660574412501,0,19.813930098063899,1.4929137641124199,40.32,284.26573426573401,0.22522522522522501,2.4294871794871802,2.89085095229574,62030]
["J 62.09","Erbringung von sonstigen Dienstleistungen der Informationstechnologie",454,17.5,81.984126984127002,32.113821138211399,0,64.023934181002204,28.6624203821656,70.985010706638107,30.088288937590999,23.026315789473699,-0.58218623481781395,6.9359009150699098,10.8240455299976,0.52710843373493999,21.445221445221399,1.95,14.681525406400199,194.444444444444,2.0909090909090899,1.8834437086092699,2.9762396694214899,14.893617021276601,84.3488649940263,54.802259887005597,0,42.253521126760603,11.98738170347,87.430629487847398,15.6028368794326,21.909175063006,-0.68257713248638796,31.696135265700502,36.9158878504673,0,23.6775818639798,1.41605839416058,44.4444444444444,279.32960418933601,0.28846153846153799,4.0727272727272696,5.3118279569892497,62090]
["J 63","Informationsdienstleistungen",415,14.7540983606557,84.552845528455293,35.103840480829099,0,58.823529411764703,22.505800464037101,77.494199535962906,35.604113110539799,23.829787234042598,-0.54183673469387805,7.9318038969201803,11.864406779661,0.14259477695342501,20,1.96335078534031,15.983606557377,234.54545454545499,1.7083333333333299,1.8931263858093099,2.7622149837133501,13.207547169811299,86.168206887721396,62.724935732647801,0,35.593220338983102,14.285714285714301,85.479452054794507,23.882391946609498,22.394969528796299,-0.70337662337662299,28.871581769437,35.2112676056338,0,22.0588235294118,1.43030303030303,46.582733812949598,379.31034482758599,0.22012578616352199,3.125,3.6682472935492498,63000]
["J 63.1","Datenverarbeitung, Hosting und damit verbundene Tätigkeiten; Webportale",368,14.2728940140018,85,34.210526315789501,0,59.090909090909101,22.130128470783301,77.601068350127505,35.9106529209622,23.015873015873002,-0.527536131154002,6.7375886524822697,11.516853932584301,0.35742652899126298,20.0593396965312,1.9563913340680501,15.094339622641501,233.634358374264,1.9597675287582299,1.8512396694214901,2.6791569086651101,11.3357778941854,86.792452830188694,58.974358974358999,0,37.275064267352199,12.6482213438735,86.296296296296305,25.0231343283582,20.975609756097601,-0.70337662337662299,28.266820448877802,33.4332833583208,0,23.491763336848599,1.47227533460803,45.757265955893097,400,0.20125786163522,2.8543746330005901,3.6682472935492498,63100]
["J 63.11","Datenverarbeitung, Hosting und damit verbundene Tätigkeiten",339,15,84.192189341970703,35.420098846787504,0,58.504398826979497,22.398931649872502,77.601068350127505,36.202830188679201,22.394969528796299,-0.53116224648985999,6.6088888888888899,11.516853932584301,0.43459365493263802,19.932998324958099,1.9563913340680501,14.6884125482401,247.645429362881,1.7048392232240901,1.8540372670807499,2.6791569086651101,11.074232916022799,86.419753086419703,62.724935732647801,0,34.615384615384599,12.6482213438735,85.479452054794507,23.569834895136101,20.823518326580601,-0.74060564349621505,28.266820448877802,33.705555555555598,0,22.7886056971514,1.43030303030303,44.184938036224999,379.31034482758599,0.19744587105435299,2.8543746330005901,3.7835389411419902,63110]
["J 63.9","Erbringung von sonstigen Informationsdienstleistungen",42,16.021665159150601,83.978334840849399,34.848484848484901,0,56.8218298555377,24.5989743741086,74.465408805031402,26.2123197903014,25.010173364427501,-0.657547169811321,12.0313315926893,17.510208816705301,0,17.600000000000001,2.0273896312025399,27.502398464982399,239.02439024390199,1.0714285714285701,2.08158508158508,3.0279720279720301,16.9772256728778,83.022774327122207,69.421171106488103,0,28.925487687879802,24.5989743741086,75.401025625891407,7.6923076923076898,21.465295629820101,-1.1008891348463601,39.8333333333333,46.206060606060603,0,17.600000000000001,1.1198738170347,40.476190476190503,280.95238095238102,0.16582623241375299,4.3263785394932901,6.14754098360656,63900]
["M","Erbringung von Freiberuflichen, Wissenschaftlichen und Technischen Dienstleistungen",6259,18.644067796610202,80.8153058850896,33.650190114068401,0,61.635220125786198,16.187050359712199,83.812949640287798,37.665356666685099,24.528301886792502,-0.76440129449838201,8.4979054458408108,12.988985947588301,2.38095238095238,24.418604651162799,1.51860465116279,14.108801415303001,217.60563380281701,2.39130434782609,1.9097065462753999,2.5651704178511698,17.1698113207547,82.173913043478294,55.118384401114199,0,41.808873720136503,5.8227848101265796,94.117647058823493,27.666752884998001,23.048327137546501,-0.78715469613259703,32.764547896150397,37.864077669902898,0.59171597633136097,27.4090444822907,1.25925925925926,44.7368421052632,320.83333333333297,0.41263940520446102,2.9222222222222198,3.3562091503268001,68999]
["M 69","Rechts- und Steuerberatung, Wirtschaftsprüfung",1420,21.590909090909101,78.104138851802404,35.117773019272001,0.78947368421052599,57.088703563305501,5.4409005628517804,94.501718213058396,46.077684691546096,25.3267973856209,-0.85438596491228103,15.1279527559055,19.649254653269601,4.7848488783637704,30.776699029126199,1.3473214285714299,19.455200000000001,212.61904761904799,1.84210526315789,1.88,2.1212765957446802,17.674217284663101,81.9308357348703,49.925595238095198,0,45.501285347043698,2.50868390582787,97.491316094172106,32.8125,21.624308293846699,-0.79936305732484103,37.303100775193798,41.5730337078652,2.7508477004632499,31.578947368421101,1.2701149425287399,49.591280653951003,274.63312368972697,0.50680073141099302,2.7732558139534902,2.9202453987730101,69000]
["M 69.1","Rechtsberatung",220,17.271835132482799,82.697762369996894,39.071397284275101,0.36585365853658502,57.823129251700699,5.8931860036832404,94.106813996316802,31.126331811263299,30.081300813008099,-1.0454371026457401,24.037018348623899,29.798903107861101,7.3262032085561497,33.698630136986303,1.13893967093236,24.722175568245401,284.08163265306098,1.5897435897435901,2.88826815642458,3.1801801801801801,11.719833564493801,86.612021857923494,56.090831918505899,0.18587360594795499,43.401486988847601,4.0585181689476197,95.9414818310524,23.7957019257605,22.4568138195777,-0.77450424929178496,46.639391100702603,49.812606473594499,5.3846153846153904,33.409090909090899,1.19443259583273,57.363710333604601,440.78212290502802,0.28761723221989699,3.6993006993007,4.2024395965282704,69100]
["M 69.2","Wirtschaftsprüfung und Steuerberatung; Buchführung",1188,22.287390029325501,76.923076923076906,34.698275862069003,1.09258194364577,56.862745098039198,5.3571428571428603,94.642857142857096,48.548094373865702,24.2476354256234,-0.82870090634441096,13.9825059101655,18.367346938775501,4.6465968586387403,30.1327885597549,1.37867892146433,18.780096308186199,202.232142857143,1.8971193415637899,1.7945979899497499,2.0306748466257698,19.811320754716998,78.991596638655494,47.1111111111111,0,46.719681908548701,2.0530973451327399,97.720797720797705,37.696335078533998,20.073664825045999,-0.75698663426488499,34.053836424957801,38.725490196078397,2.3765996343692901,29.552046406703202,1.3247863247863201,46.153846153846203,226.890756302521,0.57802197802197797,2.35596549211746,2.5,69200]
["M 70","Verwaltung und Führung von Unternehmen und Betrieben; Unternehmensberatung",1263,16.923076923076898,82.285714285714306,39.0625,0,57.339321568213002,15.0145772594752,84.985422740524797,25.614927905004201,29.845313921747,-0.75796178343949105,10.213545601726899,14.9606299212598,0,26.905829596412602,1.3960396039603999,15.480324074074099,240.845070422535,1.6666666666666701,2.4003941704268499,3.4191522762951299,16.0796324655436,83.280757097791806,63.405797101449302,0,34.933141641079501,2.9817605075336999,97,12.9707112970711,27.964989059080999,-0.76873156342182902,44.481578947368398,49.814814814814802,0,29.983792544570498,1.0462962962963001,52.173913043478301,320.83333333333297,0.28193633877470498,4.9981185324553197,5.5517241379310303,70000]
["M 70.2","Public-Relations- und Unternehmensberatung",1254,16.719242902208201,82.315789473684205,38.618925831201999,0,57.839721254355403,15,84.985422740524797,25.614927905004201,29.8469387755102,-0.75824175824175799,10.098042134839099,14.692307692307701,0,26.905829596412602,1.3960396039603999,15.4362416107383,237.5,1.68041237113402,2.39766081871345,3.3879310344827598,16.0796324655436,83.280757097791806,62.845849802371497,0,35,3,96.978021978021999,12.925170068027199,28.6666666666667,-0.77002379064234705,44.363703703703699,49.814814814814802,0,29.983792544570498,1.05035669324381,52.173913043478301,320.83333333333297,0.27904040404040398,4.9981185324553197,5.5517241379310303,70200]
["M 70.21","Public-Relations-Beratung",141,14.861697304523,84.5,28.2905982905983,0,65.181711606096101,32.309380142622103,67.313664596273298,25.614927905004201,22.960151802656501,-0.388198757763975,8.4208794048760005,10.8167865707434,0,19.028691200107801,2.5096745822339499,22.3515715948778,253.990605973463,1.6219512195121999,2.12762919278605,3.5979899497487402,10.326086956521699,89.673913043478294,56.818181818181799,0,43.181818181818201,11.147011308562201,88.852988691437801,19.391634980988599,23.8249594813614,-0.60044692737430205,33.247445255474503,36.690647482014398,0,29.7734627831715,1.6043165467625899,50.993377483443702,541.66666666666697,0.50462962962962998,4.125,4.4444444444444402,70210]
["M 70.22","Unternehmensberatung",1065,17.110266159695801,81.818181818181799,40.259740259740298,0,56.547619047619101,12.2740419378163,87.583572110792701,26.045170591062,30.740740740740701,-0.802689486552567,10.648045977011501,15.712187958884,0,28.028503562945399,1.31847133757962,14.705882352941201,240,1.63380281690141,2.47058823529412,3.3141251379320602,16.719242902208201,82.608695652173907,62.845849802371497,0,34.418604651162802,2.5477707006369399,97.4093264248705,11.764705882352899,28.971962616822399,-0.76873156342182902,46.3333333333333,51.724137931034498,0,29.479768786127199,1.04395604395604,55,312,0.18965517241379301,5.3142857142857096,5.6428571428571397,70220]
["M 71","Architektur- und Ingenieurbüros; technische, physikalische und chemische Untersuchung",2142,17.030567685589499,82.352941176470594,33.148353681095102,0,62.264150943396203,15.430622009569401,84.567901234567898,42.965198237885502,22.602739726027401,-0.74761904761904796,7.4720116618075796,11.4285714285714,6.1425061425061402,23.631840796019901,1.47324269597917,11.5225641025641,245.54455445544599,2.90136054421769,1.7471590909090899,2.2663934426229502,16.346153846153801,83.3333333333333,55.118384401114199,0,42.087542087542097,9.5,90.496575342465704,31.916312904117898,21.834061135371201,-0.77447973713034002,29.590149892933599,34.512195121951201,2.2304832713754599,23.641826573040301,1.2890809112333099,41.593695271453598,376,0.33421750663130001,2.6337209302325602,3.0652173913043499,71000]
["M 71.1","Architektur- und Ingenieurbüros",1995,16.6538164996145,82.949308755760399,32.418300653594798,0,62.941659819227603,15.173674588665399,84.826325411334594,42.857142857142897,22.455089820359301,-0.74761904761904796,7.4274047186932801,11.4159292035398,6.40176600441501,23.7785016286645,1.47252747252747,11.8948824343015,251.471798098096,2.9555555555555602,1.7562500000000001,2.2941176470588198,16.2121212121212,83.453237410071907,55.118384401114199,0,41.6243654822335,9.2936802973977706,90.706319702602201,32.035175879397002,21.739130434782599,-0.77447973713034002,29.76,34.5161290322581,1.99539524174981,23.8095238095238,1.31135651887259,41.975308641975303,390.90909090909099,0.33204633204633199,2.6,2.9837398373983701,71100]
["M 71.11","Architekturbüros",531,15.0063051702396,84.747877313066496,35.161290322580598,0,59.571064849483299,15.430622009569401,84.569377990430596,41.449893390191903,22.423146473779401,-0.79417989417989399,8.5984654731457795,12.4630952380952,7.3170731707317103,22.860071758072799,1.3580246913580201,12.859097127223,286.44067796610199,2.2959183673469399,1.8415841584158399,2.3778280542986399,13.247863247863201,85.433526011560701,58.536585365853703,0,36.681222707423601,9.2936802973977706,90.361445783132496,31.608133086876201,20.196078431372499,-0.68787172874028302,32.207392197125301,36.363636363636402,2.2304832713754599,21.505376344085999,1.33244680851064,46.753246753246799,396.42857142857099,0.25531914893617003,2.5629629629629598,3.0904255319148901,71110]
["M 71.12","Ingenieurbüros",1370,17.030567685589499,82.226555033069502,31.543624161073801,0,63.796477495107602,14.8960333481633,85.101010101010104,43.690551680405797,22.4456647831101,-0.72586800432772702,7.1075630252100801,11.0471806674338,5.8201058201058196,24.009324009324001,1.5178571428571399,11.4754098360656,247.536231884058,3.1764705882352899,1.7194570135746601,2.23614156807565,17.147908073070099,82.692307692307693,54.066265060241001,0,43.636728641894798,9.2150170648464194,90.784982935153593,32.748538011695899,22.237960339943299,-0.81707920792079203,28.465476190476199,33.3333333333333,1.8523298231123999,24.3386243386243,1.31666666666667,41.6666666666667,373.13432835820902,0.33852140077821002,2.56666666666667,2.9186046511627901,71120]
["M 71.2","Technische, physikalische und chemische Untersuchung",134,24.615384615384599,75.226586102718997,37.2262773722628,0,54.6938775510204,18.720728359173101,81.275865549611396,45.758354755784097,23.515883283024301,-0.71534195933456601,7.4587281079529104,11.8110236220472,3.8232795242141,19.417475728155299,1.5846153846153801,9.9371560043251002,172.88135593220301,2.4700931486122299,1.65392781316348,2.1418657442438702,22.302962548909999,76.25,56.305922454196804,0,43.243243243243199,12.9464285714286,86.895444511338596,26.983009952749601,20.916133378241799,-0.68509865005192105,26.522720897615699,34.221598877980398,2.6331628046945501,20.485175202156299,1.1685393258426999,36.872586872586901,270.65217391304401,0.20936794582392801,2.6408602150537601,3.61342592592593,71200]
["M 72","Forschung und Entwicklung",135,16.778523489932901,82.178217821782198,27.1285534238902,0,66.463985032740894,25.765892900994,74.234107099006096,48.198111703450799,25.225496091401101,-0.80985108820160401,1.4011214953271001,7.88390357779857,5.0370299696367304,27.4412855377009,1.15364238410596,3.7300177619893402,184,4.8571428571428603,1.4017534811758601,2.0460362602204101,15.576323987538901,80.564189991342204,49.442755825734601,0,44.654939106901203,19.53125,75.268265310026493,34.246108396773103,26.678348036918599,-0.94769108280254799,17.2813039283987,24.7455162384876,2.8846153846153801,31.618973962361402,0.82336448598130796,19.376061120543302,198.491083676269,0.887193289342594,1.9302325581395301,2.7796488713722698,72000]
["M 72.1","Forschung und Entwicklung im Bereich Natur-, Ingenieur-, Agrarwissenschaften und Medizin",114,17.821782178217799,80.855891096854904,26.644736842105299,0,68.543046357615907,25.657726810410502,74.234107099006096,47.7295525508979,25.600967165830301,-0.89114832535885202,1.4011214953271001,7.8848379629629601,4.0976184781041898,28.923631990378802,0.99967490279399196,3.8970373053079101,177.777777777778,4.7312500000000002,1.4290657439446399,2.0746634026927802,19.4358100086578,74.689549182224994,49.442755825734601,0.101317122593718,43.311326669863199,19.53125,74.731770775210407,35.414179626956702,26.678348036918599,-1.1506913522381099,16.146370466461299,23.7068266580185,1.79449759472461,33.4123674502667,0.76386216072434499,16.624191706648499,164.51612903225799,0.887193289342594,1.9302311787114901,2.59008160703076,72100]
["M 72.19","Sonstige Forschung und Entwicklung im Bereich Natur-, Ingenieur-, Agrarwissenschaften und Medizin",88,15.576323987538901,82.178217821782198,28.899082568807302,0.41797905180143802,64.299610894941594,24.9535074016217,74.978655814197396,48.745119910764103,25.300353356890501,-0.83911583318067995,1.6481016303271601,8.1985499163413298,3.93866506313891,28.458070333633898,1.0421253579382801,3.7300177619893402,184.03811792733799,4.0176610135547302,1.4092920353982299,1.9808351177730199,25.022277328399401,70.712074303405601,56.453154875716997,0.70606293169608603,38.679389910499701,8.3346846116426097,80.46875,35.975766950244903,27.884615384615401,-1.24828193832599,17.551046025104601,25.644111111225101,2.8846153846153801,35.576923076923102,0.65849581149430902,16.624191706648499,184.03811792733799,0.83333333333333304,1.8386971694455201,2.56850715746421,72190]
["M 73","Werbung und Marktforschung",1012,17.525773195876301,81.568444561707295,26.769230769230798,0,70.256410256410305,39.932603201347902,60,26.340801086218601,21.885409726848799,-0.62497989815063004,4.14002659574468,8.0858960763520695,0.15290519877675801,18.75,2.3214285714285698,12.0974226804124,174.26035502958601,3.1333333333333302,1.9905144533441801,3.6538461538461502,12.729748127978199,86.407456992247901,50.826306913996603,0,42.087542087542097,31.880108991825601,67.627494456762705,19.379844961240298,19.459459459459499,-0.61781946072684601,19.8110475509474,23.8095238095238,0,21.707370858371501,1.93220338983051,41.6666666666667,350,0.45242560392654901,2.9100501407919901,4.94271308743863,73000]
["M 73.1","Werbung",971,17.948717948717899,81.361426256077806,26.923076923076898,0,70.543478260869605,40.610270404366197,59.389729595633803,25.7002897141757,21.9081272084806,-0.62883305487726504,4.1343750000000004,8.1395348837209305,0.18014889414624599,18.556701030927801,2.3333333333333299,12.1621621621622,175,3.1687763713080201,2.0025125628140699,3.7726218097447801,12.9032258064516,86.407456992247901,52.6041666666667,0,43.589743589743598,33.3333333333333,66.6666666666667,18.933623503808501,19.803921568627501,-0.60526315789473695,19.8110475509474,23.8095238095238,0,22.2222222222222,1.9893113777898701,41.3333333333333,344.47439353099702,0.46428571428571402,3,5.0509554140127397,73100]
["M 73.11","Werbeagenturen",899,17.452830188679201,81.570512820512803,26.9744835965978,0,70.533642691415295,40.610270404366197,59.389729595633803,26.223091976516599,21.959459459459499,-0.611007088075609,4.0903262092238499,8.01056338028169,0.19569471624266099,18.6839012925969,2.3684210526315801,12.569215291750499,180.628272251309,3.07939483197215,1.9905144533441801,3.6609456838900298,12.1809744779582,86.725663716814196,50.826306913996603,0,41.935483870967701,31.880108991825601,67.627494456762705,18.933623503808501,19.803921568627501,-0.59136394790952695,20.116615853658502,23.574638379942101,0,22.4489795918367,1.9893113777898701,41.938777811063503,350,0.45952380952381,2.9253112033195001,4.9818278995189704,73110]
["M 73.11-1","Werbegestaltung",697,17.3228346456693,82.03125,26.849226902860998,0,70.370370370370395,39.924528301886802,60,27.262758620689699,21.917808219178099,-0.59306692344727996,4.3421052631578902,8.1047689646651797,0.18014889414624599,18.6839012925969,2.3850900859244,12.649225298450601,190.74828381804201,2.9820709390794602,1.97282608695652,3.6033333333333299,11.8604651162791,87.018894331700494,50.826306913996603,0,42.087542087542097,31.818181818181799,67.682211994127897,18.309859154929601,21.0670314637483,-0.535002912055911,20.359834642269899,23.883968253968298,0,22.2222222222222,1.95825426944972,45.3125,361.22448979591798,0.43243243243243201,3.04700854700855,4.9854014598540104,73111]
["M 73.11-2","Werbemittelverbreitung ",133,14.387917329093799,83.809523809523796,23.018896230910499,0,72.140762463343094,47.460999681630099,51.515151515151501,20.523459942547099,21.568627450980401,-0.57963610916724995,3.6964980544747101,6.7649355234955104,0.56497175141242895,18.553758325404399,2.57476635514019,13.3093525179856,148.333333333333,3.2526999859740999,2.22161004523198,4.8069295035722703,14.3188716300661,82.2222222222222,43.677644149713402,0,41.428571428571402,31.880108991825601,55.587808417997103,18.2025271637036,15.343562374916599,-0.73338319401671803,17.990769907611099,21.926158038147101,1.67704384508423E-2,26.630434782608699,1.6346153846153799,33.207010895310297,320.44421919566298,0.45952380952381,2.8326359832636001,5.2816091954023001,73112]
["M 73.2","Markt- und Meinungsforschung",38,14.024725774647299,84.076433121019093,20.217668796456898,0,62.203342765957103,22.012578616352201,76.976906927921604,46.602265156562297,21.885409726848799,-0.556328233657858,3.9973351099267198,5.8064516129032304,0,23.991959729929398,1.7457549334557101,7.2546492358681602,168.85664426060001,2.3315760911698602,1.4379084967320299,2.08862034239678,5.9523809523809499,87.229437229437195,37.667887667887697,4.15140415140415,37.2340425531915,17.4943928228132,79.445727482679004,30.178759200841199,20.092378752886798,-0.556328233657858,16.596604244494301,17.844219208117501,0,24.4803695150115,1.7448107448107399,42.072255462182603,618.64406779660999,0,2.0087145969498899,3.3129665604557301,73200]
["M 74","Sonstige freiberufliche, wissenschaftliche und technische Tätigkeiten",258,32.352941176470601,67.043944945895106,22.727272727272702,0,72.773909857090501,25.925925925925899,73.821989528795797,29.8817075261444,30.158730158730201,-1.21958997722096,3.2549085794655399,6.5425133689839603,1.0204081632653099,14.357682619647401,1.67768595041322,6.7732727257708403,125.136612021858,4.8374351952626702,2.02205450142249,3.1742160278745599,28.8888888888889,67.857142857142904,49.921383647798699,0,38.181818181818201,10.8333333333333,88.365155131264899,22.414880201765399,30.234131817566698,-1.0468120805369101,20.296576576576602,31.196581196581199,0,23.0958230958231,1.5096774193548399,35.660998885820902,171.42857142857099,0.58750000000000002,3.2318840579710102,4.03990991543081,74000]
["M 74.1","Ateliers für Textil-, Schmuck-, Grafik- u.ä. Design",40,26.6666666666667,72.471910112359595,12.533333333333299,0,85.177993527508093,44.457978075517701,55.28,36.1111111111111,22.110655570012799,-0.84514056224899603,1.125E-2,3.0434782608695699,4.01606425702811,10.4417670682731,1.7632027257240199,1.5470562956596501,114.71375718041099,11.158730158730201,1.52969332116158,2.65,22.5352112676056,74.518436984039596,24.786845310596799,0,47.846567967698498,14.396887159533099,56.157072054898997,26.848249027237401,23.1795653831491,-0.40622568093385197,12.208221476510101,17.1145233525272,0,18.128654970760198,1.2573529411764699,23.529411764705898,137.29508196721301,0.83177570093457898,2.23520485584219,3.0962314939434701,74100]
["M 74.2","Fotografie und Fotolabors",92,47.560975609756099,51.624596100149901,16.177838185850199,0,80.612244897959201,21.126760563380302,78.846153846153797,36.2264150943396,34.502923976608201,-1.375,0.22571552790518301,6.5952184666117102,4.0650406504065,9.9792099792099798,1.6903225806451601,4.7113752122241097,114.28571428571399,5.6310574476149204,2.0437500000000002,2.6925671319955802,52.7777777777778,47.2222222222222,43.589743589743598,0,38.013114000456703,13.744075829383901,86.255924170616098,28.930817610062899,33.3333333333333,-0.85491071428571397,18.357674418604699,29.132227488151699,0.81585123473873,12.3748862602366,1.8014981273408199,37.614678899082598,135.75757575757601,0.43835616438356201,2.74404761904762,3.4565217391304301,74200]
["M 74.9","Sonstige freiberufliche, wissenschaftliche und technische Tätigkeiten a.n.g.",103,18.386552253826199,80.892407340770106,24.4348762109795,0,73.354508558320106,31.123616116710199,68.876383883289805,20.771026563190102,27.524972253052201,-1.0596026490066199,5.48786308468567,8.3614768520278897,0,21.978021978021999,1.64935064935065,9.67741935483871,126.58227848101301,3.7299035369774902,2.18604651162791,3.92477908068672,8.6070814892906,91.196254434984894,35.623869801085,0,43.628476585962801,3.7735849056603801,96.062992125984294,21.6508795669824,27.963525835866299,-1.6337799431587501,30.802112144832801,35.135135135135101,0,43.475877192982502,0.73766816143497804,32.494758909853203,346.66666666666703,1.2376237623762401,3.45176611040461,4.2597402597402603,74900]
["N","Erbringung von Sonstigen Wirtschaftlichen Dienstleistungen",3271,24.463519313304701,74.683544303797504,22.899728997290001,0,73.818181818181799,16.637010676156599,83.362989323843394,34.4545918367347,24.6124894765513,-0.74700598802395202,3.0821917808219199,7.7829882988298804,0.27247956403269802,16.054245633276999,2.0459433040078201,7.9507278835386304,130.97345132743399,3.9652777777777799,1.8504882963881599,2.7743589743589698,28.703703703703699,70.526315789473699,47.403685092127297,0,50.240697852178499,7.34214390602056,92.620481927710799,31.357552581261899,26.771653543307099,-1.05311059907834,18.699396878006699,26.546800634584901,0,19.804594665962501,1.3852941176470599,29.460580912863101,179.02735562309999,0.885140257771039,2.3792415169660699,2.9734135813228599,76999]
["N 77","Vermietung von beweglichen Sachen",555,62.931034482758598,36.684782608695599,20.664589823468301,0,77.762237762237802,14.5833333333333,85.4166666666667,21.548005276480399,50.950570342205303,-2.0723055934515702,2.4144766146993302,17.407905982906001,0.52790346907994001,19.921104536489199,0.93370944992947802,4.4862328935559201,100.883470550982,4.4610202117420599,3.06666666666667,4.1863979848866499,61.960784313725497,35.986733001658401,40.777439024390198,0,57.415254237288103,5.0909090909090899,94.909090909090907,14.0172101449275,45.5555555555556,-1.7679047194572399,18.8835871404399,38.9755011135857,0,25.6993074631485,0.824270177447052,17.366666666666699,111.47166361974401,1.40284360189573,3.8955223880597001,4.8305084745762699,77000]
["N 77.1","Vermietung von Kraftwagen",100,57.674418604651201,36.146551549831202,14.410480349345001,0,80.597014925373102,12.2131754256107,86.510791366906503,9.4989309763548295,64.479787939032505,-1.94958287835772,1.90681174448188,18.133047210300401,0.16001309834956901,24.236280472874402,0.96473906911142504,4.4862328935559201,91.115110067579906,4.3684210526315796,4.32920280875671,8.4871794871794908,46.644435460750103,35.849056603773597,42.584745762711897,0,50,3.05206463195691,94.909090909090907,9.1666666666666696,45.323741007194201,-1.90179533213645,14.945744680851099,21.903052064632,0,26.956521739130402,0.98759790818932403,15.1841868823001,119.53781512605001,1.5,5.1146153846153801,5.5266029760430104,77100]
["N 77.11","Vermietung von Kraftwagen mit einem Gesamtgewicht von 3,5 t oder weniger",71,51.724137931034498,48.275862068965502,19.674020457810698,0,78.238303955362298,11.7241379310345,88.275862068965495,9.4989309763548295,66.845849802371504,-1.90179533213645,3.0095636212691201,19.439133205863602,0.467289719626168,26.689440273948499,0.98761970494349105,4.4862328935559201,91.115110067579906,4.2108843537415002,3.9411764705882399,6.9411764705882399,54.1524459613197,35.849056603773597,42.584745762711897,0,50.819831891825999,4.0527556991877001,94.909090909090907,6.2644797879390302,50.541746335245399,-1.5901861252115099,14.945744680851099,21.291448516579401,0,29.450270461241999,0.98761970494349105,15.9095500815914,119.53781512605001,1.8067226890756301,3.8955223880597001,5.5261887521119997,77110]
["N 77.11-2","Vermietung von Kraftwagen mit einem Gesamtgewicht von 3,5 t oder weniger",45,44.835612452720397,47.926267281106,22.1556886227545,0,74.353288987435306,4.0527556991877001,94.909090909090907,11.806690140845101,64.479787939032505,-1.7655172413793101,1.7806187766714101,15.3092467850582,0.32885262779205299,23.369330453563698,1.0849056603773599,4.9887540821662002,91.115110067579906,3.9,3.4517647058823502,5.5266029760430104,54.1524459613197,45.8475540386803,39.230769230769198,0,60.769230769230802,6.5009560229445498,93.499043977055507,6.2644797879390302,50.541746335245399,-1.25559973492379,14.945744680851099,21.903052064632,0,29.450270461241999,1.0849056603773599,16.154721274175198,131.95020746888,2.7116883116883099,3.4517647058823502,5.5261887521119997,77112]
["N 77.2","Vermietung von Gebrauchsgütern",140,58.288770053475901,39.963833634719698,21.5625,0,77.229336437718302,20.9452201933405,78.7672673725545,25.6410256410256,44.270122783083202,-2.1803934010152299,1.4733511542701101,13.5632183908046,1.49114631873253,14.2550911039657,1.1635802469135801,5.0600885515496499,100,5.4599955006718597,2.7307901907356902,3.8387096774193599,54.926754362124299,44.160392998858498,49.749201051217099,0,49.099099099099099,14.1025641025641,85.897435897435898,23.208975398756401,38.1642512077295,-1.63165760869565,15.527950310559,31.0461956521739,1.3262599469495999,15.5746509129968,1.1755050505050499,17.737826338183499,130.769230769231,1.1130561633843901,3.3495145631068,4.2399713664271399,77200]
["N 77.21","Vermietung von Sport- und Freizeitgeräten",42,49.099099099099099,42.476190476190503,12.433327202501401,0,85.464098073555206,20.9452201933405,76.984126984127002,25.3014117647059,37.426900584795298,-2.4302816901408502,1.7814332247557001,17.826666456355099,6.3380281690140796,11.0840767775074,1.1755050505050499,3.6830248306251501,116.816816816817,5.7773165434529101,2.76079008792698,3.90013756848878,47.099368179207403,52.900631820792597,50.554675118859002,0,40.213523131672602,19.014084507042298,80.985915492957702,24.0450854700855,36.292428198433399,-1.0161898274296099,19.033481601294,36.675979112271499,4.6502224019409599,15.5746509129968,1.2716417910447799,24.3686868686869,165.23297491039401,0.61172161172161199,2.9684210526315802,4.1588540046742697,77210]
["N 77.29","Vermietung von sonstigen Gebrauchsgütern ",81,67.305855104577702,31.719620976232701,26.543530704423901,0,70.147255689424398,14.8201291380547,80.411937788987004,25.359256128486901,44.270122783083202,-2.16376146788991,2.4090866728797802,13.276765660094799,0.62033624022296097,16.0118673019869,1.1635802469135801,5.8858141124861802,97.089855500187298,3.78974358974359,2.5536068828590301,3.73105134474328,59.8553345388788,34.035087719298197,49.500312304809498,0,45.5203116304953,12.6522158230086,86.923901393354797,17.992708333333301,38.1642512077295,-2.79503105590062,14.332904608788899,29.813664596273298,0,19.565217391304301,0.82567520168361996,15.7958687727825,103.814930467303,1.2341358223104699,3.5108225108225102,4.1413082742591598,77290]
["N 77.3","Vermietung von  Maschinen, Geräten und sonstigen beweglichen Sachen",293,62.580645161290299,35.986733001658401,20.7865168539326,0,74.101610904584902,11.0980052764556,88.578088578088597,20.8333333333333,53.5555555555556,-2.0134228187919501,2.8131782945736399,21.063829787233999,0.27693310165073798,21.085858585858599,0.84369516169465997,4.2192193045923201,102.95035581824,4.2917693048024104,3.1612713269591399,4.2050639706540203,63.231197771587702,33.899821109123401,32.4324324324324,0,59.222560975609802,0.80218467315241504,98.901098901098905,9.8214285714285694,45.2631578947368,-1.72231432707737,21.328218602206999,50,0,26.702127659574501,0.72273879966187704,19.344262295082,105.55971863911,1.08160343593414,4.375,5.25,77300]
["N 77.31","Vermietung von landwirtschaftlichen Maschinen und Geräten",38,75.7777777777778,23.710018105009102,16.590203438528199,0,82.099447513812194,10.4838709677419,89.307120594581605,15.816509433962301,83.606557377049199,-4.7666272888363803,-7.7662561576354703,23.4854183927092,1.24040165386887,26.295500505561201,0.335443037974684,-0.39233333333333298,112.719298245614,6.3398735782246503,3.3700158062688299,4.2348871193820603,72.774869109947602,22.049286640726301,26.701570680628301,0,72.089539021580507,20.6642066420664,75.968992248061994,4.6385237613751302,65.116279069767401,-4.1635658914728699,2.8131782945736399,39.301310043668103,0.71925197794293905,26.295500505561201,0.39616055846422299,3.5019455252918301,112.719298245614,4.5174853721594799,6.0540991917926696,6.7698547612656901,77310]
["N 77.32","Vermietung von Baumaschinen und -geräten",110,63.549618320610698,35.171175846041002,23.076923076923102,0,74.101610904584902,13.0289727831431,86.166298749080198,25.9704896907216,45.232611699677598,-1.65673626812076,3.1368205128205102,15.901879194630901,0.27693310165073798,17.790622992935099,1.05454545454545,5.7456588355464797,96.231155778894504,4.0712530712530697,2.6018808777429498,3.5555555555555598,51.563820794590001,45.489815712900104,46.899224806201602,0,50.604708496088499,0.3125,99.120603015075403,11.3582831719445,45.3125,-1.6126903553299501,24.830862944162401,51.578947368421098,0,26.702127659574501,0.848406546080965,22.180916976456,118.852459016393,0.89769820971866998,3.44654180618415,3.9878735383282802,77320]
["N 77.39","Vermietung von sonstigen Maschinen, Geräten und beweglichen Sachen a.n.g.",101,56.889438943894397,40.506912442396299,28.045685279187801,0,71.052631578947398,8.3528493364558898,90.5865986552284,20.618556701030901,55.575221238938099,-1.74368894099258,4.1763460375075603,24.528301886792502,0.15463917525773199,22.6902726902727,0.92594409024031399,5.0323143692801198,104.50054884742001,3.5380446722812202,3.36904761904762,4.3333333333333304,61.960784313725497,33.704735376044603,29.729729729729701,0,63.794648572525901,0.679245283018868,97.727272727272705,12.2322473999587,39.578019939717102,-2.37234042553191,19.065808674443499,39.089649291120402,0,28.368794326241101,0.80571428571428605,20.064724919093901,97.6511476625776,1.52,3.875,4.2050639706540203,77390]
["N 78","Vermittlung und Überlassung von Arbeitskräften",431,6.4790228359001603,93.188405797101495,22.045855379188701,0,74.512055109070005,1.1320754716981101,98.867924528301899,80.566901239252402,10.700389105058401,-0.26194662964676801,2.66161971830986,3.5345034864149998,0,14.668793274914201,4.2096774193548399,12.8205128205128,323.52941176470603,3.8863167056185901,1.1803248801011501,1.23696682464455,6.3136456211812604,93.258426966292106,46.4069152367436,0,53.3333333333333,1.0259040779687101,98.929663608562706,73.109243697479002,12.4464331627664,-0.39525691699604698,9.9950934579439306,11.5094339622642,0,17.080113867425801,2.7439613526570099,33.131487889273401,502.48864525218102,0.91489361702127703,1.3018867924528299,1.3623559539052501,78000]
["N 78.1","Vermittlung von Arbeitskräften",113,8.4388185654008403,89.564698867024404,29.6875,0,68.452380952380906,1.1320754716981101,97.920604914933804,73.000075095842007,12.742382271468101,-0.322733612273361,4.9423027166882303,6.6152858060372504,0,14.9552156322026,3.5375000000000001,17.6027724665392,327.90697674418601,2.05633802816901,1.23275322398898,1.3461938245184999,10.9170305676856,85,58.506224066389997,0,31.777108433734899,1.1320754716981101,97.664901299951893,34.497816593886498,27.2569444444444,-0.53829321663019702,18.523793103448298,20.5797101449275,0,17.433751743375201,1.7958333333333301,34,420,0.34645669291338599,2.43575418994413,2.8742138364779901,78100]
["N 78.2","Befristete Überlassung von Arbeitskräften",230,5.3370786516853901,94.285714285714306,19.634703196347001,0,77.096774193548399,1.1265164644714001,98.746867167919802,82.824182866908799,9.2144047161348208,-0.24043367346938799,2.1684226190476199,2.9187071498530899,0,14.081713605712,4.3464687819856698,11.3475177304965,452.222222222222,3.8611111111111098,1.16022099447514,1.20338983050847,5.5197010869565197,94.279507603186104,31.894736842105299,0,60,1.4503133393017,98.093385214007796,78.743883495145596,10.5130992247009,-0.34676850763807299,7.4311618763557501,8.5148161370939004,0,17.080113867425801,2.89643652561247,24.1758241758242,595.23809523809496,1.3073212645746,1.24180165942315,1.25970047651464,78200]
["N 78.3","Sonstige Überlassung von Arbeitskräften ",67,10.6329113924051,89.367088607594894,18.265682656826598,0,80.295566502463103,0.45785079450579003,99.542149205494198,80.910657015135101,12.380751653896301,-0.25050335868055601,2.0992585170340701,2.90363568215892,0,16.528925619834698,4.2554744525547399,7.6388888888888902,215.42857142857099,6.3383458646616502,1.20362516930605,1.23593113304338,12.431297027397999,77.973568281938299,31.920199501246898,0,55.929487179487197,0.82372322899505801,98.867924528301899,67.7839851024209,9.3661573288058904,-0.61952837140751704,9.4492281303602095,12.1300629904635,0,24.5115452930728,1.9926578560939801,25.365853658536601,100,1.5401459854014601,1.2896774193548399,1.3335483870967699,78300]
["N 79","Reisebüros, Reiseveranstalter und Erbringung sonstiger Reservierungsdienstleistungen",499,13.8157894736842,82.142857142857096,16.071428571428601,0,80.634920634920604,77.901537090666096,22.0984629093339,10.7067546425413,11.0303659486115,-0.34280455740578403,1.19617224880383,2.9312977099236601,0.31380753138075301,10.871764632227,2.89881259679917,5.5915721231766602,124.75471698113201,6.1084337349397604,2.1558015764299001,9.0958333333333297,12.074829931972801,86.197213521978597,27.708533077660601,0,69.317271582977,54.773321708805597,42.4,13.4565103712742,16.877637130801698,-0.44562171373832699,8.0222222222222204,12.457912457912499,4.99375780274657E-2,14.463667820069199,1.77731369531765,17.182497331910401,179.06976744185999,1.6266465470100899,2.8675799086758,6.2727272727272698,79000]
["N 79.1","Reisebüros und Reiseveranstalter",445,13.8157894736842,81.916537867078802,15.2917505030181,0,80.645161290322605,79.726086487652296,19.996681048788599,9.5569070373588207,10.084033613445399,-0.329242741694104,1.16752717391304,2.67940155456041,0.24176650727985799,10.4805579440145,2.9465875370919901,5.5915721231766602,115.789473684211,6.2945736434108497,2.1339563862928399,10.3298611111111,12.1212121212121,86.197213521978597,25.8680555555556,0,71.812080536912703,57.9166666666667,42.0833333333333,12.9048582995951,20.695799127798399,-0.44562171373832699,7.4801652892561998,12.470048963433699,3.1655587211142797E-2,14.285714285714301,1.8437265214124701,17.182497331910401,171.83098591549299,1.6990291262135899,2.8684312867836899,7.4313471502590698,79100]
["N 79.11","Reisebüros",339,11.696869851729801,84.431759211209098,15.384615384615399,0.18832391713747601,80.5068745170489,80.941543663437201,19.058456336562799,8.8607594936708907,9.1920936480522002,-0.32166922969383499,1.1467226890756299,2.6170291190563999,0.24956805528892301,10.199118407052699,3.0304414003044098,5.6373886161120197,123.632680621202,6.1424944462075501,2.1546391752577301,11.1111111111111,10.899931302954,87.878787878787904,25.3378378378378,0.17050298380221701,71.812080536912703,60.696345054564397,37.860780984719902,11.0697359512525,16.032939123676201,-0.39202851587815901,7.08074534161491,10.931445973596301,7.1352122725651099E-2,13.0434782608696,1.8489445910290201,15.017462165308499,144.81981981982,1.81882519462137,2.8684312867836899,8.5227272727272698,79110]
["N 79.12","Reiseveranstalter",56,13.5646687697161,76.190476190476204,14.0594059405941,0.25260927584731402,79.3781435756744,74.101610904584902,24.957485885313901,10.1275917065391,13.9009556907037,-0.306236080178174,1.08254817987152,2.2766119940357101,0.45484080571799901,12.8691983122363,2.33928571428571,4.28571428571429,100,8.4029850746268693,2.1124764991826801,7.4492875424991398,12.578616352201299,80,24.426223001635599,0.25260927584731402,70,25.6660168940871,69.610778443113801,25.016244314489899,20.958083832335301,-0.66928033376422003,11.356954436450801,14.0287769784173,0.63923140933504796,7.8258567213858798,1.71,35.566298342541401,100,1.302734375,2.3965517241379302,3.8231721425266101,79120]
["N 79.9","Erbringung sonstiger Reservierungsdienstleistungen",52,13.3333333333333,86,18.844815588030599,0.23592854735422999,75.041486890142707,41.447368421052602,58.1076066790353,21.460957178841301,28.240740740740701,-0.50893927831679897,2.8808943089430898,5.1115723923196699,1.2676056338028201,14.9597855227882,1.77731369531765,4.7278829604130799,146.26853723101399,4.25,2.5029983834802101,4.5001843107362296,20.4585152838428,47.219413549039402,33.582687683676198,0,42.903930131004401,41.447368421052602,49.196787148594403,17.150993463206301,22.187244223383502,-1.0562134502924001,12.0039332913782,16.817778477029599,0.26845637583892601,8.8353413654618507,1.0627674750356599,12.9086619480957,138.54748603351999,6.7669172932330796E-2,2.6406593406593402,5.1736111111111098,79900]
["N 79.90-2","Tourismusbüros",37,20.4585152838428,75.827607745159298,19.083969465648899,0.37117903930131002,63.222021660649801,25.882352941176499,69.360269360269399,23.1094049904031,40.556278169333602,-0.73754540736896701,0.51121444201312904,3.31612305411416,0.71974808816914104,15.2257266542981,1.66030769230769,1.51860288534548,140.65934065934101,4.2740740740740701,2.2580310880829,4.1750113169574998,35.040668278742601,45.337964199839703,43.9901492182791,0,42.903930131004401,25.882352941176499,58.1076066790353,18.382352941176499,22.352941176470601,-1.7693288590603999,11.5192617449664,16.375838926174499,0,8.7009803921568594,1.0627674750356599,12.9086619480957,138.54748603351999,3.2786885245901599E-2,2.5029983834802101,4.5098901098901099,79902]
["N 80.1","Private Wach- und Sicherheitsdienste",39,15.9010600706714,84.098939929328594,26.5193370165746,0,73.480662983425404,5.1413005434705497,94.858699456529493,60.2040816326531,22.2815210140093,-0.53724489795918395,3.8563042028018701,7.1428571428571397,0,13.343819635600999,3.0588235294117601,13.7297928366298,205.555555555556,2.3535353535353498,1.45442536327609,1.6610169491525399,17.0691090757702,82.458386683738794,44.748907087526703,0,51.966717095310102,5.1413005434705497,94.344473007712097,52.259887005649702,15.7446808510638,-0.64155955441302503,16.7928061761633,19.4326241134752,0,11.739502999143101,2.3623481781376499,47.631241997439197,239.76040472459201,6.1891508344242598E-2,1.6989247311828,1.87755102040816,80100]
["N 81","Gebäudebetreuung; Garten- und Landschaftsbau",903,34.418604651162802,65.2173913043478,24.615384615384599,0,72.474424552429696,15.223880597014899,84.776119402985103,47.529575504523301,23.0272372365244,-0.93754646840148703,4.3929086538461499,8.6956521739130395,0.64562410329985698,14.7368421052632,2.1773049645390099,11.1842298881198,128.31166986291601,3.1956521739130399,1.6302508945873599,2.0853080568720399,34.939759036144601,64.697193500738607,49.590163934426201,0,47.609942638623302,5.1181102362204696,94.470924690181107,45.383481534887402,22.3684210526316,-1.08657718120805,19.364532019704399,25.1385356454721,0.23129260441897401,16.793248945147699,1.69506104328524,38.733905579399099,170.58823529411799,0.59805470584194398,1.99390243902439,2.1889302669357802,81000]
["N 81.1","Hausmeisterdienste",89,12.671232876712301,85.104625550660799,14.7619047619048,0,74.725274725274701,13.9072847682119,85.034013605442198,52.020763439374903,20.5128205128205,-0.537313432835821,4.2407346938775499,7.4499708293131501,0.16704355791567399,15.739570164348899,3.0239784324993302,11.1842298881198,112.52059308072501,2.9927925056225502,1.4844482317852601,1.90830115830116,25.073746312684399,70.637119113573405,43.883365664403499,0,55.885363357216001,13.2410365637203,86.624203821656096,51.076158940397299,20.5128205128205,-0.86580086580086602,18.354051611226701,21.906187624750501,0,15.286624203821701,2.8833162743091099,38.6898669396111,124.571884496235,0.50787401574803104,1.81582665116953,1.94996192867285,81100]
["N 81.10-1","Hauswartung",52,22.732966988743499,74.358974358974393,13.0434782608696,0,82.894736842105303,13.375796178343901,86.402753872633397,52.988357050452798,22.4657534246575,-0.66336673834543802,4.8316251830161097,8.9529590288315593,0.323362974939369,15.358208955223899,2.9879227053140101,15.841584158415801,116.666666666667,2.40086206896552,1.6300578034682101,1.84713400722417,15.8002167174861,74.926253687315594,34.349030470914101,0,40.268456375838902,11.937278705108801,86.104218362282893,51.076158940397299,18.4943611571886,-0.82712985938792405,18.651356927639299,21.835374573239299,0.40465351542741501,18.388356407525698,2.8833162743091099,38.6898669396111,140,0.41191066997518599,1.78238341968912,1.92209856915739,81101]
["N 81.10-2","Facility Management (ohne Hauswartung)",36,8.7871853546910792,90.923716315860005,14.7619047619048,0,68.943482296538306,32.994776552524698,65.7765667574932,40.6593406593407,16.569936157864198,-0.43736263736263697,3.9108719052744898,4.8034934497816604,0,16.363636363636399,3.0239784324993302,6.2822719449225497,108.28113326820301,6.0185140612514099,1.42907180385289,2.2319591739095799,9.0762836841399608,41.443205611088402,33.686774937651201,0,55.919616876818601,17.995910020449902,68.822121396163098,19.161676646706599,16.758958236575999,-1.9104076294454999,10.5629715612304,11.578641903656401,0,12.237679792501799,0.749565217391304,23.499460694118401,100,1.2204099874858501,1.64575908766928,2.4561653599429798,81102]
["N 81.2","Reinigung von Gebäuden, Straßen und Verkehrsmitteln",550,33.290948318506203,66.024268379728795,27.536231884058001,0,67.759070265416398,7.1929824561403501,92.773571920165196,53.411538461538498,24.193548387096801,-0.976797613820657,7.0002994011976103,11.7780459770115,0.28169014084506999,15.7635467980296,2.1710037174721202,15.7056701030928,138.636363636364,2.38978802774486,1.6311622437422399,1.8584416754756501,40.425531914893597,59.451219512195102,51.824817518248203,0,45.497076023391799,2.4509803921568598,97.489539748954002,45.230078563411901,21.870286576168901,-1.1798449612403099,21.5440886699507,28.122775987437699,0.15151515151515199,14.5734900126568,1.74513618677043,44.019205298013198,163.253012048193,0.56459309387471801,2.0511049127382299,2.2034448794574599,81200]
["N 81.21","Allgemeine Gebäudereinigung",204,18.984962406015001,80.791722896986101,31.631205673758899,0,63.948497854077303,12.411347517730499,87.307692307692307,55.714285714285701,18.339768339768298,-0.514047527788425,5.3701151240223099,8.2658022690437605,0.28653295128939799,16.027088036117402,2.8266761768901598,16.0744500846024,181.333333333333,2.12903225806452,1.4869109947643999,1.7934336525307799,18.984962406015001,81.015037593984999,48.952380952380899,0,49.161290322580598,13.838748495788201,86.161251504211805,39.743589743589702,18.9753320683112,-0.64814814814814803,18.337055129099799,22.754491017964099,0.17441860465116299,22.310305775764402,2.1329365079365101,42.2222222222222,306.66666666666703,0.75694444444444398,1.9256198347107401,2.5161290322580601,81210]
["N 81.22","Spezielle Reinigung von Gebäuden und Reinigung von Maschinen",244,48.5312899106003,51.114922813036003,19.587628865979401,0,75.384615384615401,1.4814814814814801,98.423822714681407,55.934320425208803,26.273321036143301,-1.7219594594594601,9.7879828326180291,14.983684210526301,0,15.7635467980296,1.5993265993265999,16.499891067538101,114.28571428571399,2.70469633636587,1.67997781776862,1.7783963504214,46.2585034013605,51.4687100893997,51.824817518248203,0,46.288209606986896,0.48,99.486301369863,45.383481534887402,20.2255500092439,-1.29234629861982,26.687745098039201,32.616060225846901,0,10.9418282548476,1.74513618677043,50.716000000000001,143.25068870523401,0.442105263157895,2.1492435751957499,2.1682272968404899,81220]
["N 81.22-1","Rauchfangkehrerinnen und -kehrer",213,50.392455234704499,48.739495798319297,18.864768348839402,0,75.490196078431396,0.91038914673330995,98.997995991983998,56.853300330033001,26.301369863013701,-1.9001518602885299,10.389824561403501,15.571575342465801,0,15.789473684210501,1.55670103092784,16.728142430364901,114.05405405405401,2.57227238565032,1.6688192650612499,1.75328869795245,46.2585034013605,51.4687100893997,52.878464818763298,0,43.859649122806999,0.474244973163502,99.507389162561594,45.560148148148201,20.046620046619999,-1.31817074619174,26.7137990360842,32.616060225846901,0,9.0739008419083298,1.74513618677043,51.575200000000002,143.527401162128,0.33044391599643602,2.1369746864088,2.1587813511974998,81221]
["N 81.29","Reinigung a.n.g.",84,25.6809338521401,71.938775510204096,28.571428571428601,0,65.667380442541003,16.3763066202091,83.387775566848703,39.8855460385439,27.930341594105801,-0.70830542531815099,3.7115778575164202,8.5711167905844192,1.29255989911728,15.4459392127554,2.0769230769230802,10.025873221216001,155.208333333333,2.6028987993298802,1.95051194539249,2.4652945924132399,35.324407826982501,59.615384615384599,43.246930422919498,0,35.590109603420501,10.607300703879501,89.3333333333333,42.953020134228197,25.914076782449701,-0.77014657157297695,17.7974358974359,21.2121212121212,1.8518518518518501,12.867973268939201,1.6332487309644701,32.183908045976999,174.111675126904,0.41025641025641002,1.99489795918367,2.2792207792207799,81290]
["N 81.29-9","Sonstige Reinigung a.n.g.",49,17.252834237602801,80.645161290322605,30.5555555555556,0,52.702702702702702,16.612224433151301,81.149225189912499,42.192556634304196,22.7895392278954,-0.40475,2.8288296860133202,6.3888888888888902,1.0452961672473899,14.2561983471074,2.29444168355985,10.025873221216001,241.55844155844201,1.36299403524895,1.5810162991371,2.2894736842105301,14.833289577316901,80.472103004291796,58.3092675242846,4.1845493562231804,22.4381625441696,10.2564102564103,89.3510054844607,44.789762340036603,20.741482965931901,-0.69618406285072998,20.1792368125701,22.623400365630701,1.4311676510677001,14.5734900126568,1.4771954274716701,37.384140061792003,412.03539823008902,0,1.99390243902439,2.21091811414392,81299]
["N 81.3","Garten- und Landschaftsbau sowie Erbringung von sonstigen gärtnerischen Dienstleistungen",259,40.697186056278902,58.293838862559198,17.438271604938301,0,79.421768707482997,36.180904522613098,63.819095477386902,36.282682188177702,21.7559466254109,-1.0092239752127901,1.42710280373832,5.6472632493483896,5.1378446115288199,10.6690777576854,1.9078242229367599,4.71615853658537,115.85585585585601,6.9116342404423401,1.66351669346008,2.7546583850931698,29.237947122861598,70.359281437125702,39.4316163410302,0,48.096494534489302,26.359600443951201,72.669498083840494,32.233163265306104,20.8333333333333,-0.80925069380203496,10.4517911353977,15.057680631451101,1.82207539054278,12.410841654778899,1.72413793103448,24.622785917340899,207.64023210831701,0.88885675637856199,1.9803278688524599,3.0714285714285698,81300]
["N 82","Erbringung von wirtschaftlichen Dienstleistungen für Unternehmen und Privatpersonen a.n.g.",817,18.9342480841004,80.350438047559507,31.164383561643799,0,65.023009256690202,16.799363057324801,83.071342200725496,30.1316808675445,32.680320569902101,-0.71515151515151498,4.9694143976128302,9.67741935483871,0.15455950540958299,21.748660496833899,1.6052631578947401,8.4656084656084705,168.51851851851899,3.4207920792079198,2.12410986775178,3.1045751633986902,14.814814814814801,84.375,53.4743202416918,0,42.724952137842998,6.3128059778407604,93.604651162790702,19.2006707007735,30.7291666666667,-0.897226753670473,26.9040697674419,33.928571428571402,0,35.472972972972997,1.0504933255948901,34.378265412748199,277.41935483870998,0.71428571428571397,3.3439208539442902,4.4102564102564097,82000]
["N 82.1","Sekretariats- und Schreibdienste, Copy-Shops",33,31.645569620253202,64.423076923076906,21.991978609625701,0,65.625520110956998,20.689655172413801,75.293197810789707,37.254901960784302,36.531365313653097,-0.95220588235294101,0.76348039215686303,5.04250952799765,3.9215686274509798,12.185209896233101,2.4507042253521099,6.5420560747663599,106.493506493506,4.2799582935347704,2.0285169993973899,2.6744465832531299,42.900302114803601,51.308900523560197,35.384615384615401,0,46.5256797583082,31.470923603192698,67.676767676767696,24.2424242424242,30.116472545757102,-0.68711516533637396,9.8031927023945293,13.1062835125287,3.9215686274509798,8.62745098039216,2.0731707317073198,21.069152326322499,125.53344682916899,0.90291262135922301,2.69433571886267,4.0981308411214998,82100]
["N 82.2","Call Centers",32,12.9411764705882,86.057692307692307,18.6813186813187,0,79.315885667937295,6.4327485380117002,93.419354838709694,61.479591836734699,19.273127753303999,-0.366300366300366,2.8802493937164702,5.3571428571428603,0,16.3568773234201,2.66738681328428,9.0330788804071194,100,2.7416666666666698,1.36178861788618,1.55894308943089,15.1515151515152,80.302595456382505,20.370370370370399,0,65.185185185185205,3.4482758620689702,93.419354838709694,39.568228972708397,19.847328244274799,-0.878272537579874,12.4552663129504,16.379310344827601,0,12.6451612903226,2.0447250723493799,34.343434343434303,205.748703873132,1.15789473684211,1.6939759036144599,1.7048192771084301,82200]
["N 82.3","Messe-, Ausstellungs- und Kongressveranstalter",67,35.846470185058301,64.153529814941706,36.008230452674901,0.371209753047827,59.231960640207099,32.867132867132902,67.132867132867105,30.606271777003499,36.363636363636402,-0.76996047430829995,1.2205678233438499,8.6952612997395597,0.29540781730889798,15.1447661469933,1.9928160919540201,3.4340659340659299,100.65914441107201,4.6957698276891202,1.9961389961389999,3.2673041894353401,14.814814814814801,72.331154684095907,47.291205133170799,0,40.053050397878003,34.519426556464097,61.417385426581198,19.205298013244999,19.741697416974201,-0.74291443850267402,13.5135135135135,15.1515151515152,1.79483430263076E-2,5.8949212280896397,2.1583333333333301,29.8507462686567,230.61224489795899,0.111753194317583,2.4137931034482798,4.24665981500514,82300]
["N 82.9","Erbringung sonstiger wirtschaftlicher Dienstleistungen für Unternehmen und Privatpersonen",659,16.7268351383875,82.178217821782198,32.323232323232297,0,65.023009256690202,15.3670801206839,84.632919879316105,28.528072837632799,32.782567049808399,-0.69930069930069905,5.48121546961326,10.3950042156454,0.120683875293329,24.7001180033044,1.4712134632418099,9.5121951219512209,184.61538461538501,3.4150943396226401,2.1817142857142899,3.2452830188679198,14.7368421052632,84.375,51.519337016574603,0,45.569620253164601,5.3709570470787602,94.296577946768096,16.778523489932901,30.606060606060598,-0.98437118437118398,30.737119675456398,36.337209302325597,0,39.766606822262098,0.85837180025178395,33.3333333333333,277.41935483870998,0.71817958345584199,3.5299353737349102,4.6756756756756799,82900]
["N 82.99","Erbringung sonstiger wirtschaftlicher Dienstleistungen für Unternehmen und Privatpersonen a.n.g.",601,17.725258493353,81.324987686728207,33.3333333333333,0,64.251207729468604,15.1785714285714,84.772820302906297,28.329130539914999,32.754342431761799,-0.69798994974874395,5.6662362375968502,10.505836575875501,9.3720712277413298E-2,25,1.4603636363636401,9.5404136253619303,184.61538461538501,3.2352941176470602,2.1826086956521702,3.2452830188679198,20.209973753280799,78.350515463917503,51.038062283736998,0,46.259498499002099,4.0485829959514197,95,15.934065934065901,31.060606060606101,-0.98437118437118398,30.866666666666699,37.5478927203065,0,39.766606822262098,0.85257032007759503,33.762886597938099,275,0.71817958345584199,3.9295774647887298,4.7785234899328897,82990]
["O","Öffentliche Verwaltung, Verteidigung, Sozialversicherung",54,39.590409901208503,58.561106523534299,31.395348837209301,0,62.1287128712871,5.5386949924127498,92.099644128113894,33.236216943074901,41.024471074181697,-1.0216503615482799,0.93283582089552197,9.5588235294117592,0,20.6218655967904,0.62400906002265,1.6416105700372401,107.163323782235,8.7723577235772403,1.8755353755419999,2.58939096267191,40.955821635012398,22.9374433363554,45.7943925233645,0,50.5685008422235,11.2648221343874,86.388384754990895,26.511260371394702,30.081300813008099,-2.14900181488203,11.947525115494599,24.2281807499199,1.7543859649122799,14.4903200316081,0.52173913043478304,7.1347678369195897,112.771794350742,2.0923076923076902,1.82937365010799,3.3101131541725599,83999]
["O 84","Öffentliche Verwaltung, Verteidigung, Sozialversicherung",54,39.590409901208503,58.561106523534299,31.395348837209301,0,62.1287128712871,5.5386949924127498,92.099644128113894,33.236216943074901,41.024471074181697,-1.0216503615482799,0.93283582089552197,9.5588235294117592,0,20.6218655967904,0.62400906002265,1.6416105700372401,107.163323782235,8.7723577235772403,1.8755353755419999,2.58939096267191,40.955821635012398,22.9374433363554,45.7943925233645,0,50.5685008422235,11.2648221343874,86.388384754990895,26.511260371394702,30.081300813008099,-2.14900181488203,11.947525115494599,24.2281807499199,1.7543859649122799,14.4903200316081,0.52173913043478304,7.1347678369195897,112.771794350742,2.0923076923076902,1.82937365010799,3.3101131541725599,84000]
["O 84.1","Öffentliche Verwaltung",48,39.590409901208503,58.561106523534299,31.395348837209301,0,62.1287128712871,7.90035587188612,91.6666666666667,31.545903110284701,44.246959775491099,-1.0216503615482799,8.5433575395130301E-2,7.9201746180230703,7.9681274900398405E-3,20.6218655967904,0.62400906002265,1.21654501216545,105.02793296089401,8.8666666666666707,1.89164892358647,3.0087660148347899,40.955821635012398,22.342733188720199,43.812709030100301,0,54.2056074766355,9.9329917225069,86.388384754990895,27.035248991468801,38.1026438569207,-2.14900181488203,10.288014981273401,23.7986599745443,1.8801410105757901,14.4903200316081,0.52173913043478304,6.8262472885032501,112.771794350742,2.3787477954144598,2.8919523099851001,3.5364413668701902,84100]
["P","Erziehung und Unterricht",411,36.009904492394803,63.128491620111703,17.43264659271,0,79.4195250659631,11.4482200647249,88.551779935275107,44.967477544910203,35.728952772073903,-0.86142322097378299,1.87756725188212,7.2968490878938601,0.181488203266788,10.6382978723404,1.91782006920415,5.4269752593774898,100,5.3703644856843198,1.7718253968254001,2.1357746169591501,27.7511961722488,72.248803827751203,42.592592592592602,0,56.483581500838199,11.3924050632911,88.607594936708907,30.314960629921298,31.045406546990499,-0.81578947368421095,19.040206185567001,25.072757475083101,0,14.1732283464567,1.63275781614559,34,164.192139737991,0.89981273408239704,2.46994180421378,2.89284542662014,84999]
["P 85.5","Sonstiger Unterricht",354,37.372448979591802,59.735891061935199,14.7686832740214,0,81.591459651222607,11.3924050632911,88.546255506607906,42.857142857142897,36.1991250256131,-0.92581888246628097,2.0304568527918798,7.6545103535820997,0.23419203747072601,10.981800173331701,1.91782006920415,6.0883620689655196,100,5.4615384615384599,1.8299160305904301,2.2238294309510098,25.048046124279299,70,37.883008356546,0,53.890489913544698,10.6471816283925,88.3847549909256,26.2003174603175,31.073446327683602,-0.92424722662440595,17.8341812400636,25.072757475083101,0,11.6152450090744,1.6064139941691,33.4513274336283,170.37037037037001,0.86113827208151505,2.7989482739819,3.12808177991581,85500]
["P 85.51","Sport- und Freizeitunterricht",41,59.109311740890703,36.363636363636402,11.798209926769699,0,86.023294509151398,11.453744493392101,87.487283825025401,42.857142857142897,33.040152963671098,-1.94805194805195,0.77992565055762098,7.89210789210789,1.03244837758112,6.6079295154185003,1.4951690821256001,5.0279329608938603,93.867457962413496,5.7922077922077904,1.8378105541509999,2.2238294309510098,40.909090909090899,42.896935933147603,37.167300380228099,0,62.116991643454,6.6561014263074503,88.607594936708907,39.130434782608702,23.0201863354037,-1.1697624190064799,15.156418383518201,26.220614828209801,9.1659028414298793E-2,5.3995680345572401,1.3498542274052501,29.241786743515799,79.847908745247196,0.65637163386840103,2.1071008224490302,2.25735249399888,85510]
["P 85.53","Fahr- und Flugschulen",127,61.133603238866399,38.866396761133601,8.4224956715985897,0,89.285714285714306,7,93,52.666290322580601,37.380191693290698,-1.3193093727977401,1.09369918699187,7.9978260869565201,0.20746887966805,6.6009852216748799,1.6527331189710599,3.2467532467532498,85.348948374760994,7.8372093023255802,1.71111866262093,1.88666061071903,57.268292682926798,41.6378316032295,42.619071097524902,0,52.688172043010802,9.3406593406593394,89.950738916256199,39.557780979827101,31.9211822660099,-1.1719919999999999,12.974516129032301,20.427306967984901,0,6.34005763688761,1.4011299435028199,20.8901390395425,116.137931034483,1.0476190476190499,2.1246092453984602,2.3250570174952201,85530]
["P 85.59","Sonstiger Unterricht a.n.g.",154,17.647058823529399,81.904090267983094,18.482080112438499,0,74.556213017751503,16.1016949152542,83.261802575107296,33.396501457725897,31.419939577039301,-0.53347949209829204,3.71870991854174,7.2632911177365003,0,19.679178442065002,2.0915448999858102,9.8998184081124592,118.181818181818,3.9753086419753099,1.9411764705882399,2.6433951109169,10.402702136573099,89.597297863426903,58.634268956849603,0,36.363636363636402,13.8888888888889,86.1111111111111,14.5748987854251,28.143712574850301,-0.81578947368421095,22.893457943925199,27.1124872007411,0,22.3140495867769,1.6064139941691,38.162544169611301,350,0.4033203125,3.5681963909498902,4.1153846153846203,85590]
["Q","Gesundheits- und Sozialwesen",1040,41.9129500268673,57.212713936430298,25.330979699911701,0,70.053518948308394,10.0739371534196,89.919865035849895,53.440702781844799,27.035830618892501,-0.92717161016949201,2.96177570093458,8.2901554404145106,0.23830155979202799,16.422590007052499,1.5,6.1111111111111098,116.19047619047601,4.82242837876497,1.5883822610868199,1.8557692307692299,34.078212290502798,65.109034267912804,46.463184788644597,0,49.842271293375397,9.6878363832077508,90.308370044052893,33.1029282392862,25.396825396825399,-1.00638170677029,22.295667288997599,29.073655423883299,0.34393809114359403,21.6753022452504,1.1889511053063,31.876606683804599,167.37421383647799,0.853341684240569,2.5476450719504302,2.9406077348066302,85999]
["Q 86","Gesundheitswesen",574,37.351290684623997,61.404599129894301,33.8392355255762,0,60.839160839160797,13.2328308207705,86.6279069767442,40.157027958636498,29.2302051636117,-0.91284046692607002,8.4181818181818198,15.065202470830499,0.667779632721202,18.0527146280171,1.5,12.6315789473684,140.269749518304,2.5003353147174199,1.8972602739726001,2.4438125792646601,28.260869565217401,71.311475409836106,51.507537688442198,0,45.411764705882398,9.6153846153846203,90.363485731309694,28.626247122026101,25.300967041642,-0.94827369742624001,30.578512396694201,37.178689727032697,0.20923628755044099,23.478260869565201,1.26746421704764,43.060067114093997,182.109764789736,0.58429118773946398,2.8282442748091601,3.3452211126961502,86000]
["Q 86.1","Krankenhäuser",78,51.556420233463001,40.630074699577797,28.359913485622702,1.50821894594137,61.046609537849299,14.2979647827074,85.105488778683707,51.776950775583003,26.330798479087498,-0.958103618016244,6.3467352130591497,12.1123778461371,1.1987381703469999,18.970420932878302,1.30790960451977,7.4086746531660497,102.71661237785,3.27533193570929,1.6168359941944801,1.9271570014144299,50.6791507319003,48.916658153617902,48.317672021824798,0,38.701141955250201,9.9535000628377492,85.812931575643404,40.639328573126001,25.2078013803232,-1.03239875389408,17.191900311526499,25.402370683288801,1.16078168487176,21.740949989537601,1.14971840851536,24.469207437689601,132.24722875377901,1.13970956434652,2.0606515100588498,2.4479166666666701,86100]
["Q 86.2","Arzt- und Zahnarztpraxen",250,38.595400870105699,59.876543209876502,34.853420195439703,0,60.550458715596299,12.5,87.310045391750506,34.547765363128498,31.677852348993301,-0.975327271678745,15.026410256410299,21.153846153846199,0.48780487804877998,19.3037974683544,1.32251235003529,19.655667144906701,146.92307692307699,1.6145251396647999,2.4008762322015298,2.84140969162996,33.659404179635402,66.340595820364598,49.7677119628339,0,49.842271293375397,9.0045315012425107,90.995468498757504,25.549278091651001,23.703052380354201,-0.89945355191256804,38.2565022421525,42.424242424242401,0.15974440894568701,26.0634410173951,1.1599169262720701,46.376167185415703,182.109764789736,0.49401376368148198,3.1970920840064601,3.6464398456681901,86200]
["Q 86.22","Facharztpraxen",198,37.241379310344797,62.627291242362503,34.853420195439703,0,58.581504702194401,9.6365142686903091,90.308370044052893,34.740189328743497,32.112917023096699,-0.96721170395869205,15.294303081707699,22.051133004926101,0.36710719530102798,22.385509227614499,1.20536840208971,18.628719275549798,158.792329979127,1.5583864118896,2.4444513012503402,2.82358581016299,30.3637713437268,69.636228656273204,49.7677119628339,0,48.363636363636402,7.1428571428571397,92.8184281842818,24.122049510650498,23.5048678720445,-0.90584144645340703,39.449005424954798,43.916349809885901,0.18357044515832999,28.0597014925373,1.1163954943679599,46.376167185415703,212.23832528180401,0.33743492664458102,3.47913012977902,3.9140049140049098,86220]
["Q 86.23","Zahnarztpraxen",31,49.698795180722897,47.204968944099399,35.403726708074501,0,64.250786432865098,25.2032520325203,74.796747967479703,35.720487804877997,25.120772946859901,-1.05650016754402,11.4843529174238,17.349730700179499,2.2038567493112899,11.452513966480399,1.95859872611465,21.604938271604901,124.908275580921,1.4789058031873299,2.0698219953083998,2.7995138405233,28.688524590163901,47.204968944099399,9.6098265895953805,0,59.937888198757797,21.465163934426201,75.391544996952405,27.339449541284399,20.443349753694601,-0.55201834862385302,30.823250000000002,35.911885245901601,1.1009174311926599,6.8454815650892398,1.4877049180327899,47.540983606557397,71.505376344086002,0.28909599182157403,2.81702496819881,3.5816298206498902,86230]
["Q 86.9","Gesundheitswesen a.n.g.",237,29.629629629629601,67.400881057268705,33.273056057866199,0,61.538461538461497,13.0099728014506,86.549134835128996,48.426150121065398,29.1666666666667,-0.83413538658967001,2.9194182550372099,7.2452830188679203,0.47746833940265498,15.8176943699732,1.80827366746221,6.7039106145251397,146.65677772706499,3.36391437308869,1.7050000000000001,2.01787369014786,25,75,61.146496815286604,0,38.698873592258899,13.716814159291999,86.283185840708001,30.9446254071661,29.1666666666667,-0.91012658227848098,21.069230769230799,28.170431247746201,0.64383208859129504,22.760290556900699,1.43561643835616,31.876606683804599,306.17283950617298,0.36986301369863001,2.5233434518236901,2.9740259740259698,86900]
["Q 86.90-1","Krankentransporte und Rettungsdienste",33,36.420593843639303,57.212713936430298,53.6666666666667,0.103680663556247,33.3333333333333,6.78571428571429,92.181340341655698,47.232704402515701,47.314285714285703,-1.00106899902818,0.89598019695420605,7.2452830188679203,0.12953367875647701,15.660377358490599,0.99099099099099097,2.0717899301373199,126.045150501672,1.42307692307692,1.6538575517584699,2.0317892824704802,27.331887201735402,71.171171171171196,49.774605559729501,0,33.3333333333333,3.1495010254953302,95.604395604395606,32.727272727272698,48.463864308644403,-1.8272739423069599,18.382549728752299,28.580814717477001,0.17656500802568201,26.107630042547001,0.99099099099099097,25.114442552215699,258.56934217111097,1,2.9675680531848001,2.9687883688198098,86901]
["Q 86.90-9","Sonstiges Gesundheitswesen a.n.g.",149,29.4478527607362,68.0221811460259,27.3420961945552,0,65.52734375,13.716814159291999,85.04638671875,47.479674796748,27.570093457943901,-0.88724489795918404,4.8368872549019599,9.0909090909090899,0.81845116301910303,15.8176943699732,1.7874420998456,9.1402714932126692,139.591836734694,3.3333333333333299,1.71910724006532,2.0579539013574402,14.1946308724832,83.786205897510001,61.146496815286604,0,35.148514851485103,18.835133865664599,78.9156626506024,26.009302325581402,25.396825396825399,-0.91746031746031698,21.467057101024899,26.9430051813472,0,19.1652470187394,1.45614035087719,32.089552238806,306.17283950617298,0.30666666666666698,2.3867403314917102,2.9581479200919198,86909]
["Q 87","Heime (ohne Erholungs- und Ferienheime)",273,61.203555960793302,37.084199584199602,10.493827160493799,0,87.7319182753955,9.6519721577726205,90.312163616792205,60.647181628392502,25.444031391986801,-1.45655172413793,0.18960290086200701,4.7359569458459498,0.15948963317384399,15.702479338843,1.2033195020746901,2.4461839530332701,101.696503455767,15.088888888888899,1.4693723798981,1.6325181758096501,75.204918032786907,22.204332552693199,15.5981493721084,0,78.783873099801696,8.3068109484404804,91.637295738545305,55.425434583714498,21.650026274303698,-3.1067961165048499,9.3890316205533608,16.235498174230599,0.14872894373670101,15.5629139072848,0.63172727543185303,10.164569215876099,109.930860738615,6.0871794871794904,1.61633554083885,1.79496324001242,87000]
["Q 87.1","Pflegeheime",83,73.210768220617197,26.789231779382799,4.68658465143527,0,94.454208162468305,9.6878363832077508,90.312163616792205,61.376773515501803,25.629590766002099,-1.47299509001637,0.40594024604569401,5.7549085985104904,0.175746924428823,14.7394136807818,0.82793976289650795,2.0476698483997802,99.402022785534996,17.660377358490599,1.4681778552746301,1.6292808219178101,71.653543307086593,24.539477966543,8.9716147045137298,0,78.783873099801696,8.3627042614546596,90.312163616792205,52.370304114490203,21.650026274303698,-3.1380753138075299,8.9403973509933792,12.271707785966001,0.130412102243088,15.5629139072848,0.55614137863698498,10.164569215876099,107.838867719107,6.1185567010309301,1.61633554083885,1.7762039660056701,87100]
["Q 87.3","Altenheime; Alten- und Behindertenwohnheime",138,58.1078362742495,40.376266280752503,10.650069156293201,0,87.738064179493904,9.6412556053811702,90.157440325038095,59.659959864804598,26.506024096385499,-1.60032206119163,-0.27288605498121299,4.3481781376518196,0.16283329940972899,16.6279069767442,1.1645807259073799,2.2321428571428599,102.09150326797401,17.537777777777801,1.4878973030950899,1.6565172767704399,78.711787605745798,21.134210925786402,14.208633093525201,0,85.420991055591202,7.5572112825971303,92.442788717402905,55.425434583714498,21.390667886550801,-3.2511718749999998,10.243384987598301,16.797804208600201,0.181587071000545,15.5465587044534,0.61702678852438497,8.5616438356164402,106.22921746841099,6.9049295774647899,1.66873339238264,1.8042258171013501,87300]
["Q 87.9","Sonstige Heime (ohne Erholungs- und Ferienheime)",43,51.809954751131201,46.653734238603299,26.515151515151501,2.356780275562,69.343891402714902,9.8416166029492107,90.158383397050798,65.369649805447494,23.0477634571645,-0.98954545454545495,0.99925825416789804,5.1976573938506601,8.8888888888888906E-2,15.465393794749399,1.4976461050377301,3.03483473637935,112.046444121916,8.3134019151944099,1.37349397590361,1.5297619047619,36.4444444444444,63.5555555555556,51.984928004306298,2.356780275562,44.253081943437302,11.129296235679201,88.870703764320794,53.133168987463499,18.540669856459299,-1.09848619768477,6.9638515081206496,9.8163086642293997,3.9138943248532301E-2,15.465393794749399,1.4706695139743899,16.8419144307469,202.657004830918,1.05395683453237,1.4325396825396799,1.8820635378174899,87900]
["Q 88","Sozialwesen (ohne Heime)",193,34.426229508196698,63.2173913043478,25.665665665665699,0,70.212169434013902,6.9767441860465098,92.959295929592997,63.526570048309203,25.398949861011001,-0.61473892927957696,0.77856145251396602,4.4294849618851897,0,12.438423645320199,1.8546566321731,2.8287841191066998,114.819643633203,5.4904109589041097,1.37596899224806,1.54643962848297,33.8983050847458,63.466042154566701,38.129696632340703,0,56.325088339222603,6.91671263099835,93.010752688172005,50.317017499366003,27.035830618892501,-0.81032119914346901,10.1898808014202,13.2607456140351,0,16.3727959697733,1.5321637426900601,19.371428571428599,136.13963039014399,1.6590909090909101,1.7850827733011401,1.9027694977612699,88000]
["Q 88.9","Sonstiges Sozialwesen (ohne Heime)",175,35.730263628285101,63.043478260869598,23.496835443038002,0,71.435668156979602,6.9767441860465098,93.023255813953497,64.539007092198602,25.725725725725699,-0.59266055045871602,0.72423556058890104,4.3859649122807003,0,12.0378759259345,1.8678890456041399,2.7755141172522899,114.819643633203,5.5847953216374302,1.37596899224806,1.54392892398815,33.8983050847458,63.466042154566701,31.342857142857099,0,56.325088339222603,6.6339066339066299,92.354740061162104,51.605504587155998,27.035830618892501,-0.78510179996533802,9.6999999999999993,11.9452193761096,0,14.071460079400101,1.54329147389293,18.244406196213401,136.13963039014399,1.8786968021158901,1.73617021276596,1.9027694977612699,88900]
["Q 88.99","Sonstiges Sozialwesen a.n.g.",164,36.7826086956522,61.325611325611298,27.049582719685802,0,70.075025137288307,6.6339066339066299,93.203058623619398,64.769820971867006,25.4621848739496,-0.61473892927957696,0.63080000000000003,4.1739383362420002,0,12.0378759259345,1.73916940543771,2.3546725533480499,117.970846953148,5.5847953216374302,1.3696682464454999,1.5257709834439399,33.8983050847458,63.2173913043478,31.342857142857099,0,56.020066889632098,6.1068702290076304,92.354740061162104,51.605504587155998,26.4666960741068,-0.81125094387112995,10.0118046816008,11.9452193761096,0,14.071460079400101,1.4260429835651101,16.326530612244898,136.13963039014399,1.6590909090909101,1.6967509025270799,1.8723653395784501,88990]
["R","Kunst, Unterhaltung und Erholung",975,51.5625,48.192771084337402,22.3350253807107,0,75,14.1203703703704,85.879629629629605,28.517110266159701,49.0291262135922,-1.26182965299685,0.74482453553523997,9.0078328981723192,0.62045017702185101,11.1111111111111,1.4564564564564599,3.2366071428571401,100.743801652893,5.29895287958115,2.5340501792114698,3.3457249070631998,39.024390243902403,60.264723785175804,40.157480314960601,0,57.870672762900099,9.1503267973856204,90.740740740740705,20.812627886582899,41.456582633053202,-1.03438985736926,17.065754687980299,26.954177897574102,0.269541778975741,13.307593931242,1.34022556390977,26.976859299591599,133.721471821146,0.96551724137931005,3.6913580246913602,4.4495412844036704,89999]
["R 90","Kreative, künstlerische und unterhaltende Tätigkeiten",129,35.995250111325497,60.264723785175804,22.875816993464099,0,68.765133171912794,25.260718424101999,73.200992555831306,26.544622425629299,33.835457705677896,-0.86271249148595996,0.79681274900398402,5.3805758362238301,3.2556137562092198E-2,11.166253101737,1.6206896551724099,3.6850746268656702,100,4.6470588235294104,1.9458508221317601,3.4820140074936101,14.285714285714301,73.684210526315795,40.157480314960601,0,52.147330485131498,23.663702959423301,76.143790849673195,19.466975666280401,33.835457705677896,-1.1654658721560101,23.1444444444444,31.688936170212799,0,12.7381600435493,1.17241379310345,30.582524271844701,171.028037383178,0.16350289316866701,3.4459016393442599,4.45805422647528,90000]
["R 90.02","Erbringung von Dienstleistungen für die darstellende Kunst",44,21.251913009559502,74.859967051070797,22.875816993464099,0,61.4405649473537,22.891566265060199,74.2138364779874,22.699386503067501,35.294117647058798,-0.72782874617737003,0.79681274900398402,8.6427656850192101,0,21.114764702711401,1.5658198614318699,3.6850746268656702,106.333333333333,3.72058823529412,2.15686274509804,4.1424858823299502,9.7315436241610698,88.524590163934405,40.157480314960601,0,59.842519685039399,17.834394904458598,82.165605095541395,15.191740412979399,28.025477707006399,-0.64777070063694298,19.651960784313701,26.425855513308001,0,31.448763250883399,1.2522123893805299,21.484375,168.02884615384599,0.931034482758621,4.1456310679611699,4.7966101694915304,90020]
["R 90.03","Künstlerisches und schriftstellerisches Schaffen",34,35.459833372984598,64.004749888674496,22.758620689655199,0,71.755725190839698,27.706422018348601,69.2708333333333,29.020979020978999,23.6111111111111,-1.3888888888888899,1.3190114068441099,4.8611111111111098,0.581395348837209,9.8360655737704903,1.4858757062146899,5.9146892655367198,103.448275862069,5.8571428571428603,1.8177493385330601,3.3535860171320699,4.8275862068965498,64.004749888674496,26.4033264033264,0,47.923322683706097,5.9880239520958103,76.143790849673195,16.204690831556501,22.127659574468101,-4.1038379530916798,29.235226103198102,33.532934131736504,0,58.723404255319103,0.89456869009584705,30.582524271844701,131.53264604811,2.5641025641025599E-2,3.6913580246913602,5.4691358024691397,90030]
["R 90.04","Betrieb von Kultur- und Unterhaltungseinrichtungen",38,46.221422082197698,53.341013824884797,28.9534001783645,0,68.765133171912794,24.240266373280502,74.739281575898005,27.544449026123701,36.575052854122603,-0.62085901869393101,0.67049167758322803,4.43159922928709,0.34013605442176897,7.6773566569484899,1.7135728542914199,4.4210526315789496,86.152075500652202,5.8991555597567498,1.8781151429053,2.99710809418149,14.285714285714301,60.264723785175804,62.470023980815299,0,24.803149606299201,21.175596994374299,76.336297040576696,23.360516876774401,33.835457705677896,-0.50195971692977703,11.4854759235218,17.638872496951102,0.69524913093858598,6.7901234567901199,1.17241379310345,20.689655172413801,182.758620689655,0,2.4436860068259398,3.21160409556314,90040]
["R 91","Bibliotheken, Archive, Museen, botanische und zoologische Gärten",53,58.656629994209602,36.855293380664001,44.537815126050397,0,46.120689655172399,14.5466405740378,81.843143984897907,42.214248928582002,45.988258317025398,-1.13065326633166,0.37674050632911399,8.1088854650367903,1.6083254493850501,9.3661305581835403,0.82159624413145504,1.8823529411764699,110.03631471541399,3.5301204819277099,1.74290780141844,2.3173985547526401,45.855808584321501,28.674351585014399,38.834951456310698,0.49129075480125101,36.879432624113498,8.3129584352078201,90.740740740740705,31.645370370370401,44.756682659355697,-1.1276011419233001,15.3363488182559,24.775876120619401,1.6083254493850501,5.5325388046694597,0.54801250558284997,13.071675936614501,108.167613636364,1.4396622493256701,2.69784172661871,2.92441860465116,91000]
["R 92","Spiel-, Wett- und Lotteriewesen",82,25.732217573221799,72.925764192139695,51.313892892781901,0,46.8266042519992,10.1970865467009,89.196832579185497,21.679417457830201,47.294342358230303,-0.71942446043165498,2.41939349248779,6.05849824410795,0.175066986048423,9.3013738672902697,1.7904421123062699,8.7446755199198201,160.160427807487,1.0635088419093199,3.2777777777777799,4.3234126984127004,13.2919350782504,74.267782426778197,59.4142259414226,0,30.6810607007457,5.0847457627118597,94.401101422670905,14.987080103359199,43.233723695427798,-1.0138983050847501,27.121694915254199,33.033868837535501,0.150396323525017,9.9123778438343901,1.3521666350285599,45.705558527620099,238.57514016135701,0,5.2336448598130803,5.5140186915887899,92000]
["R 92.00-1","Wett-, Toto- und Lotteriewesen",33,28.488372093023301,67.769185158391707,39.695857367593099,0,54.183666790303903,20.116959064327499,75.747002242225307,12.7343158693525,46.759876081846599,-0.43784977908689199,1.8044976076554999,4.5760179305192397,0.14170996693434099,7.03826169107227,1.8358150470219401,8.9829149977945395,126.167914182514,1.0644065979234101,3.2700063296862298,4.7421680066537304,3.0309620275791298,70.659979939819493,74.324324324324294,0,20.077972709551702,5.2542372881355899,93.6812032842153,10.410557184750701,47.017543859649102,-1.0138983050847501,27.121694915254199,33.450292397660803,0,16.9572107765452,1.3294346978557501,46.383866481223897,179.82456140350899,8.3916083916083906E-2,7.3565949082256399,7.8527971997827404,92001]
["R 92.00-3","Betrieb von Glücksspielautomaten",39,20.845921450151099,79.154078549848904,54.971098265896003,0,45.028901734103997,10.1675123575058,89.8324876424942,23.791821561338299,53.0818278427205,-0.95028268551236805,3.72182741116751,10.9011627906977,0.26703614357564398,10.119314781567899,1.5247844827586201,6.8269342755206797,179.03225806451599,0.55376578145407096,3.2777777777777799,3.9552873122214698,13.2919350782504,79.154078549848904,58.1346326421219,0,34.260614934114201,4.8609896835111002,94.401101422670905,23.129876089949502,37.304968772618402,-1.34667042889391,30.4077840870934,33.033868837535501,4.5146726862302498E-2,9.9123778438343901,1.09639896052469,29.2192046028437,333.61344537815103,0,3.6569484936831902,4.203125,92003]
["R 93","Erbringung von Dienstleistungen des Sports, der Unterhaltung und der Erholung",711,56.837606837606799,42.5,18.7919463087248,0,80.120481927710799,12.439024390243899,87.560975609756099,28.275862068965498,51.1111111111111,-1.4743130462168299,0.44247787610619499,9.6385542168674707,0.74906367041198496,11.818181818181801,1.3612906457321301,2.6904708323956701,100,6.0496183206106897,2.60408163265306,3.3417721518987298,48.578595317725799,50.847457627118601,33.285769379097601,0,66.505245241780003,10.7427055702918,89.124668435013305,20.599803343166201,40.9722222222222,-1.2324649298597199,15.9175397093613,24.814650283553899,0.42421627840092002,10.9530583214794,1.5106382978723401,26.8796992481203,124.201853759011,1.14935064935065,3.7255936675461698,4.47770700636943,93000]
["R 93.1","Erbringung von Dienstleistungen des Sports ",459,63.913901037646902,36.086098962353098,15.0430335536984,0,83.455882352941202,8.7786259541984695,91.221374045801497,31.798002219755801,57.876106194690301,-1.72413793103448,-3.4467026130236403E-2,10.1010101010101,0.73274199768607795,10.235131396957099,1.1550535669794899,1.75398457583548,97.633972468043297,7.1790041708004804,2.52877697841727,3.0486486486486499,57.615516257843701,40.540540540540498,31.7170564746149,0,68.282943525385093,6.7961165048543704,93.203883495145604,24.287134502924001,46.291079812206597,-1.35453857659249,14.5360824742268,24.549253731343299,0.42421627840092002,9.3814432989690708,1.4148471615720499,23.1722428748451,112.680577849117,1.33948339483395,3.34600760456274,3.8351213787297,93100]
["R 93.11","Betrieb von Sportanlagen",188,74.037530092170798,25.297619047619001,19.047619047619001,0,79.194630872483202,10.2371541501976,89.700374531835195,32.773109243697498,61.6,-2.9388379204892998,-3.7828375286041198,10.2564102564103,1.87192118226601,12.6384364820847,0.62711864406779705,-0.352112676056338,99.865861837692805,10.529702970297,2.4534161490683202,2.9313725490196099,70.136986301369902,29.863013698630098,22.3350253807107,0,77.142857142857096,9.5947834187238001,90.405216581276207,25.741029641185602,47.899878770591201,-2.8424068767908302,8.9879759519038096,26.194144838212601,0.62034739454094301,10.318242195169001,0.68722642260246702,8.7927107061503396,106.650831353919,3.9039999999999999,2.7135135135135098,3.7623574144486698,93110]
["R 93.11-9","Betrieb von sonstigen Sportanlagen",136,74.702380952380906,24.3386243386243,19.2468619246862,0,78.769931662870206,8.4551811824539094,91.544818817546101,30.247406225059901,63.1944444444444,-2.9706312292358801,-4.1561038961039003,10.3092783505155,1.92307692307692,17.1891891891892,0.57840122982321296,-0.352112676056338,98.952879581151805,10.863128491620101,2.6666666666666701,3,62.857142857142897,33.780160857908797,21.230068337129801,0,77.142857142857096,7.5929910851521702,91.981132075471706,18.75,54.142328716294998,-2.0165011459129101,8.6867924528301899,26.194144838212601,0.495867768595041,16.964285714285701,0.68722642260246702,8.5604265402843591,110.739979445015,4.2347826086956504,3.57037037037037,4.4063926940639302,93119]
["R 93.13","Fitnesszentren",151,63.9365351629503,35.548885077187002,6.25,0,89.873417721519004,5.9187887130075696,94.081211286992399,31.541600141919499,60.777957860615899,-1.39442231075697,2.9321790540540502,11.618284424379199,0.42421627840092002,8.9285714285714306,1.7806788511749301,7.8079646017699096,81.846153846153797,4.2352941176470598,2.9609111361079901,3.15486725663717,49.873737373737399,46.009389671361497,42.5179458862507,0,57.142857142857103,5.7503506311360404,94.237212419030598,25.446428571428601,50.706713780918697,-1.3098933901919001,16.370422535211301,24.536082474226799,0.89668615984405498,11.150097465886899,1.60032449972958,27.447268793942701,117.560975609756,0.90322580645161299,3.5263157894736801,3.6112531969309498,93130]
["R 93.19","Erbringung von sonstigen Dienstleistungen des Sports",103,51.204819277108399,48.795180722891601,18.181818181818201,0,80.882352941176507,27.574351040054999,72.425648959944994,27.805630543771699,36.956521739130402,-1.5260989010988999,0.51142208774583997,8.9430894308943092,1.14942528735632,8.8099498749344995,1.4752475247524801,3.6585365853658498,105.175292153589,5.7716049382716097,2.1162790697674398,3.3293413173652699,22.136563876652001,58.571428571428598,28.8135593220339,0,68.267831149927204,15.5844155844156,83.277027027027003,20.2272165966905,26.678141135972499,-0.93181818181818199,17.4659076122316,23.5228962310279,0,3.3783783783783798,1.9411764705882399,36.123348017621097,126.31578947368401,1.0567805953693501,2.3170731707317098,2.77868830274471,93190]
["R 93.2","Erbringung von Dienstleistungen der Unterhaltung und der Erholung",244,40.322580645161302,57.758620689655203,23.776223776223802,0,75,29.814126394052,70.108161258603701,23.285416666666698,41.967375185368297,-1.0708117443868701,1.6339095429789201,8.4970368211405791,0.81632653061224503,14.114987080103401,1.6956521739130399,4.4319752636211698,104.91143317230301,4.7058242913392796,2.7983595352016399,4.1444316077093797,22.289156626505999,71.506849315068493,33.285769379097601,0,62.239089184060703,30.5993690851735,68.965517241379303,14.4662921348315,33.042131084047,-0.84774774774774797,19.637219101123598,26.954177897574102,0,19.648093841642201,1.5398230088495599,33.2301909307876,202.88461538461499,0.51149425287356298,4.24096624587684,6.2806122448979602,93200]
["R 93.21","Vergnügungs- und Themenparks",32,59.198113207547202,39.024390243902403,32.407407407407398,0,66.505245241780003,11.3667838500053,88.080224872749397,26.724137931034502,48.648648648648603,-2.2718965517241401,1.88048780487805,17.241379310344801,1.55534249493981,9.7304890159773496,0.84073443896485001,3.7965742539290099,105.020320105363,4.7058242913392796,3.1612903225806499,3.5365853658536599,36.066712995135497,62.267343485617602,37.381404174573099,0,12.110224800580101,11.9391634980989,87.897196261682197,20.725747663551399,39.148073022312403,-2.5488668555240799,32.687931034482801,41.312559017941503,1.3840830449827,1.8716577540107,0.88723051409618603,38.8668739635158,241.76809737347901,0,4.0232558139534902,4.0622489959839401,93210]
["R 93.29","Erbringung von Dienstleistungen der Unterhaltung und der Erholung a.n.g.",188,36.515513126491598,58.029331484770999,21.890547263681601,0,76.895306859205803,33.3333333333333,66.465863453815302,21.711899791231701,39.416058394160601,-0.912825193975354,1.4530864197530899,7.10382513661202,0.60013202904638996,16.884879993249399,1.74537037037037,4.2763157894736796,104.347826086957,4.5840936401264001,2.64983902124919,4.2945334168381502,24.307362620541898,72.217970304607405,33.3333333333333,0,66.449511400651502,32.870370370370402,67.129629629629605,10.3174603174603,32.967032967032999,-0.71385474860335196,17.2117606507652,25.766871165644201,0.13736263736263701,23.4513274336283,1.72131147540984,35.616438356164402,214.28571428571399,0.66666666666666696,4.6200873362445396,9.1,93290]
["S","Erbringung von Sonstigen Dienstleistungen",1555,42.307692307692299,56.834532374100696,20,0,76.140149028529393,15.1515151515152,84.848484848484802,44.436624203821701,29.606299212598401,-1.0695187165775399,0.75852534562212004,5.6939501779359398,2.5078369905956102,11.147011308562201,1.9629629629629599,3.4538919465348799,104.891199226306,6.4191104468381202,1.65979442073828,2.1994459833794999,37.7049180327869,61.809045226130699,40.6510219530659,0,55.122950819672099,15.639810426540301,84.227129337539395,33.0470624266245,26.2120297726816,-1.0458023379383601,15.2033789012123,21.306376360808699,1.9250253292806501,14.3504531722054,1.4043209876543199,25.961538461538499,133.50785340314101,1.25,2.2552083333333299,2.89184219122397,93999]
["S 94","Interessenvertretungen sowie kirchliche und sonstige religiöse Vereinigungen (ohne Sozialwesen und Sport)",287,30.809087285771199,68.716577540106996,30.769230769230798,0,60.3988603988604,10.3284671532847,89.671532846715294,44.230769230769198,35.110163468372399,-0.80522222222222195,8.7991428903355706E-2,3.9378238341968901,0,13.1958762886598,1.45867098865478,1.3945233265720101,119.687712152071,5.0526315789473699,1.5124282982791599,2.15239726027397,31.818181818181799,62.857142857142897,40.231278119361299,0,48.849104859335,5.2496798975672201,93.592677345537794,36.387264457439898,32.935323383084601,-1.0643537414966,8.8650017525411808,14.285714285714301,2.9429075927015901E-2,17.314095449500599,1.2413587604290801,11.9935170178282,124.865010799136,1.25,1.8561320754716999,2.2896174863388001,94000]
["S 94.9","Kirchliche Vereinigungen; politische Parteien sowie sonstige Interessenvertretungen und Vereinigungen a.n.g.",266,30.6667564948768,68.716577540106996,31.043956043956001,0,60.3988603988604,10.3284671532847,89.430894308943095,44.5414847161572,36.2264150943396,-0.83452551263710095,9.6476510067114093E-2,4.0134328358209004,0,13.300892133008899,1.37018255578093,1.51515151515152,118.48374270616399,5.0526315789473699,1.5,2.0732071713147402,31.283422459893099,68.716577540106996,46.294363256784997,0,48.849104859335,5.2496798975672201,94.750320102432795,38.762886597938099,32.935323383084601,-0.91954022988505701,8.4291187739463602,14.2284708389308,0,17.314095449500599,1.27590727805566,11.9935170178282,124.865010799136,1.25,1.79174083303667,2.1890243902439002,94900]
["S 94.99","Sonstige Interessenvertretungen und Vereinigungen a.n.g.",237,27.570093457943901,70.005070993914799,29.078014184397201,0,61.129504526055896,11.7552334943639,87.840088839533607,43.675417661097903,35.110163468372399,-0.82621761658031101,3.4804868190596002E-3,3.73563218390805,0,13.300892133008899,1.4691358024691401,1.3431542461005199,120.88613050599101,4.75,1.5090545546434699,2.1491935483871001,22.9629289777941,77.037071022205893,50.352475928473197,0,48.5041265474553,6.4073226544622397,93.592677345537794,43.675417661097903,29.449478384938899,-0.91954022988505701,8.7288447387785109,13.6955660708027,0,17.7133655394525,1.27590727805566,12.1296296296296,131.52011922503701,1.25,1.72045418199264,2.1844100658316501,94990]
["S 95.2","Reparatur von Gebrauchsgütern",94,22.474747474747499,74.074074074074105,23.7837837837838,0,73.019057171514504,42.949437115555703,56.811862835959197,32.272325375773697,20.7144265926297,-1.0100807083749701,1.6252390057361401,5.2117471050430604,9.6977329974811095,10.992647058823501,2.2980810083557599,6.4309782908910096,156.25771812080501,7.4210526315789496,1.67009632877039,3.0520661554432298,21.6216216216216,74.074074074074105,46.107784431137702,0,50.578904957801399,33.632099179092002,66.201692202149601,25.1908396946565,23.688663282571898,-0.74951703048648199,17.9190751445087,23.853211009174299,6.3114566659044096,11.696869851729801,2.1787709497206702,38.636363636363598,161.94029850746301,1.0426742532005699,2.4446540992458399,3.27957928237372,95200]
["S 95.29","Reparatur von sonstigen Gebrauchsgütern ",49,22.474747474747499,72.895597195107399,26.6666666666667,0,72.710951526032304,44.095477386934697,55.343511450381698,30.252100840336102,20.649895178197099,-1.04205405130034,2.57267759562842,6.5309545875810899,12.1599242961912,12.5269978401728,1.8578463558765601,6.3064432989690697,115.80118694362,4.6829102158395903,1.7358276915225299,3.2226720647773299,16.6666666666667,74.074074074074105,38.714902807775402,0,53.892215568862298,32.977099236641202,66.201692202149601,25.1908396946565,22.406639004149401,-0.51431569621128104,21.221099196636999,24.871794871794901,6.3114566659044096,11.696869851729801,2.1787709497206702,39.341317365269497,161.17647058823499,0.75322550599745697,2.4446540992458399,2.693866410334,95290]
["S 96","Erbringung von sonstigen überwiegend persönlichen Dienstleistungen",1152,47.5,51.737884639342198,15.358361774744001,0,80.593325092707005,14.335201864332101,85.658578856152502,46.126760563380302,30.150753768844201,-1.14155251141553,1.12354975632762,6.0762607626076299,3.0484485574305902,10.4361370716511,2.0232558139534902,4.3956043956044004,100,6.7244897959183696,1.6968947513053001,2.1213748657357701,38.028169014084497,61.809045226130699,40.196078431372499,0,55.932203389830498,15.460601883758301,84.2661034846885,33.552631578947398,25.5102040816327,-0.99268104776579402,15.764525993883799,22,2.48306997742664,13.4474327628362,1.3888888888888899,28.7234042553191,134.224757979603,1.25925925925926,2.2582159624413101,2.8495025773567999,96000]
["S 96.01","Wäscherei und chemische Reinigung",93,59.143968871595298,39.038105040567402,7.8431372549019596,1.15659092773357,79.763226045134999,10.431546727652799,89.395667046750305,51.090596745027099,36.052694415486798,-1.2102874432677799,1.74957020057307,9.0810422135845901,0.853165693758419,14.9253731343284,1.9008264462809901,6.38090599123234,85.666180267145606,5.2264957264957301,1.7250683158348901,1.9398413846084299,60.306073648971797,39.502630320420799,16.757279429251099,2.3430592396109602,79.292167925749794,8.7181044957472693,91.281895504252702,45.562913907284802,32.960893854748598,-1.60996354799514,9.5012835940633806,19.841269841269799,0.78979343863912499,20.628683693516699,1.52140077821012,15.973218555715,93.374286967968402,2.9047619047619002,1.98198560546644,2.1947674418604701,96010]
["S 96.01-1","Wäschereien",39,53.939033719119202,44.415304995057298,1.08602150537634,2.32150678931231,94.612352168199706,9.6656805261491598,90.334319473850798,50.161812297734599,38.517618469015801,-1.2102874432677799,2.9346225532233698,9.9598086941499204,0.78979343863912499,16.1952650324743,2.1957950065702998,7.7204301075268802,84.615384615384599,4.9226594301221196,1.7634543178973701,1.9935483870967701,60.306073648971797,34.836427939876202,5.8355437665782501,3.9505526449991,79.292167925749794,2.9761904761904798,94.9748743718593,43.681652490886997,38.867924528301899,-2.3465661641540998,9.3518987341772206,19.841269841269799,0.19152367774190601,11.6981132075472,1.1393129770992401,14.3897996357013,78.629579375847996,3.0915032679738599,2.0897079276773298,2.1947674418604701,96011]
["S 96.01-2","Chemische Reinigung und Bekleidungsfärberei",32,63.053435114503799,36.808703535811397,19.533851276359599,0,72.095671981776803,10.950661853188899,88.382687927107099,52.25,34.775033309418902,-1.47411729503291,-3.9047043148508802,6.6008082622361899,0.79601990049751203,15.363016446048899,1.9008264462809901,-1.7015140591204001,93.374286967968402,7.2833333333333297,1.62360801781737,1.87932489451477,44.6446446446446,45.5445544554455,19.533851276359599,0,71.287128712871294,12.874795427274501,86.380368098159494,43.859649122806999,27.705627705627698,-1.1021929824561401,8.3295226634576807,12.6567844925884,0.65898136596853296,15.363016446048899,2.2574257425742599,21.062508170898699,93.374286967968402,1.7692307692307701,1.85781990521327,2.0897435897435899,96012]
["S 96.02","Frisör- und Kosmetiksalons",410,50,50,-9.8739495798319297,0,107.40740740740701,12.7684964200477,87.116923677532697,63.602941176470601,27.7376537185243,-1.14155251141553,-3.79709302325581,0.219158878504673,5.2681992337164703,2.89812067260138,3,-5.1926470588235301,88.174697769453402,100,1.3483248036664099,1.5701558018897599,44.217687074829897,55.782312925170103,27.691626052281801,0,68.539325842696599,12.610619469026499,87.389380530973497,53.488372093023301,24.496644295302001,-0.83963636363636396,7.0673549655850501,11.143285528031299,3.99113082039911,4.7619047619047601,2.5,18.895348837209301,120.610687022901,1.8371166496803499,1.60385438972163,1.8510638297872299,96020]
["S 96.02-1","Frisörsalons",302,48.904428904428897,50.3691983122363,-12.5,0,108.697944122298,12.101910828025501,87.894218134034205,65.639810426540294,26.2357414448669,-1.08,-3.79709302325581,-0.36176277132207901,4.9751243781094496,2.63736263736264,3.1111111111111098,-5.7219178082191799,88.174697769453402,100,1.3271028037383199,1.5214910612400201,41.943734015345299,55.782312925170103,27.691626052281801,0,65.454545454545496,12.1251629726206,87.759413896964205,54.687608831928699,24.137931034482801,-0.75182317119013597,6.5014423076923098,11.1273792093704,3.79746835443038,4.7619047619047601,2.5286713286713298,20.764849624060201,137.153419593346,1.78814486642291,1.6,1.81835264641403,96021]
["S 96.02-2","Kosmetiksalons",55,54.1666666666667,42.222735827252599,0,0,100,19.7916666666667,80.2083333333333,48.834911242603603,34.425099120841203,-1.3656521739130401,-2.77049180327869,4.0811764705882396,6.0753341433778898,2.89812067260138,2.2635379061371799,2.12765957446809,90.540540540540505,12.265306122448999,1.6,2.0466639377814202,45.945945945945901,38.461538461538503,-3.6036036036036001,0,99.511400651465806,19.834710743801701,77.586206896551701,42.781404958677697,28.037383177570099,-1.1235955056179801,6.3218390804597702,11.084043848964701,5.7851239669421499,1.45278450363196,1.6193293885601601,15.746692607003901,112.5,1.84615384615385,1.82394228235978,2.2260430871390802,96022]
["S 96.03","Bestattungswesen",123,55.948978110940701,44.051021889059299,33.838383838383798,0,62.071913792194103,31.3348416289593,68.665158371040704,33.0470624266245,27.272727272727298,-1.3784461152882199,9.4681904761904807,16.052318668252099,4.9840933191940602,13.7254901960784,1.2587412587412601,14.792899408284001,115.340253748558,2.3262910798122101,2.0953846153846198,3.0140845070422499,57.081011867106703,42.918988132893297,39.860139860139903,0,60.139860139860097,27.6827371695179,72.317262830482093,25.714285714285701,22.641509433962302,-1.3818840579710101,22.285090909090901,30.260555555555602,5.0909090909090899,13.2571470596647,1.1638709677419401,30.048076923076898,138.508785985152,1.03954802259887,2.9344212566009,3.7399192177448999,96030]
["S 96.04","Saunas, Solarien, Bäder u.Ä.",132,70.008244023083293,27.960848287112601,27.7711084433774,0.10695187165775399,69.149683766690103,12.3684732975978,87.596899224806194,39.655172413793103,41.784732100521602,-1.5909090909090899,-0.81242236024844705,6.6390557939914201,1.2867647058823499,10.4472437304981,1.0884148709513399,0.73710073710073698,96.662621359223294,8.5859959211420804,2.0136986301369899,2.48390677025527,86.147757255936696,10.9122006841505,45.889454819845298,1.2345679012345701,51.106074068402698,9.3959731543624194,90.392055713180298,40.259159964253797,33.249964270401598,-1.78748546753031,13.526824864586001,24.190024346089,2.8657806890470501,9.2350103376981405,0.61658071573683404,9.9825793688953706,96.000255983617095,2.3654518222665999,2.16564725986593,2.40099282956426,96040]
["S 96.04-2","Heil-, Kur- und Thermalbäder ",67,79.666682514621797,20.293121308275499,38.434176623043498,1.82085501017869,59.879816189466197,11.268689533861,88.731310466139007,43.093922651933703,35.0647899910634,-1.93466591871634,1.38109723288579,12.5631603123565,1.65428553592609,10.4472437304981,0.62813715093672695,3.6347819580525602,95.424943015304507,7.1150442477876101,1.85132927372642,2.3201999411937702,89.087799315849495,9.9573585340555493,46.7175283117544,1.2345679012345701,40.795384919152099,9.1865179929042107,90.392055713180298,43.099733874033703,32.421975754449299,-2.33182027538987,13.547668997669,25.3801317790167,3.0917384693360401,8.0073618056546803,0.56502457608004797,9.8403469005617392,96.000255983617095,2.3654518222665999,2.10794117647059,2.2705710102488998,96042]
["S 96.04-9","Solarien, Saunas, Bäder a.n.g",42,50.819672131147499,49.116307014469498,10.0194552529183,0,84.922178988326806,12.8939828080229,86.876640419947506,29.445506692160599,53.018372703412098,-1.4822564612325999,-5.4430379746835396,2.7700831024930799,0.95584888484296804,7.8857372762019704,1.77726135144798,-4.6412657087067499,100,22.370642566292599,2.7355371900826402,3.3233632436025302,44.7826086956522,55.2173913043478,10.160427807486601,0,83.043478260869605,6.1933534743202401,93.806646525679795,22.054380664652601,46.676737160120801,-0.40776133479424698,4.8961445783132502,14.661654135338299,0.78740157480314998,7.8857372762019704,2.7169221203756901,20.9272984676882,96,2.1941747572815502,2.78774016468435,3.7975460122699398,96049]
["S 96.09","Erbringung von sonstigen Dienstleistungen a.n.g.",338,22.7722772277228,74.881516587677694,25.031289111389199,0,72.197309417040401,18.121911037891302,81.578947368421098,31.663035584604199,29.461279461279499,-0.84718331777155298,3.5774917417424899,8.2134570765661294,4.6242222875733097E-2,19.213973799126599,1.77215189873418,8.3194412909691398,129.87012987013,4.4000000000000004,1.94283216358647,2.9803921568627501,12.397820163487699,86.440677966101703,42.5981873111783,0,54.3321153065367,6.3492063492063497,92.549019607843107,26.741573033707901,23.031974606486699,-0.92832225913621302,24.2805388676497,29.794520547945201,0,24.912280701754401,1.35211267605634,39.2081120231772,260.03210272873201,0.73877551020408205,2.9166666666666701,3.3865030674846599,96090]
["","","","","","","","","","","","","","","","","","","","","","","","","","","","","","","","","","","","","","","","","","","",""]
["","","","","","","","","","","","","","","","","","","","","","","","","","","","","","","","","","","","","","","","","","","",""]
["","","","","","","","","","","","","","","","","","","","","","","","","","","","","","","","","","","","","","","","","","","",""]
["","","","","","","","","","","","","","","","","","","","","","","","","","","","","","","","","","","","","","","","","","","",""]
["","","","","","","","","","","","","","","","","","","","","","","","","","","","","","","","","","","","","","","","","","","",""]
["","","","","","","","","","","","","","","","","","","","","","","","","","","","","","","","","","","","","","","","","","","",""]
["","","","","","","","","","","","","","","","","","","","","","","","","","","","","","","","","","","","","","","","","","","",""]
["","","","","","","","","","","","","","","","","","","","","","","","","","","","","","","","","","","","","","","","","","","",""]
["","","","","","","","","","","","","","","","","","","","","","","","","","","","","","","","","","","","","","","","","","","",""]
["","","","","","","","","","","","","","","","","","","","","","","","","","","","","","","","","","","","","","","","","","","",""]
["","","","","","","","","","","","","","","","","","","","","","","","","","","","","","","","","","","","","","","","","","","",""]
["","","","","","","","","","","","","","","","","","","","","","","","","","","","","","","","","","","","","","","","","","","",""]
["","","","","","","","","","","","","","","","","","","","","","","","","","","","","","","","","","","","","","","","","","","",""]
["","","","","","","","","","","","","","","","","","","","","","","","","","","","","","","","","","","","","","","","","","","",""]
["","","","","","","","","","","","","","","","","","","","","","","","","","","","","","","","","","","","","","","","","","","",""]
["","","","","","","","","","","","","","","","","","","","","","","","","","","","","","","","","","","","","","","","","","","",""]
["","","","","","","","","","","","","","","","","","","","","","","","","","","","","","","","","","","","","","","","","","","",""]
["","","","","","","","","","","","","","","","","","","","","","","","","","","","","","","","","","","","","","","","","","","",""]
["","","","","","","","","","","","","","","","","","","","","","","","","","","","","","","","","","","","","","","","","","","",""]
["","","","","","","","","","","","","","","","","","","","","","","","","","","","","","","","","","","","","","","","","","","",""]
["","","","","","","","","","","","","","","","","","","","","","","","","","","","","","","","","","","","","","","","","","","",""]
["","","","","","","","","","","","","","","","","","","","","","","","","","","","","","","","","","","","","","","","","","","",""]
["","","","","","","","","","","","","","","","","","","","","","","","","","","","","","","","","","","","","","","","","","","",""]
["","","","","","","","","","","","","","","","","","","","","","","","","","","","","","","","","","","","","","","","","","","",""]
["","","","","","","","","","","","","","","","","","","","","","","","","","","","","","","","","","","","","","","","","","","",""]
["","","","","","","","","","","","","","","","","","","","","","","","","","","","","","","","","","","","","","","","","","","",""]
["","","","","","","","","","","","","","","","","","","","","","","","","","","","","","","","","","","","","","","","","","","",""]
["","","","","","","","","","","","","","","","","","","","","","","","","","","","","","","","","","","","","","","","","","","",""]
["","","","","","","","","","","","","","","","","","","","","","","","","","","","","","","","","","","","","","","","","","","",""]
["","","","","","","","","","","","","","","","","","","","","","","","","","","","","","","","","","","","","","","","","","","",""]
["","","","","","","","","","","","","","","","","","","","","","","","","","","","","","","","","","","","","","","","","","","",""]
["","","","","","","","","","","","","","","","","","","","","","","","","","","","","","","","","","","","","","","","","","","",""]
["","","","","","","","","","","","","","","","","","","","","","","","","","","","","","","","","","","","","","","","","","","",""]
["","","","","","","","","","","","","","","","","","","","","","","","","","","","","","","","","","","","","","","","","","","",""]
["","","","","","","","","","","","","","","","","","","","","","","","","","","","","","","","","","","","","","","","","","","",""]
["","","","","","","","","","","","","","","","","","","","","","","","","","","","","","","","","","","","","","","","","","","",""]
["","","","","","","","","","","","","","","","","","","","","","","","","","","","","","","","","","","","","","","","","","","",""]
["","","","","","","","","","","","","","","","","","","","","","","","","","","","","","","","","","","","","","","","","","","",""]
["","","","","","","","","","","","","","","","","","","","","","","","","","","","","","","","","","","","","","","","","","","",""]
["","","","","","","","","","","","","","","","","","","","","","","","","","","","","","","","","","","","","","","","","","","",""]
["","","","","","","","","","","","","","","","","","","","","","","","","","","","","","","","","","","","","","","","","","","",""]
["","","","","","","","","","","","","","","","","","","","","","","","","","","","","","","","","","","","","","","","","","","",""]
["","","","","","","","","","","","","","","","","","","","","","","","","","","","","","","","","","","","","","","","","","","",""]
["","","","","","","","","","","","","","","","","","","","","","","","","","","","","","","","","","","","","","","","","","","",""]
["","","","","","","","","","","","","","","","","","","","","","","","","","","","","","","","","","","","","","","","","","","",""]
["","","","","","","","","","","","","","","","","","","","","","","","","","","","","","","","","","","","","","","","","","","",""]
["","","","","","","","","","","","","","","","","","","","","","","","","","","","","","","","","","","","","","","","","","","",""]
["","","","","","","","","","","","","","","","","","","","","","","","","","","","","","","","","","","","","","","","","","","",""]
["","","","","","","","","","","","","","","","","","","","","","","","","","","","","","","","","","","","","","","","","","","",""]
["","","","","","","","","","","","","","","","","","","","","","","","","","","","","","","","","","","","","","","","","","","",""]
["","","","","","","","","","","","","","","","","","","","","","","","","","","","","","","","","","","","","","","","","","","",""]
["","","","","","","","","","","","","","","","","","","","","","","","","","","","","","","","","","","","","","","","","","","",""]
["","","","","","","","","","","","","","","","","","","","","","","","","","","","","","","","","","","","","","","","","","","",""]
["","","","","","","","","","","","","","","","","","","","","","","","","","","","","","","","","","","","","","","","","","","",""]
["","","","","","","","","","","","","","","","","","","","","","","","","","","","","","","","","","","","","","","","","","","",""]
["","","","","","","","","","","","","","","","","","","","","","","","","","","","","","","","","","","","","","","","","","","",""]
["","","","","","","","","","","","","","","","","","","","","","","","","","","","","","","","","","","","","","","","","","","",""]
["","","","","","","","","","","","","","","","","","","","","","","","","","","","","","","","","","","","","","","","","","","",""]
["","","","","","","","","","","","","","","","","","","","","","","","","","","","","","","","","","","","","","","","","","","",""]
["","","","","","","","","","","","","","","","","","","","","","","","","","","","","","","","","","","","","","","","","","","",""]
["","","","","","","","","","","","","","","","","","","","","","","","","","","","","","","","","","","","","","","","","","","",""]
["","","","","","","","","","","","","","","","","","","","","","","","","","","","","","","","","","","","","","","","","","","",""]
["","","","","","","","","","","","","","","","","","","","","","","","","","","","","","","","","","","","","","","","","","","",""]
["","","","","","","","","","","","","","","","","","","","","","","","","","","","","","","","","","","","","","","","","","","",""]
["","","","","","","","","","","","","","","","","","","","","","","","","","","","","","","","","","","","","","","","","","","",""]
["","","","","","","","","","","","","","","","","","","","","","","","","","","","","","","","","","","","","","","","","","","",""]
["","","","","","","","","","","","","","","","","","","","","","","","","","","","","","","","","","","","","","","","","","","",""]
["","","","","","","","","","","","","","","","","","","","","","","","","","","","","","","","","","","","","","","","","","","",""]
["","","","","","","","","","","","","","","","","","","","","","","","","","","","","","","","","","","","","","","","","","","",""]
["","","","","","","","","","","","","","","","","","","","","","","","","","","","","","","","","","","","","","","","","","","",""]
["","","","","","","","","","","","","","","","","","","","","","","","","","","","","","","","","","","","","","","","","","","",""]
["","","","","","","","","","","","","","","","","","","","","","","","","","","","","","","","","","","","","","","","","","","",""]
["","","","","","","","","","","","","","","","","","","","","","","","","","","","","","","","","","","","","","","","","","","",""]

{"sheet":"DatenKennzahl","index":8,"n_rows":545,"n_cols":5,"rows_kept":545,"cut":false,"hidden":true,"merged":[]}
[null,null,"Median","oberes Quartil","Sort"]
["Kennzahl",{"$f":"INDEX(Kennzahlen!G1:G22,Zeile,1)","v":"Schuldentilgungsdauer"},20,{"$f":"IF(OR(Zeile>22,Zeile<3),1,Zeile+1)","v":21},{"$f":"INDEX(Kennzahlen!F1:F22,Zeile,1)","v":"A"}]
["Branche\n(ÖNACE-2008)"]
[]
[]
[{"$f":"Daten!A2","v":"C"},{"$f":"Daten!B2","v":"Herstellung von Waren"},{"$f":"INDEX(Daten,ROW()-4,Spalte)","v":7.3882272297977103},{"$f":"INDEX(Daten,ROW()-4,Spalte+20)","v":1.5200461933832901},{"$f":"INDEX(Daten,ROW()-4,44)","v":9999}]
[{"$f":"Daten!A3","v":"C 10"},{"$f":"Daten!B3","v":"Herstellung von Nahrungs- und Futtermitteln"},8.8523871788528794,2.7649769585253501,10000]
[{"$f":"Daten!A4","v":"C 10.1"},{"$f":"Daten!B4","v":"Schlachten und Fleischverarbeitung"},10.1129753914989,3.08750995753969,10100]
[{"$f":"Daten!A5","v":"C 10.11"},{"$f":"Daten!B5","v":"Schlachten (ohne Schlachten von Geflügel)"},11.7740776001088,4.4647302904564299,10110]
[{"$f":"Daten!A6","v":"C 10.13"},{"$f":"Daten!B6","v":"Fleischverarbeitung"},10.2299465240642,2.6272401433691801,10130]
[{"$f":"Daten!A7","v":"C 10.3"},{"$f":"Daten!B7","v":"Obst- und Gemüseverarbeitung"},7.6299599546926098,1.93367346938776,10300]
[{"$f":"Daten!A8","v":"C 10.5"},{"$f":"Daten!B8","v":"Milchverarbeitung"},8.3136252775187298,3.7194435396710199,10500]
[{"$f":"Daten!A9","v":"C 10.51"},{"$f":"Daten!B9","v":"Milchverarbeitung (ohne Herstellung von Speiseeis)"},10.272732470601699,3.5550847457627102,10510]
[{"$f":"Daten!A10","v":"C 10.6"},{"$f":"Daten!B10","v":"Mahl- und Schälmühlen, Herstellung von Stärke und Stärkeerzeugnissen"},8.1620016963528403,3.8694344163658201,10600]
[{"$f":"Daten!A11","v":"C 10.61"},{"$f":"Daten!B11","v":"Mahl- und Schälmühlen"},8.1620016963528403,3.8694344163658201,10610]
[{"$f":"Daten!A12","v":"C 10.7"},{"$f":"Daten!B12","v":"Herstellung von Back- und Teigwaren"},8.80439121756487,2.5483589594486,10700]
[{"$f":"Daten!A13","v":"C 10.71"},{"$f":"Daten!B13","v":"Herstellung von Backwaren (ohne Dauerbackwaren)"},8.8809717435361204,2.7073027501020199,10710]
[{"$f":"Daten!A14","v":"C 10.71-1"},{"$f":"Daten!B14","v":"Herstellung von Schwarz- und Weißbackwaren"},9.7149431164514901,2.9636363636363598,10711]
[{"$f":"Daten!A15","v":"C 10.71-2"},{"$f":"Daten!B15","v":"Herstellung von Zuckerbäcker- und Konditorwaren"},8.4133333333333304,2.60704022117402,10712]
[{"$f":"Daten!A16","v":"C 10.8"},{"$f":"Daten!B16","v":"Herstellung von sonstigen Nahrungsmitteln"},6.2702702702702702,1.4461538461538499,10800]
[{"$f":"Daten!A17","v":"C 10.89"},{"$f":"Daten!B17","v":"Herstellung von sonstigen Nahrungsmitteln a.n.g."},7.45340501792115,1.4461538461538499,10890]
[{"$f":"Daten!A18","v":"C 11"},{"$f":"Daten!B18","v":"Getränkeherstellung"},6.875,3.5836298932384301,11000]
[{"$f":"Daten!A19","v":"C 11.01"},{"$f":"Daten!B19","v":"Herstellung von Spirituosen"},10.345070422535199,2.7009174311926598,11010]
[{"$f":"Daten!A20","v":"C 11.02"},{"$f":"Daten!B20","v":"Herstellung von Traubenwein"},7.5057736720554296,4.5961538461538503,11020]
[{"$f":"Daten!A21","v":"C 11.05"},{"$f":"Daten!B21","v":"Herstellung von Bier"},5.6417910447761201,2.5318326732149701,11050]
[{"$f":"Daten!A22","v":"C 11.07"},{"$f":"Daten!B22","v":"Herstellung von Erfrischungsgetränken; Gewinnung natürlicher Mineralwässer "},5.8506616257088799,3.1146959753641799,11070]
[{"$f":"Daten!A23","v":"C 13"},{"$f":"Daten!B23","v":"Herstellung von Textilien"},9.4357162494384195,1.5609623672333599,13000]
[{"$f":"Daten!A24","v":"C 13.9"},{"$f":"Daten!B24","v":"Herstellung von sonstigen Textilwaren"},7.6606317145552003,1.44444444444444,13900]
[{"$f":"Daten!A25","v":"C 13.92"},{"$f":"Daten!B25","v":"Herstellung von konfektionierten Textilwaren (ohne Bekleidung)"},4.2819383259911898,1.41121930228547,13920]
[{"$f":"Daten!A26","v":"C 13.99"},{"$f":"Daten!B26","v":"Herstellung von sonstigen Textilwaren a.n.g."},7.6606317145552003,0.92692072721144303,13990]
[{"$f":"Daten!A27","v":"C 13.99-1"},{"$f":"Daten!B27","v":"Herstellung von Stickereien"},5.8571428571428603,0.92692072721144303,13991]
[{"$f":"Daten!A28","v":"C 14"},{"$f":"Daten!B28","v":"Herstellung von Bekleidung"},16.005678183508898,1.42722841225627,14000]
[{"$f":"Daten!A29","v":"C 14.1"},{"$f":"Daten!B29","v":"Herstellung von Bekleidung (ohne Pelzbekleidung)"},16.005678183508898,1.3136531365313699,14100]
[{"$f":"Daten!A30","v":"C 14.13"},{"$f":"Daten!B30","v":"Herstellung von sonstiger Oberbekleidung"},18.198453608247402,1.3136531365313699,14130]
[{"$f":"Daten!A31","v":"C 15"},{"$f":"Daten!B31","v":"Herstellung von Leder, Lederwaren und Schuhen"},9.1384615384615397,1.1471209173324499,15000]
[{"$f":"Daten!A32","v":"C 15.2"},{"$f":"Daten!B32","v":"Herstellung von Schuhen"},8.6923175252460698,1.40816326530612,15200]
[{"$f":"Daten!A33","v":"C 16"},{"$f":"Daten!B33","v":"Herstellung von Holz-, Flecht-, Korb- und Korkwaren (ohne Möbel)"},13.245598232656,2.7563559322033901,16000]
[{"$f":"Daten!A34","v":"C 16.1"},{"$f":"Daten!B34","v":"Säge-, Hobel- und Holzimprägnierwerke"},15.4634146341463,3.6124999999999998,16100]
[{"$f":"Daten!A35","v":"C 16.2"},{"$f":"Daten!B35","v":"Herstellung von sonstigen Holz-, Kork-, Flecht- und Korbwaren (ohne Möbel)"},11.431372549019599,2.2486347574686798,16200]
[{"$f":"Daten!A36","v":"C 16.23"},{"$f":"Daten!B36","v":"Herstellung von sonstigen Konstruktionsteilen, Fertigbauteilen, Ausbauelementen und Fertigteilbauten aus Holz"},11.422839506172799,2.2311111111111099,16230]
[{"$f":"Daten!A37","v":"C 16.23-1"},{"$f":"Daten!B37","v":"Fertighaus- und Hallenerzeugung"},13.0531430696541,4.0723278202912896,16231]
[{"$f":"Daten!A38","v":"C 16.23-9"},{"$f":"Daten!B38","v":"Herstellung von sonstigen Konstruktionsteilen und Ausbauelementen aus Holz a.n.g."},11.953125,2.2589285714285698,16239]
[{"$f":"Daten!A39","v":"C 16.24"},{"$f":"Daten!B39","v":"Herstellung von Verpackungsmitteln, Lagerbehältern und Ladungsträgern aus Holz"},7.4791666666666696,0.67318435754189898,16240]
[{"$f":"Daten!A40","v":"C 16.29"},{"$f":"Daten!B40","v":"Herstellung von Holzwaren a.n.g., Kork-, Flecht- und Korbwaren (ohne Möbel)"},16.121940495383299,2.2620891263115799,16290]
[{"$f":"Daten!A41","v":"C 17"},{"$f":"Daten!B41","v":"Herstellung von Papier, Pappe und Waren daraus"},5.5027027027026998,1.7068965517241399,17000]
[{"$f":"Daten!A42","v":"C 17.2"},{"$f":"Daten!B42","v":"Herstellung von Waren aus Papier, Karton und Pappe"},5.2550177095631598,1.6663422230874101,17200]
[{"$f":"Daten!A43","v":"C 17.21"},{"$f":"Daten!B43","v":"Herstellung von Wellpapier und -pappe sowie von Verpackungsmitteln aus Papier, Karton und Pappe"},5.3970588235294104,3.2490660024906601,17210]
[{"$f":"Daten!A44","v":"C 18"},{"$f":"Daten!B44","v":"Herstellung von Druckerzeugnissen; Vervielfältigung von bespielten Ton-, Bild- und Datenträgern"},6.9103616160822998,1.6742494132242001,18000]
[{"$f":"Daten!A45","v":"C 18.1"},{"$f":"Daten!B45","v":"Herstellung von Druckerzeugnissen"},6.9024844847715201,1.57051617631662,18100]
[{"$f":"Daten!A46","v":"C 18.12"},{"$f":"Daten!B46","v":"Drucken a.n.g."},6.9024844847715201,1.84745762711864,18120]
[{"$f":"Daten!A47","v":"C 18.13"},{"$f":"Daten!B47","v":"Druck- und Medienvorstufe"},5.5408163265306101,1.0823529411764701,18130]
[{"$f":"Daten!A48","v":"C 20.1"},{"$f":"Daten!B48","v":"Herstellung von chemischen Grundstoffen, Düngemitteln und Stickstoffverbindungen, Kunststoffen in Primärformen und synthetischem Kautschuk in Primärformen"},9.9289099526066291,0.78789808917197501,20100]
[{"$f":"Daten!A49","v":"C 20.4"},{"$f":"Daten!B49","v":"Herstellung von Seifen, Wasch-, Reinigungs- und Körperpflegemitteln sowie von Duftstoffen"},3.46511627906977,1.29804332634521,20400]
[{"$f":"Daten!A50","v":"C 20.5"},{"$f":"Daten!B50","v":"Herstellung von sonstigen chemischen Erzeugnissen"},4.4117647058823497,0.61610878661087898,20500]
[{"$f":"Daten!A51","v":"C 20.59"},{"$f":"Daten!B51","v":"Herstellung von sonstigen chemischen Erzeugnissen a.n.g."},4.4117647058823497,0.388176240936977,20590]
[{"$f":"Daten!A52","v":"C 21"},{"$f":"Daten!B52","v":"Herstellung von pharmazeutischen Erzeugnissen"},4.1058823529411796,1.6421052631578901,21000]
[{"$f":"Daten!A53","v":"C 21.2"},{"$f":"Daten!B53","v":"Herstellung von pharmazeutischen Spezialitäten und sonstigen pharmazeutischen Erzeugnissen"},3.53132250580046,1.65507776761208,21200]
[{"$f":"Daten!A54","v":"C 22"},{"$f":"Daten!B54","v":"Herstellung von Gummi- und Kunststoffwaren"},4.9785714285714304,1.17370806890299,22000]
[{"$f":"Daten!A55","v":"C 22.1"},{"$f":"Daten!B55","v":"Herstellung von Gummiwaren"},5.2897196261682202,0.37931034482758602,22100]
[{"$f":"Daten!A56","v":"C 22.2"},{"$f":"Daten!B56","v":"Herstellung von Kunststoffwaren"},4.9696969696969697,1.1848341232227499,22200]
[{"$f":"Daten!A57","v":"C 22.21"},{"$f":"Daten!B57","v":"Herstellung von Platten, Folien, Schläuchen und Profilen aus Kunststoffen"},9.6933100422071004,1.9290150842945899,22210]
[{"$f":"Daten!A58","v":"C 22.22"},{"$f":"Daten!B58","v":"Herstellung von Verpackungsmitteln aus Kunststoffen"},4.0802980774625004,1.20305882352941,22220]
[{"$f":"Daten!A59","v":"C 22.23"},{"$f":"Daten!B59","v":"Herstellung von Baubedarfsartikeln aus Kunststoffen"},4.1909547738693496,1.61984021304927,22230]
[{"$f":"Daten!A60","v":"C 22.23-1"},{"$f":"Daten!B60","v":"Herstellung von Türen, Fenstern, Rahmen, Rollläden und Jalousien aus Kunststoffen"},3.5689310087053001,1.7254901960784299,22231]
[{"$f":"Daten!A61","v":"C 22.29"},{"$f":"Daten!B61","v":"Herstellung von sonstigen Kunststoffwaren"},4.59375,0.76761268104932601,22290]
[{"$f":"Daten!A62","v":"C 22.29-1"},{"$f":"Daten!B62","v":"Herstellung von technischen Kunststoffteilen"},4.3522458628841596,0.54016620498614998,22291]
[{"$f":"Daten!A63","v":"C 22.29-9"},{"$f":"Daten!B63","v":"Herstellung von sonstigen Kunststoffwaren a.n.g."},4.6016127483920499,0.71034482758620698,22299]
[{"$f":"Daten!A64","v":"C 23.1"},{"$f":"Daten!B64","v":"Herstellung von Glas und Glaswaren"},4.6557777266093199,0.94104938271604899,23100]
[{"$f":"Daten!A65","v":"C 23.6"},{"$f":"Daten!B65","v":"Herstellung von Erzeugnissen aus Beton, Zement und Gips"},6.5535714285714297,2.23441860465116,23600]
[{"$f":"Daten!A66","v":"C 23.61"},{"$f":"Daten!B66","v":"Herstellung von Erzeugnissen aus Beton, Zement und Kalksandstein für den Bau"},{"$f":"INDEX(Daten,ROW()-4,Spalte)","v":7.46717857781971},{"$f":"INDEX(Daten,ROW()-4,Spalte+20)","v":2.8905547226386799},{"$f":"INDEX(Daten,ROW()-4,44)","v":23610}]
[{"$f":"Daten!A67","v":"C 23.63"},{"$f":"Daten!B67","v":"Herstellung von Frischbeton (Transportbeton)"},5.84182305630027,1.9932885906040301,23630]
[{"$f":"Daten!A68","v":"C 23.7"},{"$f":"Daten!B68","v":"Be- und Verarbeitung von Naturwerksteinen und Natursteinen a.n.g."},7.8188389761746704,2.1781257360581301,23700]
[{"$f":"Daten!A69","v":"C 23.9"},{"$f":"Daten!B69","v":"Herstellung von Schleifkörpern und Schleifmitteln auf Unterlage sowie sonstigen Erzeugnissen aus nicht metallischen Mineralien"},2.99045346062052,1.6478109082978001,23900]
[{"$f":"Daten!A70","v":"C 23.99"},{"$f":"Daten!B70","v":"Herstellung von sonstigen Erzeugnissen aus nicht metallischen Mineralien a.n.g."},3.13024282560706,1.6214042934105599,23990]
[{"$f":"Daten!A71","v":"C 24.4"},{"$f":"Daten!B71","v":"Erzeugung und erste Bearbeitung von NE-Metallen"},4.8333934367111402,0.77643908969210196,24400]
[{"$f":"Daten!A72","v":"C 24.5"},{"$f":"Daten!B72","v":"Gießereien"},10.094339622641501,2.5110282752469999,24500]
[{"$f":"Daten!A73","v":"C 25.1"},{"$f":"Daten!B73","v":"Stahl- und Leichtmetallbau"},6.97938144329897,1.4621212121212099,25100]
[{"$f":"Daten!A74","v":"C 25.11"},{"$f":"Daten!B74","v":"Herstellung von Metallkonstruktionen"},6.6377570570954099,1.4167217448777301,25110]
[{"$f":"Daten!A75","v":"C 25.12"},{"$f":"Daten!B75","v":"Herstellung von Ausbauelementen aus Metall"},12.4,1.7265861027190299,25120]
[{"$f":"Daten!A76","v":"C 25.12-1"},{"$f":"Daten!B76","v":"Herstellung von Ausbauelementen aus Stahl "},15.284826117668899,2.1807339752770898,25121]
[{"$f":"Daten!A77","v":"C 25.12-2"},{"$f":"Daten!B77","v":"Herstellung von Ausbauelementen aus Leichtmetall"},8.28712871287129,0.473999572009416,25122]
[{"$f":"Daten!A78","v":"C 25.2"},{"$f":"Daten!B78","v":"Herstellung von Metalltanks und -behältern; Herstellung von Heizkörpern und -kesseln für Zentralheizungen"},5.8256949661908299,0.67679558011049701,25200]
[{"$f":"Daten!A79","v":"C 25.5"},{"$f":"Daten!B79","v":"Herstellung von Schmiede-, Press-, Zieh- und Stanzteilen, gewalzten Ringen und pulvermetallurgischen Erzeugnissen"},8.0728530728530696,1.2266666666666699,25500]
[{"$f":"Daten!A80","v":"C 25.6"},{"$f":"Daten!B80","v":"Oberflächenveredlung und Wärmebehandlung; Mechanik a.n.g."},4.3305306241329404,0.90697674418604601,25600]
[{"$f":"Daten!A81","v":"C 25.61"},{"$f":"Daten!B81","v":"Oberflächenveredlung und Wärmebehandlung"},5.2056555269922899,1.1884057971014499,25610]
[{"$f":"Daten!A82","v":"C 25.62"},{"$f":"Daten!B82","v":"Mechanik a.n.g."},3.9625425652667401,0.88602941176470595,25620]
[{"$f":"Daten!A83","v":"C 25.7"},{"$f":"Daten!B83","v":"Herstellung von Schneidwaren, Werkzeugen, Schlössern und Beschlägen aus unedlen Metallen"},4.2636363636363601,1.24285714285714,25700]
[{"$f":"Daten!A84","v":"C 25.72"},{"$f":"Daten!B84","v":"Herstellung von Schlössern und Beschlägen aus unedlen Metallen"},6.2395261032978704,1.3874892287020399,25720]
[{"$f":"Daten!A85","v":"C 25.72-1"},{"$f":"Daten!B85","v":"Herstellung von Schlössern aus unedlen Metallen"},5.3034019157767398,1.0859084654053901,25721]
[{"$f":"Daten!A86","v":"C 25.73"},{"$f":"Daten!B86","v":"Herstellung von Werkzeugen"},3.8336636611488002,1.0335243889929899,25730]
[{"$f":"Daten!A87","v":"C 25.73-9"},{"$f":"Daten!B87","v":"Herstellung von sonstigen Werkzeugen"},3.1400363577431101,0.78333333333333299,25739]
[{"$f":"Daten!A88","v":"C 25.9"},{"$f":"Daten!B88","v":"Herstellung von sonstigen Metallwaren"},6.3733333333333304,1.26470588235294,25900]
[{"$f":"Daten!A89","v":"C 25.99"},{"$f":"Daten!B89","v":"Herstellung von sonstigen Metallwaren a.n.g."},6.39416058394161,1.2258064516128999,25990]
[{"$f":"Daten!A90","v":"C 26.1"},{"$f":"Daten!B90","v":"Herstellung von elektronischen Bauelementen und Leiterplatten"},6.65,0.47029702970296999,26100]
[{"$f":"Daten!A91","v":"C 26.11"},{"$f":"Daten!B91","v":"Herstellung von elektronischen Bauelementen"},6.65,0.42276355845112501,26110]
[{"$f":"Daten!A92","v":"C 26.3"},{"$f":"Daten!B92","v":"Herstellung von Geräten und Einrichtungen der Telekommunikationstechnik"},3.9108330074305799,0.92485160335637095,26300]
[{"$f":"Daten!A93","v":"C 26.5"},{"$f":"Daten!B93","v":"Herstellung von Mess-, Kontroll-, Navigations- u. ä. Instrumenten und Vorrichtungen; Herstellung von Uhren"},5.3669684736077397,0.38744257274119398,26500]
[{"$f":"Daten!A94","v":"C 26.51"},{"$f":"Daten!B94","v":"Herstellung von Mess-, Kontroll-, Navigations- u.ä. Instrumenten und -vorrichtungen"},4.8803418803418799,0.38744257274119398,26510]
[{"$f":"Daten!A95","v":"C 27"},{"$f":"Daten!B95","v":"Herstellung von elektrischen Ausrüstungen"},4.3658536585365901,0.86549707602339199,27000]
[{"$f":"Daten!A96","v":"C 27.1"},{"$f":"Daten!B96","v":"Herstellung von Elektromotoren, Generatoren, Transformatoren, Elektrizitätsverteilungs- und -schalteinrichtungen"},3.4807692307692299,0.64473684210526305,27100]
[{"$f":"Daten!A97","v":"C 27.11"},{"$f":"Daten!B97","v":"Herstellung von Elektromotoren, Generatoren und Transformatoren"},2.0172413793103399,1.0967741935483899,27110]
[{"$f":"Daten!A98","v":"C 27.12"},{"$f":"Daten!B98","v":"Herstellung von Elektrizitätsverteilungs- und  -schalteinrichtungen"},5.7346938775510203,0.43289606458123098,27120]
[{"$f":"Daten!A99","v":"C 27.4"},{"$f":"Daten!B99","v":"Herstellung von elektrischen Lampen und Leuchten"},4.9352380952381001,0.545030020013342,27400]
[{"$f":"Daten!A100","v":"C 27.9"},{"$f":"Daten!B100","v":"Herstellung von sonstigen elektrischen Ausrüstungen und Geräten a.n.g."},4.5904255319148897,0.840425531914894,27900]
[{"$f":"Daten!A101","v":"C 28"},{"$f":"Daten!B101","v":"Maschinenbau"},5.3394160583941597,1.18954248366013,28000]
[{"$f":"Daten!A102","v":"C 28.1"},{"$f":"Daten!B102","v":"Herstellung von nicht wirtschaftszweigspezifischen Maschinen"},4.8624338624338597,1.9282516359537001,28100]
[{"$f":"Daten!A103","v":"C 28.12"},{"$f":"Daten!B103","v":"Herstellung von hydraulischen und pneumatischen Komponenten und Systemen"},6.0749811605124302,1.8911564625850299,28120]
[{"$f":"Daten!A104","v":"C 28.2"},{"$f":"Daten!B104","v":"Herstellung von sonstigen nicht wirtschaftszweigspezifischen Maschinen"},5.2268907563025202,1.10659898477157,28200]
[{"$f":"Daten!A105","v":"C 28.21"},{"$f":"Daten!B105","v":"Herstellung von Öfen und Brennern"},11.975206611570201,1.3092580433355201,28210]
[{"$f":"Daten!A106","v":"C 28.22"},{"$f":"Daten!B106","v":"Herstellung von Hebezeugen und Fördermitteln"},3.6253547776726598,0.88418859283333595,28220]
[{"$f":"Daten!A107","v":"C 28.25"},{"$f":"Daten!B107","v":"Herstellung von kälte- und lufttechnischen Erzeugnissen, nicht für den Haushalt"},4.5076923076923103,0.62963618833992496,28250]
[{"$f":"Daten!A108","v":"C 28.29"},{"$f":"Daten!B108","v":"Herstellung von sonstigen nicht wirtschaftszweigspezifischen Maschinen a.n.g."},4.58,1.10659898477157,28290]
[{"$f":"Daten!A109","v":"C 28.3"},{"$f":"Daten!B109","v":"Herstellung von land- und forstwirtschaftlichen Maschinen"},5.7237790232185803,1.3523986066822899,28300]
[{"$f":"Daten!A110","v":"C 28.4"},{"$f":"Daten!B110","v":"Herstellung von Werkzeugmaschinen"},5.8568872987477603,1.2437275985663101,28400]
[{"$f":"Daten!A111","v":"C 28.41"},{"$f":"Daten!B111","v":"Herstellung von Werkzeugmaschinen für die Metallbearbeitung"},4.5199652777777803,1.15710526315789,28410]
[{"$f":"Daten!A112","v":"C 28.9"},{"$f":"Daten!B112","v":"Herstellung von Maschinen für sonstige bestimmte Wirtschaftszweige"},4.8794117647058801,1.3384030418250901,28900]
[{"$f":"Daten!A113","v":"C 28.93"},{"$f":"Daten!B113","v":"Herstellung von Maschinen für die Nahrungs- und Genussmittelerzeugung und die Tabakverarbeitung"},7.1548130887131203,2.2046204620462002,28930]
[{"$f":"Daten!A114","v":"C 28.99"},{"$f":"Daten!B114","v":"Herstellung von Maschinen für sonstige bestimmte Wirtschaftszweige a.n.g."},4.5025870989996504,0.82033563672260601,28990]
[{"$f":"Daten!A115","v":"C 28.99-9"},{"$f":"Daten!B115","v":"Herstellung von sonstigen Maschinen für sonstige bestimmte Wirtschaftszweige a.n.g."},5.0169491525423702,0.69323671497584505,28999]
[{"$f":"Daten!A116","v":"C 29.2"},{"$f":"Daten!B116","v":"Herstellung von Karosserien, Aufbauten und Anhängern"},5.6470588235294104,0.89022923873749404,29200]
[{"$f":"Daten!A117","v":"C 29.3"},{"$f":"Daten!B117","v":"Herstellung von Teilen und Zubehör für Kraftwagen "},4.8110047846889996,0.99647460368384499,29300]
[{"$f":"Daten!A118","v":"C 29.32"},{"$f":"Daten!B118","v":"Herstellung von sonstigen Teilen und sonstigem Zubehör für Kraftwagen "},7.1104370009148097,0.99647460368384499,29320]
[{"$f":"Daten!A119","v":"C 30"},{"$f":"Daten!B119","v":"Sonstiger Fahrzeugbau"},5.54285714285714,0.69606330762295898,30000]
[{"$f":"Daten!A120","v":"C 31"},{"$f":"Daten!B120","v":"Herstellung von Möbeln"},12.3021632455595,2.4645881090249002,31000]
[{"$f":"Daten!A121","v":"C 31.01"},{"$f":"Daten!B121","v":"Herstellung von Büro- und Ladenmöbeln"},5.9426542326719902,0.42045454545454503,31010]
[{"$f":"Daten!A122","v":"C 31.01-2"},{"$f":"Daten!B122","v":"Herstellung von Ladenmöbeln"},4.2542877101438297,0,31012]
[{"$f":"Daten!A123","v":"C 31.02"},{"$f":"Daten!B123","v":"Herstellung von Küchenmöbeln"},9.6784818465124491,4.7613636363636402,31020]
[{"$f":"Daten!A124","v":"C 31.09"},{"$f":"Daten!B124","v":"Herstellung von sonstigen Möbeln"},12.865535462273099,2.2242268041237101,31090]
[{"$f":"Daten!A125","v":"C 32"},{"$f":"Daten!B125","v":"Herstellung von sonstigen Waren "},6.0767445036187402,0.97604790419161702,32000]
[{"$f":"Daten!A126","v":"C 32.1"},{"$f":"Daten!B126","v":"Herstellung von Münzen, Schmuck und ähnlichen Erzeugnissen"},102.862479570395,2.2904290429042899,32100]
[{"$f":"Daten!A127","v":"C 32.12"},{"$f":"Daten!B127","v":"Herstellung von Schmuck, Gold- und Silberschmiedewaren (ohne Fantasieschmuck)"},122.808812260536,2.3056069320226,32120]
[{"$f":"Daten!A128","v":"C 32.5"},{"$f":"Daten!B128","v":"Herstellung von medizinischen und zahnmedizinischen Apparaten und Materialien"},4.2962962962963003,0.71856733524355298,32500]
[{"$f":"Daten!A129","v":"C 32.50-1"},{"$f":"Daten!B129","v":"Zahntechnische Laboratorien"},4.5873630721812697,0.266129032258065,32501]
[{"$f":"Daten!A130","v":"C 32.50-2"},{"$f":"Daten!B130","v":"Herstellung von Sehbehelfen und deren Teile"},{"$f":"INDEX(Daten,ROW()-4,Spalte)","v":4.0526315789473699},{"$f":"INDEX(Daten,ROW()-4,Spalte+20)","v":0.96747967479674801},{"$f":"INDEX(Daten,ROW()-4,44)","v":32502}]
[{"$f":"Daten!A131","v":"C 32.50-9"},{"$f":"Daten!B131","v":"Herstellung von sonstigen medizinischen und zahnmedizinischen Apparaten und Materialien"},4.1152263374485596,0.62703639514731402,32509]
[{"$f":"Daten!A132","v":"C 32.9"},{"$f":"Daten!B132","v":"Herstellung von Erzeugnissen a.n.g."},4.9629629629629601,1.11851851851852,32900]
[{"$f":"Daten!A133","v":"C 32.99"},{"$f":"Daten!B133","v":"Herstellung von sonstigen Erzeugnissen a.n.g. "},5.8522920203735103,1.11851851851852,32990]
[{"$f":"Daten!A134","v":"C 33"},{"$f":"Daten!B134","v":"Reparatur und Installation von Maschinen und Ausrüstungen"},6.4521754294184301,0.982926207725072,33000]
[{"$f":"Daten!A135","v":"C 33.1"},{"$f":"Daten!B135","v":"Reparatur von Metallerzeugnissen, Maschinen und Ausrüstungen"},7.3076923076923102,1.0655737704918,33100]
[{"$f":"Daten!A136","v":"C 33.12"},{"$f":"Daten!B136","v":"Reparatur von Maschinen"},7.4186046511627897,1.65384615384615,33120]
[{"$f":"Daten!A137","v":"C 33.2"},{"$f":"Daten!B137","v":"Installation von Maschinen und Ausrüstungen a.n.g."},5.6640964452148896,0.43852459016393402,33200]
[{"$f":"Daten!A138","v":"D"},{"$f":"Daten!B138","v":"Energieversorgung"},10.5446985446985,4.043100923371,34999]
[{"$f":"Daten!A139","v":"D 35"},{"$f":"Daten!B139","v":"Energieversorgung"},10.5446985446985,4.043100923371,35000]
[{"$f":"Daten!A140","v":"D 35.1"},{"$f":"Daten!B140","v":"Elektrizitätsversorgung"},8.93241379310345,4.7681151988775401,35100]
[{"$f":"Daten!A141","v":"D 35.11"},{"$f":"Daten!B141","v":"Elektrizitätserzeugung"},9.2876662415740601,5.1158562367864704,35110]
[{"$f":"Daten!A142","v":"D 35.13"},{"$f":"Daten!B142","v":"Elektrizitätsverteilung"},4.8666666666666698,1.2207792207792201,35130]
[{"$f":"Daten!A143","v":"D 35.2"},{"$f":"Daten!B143","v":"Gasversorgung"},5.9790874524714797,0.14453692716150501,35200]
[{"$f":"Daten!A144","v":"D 35.3"},{"$f":"Daten!B144","v":"Wärme- und Kälteversorgung"},13.56,5.6639999999999997,35300]
[{"$f":"Daten!A145","v":"E"},{"$f":"Daten!B145","v":"Wasserversorgung; Abwasser- und Abfallentsorgung undbeseitigung von Umweltverschmutzungen"},4.5440649076157396,1.7576530612244901,35999]
[{"$f":"Daten!A146","v":"E 37"},{"$f":"Daten!B146","v":"Abwasserentsorgung"},3.5477487402329801,1.3216000000000001,37000]
[{"$f":"Daten!A147","v":"E 38"},{"$f":"Daten!B147","v":"Sammlung, Behandlung und Beseitigung von Abfällen; Rückgewinnung"},4.6017316017315997,2.0282485875706202,38000]
[{"$f":"Daten!A148","v":"E 38.1"},{"$f":"Daten!B148","v":"Sammlung von Abfällen"},3.2215288611544501,1.3107074718081599,38100]
[{"$f":"Daten!A149","v":"E 38.11"},{"$f":"Daten!B149","v":"Sammlung nicht gefährlicher Abfälle"},3.2215288611544501,1.3107074718081599,38110]
[{"$f":"Daten!A150","v":"E 38.2"},{"$f":"Daten!B150","v":"Abfallbehandlung und -beseitigung "},5.1862653035913597,1.57075471698113,38200]
[{"$f":"Daten!A151","v":"E 38.21"},{"$f":"Daten!B151","v":"Behandlung und Beseitigung nicht gefährlicher Abfälle"},4.5348258706467703,2.0624731511551802,38210]
[{"$f":"Daten!A152","v":"E 38.21-9"},{"$f":"Daten!B152","v":"Sonstige Behandlung und Beseitigung nicht gefährlicher Abfälle "},4.09054593874834,1.1149260848831699,38219]
[{"$f":"Daten!A153","v":"E 38.3"},{"$f":"Daten!B153","v":"Rückgewinnung"},6.1973063973064004,2.9921752738654099,38300]
[{"$f":"Daten!A154","v":"E 38.32"},{"$f":"Daten!B154","v":"Rückgewinnung sortierter Werkstoffe"},5.7155247181266304,2.9921752738654099,38320]
[{"$f":"Daten!A155","v":"E 38.32-9"},{"$f":"Daten!B155","v":"Rückgewinnung sonstiger sortierter Werkstoffe"},4.4400000000000004,3.5,38329]
[{"$f":"Daten!A156","v":"F"},{"$f":"Daten!B156","v":"Bau"},6.96428571428571,1.2231082118916501,40999]
[{"$f":"Daten!A157","v":"F 41"},{"$f":"Daten!B157","v":"Hochbau"},8.6428571428571406,1.68207282913165,41000]
[{"$f":"Daten!A158","v":"F 41.2"},{"$f":"Daten!B158","v":"Bau von Gebäuden"},8.6169573119811407,1.63814500326584,41200]
[{"$f":"Daten!A159","v":"F 41.20-1"},{"$f":"Daten!B159","v":"Wohnungs- und Siedlungsbau"},9.5106382978723403,2.0750000000000002,41201]
[{"$f":"Daten!A160","v":"F 41.20-2"},{"$f":"Daten!B160","v":"Adaptierungsarbeiten im Hochbau"},5.5625,1.3841414935906999,41202]
[{"$f":"Daten!A161","v":"F 41.20-9"},{"$f":"Daten!B161","v":"Sonstiger Hochbau"},8.0564473721011307,1.27663551401869,41209]
[{"$f":"Daten!A162","v":"F 42"},{"$f":"Daten!B162","v":"Tiefbau"},5.8676558589158399,1.0465116279069799,42000]
[{"$f":"Daten!A163","v":"F 42.1"},{"$f":"Daten!B163","v":"Bau von Straßen und Bahnverkehrsstrecken"},6.1302325581395296,0.72338090010976996,42100]
[{"$f":"Daten!A164","v":"F 42.11"},{"$f":"Daten!B164","v":"Bau von Straßen"},6.4255638129390702,0.75233644859813098,42110]
[{"$f":"Daten!A165","v":"F 42.2"},{"$f":"Daten!B165","v":"Leitungstiefbau und Kläranlagenbau"},4.7669902912621396,1.0384615384615401,42200]
[{"$f":"Daten!A166","v":"F 42.21"},{"$f":"Daten!B166","v":"Rohrleitungstiefbau, Brunnenbau und Kläranlagenbau"},5.0579710144927503,0.80392156862745101,42210]
[{"$f":"Daten!A167","v":"F 42.9"},{"$f":"Daten!B167","v":"Sonstiger Tiefbau"},5.8961589100692704,1.7702114267904101,42900]
[{"$f":"Daten!A168","v":"F 42.99"},{"$f":"Daten!B168","v":"Sonstiger Tiefbau a.n.g."},5.0562500000000004,1.4241598453637101,42990]
[{"$f":"Daten!A169","v":"F 43"},{"$f":"Daten!B169","v":"Vorbereitende Baustellenarbeiten, Bauinstallation und sonstiges Ausbaugewerbe"},6.75,1.1422196249269501,43000]
[{"$f":"Daten!A170","v":"F 43.1"},{"$f":"Daten!B170","v":"Abbrucharbeiten und vorbereitende Baustellenarbeiten "},5.22272727272727,1.85238095238095,43100]
[{"$f":"Daten!A171","v":"F 43.11"},{"$f":"Daten!B171","v":"Abbrucharbeiten"},5.8374972213899801,1.7030567685589499,43110]
[{"$f":"Daten!A172","v":"F 43.12"},{"$f":"Daten!B172","v":"Vorbereitende Baustellenarbeiten"},4.8181818181818201,2.0225225225225198,43120]
[{"$f":"Daten!A173","v":"F 43.2"},{"$f":"Daten!B173","v":"Bauinstallation"},6.8271927710098801,1.07968901846453,43200]
[{"$f":"Daten!A174","v":"F 43.21"},{"$f":"Daten!B174","v":"Elektroinstallation"},7.10528690691548,1.18957345971564,43210]
[{"$f":"Daten!A175","v":"F 43.22"},{"$f":"Daten!B175","v":"Gas-, Wasser-, Heizungs- und Lüftungs- und Klimaanlageninstallation"},6.9074074074074101,1.07968901846453,43220]
[{"$f":"Daten!A176","v":"F 43.29"},{"$f":"Daten!B176","v":"Sonstige Bauinstallation"},6.3076923076923102,0.71910346281698001,43290]
[{"$f":"Daten!A177","v":"F 43.3"},{"$f":"Daten!B177","v":"Sonstiger Ausbau"},7.7697594501718203,1.2790697674418601,43300]
[{"$f":"Daten!A178","v":"F 43.31"},{"$f":"Daten!B178","v":"Anbringen von Stuckaturen, Gipserei und Verputzerei"},6.4861111111111098,1.1050228310502299,43310]
[{"$f":"Daten!A179","v":"F 43.32"},{"$f":"Daten!B179","v":"Bautischlerei und -schlosserei"},9.0155009246165605,1.25882352941176,43320]
[{"$f":"Daten!A180","v":"F 43.32-1"},{"$f":"Daten!B180","v":"Bautischlerei"},11.3354587318456,1.8079768414281101,43321]
[{"$f":"Daten!A181","v":"F 43.32-2"},{"$f":"Daten!B181","v":"Bauschlosserei"},6.7905138339920903,0.86448598130841103,43322]
[{"$f":"Daten!A182","v":"F 43.33"},{"$f":"Daten!B182","v":"Fußboden-, Fliesen- und Plattenlegerei, Tapeziererei"},7.8353922214046898,1.6551724137931001,43330]
[{"$f":"Daten!A183","v":"F 43.33-1"},{"$f":"Daten!B183","v":"Fußbodenlegerei"},6.2435233160621797,1.2815533980582501,43331]
[{"$f":"Daten!A184","v":"F 43.33-2"},{"$f":"Daten!B184","v":"Fliesenlegerei"},8.8365243004418303,1.71428571428571,43332]
[{"$f":"Daten!A185","v":"F 43.33-3"},{"$f":"Daten!B185","v":"Tapeziererei"},8.2686567164179099,1.10896431878723,43333]
[{"$f":"Daten!A186","v":"F 43.33-4"},{"$f":"Daten!B186","v":"Ofensetzerei"},11.539473684210501,2.1409728682664499,43334]
[{"$f":"Daten!A187","v":"F 43.34"},{"$f":"Daten!B187","v":"Malerei und Glaserei"},7.7209302325581399,1.0276010023616799,43340]
[{"$f":"Daten!A188","v":"F 43.34-1"},{"$f":"Daten!B188","v":"Malerei und Anstreicherei"},7.2876712328767104,0.96477063847505296,43341]
[{"$f":"Daten!A189","v":"F 43.34-2"},{"$f":"Daten!B189","v":"Glaserei"},8.4499999999999993,0.94446308516323096,43342]
[{"$f":"Daten!A190","v":"F 43.39"},{"$f":"Daten!B190","v":"Sonstiger Ausbau a.n.g."},5.8363636363636404,1.2199546485260799,43390]
[{"$f":"Daten!A191","v":"F 43.9"},{"$f":"Daten!B191","v":"Sonstige spezialisierte Bautätigkeiten"},5.44455287893574,0.859375,43900]
[{"$f":"Daten!A192","v":"F 43.91"},{"$f":"Daten!B192","v":"Dachdeckerei und Zimmerei"},6.3458980044345896,0.98201438848920897,43910]
[{"$f":"Daten!A193","v":"F 43.91-1"},{"$f":"Daten!B193","v":"Dachdeckerei"},4.8878504672897201,0.64214625703158801,43911]
[{"$f":"Daten!A194","v":"F 43.91-2"},{"$f":"Daten!B194","v":"Zimmerei"},{"$f":"INDEX(Daten,ROW()-4,Spalte)","v":8.5965406334761205},{"$f":"INDEX(Daten,ROW()-4,Spalte+20)","v":1.7037974683544299},{"$f":"INDEX(Daten,ROW()-4,44)","v":43912}]
[{"$f":"Daten!A195","v":"F 43.91-3"},{"$f":"Daten!B195","v":"Bauspenglerei"},5.0650459597328696,0.68065937772179996,43913]
[{"$f":"Daten!A196","v":"F 43.99"},{"$f":"Daten!B196","v":"Sonstige spezialisierte Bautätigkeiten a.n.g."},3.5882352941176499,0.643356643356643,43990]
[{"$f":"Daten!A197","v":"F 43.99-1"},{"$f":"Daten!B197","v":"Isolierer"},4.7174959871589097,0.55367231638418102,43991]
[{"$f":"Daten!A198","v":"F 43.99-9"},{"$f":"Daten!B198","v":"Sonstige spezialisierte Bautätigkeiten a.n.g. (ohne Isolierer)"},3.0548780487804899,0.67200000000000004,43999]
[{"$f":"Daten!A199","v":"G"},{"$f":"Daten!B199","v":"Handel; Instandhaltung und Reparatur von Kraftfahrzeugen"},9.0681818181818201,1.58205128205128,44999]
[{"$f":"Daten!A200","v":"G 45.1"},{"$f":"Daten!B200","v":"Handel mit Kraftwagen"},16.601532567049802,3.6264501160092801,45100]
[{"$f":"Daten!A201","v":"G 45.11"},{"$f":"Daten!B201","v":"Handel mit Kraftwagen mit einem Gesamtgewicht von 3,5 t oder weniger"},16.8571428571429,3.5824175824175799,45110]
[{"$f":"Daten!A202","v":"G 45.11-1"},{"$f":"Daten!B202","v":"Großhandel mit Kraftwagen mit einem Gesamtgewicht von 3,5 t oder weniger"},13.061697722410001,0.55479452054794498,45111]
[{"$f":"Daten!A203","v":"G 45.11-2"},{"$f":"Daten!B203","v":"Einzelhandel mit Kraftwagen mit einem Gesamtgewicht von 3,5 t oder weniger"},17.634615384615401,3.7896995708154502,45112]
[{"$f":"Daten!A204","v":"G 45.19"},{"$f":"Daten!B204","v":"Handel mit Kraftwagen mit einem Gesamtgewicht von mehr als 3,5 t"},12.8793103448276,2.2556053811659198,45190]
[{"$f":"Daten!A205","v":"G 45.2"},{"$f":"Daten!B205","v":"Instandhaltung und Reparatur von Kraftwagen"},9.6186440677966107,1.50724637681159,45200]
[{"$f":"Daten!A206","v":"G 45.3"},{"$f":"Daten!B206","v":"Handel mit Kraftwagenteilen und -zubehör"},12.255474452554701,1.46,45300]
[{"$f":"Daten!A207","v":"G 45.31"},{"$f":"Daten!B207","v":"Großhandel mit Kraftwagenteilen und -zubehör"},9.3661971830985902,0.483870967741936,45310]
[{"$f":"Daten!A208","v":"G 45.32"},{"$f":"Daten!B208","v":"Einzelhandel mit Kraftwagenteilen und -zubehör"},12.9530818767249,1.85567010309278,45320]
[{"$f":"Daten!A209","v":"G 45.4"},{"$f":"Daten!B209","v":"Handel mit Krafträdern, Kraftradteilen und -zubehör; Instandhaltung und Reparatur von Krafträdern"},30.8116883116883,5.1333333333333302,45400]
[{"$f":"Daten!A210","v":"G 46"},{"$f":"Daten!B210","v":"Großhandel (ohne Handel mit Kraftfahrzeugen)"},6.7140562248995996,1.12597894821502,46000]
[{"$f":"Daten!A211","v":"G 46.1"},{"$f":"Daten!B211","v":"Handelsvermittlung"},3.7589388696655099,0.455384615384615,46100]
[{"$f":"Daten!A212","v":"G 46.13"},{"$f":"Daten!B212","v":"Handelsvermittlung von Holz, Baustoffen und Anstrichmitteln"},30.649122807017498,0.34482758620689702,46130]
[{"$f":"Daten!A213","v":"G 46.14"},{"$f":"Daten!B213","v":"Handelsvermittlung von Maschinen, technischem Bedarf, Wasser- und Luftfahrzeugen"},3.78316519414029,1.48648648648649,46140]
[{"$f":"Daten!A214","v":"G 46.15"},{"$f":"Daten!B214","v":"Handelsvermittlung von Möbeln, Einrichtungs- und Haushaltsgegenständen, Eisen- und Metallwaren"},3.2291666666666701,1.26086956521739,46150]
[{"$f":"Daten!A215","v":"G 46.16"},{"$f":"Daten!B215","v":"Handelsvermittlung von Textilien, Bekleidung, Schuhen und Lederwaren"},2.52727272727273,0.25290023201856099,46160]
[{"$f":"Daten!A216","v":"G 46.18"},{"$f":"Daten!B216","v":"Handelsvermittlung von sonstigen Waren "},2.90625,0.34025974025973998,46180]
[{"$f":"Daten!A217","v":"G 46.19"},{"$f":"Daten!B217","v":"Handelsvermittlung von Waren ohne ausgeprägten Schwerpunkt"},3.2131147540983598,0.52941176470588203,46190]
[{"$f":"Daten!A218","v":"G 46.2"},{"$f":"Daten!B218","v":"Großhandel mit landwirtschaftlichen Grundstoffen und lebenden Tieren"},10.235294117647101,3.0274481575966701,46200]
[{"$f":"Daten!A219","v":"G 46.21"},{"$f":"Daten!B219","v":"Großhandel mit Getreide, Rohtabak, Saatgut und Futtermitteln"},10.235294117647101,3.6481481481481501,46210]
[{"$f":"Daten!A220","v":"G 46.22"},{"$f":"Daten!B220","v":"Großhandel mit Blumen und Pflanzen"},8.4604982125973294,1.7532467532467499,46220]
[{"$f":"Daten!A221","v":"G 46.23"},{"$f":"Daten!B221","v":"Großhandel mit lebenden Tieren"},13.818181818181801,2.5704225352112702,46230]
[{"$f":"Daten!A222","v":"G 46.3"},{"$f":"Daten!B222","v":"Großhandel mit Nahrungs- und Genussmitteln, Getränken und Tabakwaren"},8.2867523235776499,1.92592592592593,46300]
[{"$f":"Daten!A223","v":"G 46.31"},{"$f":"Daten!B223","v":"Großhandel mit Obst, Gemüse und Kartoffeln"},7.9129692832764498,2.3796296296296302,46310]
[{"$f":"Daten!A224","v":"G 46.32"},{"$f":"Daten!B224","v":"Großhandel mit Fleisch und Fleischwaren"},7.3870967741935498,0.73978314639486498,46320]
[{"$f":"Daten!A225","v":"G 46.34"},{"$f":"Daten!B225","v":"Großhandel mit Getränken"},10.0959346416176,2.0072992700729899,46340]
[{"$f":"Daten!A226","v":"G 46.34-1"},{"$f":"Daten!B226","v":"Großhandel mit Wein und Spirituosen"},13.4133333333333,2.72826086956522,46341]
[{"$f":"Daten!A227","v":"G 46.34-9"},{"$f":"Daten!B227","v":"Großhandel mit sonstigen Getränken"},7.5674662668665702,1.6923076923076901,46349]
[{"$f":"Daten!A228","v":"G 46.38"},{"$f":"Daten!B228","v":"Großhandel mit sonstigen Nahrungs- und Genussmitteln"},8.2790697674418592,2.0588235294117601,46380]
[{"$f":"Daten!A229","v":"G 46.39"},{"$f":"Daten!B229","v":"Großhandel mit Nahrungs- und Genussmitteln, Getränken und Tabakwaren, ohne ausgeprägten Schwerpunkt"},6.4225661217705596,1.4801377118644099,46390]
[{"$f":"Daten!A230","v":"G 46.4"},{"$f":"Daten!B230","v":"Großhandel mit Gebrauchs- und Verbrauchsgütern"},7.1360000000000001,1.31034482758621,46400]
[{"$f":"Daten!A231","v":"G 46.41"},{"$f":"Daten!B231","v":"Großhandel mit Textilien"},6.8778947368421104,1.0900900900900901,46410]
[{"$f":"Daten!A232","v":"G 46.42"},{"$f":"Daten!B232","v":"Großhandel mit Bekleidung und Schuhen"},7.58262196575898,1.35120303925707,46420]
[{"$f":"Daten!A233","v":"G 46.42-1"},{"$f":"Daten!B233","v":"Großhandel mit Bekleidung"},7.8945868945868902,1.2129688493324899,46421]
[{"$f":"Daten!A234","v":"G 46.42-2"},{"$f":"Daten!B234","v":"Großhandel mit Schuhen"},6.1556886227544902,1.3691756272401401,46422]
[{"$f":"Daten!A235","v":"G 46.43"},{"$f":"Daten!B235","v":"Großhandel mit Foto- und optischen Erzeugnissen, elektrischen Haushaltsgeräten und Geräten der Unterhaltungselektronik"},10.2751996007984,1.35,46430]
[{"$f":"Daten!A236","v":"G 46.43-1"},{"$f":"Daten!B236","v":"Großhandel mit Foto- und optischen Erzeugnissen"},5.9043303121852997,1.13793103448276,46431]
[{"$f":"Daten!A237","v":"G 46.43-2"},{"$f":"Daten!B237","v":"Großhandel mit elektrischen Haushaltsgeräten "},11.178343949044599,1.1728110599078301,46432]
[{"$f":"Daten!A238","v":"G 46.43-3"},{"$f":"Daten!B238","v":"Großhandel mit Geräten der Unterhaltungselektronik"},9.7525773195876297,1.58223062381853,46433]
[{"$f":"Daten!A239","v":"G 46.44"},{"$f":"Daten!B239","v":"Großhandel mit keramischen Erzeugnissen, Glaswaren und Reinigungsmitteln"},8.9181737650419493,3.9814836091269501,46440]
[{"$f":"Daten!A240","v":"G 46.45"},{"$f":"Daten!B240","v":"Großhandel mit kosmetischen Erzeugnissen und Körperpflegemitteln"},5.78405398065631,0.93726090283091001,46450]
[{"$f":"Daten!A241","v":"G 46.46"},{"$f":"Daten!B241","v":"Großhandel mit pharmazeutischen, medizinischen und orthopädischen Erzeugnissen"},4.9641367806505396,0.579633204633205,46460]
[{"$f":"Daten!A242","v":"G 46.46-1"},{"$f":"Daten!B242","v":"Großhandel mit pharmazeutischen Erzeugnissen"},3.5628140703517599,0.90462070324561805,46461]
[{"$f":"Daten!A243","v":"G 46.46-2"},{"$f":"Daten!B243","v":"Großhandel mit medizinischen und orthopädischen Artikeln, Laborbedarf"},5.7727272727272698,0.55339805825242705,46462]
[{"$f":"Daten!A244","v":"G 46.47"},{"$f":"Daten!B244","v":"Großhandel mit Möbeln, Teppichen, Lampen und Leuchten"},8.4528383004697307,1.51237964236589,46470]
[{"$f":"Daten!A245","v":"G 46.48"},{"$f":"Daten!B245","v":"Großhandel mit Uhren und Schmuck"},10.082758620689701,1.58993576017131,46480]
[{"$f":"Daten!A246","v":"G 46.49"},{"$f":"Daten!B246","v":"Großhandel mit sonstigen Gebrauchs- und Verbrauchsgütern"},8.0810810810810807,1.8567901234567901,46490]
[{"$f":"Daten!A247","v":"G 46.49-1"},{"$f":"Daten!B247","v":"Großhandel mit Schreibwaren und Bürobedarf"},8.5806451612903203,0.96732026143790895,46491]
[{"$f":"Daten!A248","v":"G 46.49-3"},{"$f":"Daten!B248","v":"Großhandel mit Sportartikeln"},8.9143835616438398,1.94545454545455,46493]
[{"$f":"Daten!A249","v":"G 46.49-9"},{"$f":"Daten!B249","v":"Großhandel mit sonstigen Gebrauchs- und Verbrauchsgütern a.n.g."},8.0810810810810807,2.14854928074659,46499]
[{"$f":"Daten!A250","v":"G 46.5"},{"$f":"Daten!B250","v":"Großhandel mit Geräten der Informations- und Kommunikationstechnik"},5.4563883459195601,0.59735882486248204,46500]
[{"$f":"Daten!A251","v":"G 46.51"},{"$f":"Daten!B251","v":"Großhandel mit Datenverarbeitungsgeräten, peripheren Geräten und Software"},5.5945945945945903,0.55636154996823795,46510]
[{"$f":"Daten!A252","v":"G 46.51-1"},{"$f":"Daten!B252","v":"Großhandel mit Datenverarbeitungsgeräten und peripheren Einheiten"},6.2279411764705896,0.61842105263157898,46511]
[{"$f":"Daten!A253","v":"G 46.51-2"},{"$f":"Daten!B253","v":"Großhandel mit Standardsoftware"},3.7286432160804002,0,46512]
[{"$f":"Daten!A254","v":"G 46.52"},{"$f":"Daten!B254","v":"Großhandel mit elektronischen Bauteilen und Telekommunikationsgeräten"},5.32804672669561,0.305676855895197,46520]
[{"$f":"Daten!A255","v":"G 46.6"},{"$f":"Daten!B255","v":"Großhandel mit sonstigen Maschinen, Ausrüstungen und Zubehör"},5.9205202312138701,0.87111570866624,46600]
[{"$f":"Daten!A256","v":"G 46.61"},{"$f":"Daten!B256","v":"Großhandel mit landwirtschaftlichen Maschinen und Geräten"},10.6078799249531,3.0277264325323499,46610]
[{"$f":"Daten!A257","v":"G 46.62"},{"$f":"Daten!B257","v":"Großhandel mit Werkzeugmaschinen"},9.4112627986348105,1.6772908366533901,46620]
[{"$f":"Daten!A258","v":"G 46.63"},{"$f":"Daten!B258","v":"Großhandel mit Bergwerks-, Bau- und Baustoffmaschinen"},{"$f":"INDEX(Daten,ROW()-4,Spalte)","v":9.0314136125654407},{"$f":"INDEX(Daten,ROW()-4,Spalte+20)","v":1.2777777777777799},{"$f":"INDEX(Daten,ROW()-4,44)","v":46630}]
[{"$f":"Daten!A259","v":"G 46.65"},{"$f":"Daten!B259","v":"Großhandel mit Büromöbeln"},10.7272727272727,1.72727272727273,46650]
[{"$f":"Daten!A260","v":"G 46.66"},{"$f":"Daten!B260","v":"Großhandel mit sonstigen Büromaschinen und -einrichtungen"},4.3056300268096503,0.64137931034482798,46660]
[{"$f":"Daten!A261","v":"G 46.69"},{"$f":"Daten!B261","v":"Großhandel mit sonstigen Maschinen und Ausrüstungen"},4.625,0.713248638838475,46690]
[{"$f":"Daten!A262","v":"G 46.7"},{"$f":"Daten!B262","v":"Sonstiger Großhandel"},6.8022151898734204,1.2226148409894,46700]
[{"$f":"Daten!A263","v":"G 46.71"},{"$f":"Daten!B263","v":"Großhandel mit festen Brennstoffen und Mineralölerzeugnissen"},11.75,2.5901794145420198,46710]
[{"$f":"Daten!A264","v":"G 46.71-2"},{"$f":"Daten!B264","v":"Großhandel mit Mineralölerzeugnissen"},11.75,2.1007346372645999,46712]
[{"$f":"Daten!A265","v":"G 46.72"},{"$f":"Daten!B265","v":"Großhandel mit Erzen, Metallen und Metallhalbzeug"},6.7140562248995996,1.0952380952381,46720]
[{"$f":"Daten!A266","v":"G 46.72-1"},{"$f":"Daten!B266","v":"Großhandel mit Erzen, Eisen, Stahl und Halbzeug"},7.3634272605158699,1.5584255842558401,46721]
[{"$f":"Daten!A267","v":"G 46.72-2"},{"$f":"Daten!B267","v":"Großhandel mit NE-Metallen und Halbzeug"},3.7916666666666701,4.6296296296296301E-2,46722]
[{"$f":"Daten!A268","v":"G 46.73"},{"$f":"Daten!B268","v":"Großhandel mit Holz, Baustoffen, Anstrichmitteln und Sanitärkeramik"},8.6390977443608996,2,46730]
[{"$f":"Daten!A269","v":"G 46.73-1"},{"$f":"Daten!B269","v":"Großhandel mit Holz"},10.2253102936251,2.79190751445087,46731]
[{"$f":"Daten!A270","v":"G 46.73-2"},{"$f":"Daten!B270","v":"Großhandel mit Baustoffen und Sanitärkeramik"},8.5701608948462304,1.5833333333333299,46732]
[{"$f":"Daten!A271","v":"G 46.73-3"},{"$f":"Daten!B271","v":"Großhandel mit Flachglas, Anstrichmitteln, Tapeten und Bodenbelägen"},4.47272727272727,0.717592592592593,46733]
[{"$f":"Daten!A272","v":"G 46.74"},{"$f":"Daten!B272","v":"Großhandel mit Metall- und Kunststoffwaren für Bauzwecke sowie Installationsbedarf für Gas, Wasser und Heizung"},4.3667052409003304,0.59597358225149599,46740]
[{"$f":"Daten!A273","v":"G 46.75"},{"$f":"Daten!B273","v":"Großhandel mit chemischen Erzeugnissen"},5.2992424242424203,0.87067669172932305,46750]
[{"$f":"Daten!A274","v":"G 46.76"},{"$f":"Daten!B274","v":"Großhandel mit sonstigen Halbwaren"},3.8,0.65970149253731303,46760]
[{"$f":"Daten!A275","v":"G 46.76-1"},{"$f":"Daten!B275","v":"Großhandel mit Papier und Pappe"},7.2723880597014903,0.33461538461538498,46761]
[{"$f":"Daten!A276","v":"G 46.76-9"},{"$f":"Daten!B276","v":"Großhandel mit sonstigen Halbwaren a.n.g"},1.82,0.21056721056721101,46769]
[{"$f":"Daten!A277","v":"G 46.77"},{"$f":"Daten!B277","v":"Großhandel mit Altmaterialien und Reststoffen"},2.66066066066066,0.52895852725204295,46770]
[{"$f":"Daten!A278","v":"G 46.9"},{"$f":"Daten!B278","v":"Großhandel ohne ausgeprägten Schwerpunkt"},5.7948004548940801,1.3171641791044799,46900]
[{"$f":"Daten!A279","v":"G 47"},{"$f":"Daten!B279","v":"Einzelhandel (ohne Handel mit Kraftfahrzeugen)"},9.8968253968254007,1.88575241521367,47000]
[{"$f":"Daten!A280","v":"G 47.1"},{"$f":"Daten!B280","v":"Einzelhandel mit Waren verschiedener Art (in Verkaufsräumen)"},10.397681436553199,1.6860986547085199,47100]
[{"$f":"Daten!A281","v":"G 47.11"},{"$f":"Daten!B281","v":"Einzelhandel mit Waren verschiedener Art, Hauptrichtung Nahrungs- und Genussmittel, Getränke und Tabakwaren"},13.464570284204701,2.5293132744829898,47110]
[{"$f":"Daten!A282","v":"G 47.19"},{"$f":"Daten!B282","v":"Sonstiger Einzelhandel mit Waren verschiedener Art"},7.9761904761904798,1.0516129032258099,47190]
[{"$f":"Daten!A283","v":"G 47.19-9"},{"$f":"Daten!B283","v":"Sonstiger Einzelhandel mit Waren verschiedener Art (ohne Warenhäuser)"},7.4010349288486399,0.84848484848484895,47199]
[{"$f":"Daten!A284","v":"G 47.2"},{"$f":"Daten!B284","v":"Einzelhandel mit Nahrungs- und Genussmitteln, Getränken und Tabakwaren (in Verkaufsräumen)"},8.1218786258386704,1.5115276209444399,47200]
[{"$f":"Daten!A285","v":"G 47.21"},{"$f":"Daten!B285","v":"Einzelhandel mit Obst, Gemüse und Kartoffeln "},18.148820326678798,3.44019138755981,47210]
[{"$f":"Daten!A286","v":"G 47.22"},{"$f":"Daten!B286","v":"Einzelhandel mit Fleisch und Fleischwaren "},9.1121070300484508,3.4713375796178298,47220]
[{"$f":"Daten!A287","v":"G 47.24"},{"$f":"Daten!B287","v":"Einzelhandel mit Back- und Süßwaren "},7.5505050505050502,1.5611741471363501,47240]
[{"$f":"Daten!A288","v":"G 47.25"},{"$f":"Daten!B288","v":"Einzelhandel mit Getränken "},22.126315789473701,2.7950120680468999,47250]
[{"$f":"Daten!A289","v":"G 47.26"},{"$f":"Daten!B289","v":"Einzelhandel mit Tabakwaren "},5.5680272108843498,1.2404126688122199,47260]
[{"$f":"Daten!A290","v":"G 47.29"},{"$f":"Daten!B290","v":"Sonstiger Einzelhandel mit Nahrungs- und Genussmitteln"},13.681818181818199,1.53521126760563,47290]
[{"$f":"Daten!A291","v":"G 47.3"},{"$f":"Daten!B291","v":"Einzelhandel mit Motorenkraftstoffen (Tankstellen)"},9.1743119266054993,1.5010526315789501,47300]
[{"$f":"Daten!A292","v":"G 47.4"},{"$f":"Daten!B292","v":"Einzelhandel mit Geräten der Informations- und Kommunikationstechnik (in Verkaufsräumen)"},7.0186903874334803,1.0609756097561001,47400]
[{"$f":"Daten!A293","v":"G 47.41"},{"$f":"Daten!B293","v":"Einzelhandel mit Datenverarbeitungsgeräten, peripheren Geräten und Software "},4.3096134921442903,0.939183362005518,47410]
[{"$f":"Daten!A294","v":"G 47.42"},{"$f":"Daten!B294","v":"Einzelhandel mit Telekommunikationsgeräten "},7.0818181818181802,1.8235294117647101,47420]
[{"$f":"Daten!A295","v":"G 47.43"},{"$f":"Daten!B295","v":"Einzelhandel mit Geräten der Unterhaltungselektronik"},14.3798463722742,2.5344418052256499,47430]
[{"$f":"Daten!A296","v":"G 47.5"},{"$f":"Daten!B296","v":"Einzelhandel mit sonstigen Haushaltsgeräten, Textilien, Heimwerker- und Einrichtungsbedarf (in Verkaufsräumen)"},9.7307692307692299,2.2337662337662301,47500]
[{"$f":"Daten!A297","v":"G 47.51"},{"$f":"Daten!B297","v":"Einzelhandel mit Textilien "},20.5828189562822,2.0902777777777799,47510]
[{"$f":"Daten!A298","v":"G 47.52"},{"$f":"Daten!B298","v":"Einzelhandel mit Metallwaren, Anstrichmitteln, Bau- und Heimwerkerbedarf "},7.9875638757049101,1.9838709677419399,47520]
[{"$f":"Daten!A299","v":"G 47.54"},{"$f":"Daten!B299","v":"Einzelhandel mit elektrischen Haushaltsgeräten "},7.5909090909090899,2.2337662337662301,47540]
[{"$f":"Daten!A300","v":"G 47.59"},{"$f":"Daten!B300","v":"Einzelhandel mit Möbeln, Einrichtungsgegenständen und sonstigem Hausrat "},10.4189406099518,2.4170212765957402,47590]
[{"$f":"Daten!A301","v":"G 47.59-1"},{"$f":"Daten!B301","v":"Einzelhandel mit Musikinstrumenten und Musikalien"},16.7169811320755,4.5147058823529402,47591]
[{"$f":"Daten!A302","v":"G 47.59-2"},{"$f":"Daten!B302","v":"Einzelhandel mit Wohnmöbeln"},8.9789569069673796,1.51055254286971,47592]
[{"$f":"Daten!A303","v":"G 47.59-9"},{"$f":"Daten!B303","v":"Einzelhandel mit Einrichtungsgegenständen und Hausrat a.n.g. "},10.2982456140351,2.5645161290322598,47599]
[{"$f":"Daten!A304","v":"G 47.6"},{"$f":"Daten!B304","v":"Einzelhandel mit Verlagsprodukten, Sportausrüstungen und Spielwaren (in Verkaufsräumen)"},15.4,3.0779273503918101,47600]
[{"$f":"Daten!A305","v":"G 47.61"},{"$f":"Daten!B305","v":"Einzelhandel mit Büchern "},64.8888888888889,4.7234042553191502,47610]
[{"$f":"Daten!A306","v":"G 47.62"},{"$f":"Daten!B306","v":"Einzelhandel mit Zeitschriften, Zeitungen, Schreibwaren und Bürobedarf "},23,1.76685382229377,47620]
[{"$f":"Daten!A307","v":"G 47.64"},{"$f":"Daten!B307","v":"Einzelhandel mit Fahrrädern, Sport- und Campingartikeln"},13.2941263683313,3.0767386091127098,47640]
[{"$f":"Daten!A308","v":"G 47.65"},{"$f":"Daten!B308","v":"Einzelhandel mit Spielwaren "},40.7368421052632,4,47650]
[{"$f":"Daten!A309","v":"G 47.7"},{"$f":"Daten!B309","v":"Einzelhandel mit sonstigen Gütern (in Verkaufsräumen)"},10.4230769230769,1.7441860465116299,47700]
[{"$f":"Daten!A310","v":"G 47.71"},{"$f":"Daten!B310","v":"Einzelhandel mit Bekleidung"},12.9166666666667,1.52380952380952,47710]
[{"$f":"Daten!A311","v":"G 47.72"},{"$f":"Daten!B311","v":"Einzelhandel mit Schuhen und Lederwaren "},14.125,3.4108152385556401,47720]
[{"$f":"Daten!A312","v":"G 47.72-1"},{"$f":"Daten!B312","v":"Einzelhandel mit Schuhen"},21.638330757341599,2.8880597014925402,47721]
[{"$f":"Daten!A313","v":"G 47.72-2"},{"$f":"Daten!B313","v":"Einzelhandel mit Leder- und Taschnerwaren"},8.6046511627907005,0.29370629370629397,47722]
[{"$f":"Daten!A314","v":"G 47.73"},{"$f":"Daten!B314","v":"Apotheken"},7.6629175483416896,1.8761282388831499,47730]
[{"$f":"Daten!A315","v":"G 47.74"},{"$f":"Daten!B315","v":"Einzelhandel mit medizinischen und orthopädischen Artikeln "},4.1183206106870198,0.53475935828876997,47740]
[{"$f":"Daten!A316","v":"G 47.75"},{"$f":"Daten!B316","v":"Einzelhandel mit kosmetischen Erzeugnissen und Körperpflegemitteln "},11.523809523809501,1.6951219512195099,47750]
[{"$f":"Daten!A317","v":"G 47.76"},{"$f":"Daten!B317","v":"Einzelhandel mit Blumen, Pflanzen, Sämereien, Düngemitteln, zoologischem Bedarf und lebenden Tieren"},23.312792337961199,2.2961551614636799,47760]
[{"$f":"Daten!A318","v":"G 47.76-1"},{"$f":"Daten!B318","v":"Einzelhandel mit Blumen, Pflanzen, Sämereien, Düngemitteln; Blumenbinderei"},21.2839279267452,2.2961551614636799,47761]
[{"$f":"Daten!A319","v":"G 47.76-2"},{"$f":"Daten!B319","v":"Einzelhandel mit zoologischem Bedarf und lebenden Tieren"},122.185052878885,2.2314753042398001,47762]
[{"$f":"Daten!A320","v":"G 47.77"},{"$f":"Daten!B320","v":"Einzelhandel mit Uhren und Schmuck "},24.5654548291465,2.62683042040624,47770]
[{"$f":"Daten!A321","v":"G 47.78"},{"$f":"Daten!B321","v":"Sonstiger Einzelhandel in Verkaufsräumen (ohne Antiquitäten und Gebrauchtwaren)"},6.2653837547549802,1.28943758573388,47780]
[{"$f":"Daten!A322","v":"G 47.78-1"},{"$f":"Daten!B322","v":"Einzelhandel mit Fotoartikeln, optischen und feinmechanischen Artikeln"},{"$f":"INDEX(Daten,ROW()-4,Spalte)","v":4.8050942762417996},{"$f":"INDEX(Daten,ROW()-4,Spalte+20)","v":1.05376688326858},{"$f":"INDEX(Daten,ROW()-4,44)","v":47781}]
[{"$f":"Daten!A323","v":"G 47.78-2"},{"$f":"Daten!B323","v":"Einzelhandel mit Brennstoffen"},8.2569269521410593,2.7878787878787898,47782]
[{"$f":"Daten!A324","v":"G 47.78-9"},{"$f":"Daten!B324","v":"Sonstiger Einzelhandel a.n.g. in Verkaufsräumen (ohne Antiquitäten und Gebrauchtwaren)"},6.375,1.4039528911972901,47789]
[{"$f":"Daten!A325","v":"G 47.79"},{"$f":"Daten!B325","v":"Einzelhandel mit Antiquitäten und Gebrauchtwaren"},11.56,2.4959054658626698,47790]
[{"$f":"Daten!A326","v":"G 47.8"},{"$f":"Daten!B326","v":"Einzelhandel an Verkaufsständen und auf Märkten"},116.228529411765,5.4039054170500496,47800]
[{"$f":"Daten!A327","v":"G 47.9"},{"$f":"Daten!B327","v":"Einzelhandel, nicht in Verkaufsräumen, an Verkaufsständen oder auf Märkten"},8.8139534883720891,0.92783505154639201,47900]
[{"$f":"Daten!A328","v":"G 47.91"},{"$f":"Daten!B328","v":"Versand- und Internet-Einzelhandel"},13.6283783783784,1.2777777777777799,47910]
[{"$f":"Daten!A329","v":"G 47.99"},{"$f":"Daten!B329","v":"Sonstiger Einzelhandel, nicht in Verkaufsräumen, an Verkaufsständen oder auf Märkten"},6.42372881355932,0.614189544199642,47990]
[{"$f":"Daten!A330","v":"H"},{"$f":"Daten!B330","v":"Verkehr und Lagerei"},5.3333333333333304,1.6428571428571399,48999]
[{"$f":"Daten!A331","v":"H 49"},{"$f":"Daten!B331","v":"Landverkehr und Transport in Rohrfernleitungen"},5.2691131498470902,1.7336952241955901,49000]
[{"$f":"Daten!A332","v":"H 49.3"},{"$f":"Daten!B332","v":"Sonstige Personenbeförderung im Landverkehr"},5.46511627906977,2.23133543638275,49300]
[{"$f":"Daten!A333","v":"H 49.31"},{"$f":"Daten!B333","v":"Personenbeförderung im Nahverkehr zu Lande  (ohne Taxi)"},2.7431818181818199,1.0819462227912899,49310]
[{"$f":"Daten!A334","v":"H 49.31-2"},{"$f":"Daten!B334","v":"Autobusliniennahverkehr"},2.6454849498327802,1.04656862745098,49312]
[{"$f":"Daten!A335","v":"H 49.32"},{"$f":"Daten!B335","v":"Betrieb von Taxis"},5.5666169289829002,1.2197802197802201,49320]
[{"$f":"Daten!A336","v":"H 49.39"},{"$f":"Daten!B336","v":"Sonstige Personenbeförderung im Landverkehr a.n.g."},5.6261682242990698,3.09015715467328,49390]
[{"$f":"Daten!A337","v":"H 49.39-1"},{"$f":"Daten!B337","v":"Seilbahn-, Sessel- und Schleppliftverkehr"},6.0212256877022998,3.0966295762832599,49391]
[{"$f":"Daten!A338","v":"H 49.39-9"},{"$f":"Daten!B338","v":"Sonstige Personenbeförderung im Landverkehr a.n.g. (ohne Seilbahnwirtschaft)"},5.0833333333333304,2.0086956521739099,49399]
[{"$f":"Daten!A339","v":"H 49.4"},{"$f":"Daten!B339","v":"Güterbeförderung im Straßenverkehr, Umzugstransporte"},5.1830985915493004,1.5967741935483899,49400]
[{"$f":"Daten!A340","v":"H 49.41"},{"$f":"Daten!B340","v":"Güterbeförderung im Straßenverkehr "},5.1830985915493004,1.6177814832300399,49410]
[{"$f":"Daten!A341","v":"H 51"},{"$f":"Daten!B341","v":"Luftfahrt"},11.281085366786201,1.06024096385542,51000]
[{"$f":"Daten!A342","v":"H 51.1"},{"$f":"Daten!B342","v":"Personenbeförderung in der Luftfahrt"},8.3818181818181792,1.06024096385542,51100]
[{"$f":"Daten!A343","v":"H 52"},{"$f":"Daten!B343","v":"Lagerei sowie Erbringung von sonstigen Dienstleistungen für den Verkehr"},5.3955789456208603,1.11785714285714,52000]
[{"$f":"Daten!A344","v":"H 52.1"},{"$f":"Daten!B344","v":"Lagerei"},6.6958261863922202,1.8055210402722599,52100]
[{"$f":"Daten!A345","v":"H 52.2"},{"$f":"Daten!B345","v":"Erbringung von sonstigen Dienstleistungen für den Verkehr"},5.35,0.91582002902757598,52200]
[{"$f":"Daten!A346","v":"H 52.21"},{"$f":"Daten!B346","v":"Erbringung von sonstigen Dienstleistungen für den Landverkehr"},5.0242130750605298,0.74742264453998697,52210]
[{"$f":"Daten!A347","v":"H 52.21-1"},{"$f":"Daten!B347","v":"Parkhäuser und Parkgaragen"},3.2535211267605599,0.10319662491378701,52211]
[{"$f":"Daten!A348","v":"H 52.21-9"},{"$f":"Daten!B348","v":"Erbringung von sonstigen Dienstleistungen für den Landverkehr a.n.g."},5.8715204569110497,0.66666666666666696,52219]
[{"$f":"Daten!A349","v":"H 52.23"},{"$f":"Daten!B349","v":"Erbringung von sonstigen Dienstleistungen für die Luftfahrt"},4.8453500522465998,1.2089614265744799,52230]
[{"$f":"Daten!A350","v":"H 52.29"},{"$f":"Daten!B350","v":"Erbringung von sonstigen Dienstleistungen für den Verkehr a.n.g."},5.2706289671090598,1.3691056910569099,52290]
[{"$f":"Daten!A351","v":"H 53"},{"$f":"Daten!B351","v":"Post-, Kurier- und Expressdienste"},4.8715254561085102,0.59821428571428603,53000]
[{"$f":"Daten!A352","v":"H 53.2"},{"$f":"Daten!B352","v":"Sonstige Post-, Kurier- und Expressdienste"},4.8715254561085102,1.13347457627119,53200]
[{"$f":"Daten!A353","v":"I"},{"$f":"Daten!B353","v":"Beherbergung und Gastronomie"},12.610712125207501,3.9912758996728499,54999]
[{"$f":"Daten!A354","v":"I 55.1"},{"$f":"Daten!B354","v":"Hotels, Gasthöfe und Pensionen"},13.5828123852438,5.6828186780643204,55100]
[{"$f":"Daten!A355","v":"I 55.10-1"},{"$f":"Daten!B355","v":"Hotels "},12.4444444444444,5.6521739130434803,55101]
[{"$f":"Daten!A356","v":"I 55.10-2"},{"$f":"Daten!B356","v":"Gasthöfe"},17.576086956521699,6.1379310344827598,55102]
[{"$f":"Daten!A357","v":"I 55.10-3"},{"$f":"Daten!B357","v":"Pensionen"},17.464566929133898,5.7725647587779196,55103]
[{"$f":"Daten!A358","v":"I 55.2"},{"$f":"Daten!B358","v":"Ferienunterkünfte und ähnliche Beherbergungsstätten"},11.863073291887099,3.8962962962962999,55200]
[{"$f":"Daten!A359","v":"I 55.20-1"},{"$f":"Daten!B359","v":"Jugendherbergen"},10.0886075949367,2.4736842105263199,55201]
[{"$f":"Daten!A360","v":"I 55.20-3"},{"$f":"Daten!B360","v":"Ferienhäuser und Ferienwohnungen"},11.4694535639671,7.7317120526281702,55203]
[{"$f":"Daten!A361","v":"I 55.3"},{"$f":"Daten!B361","v":"Campingplätze"},6.8849588103165997,4.2324136772811096,55300]
[{"$f":"Daten!A362","v":"I 55.9"},{"$f":"Daten!B362","v":"Sonstige Beherbergungsstätten"},11.6824524186561,5.0893057103121802,55900]
[{"$f":"Daten!A363","v":"I 56"},{"$f":"Daten!B363","v":"Gastronomie"},10.5451814172783,2.0535714285714302,56000]
[{"$f":"Daten!A364","v":"I 56.1"},{"$f":"Daten!B364","v":"Restaurants, Gaststätten, Imbissstuben, Cafés, Eissalons u.Ä."},10.9953871594766,2.1052631578947398,56100]
[{"$f":"Daten!A365","v":"I 56.10-1"},{"$f":"Daten!B365","v":"Restaurants und Gaststätten"},10.105060550164399,1.8350515463917501,56101]
[{"$f":"Daten!A366","v":"I 56.10-2"},{"$f":"Daten!B366","v":"Buffets und Imbissstuben"},12.3561094096526,2.1206896551724101,56102]
[{"$f":"Daten!A367","v":"I 56.10-3"},{"$f":"Daten!B367","v":"Cafehäuser"},22.6666666666667,3.0840336134453801,56103]
[{"$f":"Daten!A368","v":"I 56.10-4"},{"$f":"Daten!B368","v":"Eissalons"},8.6999999999999993,0.52380952380952395,56104]
[{"$f":"Daten!A369","v":"I 56.2"},{"$f":"Daten!B369","v":"Caterer und Erbringung sonstiger Verpflegungsdienstleistungen"},6.3266666666666698,1.14115213867072,56200]
[{"$f":"Daten!A370","v":"I 56.21"},{"$f":"Daten!B370","v":"Event-Caterer"},4.8360655737704903,0.75280898876404501,56210]
[{"$f":"Daten!A371","v":"I 56.29"},{"$f":"Daten!B371","v":"Erbringung sonstiger Verpflegungsdienstleistungen"},7.8830548926014297,2.5075187969924801,56290]
[{"$f":"Daten!A372","v":"I 56.3"},{"$f":"Daten!B372","v":"Ausschank von Getränken"},8.1764705882352899,1.6666666666666701,56300]
[{"$f":"Daten!A373","v":"I 56.30-1"},{"$f":"Daten!B373","v":"Bars und Diskotheken"},6.8461538461538503,1.34782608695652,56301]
[{"$f":"Daten!A374","v":"I 56.30-9"},{"$f":"Daten!B374","v":"Sonstiger Ausschank von Getränken"},10.931302068993601,2.5,56309]
[{"$f":"Daten!A375","v":"J"},{"$f":"Daten!B375","v":"Information und Kommunikation"},2.6805555555555598,0.42062493379300198,57999]
[{"$f":"Daten!A376","v":"J 58"},{"$f":"Daten!B376","v":"Verlagswesen"},4.0981032717343604,0.88888888888888895,58000]
[{"$f":"Daten!A377","v":"J 58.1"},{"$f":"Daten!B377","v":"Verlegen von Büchern und Zeitschriften; sonstiges Verlagswesen (ohne Software)"},4.0981032717343604,0.97,58100]
[{"$f":"Daten!A378","v":"J 58.11"},{"$f":"Daten!B378","v":"Verlegen von Büchern"},5.9537037037036997,1.04426221060483,58110]
[{"$f":"Daten!A379","v":"J 58.13"},{"$f":"Daten!B379","v":"Verlegen von Zeitungen"},2.4664003766917202,8.9229559748427695E-2,58130]
[{"$f":"Daten!A380","v":"J 58.14"},{"$f":"Daten!B380","v":"Verlegen von Zeitschriften"},3.7692307692307701,1.26,58140]
[{"$f":"Daten!A381","v":"J 58.19"},{"$f":"Daten!B381","v":"Sonstiges Verlagswesen (ohne Software)"},4.7438307873090499,0.43083900226757399,58190]
[{"$f":"Daten!A382","v":"J 58.2"},{"$f":"Daten!B382","v":"Verlegen von Software"},3.7972009506205402,0.36521739130434799,58200]
[{"$f":"Daten!A383","v":"J 58.29"},{"$f":"Daten!B383","v":"Verlegen von sonstiger Software"},3.7972009506205402,0.63551401869158897,58290]
[{"$f":"Daten!A384","v":"J 59"},{"$f":"Daten!B384","v":"Herstellung, Verleih und Vertrieb von Filmen und Fernsehprogrammen; Kinos; Tonstudios und Verlegen von Musik"},3.8514285714285701,0.95155486793695698,59000]
[{"$f":"Daten!A385","v":"J 59.1"},{"$f":"Daten!B385","v":"Herstellung von Filmen und Fernsehprogrammen, deren Verleih und Vertrieb; Kinos"},4.4628471018854601,0.85370741482965895,59100]
[{"$f":"Daten!A386","v":"J 59.11"},{"$f":"Daten!B386","v":"Herstellung von Filmen, Videofilmen und Fernsehprogrammen"},{"$f":"INDEX(Daten,ROW()-4,Spalte)","v":4.4504504504504503},{"$f":"INDEX(Daten,ROW()-4,Spalte+20)","v":0.59706959706959695},{"$f":"INDEX(Daten,ROW()-4,44)","v":59110}]
[{"$f":"Daten!A387","v":"J 59.14"},{"$f":"Daten!B387","v":"Kinos"},3.5221987315010601,1.94621026894866,59140]
[{"$f":"Daten!A388","v":"J 59.2"},{"$f":"Daten!B388","v":"Tonstudios; Herstellung von Hörfunkbeiträgen; Verlegen von bespielten Tonträgern und Musikalien"},1.0314842578710599,0.89795918367346905,59200]
[{"$f":"Daten!A389","v":"J 60"},{"$f":"Daten!B389","v":"Rundfunkveranstalter"},3.2307692307692299,0.69333333333333302,60000]
[{"$f":"Daten!A390","v":"J 61"},{"$f":"Daten!B390","v":"Telekommunikation"},2.77049180327869,0.75641025641025605,61000]
[{"$f":"Daten!A391","v":"J 61.1"},{"$f":"Daten!B391","v":"Leitungsgebundene Telekommunikation"},1.78015403532168,0.179021866842133,61100]
[{"$f":"Daten!A392","v":"J 61.9"},{"$f":"Daten!B392","v":"Sonstige Telekommunikation"},3.34,1.45876887340302,61900]
[{"$f":"Daten!A393","v":"J 62"},{"$f":"Daten!B393","v":"Erbringung von Dienstleistungen der Informationstechnologie"},2.45786516853933,0.31884057971014501,62000]
[{"$f":"Daten!A394","v":"J 62.01"},{"$f":"Daten!B394","v":"Programmierungstätigkeiten"},2.2122486865915101,0.41304347826087001,62010]
[{"$f":"Daten!A395","v":"J 62.02"},{"$f":"Daten!B395","v":"Erbringung von Beratungsleistungen auf dem Gebiet der Informationstechnologie"},2.2371878157932699,0.24861878453038699,62020]
[{"$f":"Daten!A396","v":"J 62.03"},{"$f":"Daten!B396","v":"Betrieb von Datenverarbeitungsanlagen für Dritte"},2.9348484848484899,0.22522522522522501,62030]
[{"$f":"Daten!A397","v":"J 62.09"},{"$f":"Daten!B397","v":"Erbringung von sonstigen Dienstleistungen der Informationstechnologie"},2.0909090909090899,0.28846153846153799,62090]
[{"$f":"Daten!A398","v":"J 63"},{"$f":"Daten!B398","v":"Informationsdienstleistungen"},1.7083333333333299,0.22012578616352199,63000]
[{"$f":"Daten!A399","v":"J 63.1"},{"$f":"Daten!B399","v":"Datenverarbeitung, Hosting und damit verbundene Tätigkeiten; Webportale"},1.9597675287582299,0.20125786163522,63100]
[{"$f":"Daten!A400","v":"J 63.11"},{"$f":"Daten!B400","v":"Datenverarbeitung, Hosting und damit verbundene Tätigkeiten"},1.7048392232240901,0.19744587105435299,63110]
[{"$f":"Daten!A401","v":"J 63.9"},{"$f":"Daten!B401","v":"Erbringung von sonstigen Informationsdienstleistungen"},1.0714285714285701,0.16582623241375299,63900]
[{"$f":"Daten!A402","v":"M"},{"$f":"Daten!B402","v":"Erbringung von Freiberuflichen, Wissenschaftlichen und Technischen Dienstleistungen"},2.39130434782609,0.41263940520446102,68999]
[{"$f":"Daten!A403","v":"M 69"},{"$f":"Daten!B403","v":"Rechts- und Steuerberatung, Wirtschaftsprüfung"},1.84210526315789,0.50680073141099302,69000]
[{"$f":"Daten!A404","v":"M 69.1"},{"$f":"Daten!B404","v":"Rechtsberatung"},1.5897435897435901,0.28761723221989699,69100]
[{"$f":"Daten!A405","v":"M 69.2"},{"$f":"Daten!B405","v":"Wirtschaftsprüfung und Steuerberatung; Buchführung"},1.8971193415637899,0.57802197802197797,69200]
[{"$f":"Daten!A406","v":"M 70"},{"$f":"Daten!B406","v":"Verwaltung und Führung von Unternehmen und Betrieben; Unternehmensberatung"},1.6666666666666701,0.28193633877470498,70000]
[{"$f":"Daten!A407","v":"M 70.2"},{"$f":"Daten!B407","v":"Public-Relations- und Unternehmensberatung"},1.68041237113402,0.27904040404040398,70200]
[{"$f":"Daten!A408","v":"M 70.21"},{"$f":"Daten!B408","v":"Public-Relations-Beratung"},1.6219512195121999,0.50462962962962998,70210]
[{"$f":"Daten!A409","v":"M 70.22"},{"$f":"Daten!B409","v":"Unternehmensberatung"},1.63380281690141,0.18965517241379301,70220]
[{"$f":"Daten!A410","v":"M 71"},{"$f":"Daten!B410","v":"Architektur- und Ingenieurbüros; technische, physikalische und chemische Untersuchung"},2.90136054421769,0.33421750663130001,71000]
[{"$f":"Daten!A411","v":"M 71.1"},{"$f":"Daten!B411","v":"Architektur- und Ingenieurbüros"},2.9555555555555602,0.33204633204633199,71100]
[{"$f":"Daten!A412","v":"M 71.11"},{"$f":"Daten!B412","v":"Architekturbüros"},2.2959183673469399,0.25531914893617003,71110]
[{"$f":"Daten!A413","v":"M 71.12"},{"$f":"Daten!B413","v":"Ingenieurbüros"},3.1764705882352899,0.33852140077821002,71120]
[{"$f":"Daten!A414","v":"M 71.2"},{"$f":"Daten!B414","v":"Technische, physikalische und chemische Untersuchung"},2.4700931486122299,0.20936794582392801,71200]
[{"$f":"Daten!A415","v":"M 72"},{"$f":"Daten!B415","v":"Forschung und Entwicklung"},4.8571428571428603,0.887193289342594,72000]
[{"$f":"Daten!A416","v":"M 72.1"},{"$f":"Daten!B416","v":"Forschung und Entwicklung im Bereich Natur-, Ingenieur-, Agrarwissenschaften und Medizin"},4.7312500000000002,0.887193289342594,72100]
[{"$f":"Daten!A417","v":"M 72.19"},{"$f":"Daten!B417","v":"Sonstige Forschung und Entwicklung im Bereich Natur-, Ingenieur-, Agrarwissenschaften und Medizin"},4.0176610135547302,0.83333333333333304,72190]
[{"$f":"Daten!A418","v":"M 73"},{"$f":"Daten!B418","v":"Werbung und Marktforschung"},3.1333333333333302,0.45242560392654901,73000]
[{"$f":"Daten!A419","v":"M 73.1"},{"$f":"Daten!B419","v":"Werbung"},3.1687763713080201,0.46428571428571402,73100]
[{"$f":"Daten!A420","v":"M 73.11"},{"$f":"Daten!B420","v":"Werbeagenturen"},3.07939483197215,0.45952380952381,73110]
[{"$f":"Daten!A421","v":"M 73.11-1"},{"$f":"Daten!B421","v":"Werbegestaltung"},2.9820709390794602,0.43243243243243201,73111]
[{"$f":"Daten!A422","v":"M 73.11-2"},{"$f":"Daten!B422","v":"Werbemittelverbreitung "},3.2526999859740999,0.45952380952381,73112]
[{"$f":"Daten!A423","v":"M 73.2"},{"$f":"Daten!B423","v":"Markt- und Meinungsforschung"},2.3315760911698602,0,73200]
[{"$f":"Daten!A424","v":"M 74"},{"$f":"Daten!B424","v":"Sonstige freiberufliche, wissenschaftliche und technische Tätigkeiten"},4.8374351952626702,0.58750000000000002,74000]
[{"$f":"Daten!A425","v":"M 74.1"},{"$f":"Daten!B425","v":"Ateliers für Textil-, Schmuck-, Grafik- u.ä. Design"},11.158730158730201,0.83177570093457898,74100]
[{"$f":"Daten!A426","v":"M 74.2"},{"$f":"Daten!B426","v":"Fotografie und Fotolabors"},5.6310574476149204,0.43835616438356201,74200]
[{"$f":"Daten!A427","v":"M 74.9"},{"$f":"Daten!B427","v":"Sonstige freiberufliche, wissenschaftliche und technische Tätigkeiten a.n.g."},3.7299035369774902,1.2376237623762401,74900]
[{"$f":"Daten!A428","v":"N"},{"$f":"Daten!B428","v":"Erbringung von Sonstigen Wirtschaftlichen Dienstleistungen"},3.9652777777777799,0.885140257771039,76999]
[{"$f":"Daten!A429","v":"N 77"},{"$f":"Daten!B429","v":"Vermietung von beweglichen Sachen"},4.4610202117420599,1.40284360189573,77000]
[{"$f":"Daten!A430","v":"N 77.1"},{"$f":"Daten!B430","v":"Vermietung von Kraftwagen"},4.3684210526315796,1.5,77100]
[{"$f":"Daten!A431","v":"N 77.11"},{"$f":"Daten!B431","v":"Vermietung von Kraftwagen mit einem Gesamtgewicht von 3,5 t oder weniger"},4.2108843537415002,1.8067226890756301,77110]
[{"$f":"Daten!A432","v":"N 77.11-2"},{"$f":"Daten!B432","v":"Vermietung von Kraftwagen mit einem Gesamtgewicht von 3,5 t oder weniger"},3.9,2.7116883116883099,77112]
[{"$f":"Daten!A433","v":"N 77.2"},{"$f":"Daten!B433","v":"Vermietung von Gebrauchsgütern"},5.4599955006718597,1.1130561633843901,77200]
[{"$f":"Daten!A434","v":"N 77.21"},{"$f":"Daten!B434","v":"Vermietung von Sport- und Freizeitgeräten"},5.7773165434529101,0.61172161172161199,77210]
[{"$f":"Daten!A435","v":"N 77.29"},{"$f":"Daten!B435","v":"Vermietung von sonstigen Gebrauchsgütern "},3.78974358974359,1.2341358223104699,77290]
[{"$f":"Daten!A436","v":"N 77.3"},{"$f":"Daten!B436","v":"Vermietung von  Maschinen, Geräten und sonstigen beweglichen Sachen"},4.2917693048024104,1.08160343593414,77300]
[{"$f":"Daten!A437","v":"N 77.31"},{"$f":"Daten!B437","v":"Vermietung von landwirtschaftlichen Maschinen und Geräten"},6.3398735782246503,4.5174853721594799,77310]
[{"$f":"Daten!A438","v":"N 77.32"},{"$f":"Daten!B438","v":"Vermietung von Baumaschinen und -geräten"},4.0712530712530697,0.89769820971866998,77320]
[{"$f":"Daten!A439","v":"N 77.39"},{"$f":"Daten!B439","v":"Vermietung von sonstigen Maschinen, Geräten und beweglichen Sachen a.n.g."},3.5380446722812202,1.52,77390]
[{"$f":"Daten!A440","v":"N 78"},{"$f":"Daten!B440","v":"Vermittlung und Überlassung von Arbeitskräften"},3.8863167056185901,0.91489361702127703,78000]
[{"$f":"Daten!A441","v":"N 78.1"},{"$f":"Daten!B441","v":"Vermittlung von Arbeitskräften"},2.05633802816901,0.34645669291338599,78100]
[{"$f":"Daten!A442","v":"N 78.2"},{"$f":"Daten!B442","v":"Befristete Überlassung von Arbeitskräften"},3.8611111111111098,1.3073212645746,78200]
[{"$f":"Daten!A443","v":"N 78.3"},{"$f":"Daten!B443","v":"Sonstige Überlassung von Arbeitskräften "},6.3383458646616502,1.5401459854014601,78300]
[{"$f":"Daten!A444","v":"N 79"},{"$f":"Daten!B444","v":"Reisebüros, Reiseveranstalter und Erbringung sonstiger Reservierungsdienstleistungen"},6.1084337349397604,1.6266465470100899,79000]
[{"$f":"Daten!A445","v":"N 79.1"},{"$f":"Daten!B445","v":"Reisebüros und Reiseveranstalter"},6.2945736434108497,1.6990291262135899,79100]
[{"$f":"Daten!A446","v":"N 79.11"},{"$f":"Daten!B446","v":"Reisebüros"},6.1424944462075501,1.81882519462137,79110]
[{"$f":"Daten!A447","v":"N 79.12"},{"$f":"Daten!B447","v":"Reiseveranstalter"},8.4029850746268693,1.302734375,79120]
[{"$f":"Daten!A448","v":"N 79.9"},{"$f":"Daten!B448","v":"Erbringung sonstiger Reservierungsdienstleistungen"},4.25,6.7669172932330796E-2,79900]
[{"$f":"Daten!A449","v":"N 79.90-2"},{"$f":"Daten!B449","v":"Tourismusbüros"},4.2740740740740701,3.2786885245901599E-2,79902]
[{"$f":"Daten!A450","v":"N 80.1"},{"$f":"Daten!B450","v":"Private Wach- und Sicherheitsdienste"},{"$f":"INDEX(Daten,ROW()-4,Spalte)","v":2.3535353535353498},{"$f":"INDEX(Daten,ROW()-4,Spalte+20)","v":6.1891508344242598E-2},{"$f":"INDEX(Daten,ROW()-4,44)","v":80100}]
[{"$f":"Daten!A451","v":"N 81"},{"$f":"Daten!B451","v":"Gebäudebetreuung; Garten- und Landschaftsbau"},3.1956521739130399,0.59805470584194398,81000]
[{"$f":"Daten!A452","v":"N 81.1"},{"$f":"Daten!B452","v":"Hausmeisterdienste"},2.9927925056225502,0.50787401574803104,81100]
[{"$f":"Daten!A453","v":"N 81.10-1"},{"$f":"Daten!B453","v":"Hauswartung"},2.40086206896552,0.41191066997518599,81101]
[{"$f":"Daten!A454","v":"N 81.10-2"},{"$f":"Daten!B454","v":"Facility Management (ohne Hauswartung)"},6.0185140612514099,1.2204099874858501,81102]
[{"$f":"Daten!A455","v":"N 81.2"},{"$f":"Daten!B455","v":"Reinigung von Gebäuden, Straßen und Verkehrsmitteln"},2.38978802774486,0.56459309387471801,81200]
[{"$f":"Daten!A456","v":"N 81.21"},{"$f":"Daten!B456","v":"Allgemeine Gebäudereinigung"},2.12903225806452,0.75694444444444398,81210]
[{"$f":"Daten!A457","v":"N 81.22"},{"$f":"Daten!B457","v":"Spezielle Reinigung von Gebäuden und Reinigung von Maschinen"},2.70469633636587,0.442105263157895,81220]
[{"$f":"Daten!A458","v":"N 81.22-1"},{"$f":"Daten!B458","v":"Rauchfangkehrerinnen und -kehrer"},2.57227238565032,0.33044391599643602,81221]
[{"$f":"Daten!A459","v":"N 81.29"},{"$f":"Daten!B459","v":"Reinigung a.n.g."},2.6028987993298802,0.41025641025641002,81290]
[{"$f":"Daten!A460","v":"N 81.29-9"},{"$f":"Daten!B460","v":"Sonstige Reinigung a.n.g."},1.36299403524895,0,81299]
[{"$f":"Daten!A461","v":"N 81.3"},{"$f":"Daten!B461","v":"Garten- und Landschaftsbau sowie Erbringung von sonstigen gärtnerischen Dienstleistungen"},6.9116342404423401,0.88885675637856199,81300]
[{"$f":"Daten!A462","v":"N 82"},{"$f":"Daten!B462","v":"Erbringung von wirtschaftlichen Dienstleistungen für Unternehmen und Privatpersonen a.n.g."},3.4207920792079198,0.71428571428571397,82000]
[{"$f":"Daten!A463","v":"N 82.1"},{"$f":"Daten!B463","v":"Sekretariats- und Schreibdienste, Copy-Shops"},4.2799582935347704,0.90291262135922301,82100]
[{"$f":"Daten!A464","v":"N 82.2"},{"$f":"Daten!B464","v":"Call Centers"},2.7416666666666698,1.15789473684211,82200]
[{"$f":"Daten!A465","v":"N 82.3"},{"$f":"Daten!B465","v":"Messe-, Ausstellungs- und Kongressveranstalter"},4.6957698276891202,0.111753194317583,82300]
[{"$f":"Daten!A466","v":"N 82.9"},{"$f":"Daten!B466","v":"Erbringung sonstiger wirtschaftlicher Dienstleistungen für Unternehmen und Privatpersonen"},3.4150943396226401,0.71817958345584199,82900]
[{"$f":"Daten!A467","v":"N 82.99"},{"$f":"Daten!B467","v":"Erbringung sonstiger wirtschaftlicher Dienstleistungen für Unternehmen und Privatpersonen a.n.g."},3.2352941176470602,0.71817958345584199,82990]
[{"$f":"Daten!A468","v":"O"},{"$f":"Daten!B468","v":"Öffentliche Verwaltung, Verteidigung, Sozialversicherung"},8.7723577235772403,2.0923076923076902,83999]
[{"$f":"Daten!A469","v":"O 84"},{"$f":"Daten!B469","v":"Öffentliche Verwaltung, Verteidigung, Sozialversicherung"},8.7723577235772403,2.0923076923076902,84000]
[{"$f":"Daten!A470","v":"O 84.1"},{"$f":"Daten!B470","v":"Öffentliche Verwaltung"},8.8666666666666707,2.3787477954144598,84100]
[{"$f":"Daten!A471","v":"P"},{"$f":"Daten!B471","v":"Erziehung und Unterricht"},5.3703644856843198,0.89981273408239704,84999]
[{"$f":"Daten!A472","v":"P 85.5"},{"$f":"Daten!B472","v":"Sonstiger Unterricht"},5.4615384615384599,0.86113827208151505,85500]
[{"$f":"Daten!A473","v":"P 85.51"},{"$f":"Daten!B473","v":"Sport- und Freizeitunterricht"},5.7922077922077904,0.65637163386840103,85510]
[{"$f":"Daten!A474","v":"P 85.53"},{"$f":"Daten!B474","v":"Fahr- und Flugschulen"},7.8372093023255802,1.0476190476190499,85530]
[{"$f":"Daten!A475","v":"P 85.59"},{"$f":"Daten!B475","v":"Sonstiger Unterricht a.n.g."},3.9753086419753099,0.4033203125,85590]
[{"$f":"Daten!A476","v":"Q"},{"$f":"Daten!B476","v":"Gesundheits- und Sozialwesen"},4.82242837876497,0.853341684240569,85999]
[{"$f":"Daten!A477","v":"Q 86"},{"$f":"Daten!B477","v":"Gesundheitswesen"},2.5003353147174199,0.58429118773946398,86000]
[{"$f":"Daten!A478","v":"Q 86.1"},{"$f":"Daten!B478","v":"Krankenhäuser"},3.27533193570929,1.13970956434652,86100]
[{"$f":"Daten!A479","v":"Q 86.2"},{"$f":"Daten!B479","v":"Arzt- und Zahnarztpraxen"},1.6145251396647999,0.49401376368148198,86200]
[{"$f":"Daten!A480","v":"Q 86.22"},{"$f":"Daten!B480","v":"Facharztpraxen"},1.5583864118896,0.33743492664458102,86220]
[{"$f":"Daten!A481","v":"Q 86.23"},{"$f":"Daten!B481","v":"Zahnarztpraxen"},1.4789058031873299,0.28909599182157403,86230]
[{"$f":"Daten!A482","v":"Q 86.9"},{"$f":"Daten!B482","v":"Gesundheitswesen a.n.g."},3.36391437308869,0.36986301369863001,86900]
[{"$f":"Daten!A483","v":"Q 86.90-1"},{"$f":"Daten!B483","v":"Krankentransporte und Rettungsdienste"},1.42307692307692,1,86901]
[{"$f":"Daten!A484","v":"Q 86.90-9"},{"$f":"Daten!B484","v":"Sonstiges Gesundheitswesen a.n.g."},3.3333333333333299,0.30666666666666698,86909]
[{"$f":"Daten!A485","v":"Q 87"},{"$f":"Daten!B485","v":"Heime (ohne Erholungs- und Ferienheime)"},15.088888888888899,6.0871794871794904,87000]
[{"$f":"Daten!A486","v":"Q 87.1"},{"$f":"Daten!B486","v":"Pflegeheime"},17.660377358490599,6.1185567010309301,87100]
[{"$f":"Daten!A487","v":"Q 87.3"},{"$f":"Daten!B487","v":"Altenheime; Alten- und Behindertenwohnheime"},17.537777777777801,6.9049295774647899,87300]
[{"$f":"Daten!A488","v":"Q 87.9"},{"$f":"Daten!B488","v":"Sonstige Heime (ohne Erholungs- und Ferienheime)"},8.3134019151944099,1.05395683453237,87900]
[{"$f":"Daten!A489","v":"Q 88"},{"$f":"Daten!B489","v":"Sozialwesen (ohne Heime)"},5.4904109589041097,1.6590909090909101,88000]
[{"$f":"Daten!A490","v":"Q 88.9"},{"$f":"Daten!B490","v":"Sonstiges Sozialwesen (ohne Heime)"},5.5847953216374302,1.8786968021158901,88900]
[{"$f":"Daten!A491","v":"Q 88.99"},{"$f":"Daten!B491","v":"Sonstiges Sozialwesen a.n.g."},5.5847953216374302,1.6590909090909101,88990]
[{"$f":"Daten!A492","v":"R"},{"$f":"Daten!B492","v":"Kunst, Unterhaltung und Erholung"},5.29895287958115,0.96551724137931005,89999]
[{"$f":"Daten!A493","v":"R 90"},{"$f":"Daten!B493","v":"Kreative, künstlerische und unterhaltende Tätigkeiten"},4.6470588235294104,0.16350289316866701,90000]
[{"$f":"Daten!A494","v":"R 90.02"},{"$f":"Daten!B494","v":"Erbringung von Dienstleistungen für die darstellende Kunst"},3.72058823529412,0.931034482758621,90020]
[{"$f":"Daten!A495","v":"R 90.03"},{"$f":"Daten!B495","v":"Künstlerisches und schriftstellerisches Schaffen"},5.8571428571428603,2.5641025641025599E-2,90030]
[{"$f":"Daten!A496","v":"R 90.04"},{"$f":"Daten!B496","v":"Betrieb von Kultur- und Unterhaltungseinrichtungen"},5.8991555597567498,0,90040]
[{"$f":"Daten!A497","v":"R 91"},{"$f":"Daten!B497","v":"Bibliotheken, Archive, Museen, botanische und zoologische Gärten"},3.5301204819277099,1.4396622493256701,91000]
[{"$f":"Daten!A498","v":"R 92"},{"$f":"Daten!B498","v":"Spiel-, Wett- und Lotteriewesen"},1.0635088419093199,0,92000]
[{"$f":"Daten!A499","v":"R 92.00-1"},{"$f":"Daten!B499","v":"Wett-, Toto- und Lotteriewesen"},1.0644065979234101,8.3916083916083906E-2,92001]
[{"$f":"Daten!A500","v":"R 92.00-3"},{"$f":"Daten!B500","v":"Betrieb von Glücksspielautomaten"},0.55376578145407096,0,92003]
[{"$f":"Daten!A501","v":"R 93"},{"$f":"Daten!B501","v":"Erbringung von Dienstleistungen des Sports, der Unterhaltung und der Erholung"},6.0496183206106897,1.14935064935065,93000]
[{"$f":"Daten!A502","v":"R 93.1"},{"$f":"Daten!B502","v":"Erbringung von Dienstleistungen des Sports "},7.1790041708004804,1.33948339483395,93100]
[{"$f":"Daten!A503","v":"R 93.11"},{"$f":"Daten!B503","v":"Betrieb von Sportanlagen"},10.529702970297,3.9039999999999999,93110]
[{"$f":"Daten!A504","v":"R 93.11-9"},{"$f":"Daten!B504","v":"Betrieb von sonstigen Sportanlagen"},10.863128491620101,4.2347826086956504,93119]
[{"$f":"Daten!A505","v":"R 93.13"},{"$f":"Daten!B505","v":"Fitnesszentren"},4.2352941176470598,0.90322580645161299,93130]
[{"$f":"Daten!A506","v":"R 93.19"},{"$f":"Daten!B506","v":"Erbringung von sonstigen Dienstleistungen des Sports"},5.7716049382716097,1.0567805953693501,93190]
[{"$f":"Daten!A507","v":"R 93.2"},{"$f":"Daten!B507","v":"Erbringung von Dienstleistungen der Unterhaltung und der Erholung"},4.7058242913392796,0.51149425287356298,93200]
[{"$f":"Daten!A508","v":"R 93.21"},{"$f":"Daten!B508","v":"Vergnügungs- und Themenparks"},4.7058242913392796,0,93210]
[{"$f":"Daten!A509","v":"R 93.29"},{"$f":"Daten!B509","v":"Erbringung von Dienstleistungen der Unterhaltung und der Erholung a.n.g."},4.5840936401264001,0.66666666666666696,93290]
[{"$f":"Daten!A510","v":"S"},{"$f":"Daten!B510","v":"Erbringung von Sonstigen Dienstleistungen"},6.4191104468381202,1.25,93999]
[{"$f":"Daten!A511","v":"S 94"},{"$f":"Daten!B511","v":"Interessenvertretungen sowie kirchliche und sonstige religiöse Vereinigungen (ohne Sozialwesen und Sport)"},5.0526315789473699,1.25,94000]
[{"$f":"Daten!A512","v":"S 94.9"},{"$f":"Daten!B512","v":"Kirchliche Vereinigungen; politische Parteien sowie sonstige Interessenvertretungen und Vereinigungen a.n.g."},5.0526315789473699,1.25,94900]
[{"$f":"Daten!A513","v":"S 94.99"},{"$f":"Daten!B513","v":"Sonstige Interessenvertretungen und Vereinigungen a.n.g."},4.75,1.25,94990]
[{"$f":"Daten!A514","v":"S 95.2"},{"$f":"Daten!B514","v":"Reparatur von Gebrauchsgütern"},{"$f":"INDEX(Daten,ROW()-4,Spalte)","v":7.4210526315789496},{"$f":"INDEX(Daten,ROW()-4,Spalte+20)","v":1.0426742532005699},{"$f":"INDEX(Daten,ROW()-4,44)","v":95200}]
[{"$f":"Daten!A515","v":"S 95.29"},{"$f":"Daten!B515","v":"Reparatur von sonstigen Gebrauchsgütern "},4.6829102158395903,0.75322550599745697,95290]
[{"$f":"Daten!A516","v":"S 96"},{"$f":"Daten!B516","v":"Erbringung von sonstigen überwiegend persönlichen Dienstleistungen"},6.7244897959183696,1.25925925925926,96000]
[{"$f":"Daten!A517","v":"S 96.01"},{"$f":"Daten!B517","v":"Wäscherei und chemische Reinigung"},5.2264957264957301,2.9047619047619002,96010]
[{"$f":"Daten!A518","v":"S 96.01-1"},{"$f":"Daten!B518","v":"Wäschereien"},4.9226594301221196,3.0915032679738599,96011]
[{"$f":"Daten!A519","v":"S 96.01-2"},{"$f":"Daten!B519","v":"Chemische Reinigung und Bekleidungsfärberei"},7.2833333333333297,1.7692307692307701,96012]
[{"$f":"Daten!A520","v":"S 96.02"},{"$f":"Daten!B520","v":"Frisör- und Kosmetiksalons"},100,1.8371166496803499,96020]
[{"$f":"Daten!A521","v":"S 96.02-1"},{"$f":"Daten!B521","v":"Frisörsalons"},100,1.78814486642291,96021]
[{"$f":"Daten!A522","v":"S 96.02-2"},{"$f":"Daten!B522","v":"Kosmetiksalons"},12.265306122448999,1.84615384615385,96022]
[{"$f":"Daten!A523","v":"S 96.03"},{"$f":"Daten!B523","v":"Bestattungswesen"},2.3262910798122101,1.03954802259887,96030]
[{"$f":"Daten!A524","v":"S 96.04"},{"$f":"Daten!B524","v":"Saunas, Solarien, Bäder u.Ä."},8.5859959211420804,2.3654518222665999,96040]
[{"$f":"Daten!A525","v":"S 96.04-2"},{"$f":"Daten!B525","v":"Heil-, Kur- und Thermalbäder "},7.1150442477876101,2.3654518222665999,96042]
[{"$f":"Daten!A526","v":"S 96.04-9"},{"$f":"Daten!B526","v":"Solarien, Saunas, Bäder a.n.g"},22.370642566292599,2.1941747572815502,96049]
[{"$f":"Daten!A527","v":"S 96.09"},{"$f":"Daten!B527","v":"Erbringung von sonstigen Dienstleistungen a.n.g."},4.4000000000000004,0.73877551020408205,96090]
[{"$f":"Daten!A528","v":""},{"$f":"Daten!B528","v":""},{"$f":"INDEX(Daten,ROW()-4,Spalte)","v":""},{"$f":"INDEX(Daten,ROW()-4,Spalte+20)","v":""},{"$f":"INDEX(Daten,ROW()-4,44)","v":""}]
[{"$f":"Daten!A529","v":""},{"$f":"Daten!B529","v":""},"","",""]
[{"$f":"Daten!A530","v":""},{"$f":"Daten!B530","v":""},"","",""]
[{"$f":"Daten!A531","v":""},{"$f":"Daten!B531","v":""},"","",""]
[{"$f":"Daten!A532","v":""},{"$f":"Daten!B532","v":""},"","",""]
[{"$f":"Daten!A533","v":""},{"$f":"Daten!B533","v":""},"","",""]
[{"$f":"Daten!A534","v":""},{"$f":"Daten!B534","v":""},"","",""]
[{"$f":"Daten!A535","v":""},{"$f":"Daten!B535","v":""},"","",""]
[{"$f":"Daten!A536","v":""},{"$f":"Daten!B536","v":""},"","",""]
[{"$f":"Daten!A537","v":""},{"$f":"Daten!B537","v":""},"","",""]
[{"$f":"Daten!A538","v":""},{"$f":"Daten!B538","v":""},"","",""]
[{"$f":"Daten!A539","v":""},{"$f":"Daten!B539","v":""},"","",""]
[{"$f":"Daten!A540","v":""},{"$f":"Daten!B540","v":""},"","",""]
[{"$f":"Daten!A541","v":""},{"$f":"Daten!B541","v":""},"","",""]

{"sheet":"DatenBranche","index":9,"n_rows":43,"n_cols":7,"rows_kept":43,"cut":false,"hidden":true,"merged":[]}
[null,null,null,null,null,"C 10","OENACE"]
[null,null,null,null,null,"Herstellung von Nahrungs- und Futtermitteln","Text"]
[null,null,null,null,null,1449,"ANZAHL"]
[null,null,null,null,null,61.4227086183311,"K01M"]
["Anzahl Betriebe im Durchschnitt",null,{"$f":"F3","v":1449},null,null,38.095238095238102,"K02M"]
["Kennzahlen in Prozent des Gesamtvermögens",null,null,null,null,12.1082621082621,"K03M"]
[null,"Anlagevormögen",{"$f":"ROUND(F4/100,3)","v":0.61399999999999999},{"$f":"ROUND(F24/100,3)","v":0.58799999999999997},null,0,"K04M"]
[null,"Umlaufvermögen",{"$f":"ROUND(F5/100,3)","v":0.38100000000000001},{"$f":"ROUND(F25/100,3)","v":0.40899999999999997},null,83.233532934131702,"K05M"]
[null,"Eigenkapital",{"$f":"ROUND(F6/100,3)","v":0.121},{"$f":"ROUND(F26/100,3)","v":0.29299999999999998},null,43.137254901960802,"K06M"]
[null,"Sozialkapital",{"$f":"ROUND(F7/100,3)","v":0},{"$f":"ROUND(F27/100,3)","v":8.0000000000000002E-3},null,56.749311294765803,"K07M"]
[null,"Fremdkapital",{"$f":"ROUND(F8/100,3)","v":0.83199999999999996},{"$f":"ROUND(F28/100,3)","v":0.67600000000000005},null,33.759772565742701,"K08M"]
["Kennzahlen in Prozent der Betriebsleistung",null,null,null,null,20.528455284552798,"K09M"]
[null,"Materialkosten",{"$f":"ROUND(F9/100,3)","v":0.43099999999999999},{"$f":"ROUND(F29/100,3)","v":0.35899999999999999},null,-1.02022894242269,"K10M"]
[null,"Rohertrag",{"$f":"ROUND(F10/100,3)","v":0.56699999999999995},{"$f":"ROUND(F30/100,3)","v":0.63600000000000001},null,0.254735753973382,"K11M"]
[null,"Personalkosten",0.33800000000000002,0.30399999999999999,null,3.6498063607557798,"K12M"]
[null,"Sonstige Koste",0.20499999999999999,0.20599999999999999,null,3.2862746438277299,"K13M"]
[null,"Finanzergebnis",-0.01,-8.9999999999999993E-3,null,6.7486859145273099,"K14M"]
[null,"Ergebnis vor Steuern",3.0000000000000001E-3,6.3E-2,null,2.0846774193548399,"K15M"]
[null,"Cash-flow",3.5999999999999997E-2,0.11700000000000001,null,2.79117849758787,"K16M"]
[null,"Vorräte",3.3000000000000002E-2,3.1E-2,null,95.070422535211307,"K17M"]
[null,"Forderungen",6.7000000000000004E-2,8.5999999999999993E-2,null,8.8523871788528794,"K18M"]
["Weitere Kennzahlen",null,null,null,null,1.61,"K19M"]
[null,"Kapitalumschlag",{"$f":"ROUND(F18,1)","v":2.1},{"$f":"ROUND(F38,1)","v":1.8},null,2.9532293986637002,"K20M"]
[null,"Gesamtkapitalsrentabilität",{"$f":"ROUND(F19/100,3)","v":2.8000000000000001E-2},{"$f":"ROUND(F39/100,3)","v":0.14899999999999999},null,58.809293320425901,"K01O"]
[null,"Anlagendeckung",{"$f":"ROUND(F20/100,3)","v":0.95099999999999996},{"$f":"ROUND(F40/100,3)","v":1.1259999999999999},null,40.895522388059703,"K02O"]
[null,"Schuldentilgungsdauer",{"$f":"IF(F21>=100,\"negativ\",ROUND(F21,1))","v":8.9},{"$f":"IF(F41>=100,\"negativ\",ROUND(F41,1))","v":2.8},null,29.3216072395883,"K03O"]
[null,"Rohertrag je Schilling Personalkosten",{"$f":"F22","v":1.61},{"$f":"F42","v":1.91279069767442},null,0.77583818232197299,"K04O"]
[null,"Betriebsleistung je Schilling Personalkosten",{"$f":"F23","v":2.9532293986637002},{"$f":"F43","v":3.27536231884058},null,67.615204926735998,"K05O"]
[null,null,null,null,null,35.929435328557098,"K06O"]
[null,null,null,null,null,63.636363636363598,"K07O"]
[null,null,null,null,null,30.434033280507101,"K08O"]
[null,null,null,null,null,20.572597137014299,"K09O"]
[null,null,null,null,null,-0.93186925434116397,"K10O"]
[null,null,null,null,null,6.3357629427792901,"K11O"]
[null,null,null,null,null,11.693548387096801,"K12O"]
[null,null,null,null,null,3.1168831168831201,"K13O"]
[null,null,null,null,null,8.5535329810139,"K14O"]
[null,null,null,null,null,1.81405405405405,"K15O"]
[null,null,null,null,null,14.8571428571429,"K16O"]
[null,null,null,null,null,112.589928057554,"K17O"]
[null,null,null,null,null,2.7649769585253501,"K18O"]
[null,null,null,null,null,1.91279069767442,"K19O"]
[null,null,null,null,null,3.27536231884058,"K20O"]